BEGIN:VCALENDAR
VERSION:2.0
PRODID:-//AFLabs urnik izvoz - fmf//aflabs.si//SI
DTSTAMP:20260419T161404Z
NAME:UL FMF urnik
REFRESH-INTERVAL:PT1H
SOURCE:https://urnik.fmf.uni-lj.si/teacher/315?day=2023-09-18&export=1
URL:https://urnik.fmf.uni-lj.si/teacher/315?day=2023-09-18&export=1
X-PUBLISHED-TTL:PT1H
X-WR-CALNAME:UL FMF urnik
X-WR-TIMEZONE:Europe/Ljubljana
BEGIN:VTIMEZONE
TZID:Europe/Ljubljana
BEGIN:DAYLIGHT
DTSTART:20260329T020000
RDATE:20260329T020000
RDATE:20270328T020000
TZNAME:CEST
TZOFFSETFROM:+0100
TZOFFSETTO:+0200
END:DAYLIGHT
BEGIN:STANDARD
DTSTART:20261025T030000
RDATE:20261025T030000
RDATE:20271031T030000
TZNAME:CET
TZOFFSETFROM:+0200
TZOFFSETTO:+0100
END:STANDARD
END:VTIMEZONE
BEGIN:VEVENT
SUMMARY:Govorilna ura ()\, Ostalo (O)
DTSTART;TZID=Europe/Ljubljana:20231005T120000
DTEND;TZID=Europe/Ljubljana:20231005T140000
DTSTAMP:20260419T161404Z
UID:fmf-AFLABS-URNIK:premaknjeno-srecanje:39913
CATEGORIES:Entry,Standard
COLOR:darkgreen
DESCRIPTION:Predmet: Govorilna ura ()\, Ostalo (O)\nLetniki: \nIzvajalci: 
 Damjan Kobal\nProstor: P.28
LOCATION:P.28
ORGANIZER:Damjan Kobal
RELATED-TO:fmf-AFLABS-URNIK:srecanje:9167
X-WR-TIMEZONE:Europe/Ljubljana
END:VEVENT
BEGIN:VEVENT
SUMMARY:Govorilna ura ()\, Ostalo (O)
DTSTART;TZID=Europe/Ljubljana:20231012T120000
DTEND;TZID=Europe/Ljubljana:20231012T140000
DTSTAMP:20260419T161404Z
UID:fmf-AFLABS-URNIK:premaknjeno-srecanje:39914
CATEGORIES:Entry,Standard
COLOR:darkgreen
DESCRIPTION:Predmet: Govorilna ura ()\, Ostalo (O)\nLetniki: \nIzvajalci: 
 Damjan Kobal\nProstor: P.28
LOCATION:P.28
ORGANIZER:Damjan Kobal
RELATED-TO:fmf-AFLABS-URNIK:srecanje:9167
X-WR-TIMEZONE:Europe/Ljubljana
END:VEVENT
BEGIN:VEVENT
SUMMARY:Govorilna ura ()\, Ostalo (O)
DTSTART;TZID=Europe/Ljubljana:20231019T120000
DTEND;TZID=Europe/Ljubljana:20231019T140000
DTSTAMP:20260419T161404Z
UID:fmf-AFLABS-URNIK:premaknjeno-srecanje:39915
CATEGORIES:Entry,Standard
COLOR:darkgreen
DESCRIPTION:Predmet: Govorilna ura ()\, Ostalo (O)\nLetniki: \nIzvajalci: 
 Damjan Kobal\nProstor: P.28
LOCATION:P.28
ORGANIZER:Damjan Kobal
RELATED-TO:fmf-AFLABS-URNIK:srecanje:9167
X-WR-TIMEZONE:Europe/Ljubljana
END:VEVENT
BEGIN:VEVENT
SUMMARY:Matematika 1 RI VS (FRI) ()\, Predavanja (P)
DTSTART;TZID=Europe/Ljubljana:20231005T080000
DTEND;TZID=Europe/Ljubljana:20231005T110000
DTSTAMP:20260419T161404Z
UID:fmf-AFLABS-URNIK:premaknjeno-srecanje:63145
CATEGORIES:Entry,Standard
COLOR:darkgreen
DESCRIPTION:Predmet: Matematika 1 RI VS (FRI) ()\, Predavanja (P)\nLetniki
 : \nIzvajalci: Damjan Kobal\nProstor: FRI
LOCATION:FRI
ORGANIZER:Damjan Kobal
RELATED-TO:fmf-AFLABS-URNIK:srecanje:9698
X-WR-TIMEZONE:Europe/Ljubljana
END:VEVENT
BEGIN:VEVENT
SUMMARY:Matematika 1 RI VS (FRI) ()\, Predavanja (P)
DTSTART;TZID=Europe/Ljubljana:20231012T080000
DTEND;TZID=Europe/Ljubljana:20231012T110000
DTSTAMP:20260419T161404Z
UID:fmf-AFLABS-URNIK:premaknjeno-srecanje:63146
CATEGORIES:Entry,Standard
COLOR:darkgreen
DESCRIPTION:Predmet: Matematika 1 RI VS (FRI) ()\, Predavanja (P)\nLetniki
 : \nIzvajalci: Damjan Kobal\nProstor: FRI
LOCATION:FRI
ORGANIZER:Damjan Kobal
RELATED-TO:fmf-AFLABS-URNIK:srecanje:9698
X-WR-TIMEZONE:Europe/Ljubljana
END:VEVENT
BEGIN:VEVENT
SUMMARY:Matematika 1 RI VS (FRI) ()\, Predavanja (P)
DTSTART;TZID=Europe/Ljubljana:20231019T080000
DTEND;TZID=Europe/Ljubljana:20231019T110000
DTSTAMP:20260419T161404Z
UID:fmf-AFLABS-URNIK:premaknjeno-srecanje:63147
CATEGORIES:Entry,Standard
COLOR:darkgreen
DESCRIPTION:Predmet: Matematika 1 RI VS (FRI) ()\, Predavanja (P)\nLetniki
 : \nIzvajalci: Damjan Kobal\nProstor: FRI
LOCATION:FRI
ORGANIZER:Damjan Kobal
RELATED-TO:fmf-AFLABS-URNIK:srecanje:9698
X-WR-TIMEZONE:Europe/Ljubljana
END:VEVENT
BEGIN:VEVENT
SUMMARY:Rezervacija
DTSTART;TZID=Europe/Ljubljana:20230824T090000
DTEND;TZID=Europe/Ljubljana:20230824T120000
DTSTAMP:20260419T161404Z
UID:fmf-AFLABS-URNIK:rezervacija:12901
CATEGORIES:Reservation
COLOR:royalblue
DESCRIPTION:Predmeti: \nLetniki: \nIzvajalci: Damjan Kobal\nProstori: Sejn
 a soba J21
LOCATION:Sejna soba J21
ORGANIZER:Damjan Kobal
X-WR-TIMEZONE:Europe/Ljubljana
END:VEVENT
BEGIN:VEVENT
SUMMARY:Rezervacija
DTSTART;TZID=Europe/Ljubljana:20230922T090000
DTEND;TZID=Europe/Ljubljana:20230922T160000
DTSTAMP:20260419T161404Z
UID:fmf-AFLABS-URNIK:rezervacija:13340
CATEGORIES:Reservation
COLOR:royalblue
DESCRIPTION:Predmeti: \nLetniki: \nIzvajalci: Damjan Kobal\nProstori: 2.05
LOCATION:2.05
ORGANIZER:Damjan Kobal
X-WR-TIMEZONE:Europe/Ljubljana
END:VEVENT
BEGIN:VEVENT
SUMMARY:Rezervacija
DTSTART;TZID=Europe/Ljubljana:20230923T090000
DTEND;TZID=Europe/Ljubljana:20230923T160000
DTSTAMP:20260419T161404Z
UID:fmf-AFLABS-URNIK:rezervacija:13344
CATEGORIES:Reservation
COLOR:royalblue
DESCRIPTION:Predmeti: \nLetniki: \nIzvajalci: Damjan Kobal\nProstori: 2.05
LOCATION:2.05
ORGANIZER:Damjan Kobal
X-WR-TIMEZONE:Europe/Ljubljana
END:VEVENT
END:VCALENDAR
