BEGIN:VCALENDAR
VERSION:2.0
PRODID:-//AFLabs urnik izvoz - fmf//aflabs.si//SI
DTSTAMP:20260425T213505Z
NAME:UL FMF urnik
REFRESH-INTERVAL:PT1H
SOURCE:https://urnik.fmf.uni-lj.si/teacher/315?day=2024-02-05&export=1
URL:https://urnik.fmf.uni-lj.si/teacher/315?day=2024-02-05&export=1
X-PUBLISHED-TTL:PT1H
X-WR-CALNAME:UL FMF urnik
X-WR-TIMEZONE:Europe/Ljubljana
BEGIN:VTIMEZONE
TZID:Europe/Ljubljana
BEGIN:DAYLIGHT
DTSTART:20260329T020000
RDATE:20260329T020000
RDATE:20270328T020000
TZNAME:CEST
TZOFFSETFROM:+0100
TZOFFSETTO:+0200
END:DAYLIGHT
BEGIN:STANDARD
DTSTART:20261025T030000
RDATE:20261025T030000
RDATE:20271031T030000
TZNAME:CET
TZOFFSETFROM:+0200
TZOFFSETTO:+0100
END:STANDARD
END:VTIMEZONE
BEGIN:VEVENT
SUMMARY:Govorilna ura ()\, Ostalo (O)
DTSTART;TZID=Europe/Ljubljana:20240104T120000
DTEND;TZID=Europe/Ljubljana:20240104T140000
DTSTAMP:20260425T213505Z
UID:fmf-AFLABS-URNIK:premaknjeno-srecanje:39926
CATEGORIES:Entry,Standard
COLOR:darkgreen
DESCRIPTION:Predmet: Govorilna ura ()\, Ostalo (O)\nLetniki: \nIzvajalci: 
 Damjan Kobal\nProstor: P.28
LOCATION:P.28
ORGANIZER:Damjan Kobal
RELATED-TO:fmf-AFLABS-URNIK:srecanje:9167
X-WR-TIMEZONE:Europe/Ljubljana
END:VEVENT
BEGIN:VEVENT
SUMMARY:Govorilna ura ()\, Ostalo (O)
DTSTART;TZID=Europe/Ljubljana:20240111T120000
DTEND;TZID=Europe/Ljubljana:20240111T140000
DTSTAMP:20260425T213505Z
UID:fmf-AFLABS-URNIK:premaknjeno-srecanje:39927
CATEGORIES:Entry,Standard
COLOR:darkgreen
DESCRIPTION:Predmet: Govorilna ura ()\, Ostalo (O)\nLetniki: \nIzvajalci: 
 Damjan Kobal\nProstor: P.28
LOCATION:P.28
ORGANIZER:Damjan Kobal
RELATED-TO:fmf-AFLABS-URNIK:srecanje:9167
X-WR-TIMEZONE:Europe/Ljubljana
END:VEVENT
BEGIN:VEVENT
SUMMARY:Govorilna ura ()\, Ostalo (O)
DTSTART;TZID=Europe/Ljubljana:20240118T120000
DTEND;TZID=Europe/Ljubljana:20240118T140000
DTSTAMP:20260425T213505Z
UID:fmf-AFLABS-URNIK:premaknjeno-srecanje:39928
CATEGORIES:Entry,Standard
COLOR:darkgreen
DESCRIPTION:Predmet: Govorilna ura ()\, Ostalo (O)\nLetniki: \nIzvajalci: 
 Damjan Kobal\nProstor: P.28
LOCATION:P.28
ORGANIZER:Damjan Kobal
RELATED-TO:fmf-AFLABS-URNIK:srecanje:9167
X-WR-TIMEZONE:Europe/Ljubljana
END:VEVENT
BEGIN:VEVENT
SUMMARY:Matematika 1 RI VS (FRI) ()\, Predavanja (P)
DTSTART;TZID=Europe/Ljubljana:20240104T080000
DTEND;TZID=Europe/Ljubljana:20240104T110000
DTSTAMP:20260425T213505Z
UID:fmf-AFLABS-URNIK:premaknjeno-srecanje:63158
CATEGORIES:Entry,Standard
COLOR:darkgreen
DESCRIPTION:Predmet: Matematika 1 RI VS (FRI) ()\, Predavanja (P)\nLetniki
 : \nIzvajalci: Damjan Kobal\nProstor: FRI
LOCATION:FRI
ORGANIZER:Damjan Kobal
RELATED-TO:fmf-AFLABS-URNIK:srecanje:9698
X-WR-TIMEZONE:Europe/Ljubljana
END:VEVENT
BEGIN:VEVENT
SUMMARY:Matematika 1 RI VS (FRI) ()\, Predavanja (P)
DTSTART;TZID=Europe/Ljubljana:20240111T080000
DTEND;TZID=Europe/Ljubljana:20240111T110000
DTSTAMP:20260425T213505Z
UID:fmf-AFLABS-URNIK:premaknjeno-srecanje:63159
CATEGORIES:Entry,Standard
COLOR:darkgreen
DESCRIPTION:Predmet: Matematika 1 RI VS (FRI) ()\, Predavanja (P)\nLetniki
 : \nIzvajalci: Damjan Kobal\nProstor: FRI
LOCATION:FRI
ORGANIZER:Damjan Kobal
RELATED-TO:fmf-AFLABS-URNIK:srecanje:9698
X-WR-TIMEZONE:Europe/Ljubljana
END:VEVENT
BEGIN:VEVENT
SUMMARY:Matematika 1 RI VS (FRI) ()\, Predavanja (P)
DTSTART;TZID=Europe/Ljubljana:20240118T080000
DTEND;TZID=Europe/Ljubljana:20240118T110000
DTSTAMP:20260425T213505Z
UID:fmf-AFLABS-URNIK:premaknjeno-srecanje:63160
CATEGORIES:Entry,Standard
COLOR:darkgreen
DESCRIPTION:Predmet: Matematika 1 RI VS (FRI) ()\, Predavanja (P)\nLetniki
 : \nIzvajalci: Damjan Kobal\nProstor: FRI
LOCATION:FRI
ORGANIZER:Damjan Kobal
RELATED-TO:fmf-AFLABS-URNIK:srecanje:9698
X-WR-TIMEZONE:Europe/Ljubljana
END:VEVENT
BEGIN:VEVENT
SUMMARY:Didaktika matematike 2 (PM-3\, PM-4)\, Predavanja (P)
DTSTART;TZID=Europe/Ljubljana:20240219T120000
DTEND;TZID=Europe/Ljubljana:20240219T140000
DTSTAMP:20260425T213505Z
UID:fmf-AFLABS-URNIK:premaknjeno-srecanje:123659
ATTENDEE:3. letnik (PM)
ATTENDEE:4. letnik (PM)
CATEGORIES:Entry,Standard
COLOR:darkgreen
DESCRIPTION:Predmet: Didaktika matematike 2 (PM-3\, PM-4)\, Predavanja (P)
 \nLetniki: 3. letnik (PM)\, 4. letnik (PM)\nIzvajalci: Damjan Kobal\nProst
 or: 3.04
LOCATION:3.04
ORGANIZER:Damjan Kobal
RELATED-TO:fmf-AFLABS-URNIK:srecanje:10440
X-WR-TIMEZONE:Europe/Ljubljana
END:VEVENT
BEGIN:VEVENT
SUMMARY:Didaktika matematike 2 (PM-3\, PM-4)\, Predavanja (P)
DTSTART;TZID=Europe/Ljubljana:20240226T120000
DTEND;TZID=Europe/Ljubljana:20240226T140000
DTSTAMP:20260425T213505Z
UID:fmf-AFLABS-URNIK:premaknjeno-srecanje:123660
ATTENDEE:3. letnik (PM)
ATTENDEE:4. letnik (PM)
CATEGORIES:Entry,Standard
COLOR:darkgreen
DESCRIPTION:Predmet: Didaktika matematike 2 (PM-3\, PM-4)\, Predavanja (P)
 \nLetniki: 3. letnik (PM)\, 4. letnik (PM)\nIzvajalci: Damjan Kobal\nProst
 or: 3.04
LOCATION:3.04
ORGANIZER:Damjan Kobal
RELATED-TO:fmf-AFLABS-URNIK:srecanje:10440
X-WR-TIMEZONE:Europe/Ljubljana
END:VEVENT
BEGIN:VEVENT
SUMMARY:Didaktika matematike 2 (PM-3\, PM-4)\, Predavanja (P)
DTSTART;TZID=Europe/Ljubljana:20240304T120000
DTEND;TZID=Europe/Ljubljana:20240304T140000
DTSTAMP:20260425T213505Z
UID:fmf-AFLABS-URNIK:premaknjeno-srecanje:123661
ATTENDEE:3. letnik (PM)
ATTENDEE:4. letnik (PM)
CATEGORIES:Entry,Standard
COLOR:darkgreen
DESCRIPTION:Predmet: Didaktika matematike 2 (PM-3\, PM-4)\, Predavanja (P)
 \nLetniki: 3. letnik (PM)\, 4. letnik (PM)\nIzvajalci: Damjan Kobal\nProst
 or: 3.04
LOCATION:3.04
ORGANIZER:Damjan Kobal
RELATED-TO:fmf-AFLABS-URNIK:srecanje:10440
X-WR-TIMEZONE:Europe/Ljubljana
END:VEVENT
BEGIN:VEVENT
SUMMARY:Didaktika matematike 2 (PM-3\, PM-4)\, Predavanja (P)
DTSTART;TZID=Europe/Ljubljana:20240311T120000
DTEND;TZID=Europe/Ljubljana:20240311T140000
DTSTAMP:20260425T213505Z
UID:fmf-AFLABS-URNIK:premaknjeno-srecanje:123662
ATTENDEE:3. letnik (PM)
ATTENDEE:4. letnik (PM)
CATEGORIES:Entry,Standard
COLOR:darkgreen
DESCRIPTION:Predmet: Didaktika matematike 2 (PM-3\, PM-4)\, Predavanja (P)
 \nLetniki: 3. letnik (PM)\, 4. letnik (PM)\nIzvajalci: Damjan Kobal\nProst
 or: 3.04
LOCATION:3.04
ORGANIZER:Damjan Kobal
RELATED-TO:fmf-AFLABS-URNIK:srecanje:10440
X-WR-TIMEZONE:Europe/Ljubljana
END:VEVENT
BEGIN:VEVENT
SUMMARY:Matematika (ZF) ()\, Predavanja (P)
DTSTART;TZID=Europe/Ljubljana:20240220T080000
DTEND;TZID=Europe/Ljubljana:20240220T110000
DTSTAMP:20260425T213505Z
UID:fmf-AFLABS-URNIK:premaknjeno-srecanje:127259
CATEGORIES:Entry,Standard
COLOR:darkgreen
DESCRIPTION:Predmet: Matematika (ZF) ()\, Predavanja (P)\nLetniki: \nIzvaj
 alci: Damjan Kobal\nProstor: ZF
LOCATION:ZF
ORGANIZER:Damjan Kobal
RELATED-TO:fmf-AFLABS-URNIK:srecanje:10051
X-WR-TIMEZONE:Europe/Ljubljana
END:VEVENT
BEGIN:VEVENT
SUMMARY:Matematika (ZF) ()\, Predavanja (P)
DTSTART;TZID=Europe/Ljubljana:20240227T080000
DTEND;TZID=Europe/Ljubljana:20240227T110000
DTSTAMP:20260425T213505Z
UID:fmf-AFLABS-URNIK:premaknjeno-srecanje:127260
CATEGORIES:Entry,Standard
COLOR:darkgreen
DESCRIPTION:Predmet: Matematika (ZF) ()\, Predavanja (P)\nLetniki: \nIzvaj
 alci: Damjan Kobal\nProstor: ZF
LOCATION:ZF
ORGANIZER:Damjan Kobal
RELATED-TO:fmf-AFLABS-URNIK:srecanje:10051
X-WR-TIMEZONE:Europe/Ljubljana
END:VEVENT
BEGIN:VEVENT
SUMMARY:Matematika (ZF) ()\, Predavanja (P)
DTSTART;TZID=Europe/Ljubljana:20240305T080000
DTEND;TZID=Europe/Ljubljana:20240305T110000
DTSTAMP:20260425T213505Z
UID:fmf-AFLABS-URNIK:premaknjeno-srecanje:127261
CATEGORIES:Entry,Standard
COLOR:darkgreen
DESCRIPTION:Predmet: Matematika (ZF) ()\, Predavanja (P)\nLetniki: \nIzvaj
 alci: Damjan Kobal\nProstor: ZF
LOCATION:ZF
ORGANIZER:Damjan Kobal
RELATED-TO:fmf-AFLABS-URNIK:srecanje:10051
X-WR-TIMEZONE:Europe/Ljubljana
END:VEVENT
BEGIN:VEVENT
SUMMARY:Didaktika matematike 2 (PM-3\, PM-4)\, Predavanja (P)
DTSTART;TZID=Europe/Ljubljana:20240222T120000
DTEND;TZID=Europe/Ljubljana:20240222T140000
DTSTAMP:20260425T213505Z
UID:fmf-AFLABS-URNIK:premaknjeno-srecanje:123674
ATTENDEE:3. letnik (PM)
ATTENDEE:4. letnik (PM)
CATEGORIES:Entry,Standard
COLOR:darkgreen
DESCRIPTION:Predmet: Didaktika matematike 2 (PM-3\, PM-4)\, Predavanja (P)
 \nLetniki: 3. letnik (PM)\, 4. letnik (PM)\nIzvajalci: Damjan Kobal\nProst
 or: 3.06
LOCATION:3.06
ORGANIZER:Damjan Kobal
RELATED-TO:fmf-AFLABS-URNIK:srecanje:9812
X-WR-TIMEZONE:Europe/Ljubljana
END:VEVENT
BEGIN:VEVENT
SUMMARY:Didaktika matematike 2 (PM-3\, PM-4)\, Predavanja (P)
DTSTART;TZID=Europe/Ljubljana:20240229T120000
DTEND;TZID=Europe/Ljubljana:20240229T140000
DTSTAMP:20260425T213505Z
UID:fmf-AFLABS-URNIK:premaknjeno-srecanje:123675
ATTENDEE:3. letnik (PM)
ATTENDEE:4. letnik (PM)
CATEGORIES:Entry,Standard
COLOR:darkgreen
DESCRIPTION:Predmet: Didaktika matematike 2 (PM-3\, PM-4)\, Predavanja (P)
 \nLetniki: 3. letnik (PM)\, 4. letnik (PM)\nIzvajalci: Damjan Kobal\nProst
 or: 3.06
LOCATION:3.06
ORGANIZER:Damjan Kobal
RELATED-TO:fmf-AFLABS-URNIK:srecanje:9812
X-WR-TIMEZONE:Europe/Ljubljana
END:VEVENT
BEGIN:VEVENT
SUMMARY:Didaktika matematike 2 (PM-3\, PM-4)\, Predavanja (P)
DTSTART;TZID=Europe/Ljubljana:20240307T120000
DTEND;TZID=Europe/Ljubljana:20240307T140000
DTSTAMP:20260425T213505Z
UID:fmf-AFLABS-URNIK:premaknjeno-srecanje:123676
ATTENDEE:3. letnik (PM)
ATTENDEE:4. letnik (PM)
CATEGORIES:Entry,Standard
COLOR:darkgreen
DESCRIPTION:Predmet: Didaktika matematike 2 (PM-3\, PM-4)\, Predavanja (P)
 \nLetniki: 3. letnik (PM)\, 4. letnik (PM)\nIzvajalci: Damjan Kobal\nProst
 or: 3.06
LOCATION:3.06
ORGANIZER:Damjan Kobal
RELATED-TO:fmf-AFLABS-URNIK:srecanje:9812
X-WR-TIMEZONE:Europe/Ljubljana
END:VEVENT
BEGIN:VEVENT
SUMMARY:Matematika (ZF) ()\, Predavanja (P)
DTSTART;TZID=Europe/Ljubljana:20240222T080000
DTEND;TZID=Europe/Ljubljana:20240222T110000
DTSTAMP:20260425T213505Z
UID:fmf-AFLABS-URNIK:premaknjeno-srecanje:127274
CATEGORIES:Entry,Standard
COLOR:darkgreen
DESCRIPTION:Predmet: Matematika (ZF) ()\, Predavanja (P)\nLetniki: \nIzvaj
 alci: Damjan Kobal\nProstor: ZF
LOCATION:ZF
ORGANIZER:Damjan Kobal
RELATED-TO:fmf-AFLABS-URNIK:srecanje:10052
X-WR-TIMEZONE:Europe/Ljubljana
END:VEVENT
BEGIN:VEVENT
SUMMARY:Matematika (ZF) ()\, Predavanja (P)
DTSTART;TZID=Europe/Ljubljana:20240229T080000
DTEND;TZID=Europe/Ljubljana:20240229T110000
DTSTAMP:20260425T213505Z
UID:fmf-AFLABS-URNIK:premaknjeno-srecanje:127275
CATEGORIES:Entry,Standard
COLOR:darkgreen
DESCRIPTION:Predmet: Matematika (ZF) ()\, Predavanja (P)\nLetniki: \nIzvaj
 alci: Damjan Kobal\nProstor: ZF
LOCATION:ZF
ORGANIZER:Damjan Kobal
RELATED-TO:fmf-AFLABS-URNIK:srecanje:10052
X-WR-TIMEZONE:Europe/Ljubljana
END:VEVENT
BEGIN:VEVENT
SUMMARY:Matematika (ZF) ()\, Predavanja (P)
DTSTART;TZID=Europe/Ljubljana:20240307T080000
DTEND;TZID=Europe/Ljubljana:20240307T110000
DTSTAMP:20260425T213505Z
UID:fmf-AFLABS-URNIK:premaknjeno-srecanje:127276
CATEGORIES:Entry,Standard
COLOR:darkgreen
DESCRIPTION:Predmet: Matematika (ZF) ()\, Predavanja (P)\nLetniki: \nIzvaj
 alci: Damjan Kobal\nProstor: ZF
LOCATION:ZF
ORGANIZER:Damjan Kobal
RELATED-TO:fmf-AFLABS-URNIK:srecanje:10052
X-WR-TIMEZONE:Europe/Ljubljana
END:VEVENT
BEGIN:VEVENT
SUMMARY:Rezervacija
DTSTART;TZID=Europe/Ljubljana:20240126T090000
DTEND;TZID=Europe/Ljubljana:20240126T160000
DTSTAMP:20260425T213505Z
UID:fmf-AFLABS-URNIK:rezervacija:13916
CATEGORIES:Reservation
COLOR:royalblue
DESCRIPTION:Predmeti: \nLetniki: \nIzvajalci: Damjan Kobal\nProstori: 2.05
LOCATION:2.05
ORGANIZER:Damjan Kobal
X-WR-TIMEZONE:Europe/Ljubljana
END:VEVENT
BEGIN:VEVENT
SUMMARY:Rezervacija
DTSTART;TZID=Europe/Ljubljana:20240127T090000
DTEND;TZID=Europe/Ljubljana:20240127T160000
DTSTAMP:20260425T213505Z
UID:fmf-AFLABS-URNIK:rezervacija:13923
CATEGORIES:Reservation
COLOR:royalblue
DESCRIPTION:Predmeti: \nLetniki: \nIzvajalci: Damjan Kobal\nProstori: 2.05
LOCATION:2.05
ORGANIZER:Damjan Kobal
X-WR-TIMEZONE:Europe/Ljubljana
END:VEVENT
END:VCALENDAR
