BEGIN:VCALENDAR
VERSION:2.0
PRODID:-//AFLabs urnik izvoz - fmf//aflabs.si//SI
DTSTAMP:20260419T210049Z
NAME:UL FMF urnik
REFRESH-INTERVAL:PT1H
SOURCE:https://urnik.fmf.uni-lj.si/teacher/315?day=2024-09-30&export=1
URL:https://urnik.fmf.uni-lj.si/teacher/315?day=2024-09-30&export=1
X-PUBLISHED-TTL:PT1H
X-WR-CALNAME:UL FMF urnik
X-WR-TIMEZONE:Europe/Ljubljana
BEGIN:VTIMEZONE
TZID:Europe/Ljubljana
BEGIN:DAYLIGHT
DTSTART:20260329T020000
RDATE:20260329T020000
RDATE:20270328T020000
TZNAME:CEST
TZOFFSETFROM:+0100
TZOFFSETTO:+0200
END:DAYLIGHT
BEGIN:STANDARD
DTSTART:20261025T030000
RDATE:20261025T030000
RDATE:20271031T030000
TZNAME:CET
TZOFFSETFROM:+0200
TZOFFSETTO:+0100
END:STANDARD
END:VTIMEZONE
BEGIN:VEVENT
SUMMARY:Simbolno računanje in dinamična geometrija (PM-4\, PM-5)\, Vaje 
 (V)
DTSTART;TZID=Europe/Ljubljana:20241001T080000
DTEND;TZID=Europe/Ljubljana:20241001T100000
DTSTAMP:20260419T210049Z
UID:fmf-AFLABS-URNIK:premaknjeno-srecanje:184927
ATTENDEE:4. letnik (PM)
ATTENDEE:5. letnik (PM)
CATEGORIES:Entry,Standard
COLOR:darkgreen
DESCRIPTION:Predmet: Simbolno računanje in dinamična geometrija (PM-4\, 
 PM-5)\, Vaje (V)\nLetniki: 4. letnik (PM)\, 5. letnik (PM)\nIzvajalci: Dam
 jan Kobal\, Davorin Lešnik\nProstor: 3.12
LOCATION:3.12
ORGANIZER:Damjan Kobal, Davorin Lešnik
RELATED-TO:fmf-AFLABS-URNIK:srecanje:14435
X-WR-TIMEZONE:Europe/Ljubljana
END:VEVENT
BEGIN:VEVENT
SUMMARY:Simbolno računanje in dinamična geometrija (PM-4\, PM-5)\, Vaje 
 (V)
DTSTART;TZID=Europe/Ljubljana:20241008T080000
DTEND;TZID=Europe/Ljubljana:20241008T100000
DTSTAMP:20260419T210049Z
UID:fmf-AFLABS-URNIK:premaknjeno-srecanje:184928
ATTENDEE:4. letnik (PM)
ATTENDEE:5. letnik (PM)
CATEGORIES:Entry,Standard
COLOR:darkgreen
DESCRIPTION:Predmet: Simbolno računanje in dinamična geometrija (PM-4\, 
 PM-5)\, Vaje (V)\nLetniki: 4. letnik (PM)\, 5. letnik (PM)\nIzvajalci: Dam
 jan Kobal\, Davorin Lešnik\nProstor: 3.12
LOCATION:3.12
ORGANIZER:Damjan Kobal, Davorin Lešnik
RELATED-TO:fmf-AFLABS-URNIK:srecanje:14435
X-WR-TIMEZONE:Europe/Ljubljana
END:VEVENT
BEGIN:VEVENT
SUMMARY:Simbolno računanje in dinamična geometrija (PM-4\, PM-5)\, Vaje 
 (V)
DTSTART;TZID=Europe/Ljubljana:20241015T080000
DTEND;TZID=Europe/Ljubljana:20241015T100000
DTSTAMP:20260419T210049Z
UID:fmf-AFLABS-URNIK:premaknjeno-srecanje:184929
ATTENDEE:4. letnik (PM)
ATTENDEE:5. letnik (PM)
CATEGORIES:Entry,Standard
COLOR:darkgreen
DESCRIPTION:Predmet: Simbolno računanje in dinamična geometrija (PM-4\, 
 PM-5)\, Vaje (V)\nLetniki: 4. letnik (PM)\, 5. letnik (PM)\nIzvajalci: Dam
 jan Kobal\, Davorin Lešnik\nProstor: 3.12
LOCATION:3.12
ORGANIZER:Damjan Kobal, Davorin Lešnik
RELATED-TO:fmf-AFLABS-URNIK:srecanje:14435
X-WR-TIMEZONE:Europe/Ljubljana
END:VEVENT
BEGIN:VEVENT
SUMMARY:Simbolno računanje in dinamična geometrija (PM-4\, PM-5)\, Vaje 
 (V)
DTSTART;TZID=Europe/Ljubljana:20241022T080000
DTEND;TZID=Europe/Ljubljana:20241022T100000
DTSTAMP:20260419T210049Z
UID:fmf-AFLABS-URNIK:premaknjeno-srecanje:184930
ATTENDEE:4. letnik (PM)
ATTENDEE:5. letnik (PM)
CATEGORIES:Entry,Standard
COLOR:darkgreen
DESCRIPTION:Predmet: Simbolno računanje in dinamična geometrija (PM-4\, 
 PM-5)\, Vaje (V)\nLetniki: 4. letnik (PM)\, 5. letnik (PM)\nIzvajalci: Dam
 jan Kobal\, Davorin Lešnik\nProstor: 3.12
LOCATION:3.12
ORGANIZER:Damjan Kobal, Davorin Lešnik
RELATED-TO:fmf-AFLABS-URNIK:srecanje:14435
X-WR-TIMEZONE:Europe/Ljubljana
END:VEVENT
BEGIN:VEVENT
SUMMARY:Simbolno računanje in dinamična geometrija (PM-4\, PM-5)\, Vaje 
 (V)
DTSTART;TZID=Europe/Ljubljana:20241029T080000
DTEND;TZID=Europe/Ljubljana:20241029T100000
DTSTAMP:20260419T210049Z
UID:fmf-AFLABS-URNIK:premaknjeno-srecanje:184931
ATTENDEE:4. letnik (PM)
ATTENDEE:5. letnik (PM)
CATEGORIES:Entry,Standard
COLOR:darkgreen
DESCRIPTION:Predmet: Simbolno računanje in dinamična geometrija (PM-4\, 
 PM-5)\, Vaje (V)\nLetniki: 4. letnik (PM)\, 5. letnik (PM)\nIzvajalci: Dam
 jan Kobal\, Davorin Lešnik\nProstor: 3.12
LOCATION:3.12
ORGANIZER:Damjan Kobal, Davorin Lešnik
RELATED-TO:fmf-AFLABS-URNIK:srecanje:14435
X-WR-TIMEZONE:Europe/Ljubljana
END:VEVENT
BEGIN:VEVENT
SUMMARY:Prostovoljna učna pomoč ()\, Ostalo (O)
DTSTART;TZID=Europe/Ljubljana:20241003T160000
DTEND;TZID=Europe/Ljubljana:20241003T180000
DTSTAMP:20260419T210049Z
UID:fmf-AFLABS-URNIK:premaknjeno-srecanje:190587
CATEGORIES:Entry,Standard
COLOR:darkgreen
DESCRIPTION:Predmet: Prostovoljna učna pomoč ()\, Ostalo (O)\nLetniki: \
 nIzvajalci: Damjan Kobal\nProstor: 3.07
LOCATION:3.07
ORGANIZER:Damjan Kobal
RELATED-TO:fmf-AFLABS-URNIK:srecanje:14287
X-WR-TIMEZONE:Europe/Ljubljana
END:VEVENT
BEGIN:VEVENT
SUMMARY:Prostovoljna učna pomoč ()\, Ostalo (O)
DTSTART;TZID=Europe/Ljubljana:20241010T160000
DTEND;TZID=Europe/Ljubljana:20241010T180000
DTSTAMP:20260419T210049Z
UID:fmf-AFLABS-URNIK:premaknjeno-srecanje:190588
CATEGORIES:Entry,Standard
COLOR:darkgreen
DESCRIPTION:Predmet: Prostovoljna učna pomoč ()\, Ostalo (O)\nLetniki: \
 nIzvajalci: Damjan Kobal\nProstor: 3.07
LOCATION:3.07
ORGANIZER:Damjan Kobal
RELATED-TO:fmf-AFLABS-URNIK:srecanje:14287
X-WR-TIMEZONE:Europe/Ljubljana
END:VEVENT
BEGIN:VEVENT
SUMMARY:Prostovoljna učna pomoč ()\, Ostalo (O)
DTSTART;TZID=Europe/Ljubljana:20241017T160000
DTEND;TZID=Europe/Ljubljana:20241017T180000
DTSTAMP:20260419T210049Z
UID:fmf-AFLABS-URNIK:premaknjeno-srecanje:190589
CATEGORIES:Entry,Standard
COLOR:darkgreen
DESCRIPTION:Predmet: Prostovoljna učna pomoč ()\, Ostalo (O)\nLetniki: \
 nIzvajalci: Damjan Kobal\nProstor: 3.07
LOCATION:3.07
ORGANIZER:Damjan Kobal
RELATED-TO:fmf-AFLABS-URNIK:srecanje:14287
X-WR-TIMEZONE:Europe/Ljubljana
END:VEVENT
BEGIN:VEVENT
SUMMARY:Prostovoljna učna pomoč ()\, Ostalo (O)
DTSTART;TZID=Europe/Ljubljana:20241024T160000
DTEND;TZID=Europe/Ljubljana:20241024T180000
DTSTAMP:20260419T210049Z
UID:fmf-AFLABS-URNIK:premaknjeno-srecanje:190590
CATEGORIES:Entry,Standard
COLOR:darkgreen
DESCRIPTION:Predmet: Prostovoljna učna pomoč ()\, Ostalo (O)\nLetniki: \
 nIzvajalci: Damjan Kobal\nProstor: 3.07
LOCATION:3.07
ORGANIZER:Damjan Kobal
RELATED-TO:fmf-AFLABS-URNIK:srecanje:14287
X-WR-TIMEZONE:Europe/Ljubljana
END:VEVENT
BEGIN:VEVENT
SUMMARY:Prostovoljna učna pomoč ()\, Ostalo (O)
DTSTART;TZID=Europe/Ljubljana:20241031T160000
DTEND;TZID=Europe/Ljubljana:20241031T180000
DTSTAMP:20260419T210049Z
UID:fmf-AFLABS-URNIK:premaknjeno-srecanje:190591
CATEGORIES:Entry,Standard
COLOR:darkgreen
DESCRIPTION:Predmet: Prostovoljna učna pomoč ()\, Ostalo (O)\nLetniki: \
 nIzvajalci: Damjan Kobal\nProstor: 3.07
LOCATION:3.07
ORGANIZER:Damjan Kobal
RELATED-TO:fmf-AFLABS-URNIK:srecanje:14287
X-WR-TIMEZONE:Europe/Ljubljana
END:VEVENT
BEGIN:VEVENT
SUMMARY:Prostovoljna učna pomoč ()\, Ostalo (O)
DTSTART;TZID=Europe/Ljubljana:20241004T160000
DTEND;TZID=Europe/Ljubljana:20241004T180000
DTSTAMP:20260419T210049Z
UID:fmf-AFLABS-URNIK:premaknjeno-srecanje:190603
CATEGORIES:Entry,Standard
COLOR:darkgreen
DESCRIPTION:Predmet: Prostovoljna učna pomoč ()\, Ostalo (O)\nLetniki: \
 nIzvajalci: Damjan Kobal\nProstor: 3.07
LOCATION:3.07
ORGANIZER:Damjan Kobal
RELATED-TO:fmf-AFLABS-URNIK:srecanje:14288
X-WR-TIMEZONE:Europe/Ljubljana
END:VEVENT
BEGIN:VEVENT
SUMMARY:Prostovoljna učna pomoč ()\, Ostalo (O)
DTSTART;TZID=Europe/Ljubljana:20241011T160000
DTEND;TZID=Europe/Ljubljana:20241011T180000
DTSTAMP:20260419T210049Z
UID:fmf-AFLABS-URNIK:premaknjeno-srecanje:190604
CATEGORIES:Entry,Standard
COLOR:darkgreen
DESCRIPTION:Predmet: Prostovoljna učna pomoč ()\, Ostalo (O)\nLetniki: \
 nIzvajalci: Damjan Kobal\nProstor: 3.07
LOCATION:3.07
ORGANIZER:Damjan Kobal
RELATED-TO:fmf-AFLABS-URNIK:srecanje:14288
X-WR-TIMEZONE:Europe/Ljubljana
END:VEVENT
BEGIN:VEVENT
SUMMARY:Prostovoljna učna pomoč ()\, Ostalo (O)
DTSTART;TZID=Europe/Ljubljana:20241018T160000
DTEND;TZID=Europe/Ljubljana:20241018T180000
DTSTAMP:20260419T210049Z
UID:fmf-AFLABS-URNIK:premaknjeno-srecanje:190605
CATEGORIES:Entry,Standard
COLOR:darkgreen
DESCRIPTION:Predmet: Prostovoljna učna pomoč ()\, Ostalo (O)\nLetniki: \
 nIzvajalci: Damjan Kobal\nProstor: 3.07
LOCATION:3.07
ORGANIZER:Damjan Kobal
RELATED-TO:fmf-AFLABS-URNIK:srecanje:14288
X-WR-TIMEZONE:Europe/Ljubljana
END:VEVENT
BEGIN:VEVENT
SUMMARY:Prostovoljna učna pomoč ()\, Ostalo (O)
DTSTART;TZID=Europe/Ljubljana:20241025T160000
DTEND;TZID=Europe/Ljubljana:20241025T180000
DTSTAMP:20260419T210049Z
UID:fmf-AFLABS-URNIK:premaknjeno-srecanje:190606
CATEGORIES:Entry,Standard
COLOR:darkgreen
DESCRIPTION:Predmet: Prostovoljna učna pomoč ()\, Ostalo (O)\nLetniki: \
 nIzvajalci: Damjan Kobal\nProstor: 3.07
LOCATION:3.07
ORGANIZER:Damjan Kobal
RELATED-TO:fmf-AFLABS-URNIK:srecanje:14288
X-WR-TIMEZONE:Europe/Ljubljana
END:VEVENT
BEGIN:VEVENT
SUMMARY:Prostovoljna učna pomoč ()\, Ostalo (O)
DTSTART;TZID=Europe/Ljubljana:20241101T160000
DTEND;TZID=Europe/Ljubljana:20241101T180000
DTSTAMP:20260419T210049Z
UID:fmf-AFLABS-URNIK:premaknjeno-srecanje:190607
CATEGORIES:Entry,Standard
COLOR:darkgreen
DESCRIPTION:Predmet: Prostovoljna učna pomoč ()\, Ostalo (O)\nLetniki: \
 nIzvajalci: Damjan Kobal\nProstor: 3.07
LOCATION:3.07
ORGANIZER:Damjan Kobal
RELATED-TO:fmf-AFLABS-URNIK:srecanje:14288
X-WR-TIMEZONE:Europe/Ljubljana
END:VEVENT
BEGIN:VEVENT
SUMMARY:Simbolno računanje in dinamična geometrija (PM-4\, PM-5)\, Preda
 vanja (P)
DTSTART;TZID=Europe/Ljubljana:20241007T120000
DTEND;TZID=Europe/Ljubljana:20241007T140000
DTSTAMP:20260419T210049Z
UID:fmf-AFLABS-URNIK:premaknjeno-srecanje:184912
ATTENDEE:4. letnik (PM)
ATTENDEE:5. letnik (PM)
CATEGORIES:Entry,Standard
COLOR:darkgreen
DESCRIPTION:Predmet: Simbolno računanje in dinamična geometrija (PM-4\, 
 PM-5)\, Predavanja (P)\nLetniki: 4. letnik (PM)\, 5. letnik (PM)\nIzvajalc
 i: Andrej Bauer\, Damjan Kobal\nProstor: 3.10
LOCATION:3.10
ORGANIZER:Andrej Bauer, Damjan Kobal
RELATED-TO:fmf-AFLABS-URNIK:srecanje:14047
X-WR-TIMEZONE:Europe/Ljubljana
END:VEVENT
BEGIN:VEVENT
SUMMARY:Simbolno računanje in dinamična geometrija (PM-4\, PM-5)\, Preda
 vanja (P)
DTSTART;TZID=Europe/Ljubljana:20241014T120000
DTEND;TZID=Europe/Ljubljana:20241014T140000
DTSTAMP:20260419T210049Z
UID:fmf-AFLABS-URNIK:premaknjeno-srecanje:184913
ATTENDEE:4. letnik (PM)
ATTENDEE:5. letnik (PM)
CATEGORIES:Entry,Standard
COLOR:darkgreen
DESCRIPTION:Predmet: Simbolno računanje in dinamična geometrija (PM-4\, 
 PM-5)\, Predavanja (P)\nLetniki: 4. letnik (PM)\, 5. letnik (PM)\nIzvajalc
 i: Andrej Bauer\, Damjan Kobal\nProstor: 3.10
LOCATION:3.10
ORGANIZER:Andrej Bauer, Damjan Kobal
RELATED-TO:fmf-AFLABS-URNIK:srecanje:14047
X-WR-TIMEZONE:Europe/Ljubljana
END:VEVENT
BEGIN:VEVENT
SUMMARY:Simbolno računanje in dinamična geometrija (PM-4\, PM-5)\, Preda
 vanja (P)
DTSTART;TZID=Europe/Ljubljana:20241021T120000
DTEND;TZID=Europe/Ljubljana:20241021T140000
DTSTAMP:20260419T210049Z
UID:fmf-AFLABS-URNIK:premaknjeno-srecanje:184914
ATTENDEE:4. letnik (PM)
ATTENDEE:5. letnik (PM)
CATEGORIES:Entry,Standard
COLOR:darkgreen
DESCRIPTION:Predmet: Simbolno računanje in dinamična geometrija (PM-4\, 
 PM-5)\, Predavanja (P)\nLetniki: 4. letnik (PM)\, 5. letnik (PM)\nIzvajalc
 i: Andrej Bauer\, Damjan Kobal\nProstor: 3.10
LOCATION:3.10
ORGANIZER:Andrej Bauer, Damjan Kobal
RELATED-TO:fmf-AFLABS-URNIK:srecanje:14047
X-WR-TIMEZONE:Europe/Ljubljana
END:VEVENT
BEGIN:VEVENT
SUMMARY:Simbolno računanje in dinamična geometrija (PM-4\, PM-5)\, Preda
 vanja (P)
DTSTART;TZID=Europe/Ljubljana:20241028T120000
DTEND;TZID=Europe/Ljubljana:20241028T140000
DTSTAMP:20260419T210049Z
UID:fmf-AFLABS-URNIK:premaknjeno-srecanje:184915
ATTENDEE:4. letnik (PM)
ATTENDEE:5. letnik (PM)
CATEGORIES:Entry,Standard
COLOR:darkgreen
DESCRIPTION:Predmet: Simbolno računanje in dinamična geometrija (PM-4\, 
 PM-5)\, Predavanja (P)\nLetniki: 4. letnik (PM)\, 5. letnik (PM)\nIzvajalc
 i: Andrej Bauer\, Damjan Kobal\nProstor: 3.10
LOCATION:3.10
ORGANIZER:Andrej Bauer, Damjan Kobal
RELATED-TO:fmf-AFLABS-URNIK:srecanje:14047
X-WR-TIMEZONE:Europe/Ljubljana
END:VEVENT
BEGIN:VEVENT
SUMMARY:Simbolno računanje in dinamična geometrija (PM-4\, PM-5)\, Preda
 vanja (P)
DTSTART;TZID=Europe/Ljubljana:20241104T120000
DTEND;TZID=Europe/Ljubljana:20241104T140000
DTSTAMP:20260419T210049Z
UID:fmf-AFLABS-URNIK:premaknjeno-srecanje:184916
ATTENDEE:4. letnik (PM)
ATTENDEE:5. letnik (PM)
CATEGORIES:Entry,Standard
COLOR:darkgreen
DESCRIPTION:Predmet: Simbolno računanje in dinamična geometrija (PM-4\, 
 PM-5)\, Predavanja (P)\nLetniki: 4. letnik (PM)\, 5. letnik (PM)\nIzvajalc
 i: Andrej Bauer\, Damjan Kobal\nProstor: 3.10
LOCATION:3.10
ORGANIZER:Andrej Bauer, Damjan Kobal
RELATED-TO:fmf-AFLABS-URNIK:srecanje:14047
X-WR-TIMEZONE:Europe/Ljubljana
END:VEVENT
BEGIN:VEVENT
SUMMARY:Prostovoljna učna pomoč ()\, Ostalo (O)
DTSTART;TZID=Europe/Ljubljana:20241007T160000
DTEND;TZID=Europe/Ljubljana:20241007T180000
DTSTAMP:20260419T210049Z
UID:fmf-AFLABS-URNIK:premaknjeno-srecanje:190571
CATEGORIES:Entry,Standard
COLOR:darkgreen
DESCRIPTION:Predmet: Prostovoljna učna pomoč ()\, Ostalo (O)\nLetniki: \
 nIzvajalci: Damjan Kobal\nProstor: 3.07
LOCATION:3.07
ORGANIZER:Damjan Kobal
RELATED-TO:fmf-AFLABS-URNIK:srecanje:14286
X-WR-TIMEZONE:Europe/Ljubljana
END:VEVENT
BEGIN:VEVENT
SUMMARY:Prostovoljna učna pomoč ()\, Ostalo (O)
DTSTART;TZID=Europe/Ljubljana:20241014T160000
DTEND;TZID=Europe/Ljubljana:20241014T180000
DTSTAMP:20260419T210049Z
UID:fmf-AFLABS-URNIK:premaknjeno-srecanje:190572
CATEGORIES:Entry,Standard
COLOR:darkgreen
DESCRIPTION:Predmet: Prostovoljna učna pomoč ()\, Ostalo (O)\nLetniki: \
 nIzvajalci: Damjan Kobal\nProstor: 3.07
LOCATION:3.07
ORGANIZER:Damjan Kobal
RELATED-TO:fmf-AFLABS-URNIK:srecanje:14286
X-WR-TIMEZONE:Europe/Ljubljana
END:VEVENT
BEGIN:VEVENT
SUMMARY:Prostovoljna učna pomoč ()\, Ostalo (O)
DTSTART;TZID=Europe/Ljubljana:20241021T160000
DTEND;TZID=Europe/Ljubljana:20241021T180000
DTSTAMP:20260419T210049Z
UID:fmf-AFLABS-URNIK:premaknjeno-srecanje:190573
CATEGORIES:Entry,Standard
COLOR:darkgreen
DESCRIPTION:Predmet: Prostovoljna učna pomoč ()\, Ostalo (O)\nLetniki: \
 nIzvajalci: Damjan Kobal\nProstor: 3.07
LOCATION:3.07
ORGANIZER:Damjan Kobal
RELATED-TO:fmf-AFLABS-URNIK:srecanje:14286
X-WR-TIMEZONE:Europe/Ljubljana
END:VEVENT
BEGIN:VEVENT
SUMMARY:Prostovoljna učna pomoč ()\, Ostalo (O)
DTSTART;TZID=Europe/Ljubljana:20241028T160000
DTEND;TZID=Europe/Ljubljana:20241028T180000
DTSTAMP:20260419T210049Z
UID:fmf-AFLABS-URNIK:premaknjeno-srecanje:190574
CATEGORIES:Entry,Standard
COLOR:darkgreen
DESCRIPTION:Predmet: Prostovoljna učna pomoč ()\, Ostalo (O)\nLetniki: \
 nIzvajalci: Damjan Kobal\nProstor: 3.07
LOCATION:3.07
ORGANIZER:Damjan Kobal
RELATED-TO:fmf-AFLABS-URNIK:srecanje:14286
X-WR-TIMEZONE:Europe/Ljubljana
END:VEVENT
BEGIN:VEVENT
SUMMARY:Prostovoljna učna pomoč ()\, Ostalo (O)
DTSTART;TZID=Europe/Ljubljana:20241104T160000
DTEND;TZID=Europe/Ljubljana:20241104T180000
DTSTAMP:20260419T210049Z
UID:fmf-AFLABS-URNIK:premaknjeno-srecanje:190575
CATEGORIES:Entry,Standard
COLOR:darkgreen
DESCRIPTION:Predmet: Prostovoljna učna pomoč ()\, Ostalo (O)\nLetniki: \
 nIzvajalci: Damjan Kobal\nProstor: 3.07
LOCATION:3.07
ORGANIZER:Damjan Kobal
RELATED-TO:fmf-AFLABS-URNIK:srecanje:14286
X-WR-TIMEZONE:Europe/Ljubljana
END:VEVENT
BEGIN:VEVENT
SUMMARY:FMF seminar za učitelje matematike
DTSTART;TZID=Europe/Ljubljana:20240920T090000
DTEND;TZID=Europe/Ljubljana:20240920T160000
DTSTAMP:20260419T210049Z
UID:fmf-AFLABS-URNIK:rezervacija:15348
CATEGORIES:Reservation
COLOR:royalblue
DESCRIPTION:Predmeti: ZUNANJE OBVEZNOSTI ()\nLetniki: \nIzvajalci: Damjan 
 Kobal\nProstori: 2.05
LOCATION:2.05
ORGANIZER:Damjan Kobal
X-WR-TIMEZONE:Europe/Ljubljana
END:VEVENT
BEGIN:VEVENT
SUMMARY:FMF seminar za učitelje natematike
DTSTART;TZID=Europe/Ljubljana:20240921T090000
DTEND;TZID=Europe/Ljubljana:20240921T160000
DTSTAMP:20260419T210049Z
UID:fmf-AFLABS-URNIK:rezervacija:15360
CATEGORIES:Reservation
COLOR:royalblue
DESCRIPTION:Predmeti: ZUNANJE OBVEZNOSTI ()\nLetniki: \nIzvajalci: Damjan 
 Kobal\nProstori: 2.05
LOCATION:2.05
ORGANIZER:Damjan Kobal
X-WR-TIMEZONE:Europe/Ljubljana
END:VEVENT
BEGIN:VEVENT
SUMMARY:FMF Seminar za učitelje
DTSTART;TZID=Europe/Ljubljana:20240921T090000
DTEND;TZID=Europe/Ljubljana:20240921T160000
DTSTAMP:20260419T210049Z
UID:fmf-AFLABS-URNIK:rezervacija:18333
CATEGORIES:Reservation
COLOR:royalblue
DESCRIPTION:Predmeti: \nLetniki: \nIzvajalci: Damjan Kobal\nProstori: 2.02
LOCATION:2.02
ORGANIZER:Damjan Kobal
X-WR-TIMEZONE:Europe/Ljubljana
END:VEVENT
BEGIN:VEVENT
SUMMARY:Koordinacija PUP
DTSTART;TZID=Europe/Ljubljana:20241010T120000
DTEND;TZID=Europe/Ljubljana:20241010T130000
DTSTAMP:20260419T210049Z
UID:fmf-AFLABS-URNIK:rezervacija:19090
CATEGORIES:Reservation
COLOR:royalblue
DESCRIPTION:Predmeti: Prostovoljna učna pomoč ()\nLetniki: \nIzvajalci: 
 Damjan Kobal\nProstori: 3.04
LOCATION:3.04
ORGANIZER:Damjan Kobal
X-WR-TIMEZONE:Europe/Ljubljana
END:VEVENT
END:VCALENDAR
