BEGIN:VCALENDAR
VERSION:2.0
PRODID:-//AFLabs urnik izvoz - fmf//aflabs.si//SI
DTSTAMP:20260426T024039Z
NAME:UL FMF urnik
REFRESH-INTERVAL:PT1H
SOURCE:https://urnik.fmf.uni-lj.si/teacher/319?day=2020-04-06&export=1
URL:https://urnik.fmf.uni-lj.si/teacher/319?day=2020-04-06&export=1
X-PUBLISHED-TTL:PT1H
X-WR-CALNAME:UL FMF urnik
X-WR-TIMEZONE:Europe/Ljubljana
BEGIN:VTIMEZONE
TZID:Europe/Ljubljana
BEGIN:DAYLIGHT
DTSTART:20260329T020000
RDATE:20260329T020000
RDATE:20270328T020000
TZNAME:CEST
TZOFFSETFROM:+0100
TZOFFSETTO:+0200
END:DAYLIGHT
BEGIN:STANDARD
DTSTART:20261025T030000
RDATE:20261025T030000
RDATE:20271031T030000
TZNAME:CET
TZOFFSETFROM:+0200
TZOFFSETTO:+0100
END:STANDARD
END:VTIMEZONE
BEGIN:VEVENT
SUMMARY:Uvod v programiranje (FM-1)\, Vaje (V)\, [1]
DTSTART;TZID=Europe/Ljubljana:20200217T170000
DTEND;TZID=Europe/Ljubljana:20200217T200000
DTSTAMP:20260426T024039Z
UID:fmf-AFLABS-URNIK:premaknjeno-srecanje:117450
ATTENDEE:1. letnik (FM)
CATEGORIES:Entry,Standard
COLOR:darkgreen
DESCRIPTION:Predmet: Uvod v programiranje (FM-1)\, Vaje (V)\, [1]\nLetniki
 : 1. letnik (FM)\nIzvajalci: Filip Koprivec\nProstor: 3.11
LOCATION:3.11
ORGANIZER:Filip Koprivec
RELATED-TO:fmf-AFLABS-URNIK:srecanje:4512
X-WR-TIMEZONE:Europe/Ljubljana
END:VEVENT
BEGIN:VEVENT
SUMMARY:Uvod v programiranje (FM-1)\, Vaje (V)\, [1]
DTSTART;TZID=Europe/Ljubljana:20200224T170000
DTEND;TZID=Europe/Ljubljana:20200224T200000
DTSTAMP:20260426T024039Z
UID:fmf-AFLABS-URNIK:premaknjeno-srecanje:117451
ATTENDEE:1. letnik (FM)
CATEGORIES:Entry,Standard
COLOR:darkgreen
DESCRIPTION:Predmet: Uvod v programiranje (FM-1)\, Vaje (V)\, [1]\nLetniki
 : 1. letnik (FM)\nIzvajalci: Filip Koprivec\nProstor: 3.11
LOCATION:3.11
ORGANIZER:Filip Koprivec
RELATED-TO:fmf-AFLABS-URNIK:srecanje:4512
X-WR-TIMEZONE:Europe/Ljubljana
END:VEVENT
BEGIN:VEVENT
SUMMARY:Uvod v programiranje (FM-1)\, Vaje (V)\, [1]
DTSTART;TZID=Europe/Ljubljana:20200302T170000
DTEND;TZID=Europe/Ljubljana:20200302T200000
DTSTAMP:20260426T024039Z
UID:fmf-AFLABS-URNIK:premaknjeno-srecanje:117452
ATTENDEE:1. letnik (FM)
CATEGORIES:Entry,Standard
COLOR:darkgreen
DESCRIPTION:Predmet: Uvod v programiranje (FM-1)\, Vaje (V)\, [1]\nLetniki
 : 1. letnik (FM)\nIzvajalci: Filip Koprivec\nProstor: 3.11
LOCATION:3.11
ORGANIZER:Filip Koprivec
RELATED-TO:fmf-AFLABS-URNIK:srecanje:4512
X-WR-TIMEZONE:Europe/Ljubljana
END:VEVENT
BEGIN:VEVENT
SUMMARY:Uvod v programiranje (FM-1)\, Vaje (V)\, [1]
DTSTART;TZID=Europe/Ljubljana:20200309T170000
DTEND;TZID=Europe/Ljubljana:20200309T200000
DTSTAMP:20260426T024039Z
UID:fmf-AFLABS-URNIK:premaknjeno-srecanje:117453
ATTENDEE:1. letnik (FM)
CATEGORIES:Entry,Standard
COLOR:darkgreen
DESCRIPTION:Predmet: Uvod v programiranje (FM-1)\, Vaje (V)\, [1]\nLetniki
 : 1. letnik (FM)\nIzvajalci: Filip Koprivec\nProstor: 3.11
LOCATION:3.11
ORGANIZER:Filip Koprivec
RELATED-TO:fmf-AFLABS-URNIK:srecanje:4512
X-WR-TIMEZONE:Europe/Ljubljana
END:VEVENT
BEGIN:VEVENT
SUMMARY:Uvod v programiranje (FM-1)\, Vaje (V)\, [1]
DTSTART;TZID=Europe/Ljubljana:20200316T170000
DTEND;TZID=Europe/Ljubljana:20200316T200000
DTSTAMP:20260426T024039Z
UID:fmf-AFLABS-URNIK:premaknjeno-srecanje:117454
ATTENDEE:1. letnik (FM)
CATEGORIES:Entry,Standard
COLOR:darkgreen
DESCRIPTION:Predmet: Uvod v programiranje (FM-1)\, Vaje (V)\, [1]\nLetniki
 : 1. letnik (FM)\nIzvajalci: Filip Koprivec\nProstor: 3.11
LOCATION:3.11
ORGANIZER:Filip Koprivec
RELATED-TO:fmf-AFLABS-URNIK:srecanje:4512
X-WR-TIMEZONE:Europe/Ljubljana
END:VEVENT
BEGIN:VEVENT
SUMMARY:Uvod v programiranje (FM-1)\, Vaje (V)\, [1]
DTSTART;TZID=Europe/Ljubljana:20200323T170000
DTEND;TZID=Europe/Ljubljana:20200323T200000
DTSTAMP:20260426T024039Z
UID:fmf-AFLABS-URNIK:premaknjeno-srecanje:117455
ATTENDEE:1. letnik (FM)
CATEGORIES:Entry,Standard
COLOR:darkgreen
DESCRIPTION:Predmet: Uvod v programiranje (FM-1)\, Vaje (V)\, [1]\nLetniki
 : 1. letnik (FM)\nIzvajalci: Filip Koprivec\nProstor: 3.11
LOCATION:3.11
ORGANIZER:Filip Koprivec
RELATED-TO:fmf-AFLABS-URNIK:srecanje:4512
X-WR-TIMEZONE:Europe/Ljubljana
END:VEVENT
BEGIN:VEVENT
SUMMARY:Uvod v programiranje (FM-1)\, Vaje (V)\, [1]
DTSTART;TZID=Europe/Ljubljana:20200330T170000
DTEND;TZID=Europe/Ljubljana:20200330T200000
DTSTAMP:20260426T024039Z
UID:fmf-AFLABS-URNIK:premaknjeno-srecanje:117456
ATTENDEE:1. letnik (FM)
CATEGORIES:Entry,Standard
COLOR:darkgreen
DESCRIPTION:Predmet: Uvod v programiranje (FM-1)\, Vaje (V)\, [1]\nLetniki
 : 1. letnik (FM)\nIzvajalci: Filip Koprivec\nProstor: 3.11
LOCATION:3.11
ORGANIZER:Filip Koprivec
RELATED-TO:fmf-AFLABS-URNIK:srecanje:4512
X-WR-TIMEZONE:Europe/Ljubljana
END:VEVENT
BEGIN:VEVENT
SUMMARY:Uvod v programiranje (FM-1)\, Vaje (V)\, [1]
DTSTART;TZID=Europe/Ljubljana:20200406T170000
DTEND;TZID=Europe/Ljubljana:20200406T200000
DTSTAMP:20260426T024039Z
UID:fmf-AFLABS-URNIK:premaknjeno-srecanje:117457
ATTENDEE:1. letnik (FM)
CATEGORIES:Entry,Standard
COLOR:darkgreen
DESCRIPTION:Predmet: Uvod v programiranje (FM-1)\, Vaje (V)\, [1]\nLetniki
 : 1. letnik (FM)\nIzvajalci: Filip Koprivec\nProstor: 3.11
LOCATION:3.11
ORGANIZER:Filip Koprivec
RELATED-TO:fmf-AFLABS-URNIK:srecanje:4512
X-WR-TIMEZONE:Europe/Ljubljana
END:VEVENT
BEGIN:VEVENT
SUMMARY:Uvod v programiranje (FM-1)\, Vaje (V)\, [1]
DTSTART;TZID=Europe/Ljubljana:20200413T170000
DTEND;TZID=Europe/Ljubljana:20200413T200000
DTSTAMP:20260426T024039Z
UID:fmf-AFLABS-URNIK:premaknjeno-srecanje:117458
ATTENDEE:1. letnik (FM)
CATEGORIES:Entry,Standard
COLOR:darkgreen
DESCRIPTION:Predmet: Uvod v programiranje (FM-1)\, Vaje (V)\, [1]\nLetniki
 : 1. letnik (FM)\nIzvajalci: Filip Koprivec\nProstor: 3.11
LOCATION:3.11
ORGANIZER:Filip Koprivec
RELATED-TO:fmf-AFLABS-URNIK:srecanje:4512
X-WR-TIMEZONE:Europe/Ljubljana
END:VEVENT
BEGIN:VEVENT
SUMMARY:Uvod v programiranje (FM-1)\, Vaje (V)\, [1]
DTSTART;TZID=Europe/Ljubljana:20200420T170000
DTEND;TZID=Europe/Ljubljana:20200420T200000
DTSTAMP:20260426T024039Z
UID:fmf-AFLABS-URNIK:premaknjeno-srecanje:117459
ATTENDEE:1. letnik (FM)
CATEGORIES:Entry,Standard
COLOR:darkgreen
DESCRIPTION:Predmet: Uvod v programiranje (FM-1)\, Vaje (V)\, [1]\nLetniki
 : 1. letnik (FM)\nIzvajalci: Filip Koprivec\nProstor: 3.11
LOCATION:3.11
ORGANIZER:Filip Koprivec
RELATED-TO:fmf-AFLABS-URNIK:srecanje:4512
X-WR-TIMEZONE:Europe/Ljubljana
END:VEVENT
BEGIN:VEVENT
SUMMARY:Uvod v programiranje (FM-1)\, Vaje (V)\, [1]
DTSTART;TZID=Europe/Ljubljana:20200427T170000
DTEND;TZID=Europe/Ljubljana:20200427T200000
DTSTAMP:20260426T024039Z
UID:fmf-AFLABS-URNIK:premaknjeno-srecanje:117460
ATTENDEE:1. letnik (FM)
CATEGORIES:Entry,Standard
COLOR:darkgreen
DESCRIPTION:Predmet: Uvod v programiranje (FM-1)\, Vaje (V)\, [1]\nLetniki
 : 1. letnik (FM)\nIzvajalci: Filip Koprivec\nProstor: 3.11
LOCATION:3.11
ORGANIZER:Filip Koprivec
RELATED-TO:fmf-AFLABS-URNIK:srecanje:4512
X-WR-TIMEZONE:Europe/Ljubljana
END:VEVENT
BEGIN:VEVENT
SUMMARY:Uvod v programiranje (FM-1)\, Vaje (V)\, [1]
DTSTART;TZID=Europe/Ljubljana:20200504T170000
DTEND;TZID=Europe/Ljubljana:20200504T200000
DTSTAMP:20260426T024039Z
UID:fmf-AFLABS-URNIK:premaknjeno-srecanje:117461
ATTENDEE:1. letnik (FM)
CATEGORIES:Entry,Standard
COLOR:darkgreen
DESCRIPTION:Predmet: Uvod v programiranje (FM-1)\, Vaje (V)\, [1]\nLetniki
 : 1. letnik (FM)\nIzvajalci: Filip Koprivec\nProstor: 3.11
LOCATION:3.11
ORGANIZER:Filip Koprivec
RELATED-TO:fmf-AFLABS-URNIK:srecanje:4512
X-WR-TIMEZONE:Europe/Ljubljana
END:VEVENT
BEGIN:VEVENT
SUMMARY:Uvod v programiranje (FM-1)\, Vaje (V)\, [1]
DTSTART;TZID=Europe/Ljubljana:20200511T170000
DTEND;TZID=Europe/Ljubljana:20200511T200000
DTSTAMP:20260426T024039Z
UID:fmf-AFLABS-URNIK:premaknjeno-srecanje:117462
ATTENDEE:1. letnik (FM)
CATEGORIES:Entry,Standard
COLOR:darkgreen
DESCRIPTION:Predmet: Uvod v programiranje (FM-1)\, Vaje (V)\, [1]\nLetniki
 : 1. letnik (FM)\nIzvajalci: Filip Koprivec\nProstor: 3.11
LOCATION:3.11
ORGANIZER:Filip Koprivec
RELATED-TO:fmf-AFLABS-URNIK:srecanje:4512
X-WR-TIMEZONE:Europe/Ljubljana
END:VEVENT
BEGIN:VEVENT
SUMMARY:Uvod v programiranje (FM-1)\, Vaje (V)\, [1]
DTSTART;TZID=Europe/Ljubljana:20200518T170000
DTEND;TZID=Europe/Ljubljana:20200518T200000
DTSTAMP:20260426T024039Z
UID:fmf-AFLABS-URNIK:premaknjeno-srecanje:117463
ATTENDEE:1. letnik (FM)
CATEGORIES:Entry,Standard
COLOR:darkgreen
DESCRIPTION:Predmet: Uvod v programiranje (FM-1)\, Vaje (V)\, [1]\nLetniki
 : 1. letnik (FM)\nIzvajalci: Filip Koprivec\nProstor: 3.11
LOCATION:3.11
ORGANIZER:Filip Koprivec
RELATED-TO:fmf-AFLABS-URNIK:srecanje:4512
X-WR-TIMEZONE:Europe/Ljubljana
END:VEVENT
BEGIN:VEVENT
SUMMARY:Uvod v programiranje (FM-1)\, Vaje (V)\, [1]
DTSTART;TZID=Europe/Ljubljana:20200525T170000
DTEND;TZID=Europe/Ljubljana:20200525T200000
DTSTAMP:20260426T024039Z
UID:fmf-AFLABS-URNIK:premaknjeno-srecanje:117464
ATTENDEE:1. letnik (FM)
CATEGORIES:Entry,Standard
COLOR:darkgreen
DESCRIPTION:Predmet: Uvod v programiranje (FM-1)\, Vaje (V)\, [1]\nLetniki
 : 1. letnik (FM)\nIzvajalci: Filip Koprivec\nProstor: 3.11
LOCATION:3.11
ORGANIZER:Filip Koprivec
RELATED-TO:fmf-AFLABS-URNIK:srecanje:4512
X-WR-TIMEZONE:Europe/Ljubljana
END:VEVENT
BEGIN:VEVENT
SUMMARY:Matematika z računalnikom (FM-M\, IŠRM-M\, MAT-M\, PM-5)\, Vaje 
 (V)
DTSTART;TZID=Europe/Ljubljana:20200219T100000
DTEND;TZID=Europe/Ljubljana:20200219T120000
DTSTAMP:20260426T024039Z
UID:fmf-AFLABS-URNIK:premaknjeno-srecanje:67731
ATTENDEE:5. letnik (PM)
ATTENDEE:magistrski študij (FM)
ATTENDEE:magistrski študij (IŠRM)
ATTENDEE:magistrski študij (M)
CATEGORIES:Entry,Standard
COLOR:darkgreen
DESCRIPTION:Predmet: Matematika z računalnikom (FM-M\, IŠRM-M\, MAT-M\, 
 PM-5)\, Vaje (V)\nLetniki: magistrski študij (FM)\, magistrski študij (I
 ŠRM)\, magistrski študij (M)\, 5. letnik (PM)\nIzvajalci: Filip Koprivec
 \nProstor: 3.10
LOCATION:3.10
ORGANIZER:Filip Koprivec
RELATED-TO:fmf-AFLABS-URNIK:srecanje:4178
X-WR-TIMEZONE:Europe/Ljubljana
END:VEVENT
BEGIN:VEVENT
SUMMARY:Matematika z računalnikom (FM-M\, IŠRM-M\, MAT-M\, PM-5)\, Vaje 
 (V)
DTSTART;TZID=Europe/Ljubljana:20200226T100000
DTEND;TZID=Europe/Ljubljana:20200226T120000
DTSTAMP:20260426T024039Z
UID:fmf-AFLABS-URNIK:premaknjeno-srecanje:67732
ATTENDEE:5. letnik (PM)
ATTENDEE:magistrski študij (FM)
ATTENDEE:magistrski študij (IŠRM)
ATTENDEE:magistrski študij (M)
CATEGORIES:Entry,Standard
COLOR:darkgreen
DESCRIPTION:Predmet: Matematika z računalnikom (FM-M\, IŠRM-M\, MAT-M\, 
 PM-5)\, Vaje (V)\nLetniki: magistrski študij (FM)\, magistrski študij (I
 ŠRM)\, magistrski študij (M)\, 5. letnik (PM)\nIzvajalci: Filip Koprivec
 \nProstor: 3.10
LOCATION:3.10
ORGANIZER:Filip Koprivec
RELATED-TO:fmf-AFLABS-URNIK:srecanje:4178
X-WR-TIMEZONE:Europe/Ljubljana
END:VEVENT
BEGIN:VEVENT
SUMMARY:Matematika z računalnikom (FM-M\, IŠRM-M\, MAT-M\, PM-5)\, Vaje 
 (V)
DTSTART;TZID=Europe/Ljubljana:20200304T100000
DTEND;TZID=Europe/Ljubljana:20200304T120000
DTSTAMP:20260426T024039Z
UID:fmf-AFLABS-URNIK:premaknjeno-srecanje:67733
ATTENDEE:5. letnik (PM)
ATTENDEE:magistrski študij (FM)
ATTENDEE:magistrski študij (IŠRM)
ATTENDEE:magistrski študij (M)
CATEGORIES:Entry,Standard
COLOR:darkgreen
DESCRIPTION:Predmet: Matematika z računalnikom (FM-M\, IŠRM-M\, MAT-M\, 
 PM-5)\, Vaje (V)\nLetniki: magistrski študij (FM)\, magistrski študij (I
 ŠRM)\, magistrski študij (M)\, 5. letnik (PM)\nIzvajalci: Filip Koprivec
 \nProstor: 3.10
LOCATION:3.10
ORGANIZER:Filip Koprivec
RELATED-TO:fmf-AFLABS-URNIK:srecanje:4178
X-WR-TIMEZONE:Europe/Ljubljana
END:VEVENT
BEGIN:VEVENT
SUMMARY:Matematika z računalnikom (FM-M\, IŠRM-M\, MAT-M\, PM-5)\, Vaje 
 (V)
DTSTART;TZID=Europe/Ljubljana:20200311T100000
DTEND;TZID=Europe/Ljubljana:20200311T120000
DTSTAMP:20260426T024039Z
UID:fmf-AFLABS-URNIK:premaknjeno-srecanje:67734
ATTENDEE:5. letnik (PM)
ATTENDEE:magistrski študij (FM)
ATTENDEE:magistrski študij (IŠRM)
ATTENDEE:magistrski študij (M)
CATEGORIES:Entry,Standard
COLOR:darkgreen
DESCRIPTION:Predmet: Matematika z računalnikom (FM-M\, IŠRM-M\, MAT-M\, 
 PM-5)\, Vaje (V)\nLetniki: magistrski študij (FM)\, magistrski študij (I
 ŠRM)\, magistrski študij (M)\, 5. letnik (PM)\nIzvajalci: Filip Koprivec
 \nProstor: 3.10
LOCATION:3.10
ORGANIZER:Filip Koprivec
RELATED-TO:fmf-AFLABS-URNIK:srecanje:4178
X-WR-TIMEZONE:Europe/Ljubljana
END:VEVENT
BEGIN:VEVENT
SUMMARY:Matematika z računalnikom (FM-M\, IŠRM-M\, MAT-M\, PM-5)\, Vaje 
 (V)
DTSTART;TZID=Europe/Ljubljana:20200318T100000
DTEND;TZID=Europe/Ljubljana:20200318T120000
DTSTAMP:20260426T024039Z
UID:fmf-AFLABS-URNIK:premaknjeno-srecanje:67735
ATTENDEE:5. letnik (PM)
ATTENDEE:magistrski študij (FM)
ATTENDEE:magistrski študij (IŠRM)
ATTENDEE:magistrski študij (M)
CATEGORIES:Entry,Standard
COLOR:darkgreen
DESCRIPTION:Predmet: Matematika z računalnikom (FM-M\, IŠRM-M\, MAT-M\, 
 PM-5)\, Vaje (V)\nLetniki: magistrski študij (FM)\, magistrski študij (I
 ŠRM)\, magistrski študij (M)\, 5. letnik (PM)\nIzvajalci: Filip Koprivec
 \nProstor: 3.10
LOCATION:3.10
ORGANIZER:Filip Koprivec
RELATED-TO:fmf-AFLABS-URNIK:srecanje:4178
X-WR-TIMEZONE:Europe/Ljubljana
END:VEVENT
BEGIN:VEVENT
SUMMARY:Matematika z računalnikom (FM-M\, IŠRM-M\, MAT-M\, PM-5)\, Vaje 
 (V)
DTSTART;TZID=Europe/Ljubljana:20200325T100000
DTEND;TZID=Europe/Ljubljana:20200325T120000
DTSTAMP:20260426T024039Z
UID:fmf-AFLABS-URNIK:premaknjeno-srecanje:67736
ATTENDEE:5. letnik (PM)
ATTENDEE:magistrski študij (FM)
ATTENDEE:magistrski študij (IŠRM)
ATTENDEE:magistrski študij (M)
CATEGORIES:Entry,Standard
COLOR:darkgreen
DESCRIPTION:Predmet: Matematika z računalnikom (FM-M\, IŠRM-M\, MAT-M\, 
 PM-5)\, Vaje (V)\nLetniki: magistrski študij (FM)\, magistrski študij (I
 ŠRM)\, magistrski študij (M)\, 5. letnik (PM)\nIzvajalci: Filip Koprivec
 \nProstor: 3.10
LOCATION:3.10
ORGANIZER:Filip Koprivec
RELATED-TO:fmf-AFLABS-URNIK:srecanje:4178
X-WR-TIMEZONE:Europe/Ljubljana
END:VEVENT
BEGIN:VEVENT
SUMMARY:Matematika z računalnikom (FM-M\, IŠRM-M\, MAT-M\, PM-5)\, Vaje 
 (V)
DTSTART;TZID=Europe/Ljubljana:20200401T100000
DTEND;TZID=Europe/Ljubljana:20200401T120000
DTSTAMP:20260426T024039Z
UID:fmf-AFLABS-URNIK:premaknjeno-srecanje:67737
ATTENDEE:5. letnik (PM)
ATTENDEE:magistrski študij (FM)
ATTENDEE:magistrski študij (IŠRM)
ATTENDEE:magistrski študij (M)
CATEGORIES:Entry,Standard
COLOR:darkgreen
DESCRIPTION:Predmet: Matematika z računalnikom (FM-M\, IŠRM-M\, MAT-M\, 
 PM-5)\, Vaje (V)\nLetniki: magistrski študij (FM)\, magistrski študij (I
 ŠRM)\, magistrski študij (M)\, 5. letnik (PM)\nIzvajalci: Filip Koprivec
 \nProstor: 3.10
LOCATION:3.10
ORGANIZER:Filip Koprivec
RELATED-TO:fmf-AFLABS-URNIK:srecanje:4178
X-WR-TIMEZONE:Europe/Ljubljana
END:VEVENT
BEGIN:VEVENT
SUMMARY:Matematika z računalnikom (FM-M\, IŠRM-M\, MAT-M\, PM-5)\, Vaje 
 (V)
DTSTART;TZID=Europe/Ljubljana:20200408T100000
DTEND;TZID=Europe/Ljubljana:20200408T120000
DTSTAMP:20260426T024039Z
UID:fmf-AFLABS-URNIK:premaknjeno-srecanje:67738
ATTENDEE:5. letnik (PM)
ATTENDEE:magistrski študij (FM)
ATTENDEE:magistrski študij (IŠRM)
ATTENDEE:magistrski študij (M)
CATEGORIES:Entry,Standard
COLOR:darkgreen
DESCRIPTION:Predmet: Matematika z računalnikom (FM-M\, IŠRM-M\, MAT-M\, 
 PM-5)\, Vaje (V)\nLetniki: magistrski študij (FM)\, magistrski študij (I
 ŠRM)\, magistrski študij (M)\, 5. letnik (PM)\nIzvajalci: Filip Koprivec
 \nProstor: 3.10
LOCATION:3.10
ORGANIZER:Filip Koprivec
RELATED-TO:fmf-AFLABS-URNIK:srecanje:4178
X-WR-TIMEZONE:Europe/Ljubljana
END:VEVENT
BEGIN:VEVENT
SUMMARY:Matematika z računalnikom (FM-M\, IŠRM-M\, MAT-M\, PM-5)\, Vaje 
 (V)
DTSTART;TZID=Europe/Ljubljana:20200415T100000
DTEND;TZID=Europe/Ljubljana:20200415T120000
DTSTAMP:20260426T024039Z
UID:fmf-AFLABS-URNIK:premaknjeno-srecanje:67739
ATTENDEE:5. letnik (PM)
ATTENDEE:magistrski študij (FM)
ATTENDEE:magistrski študij (IŠRM)
ATTENDEE:magistrski študij (M)
CATEGORIES:Entry,Standard
COLOR:darkgreen
DESCRIPTION:Predmet: Matematika z računalnikom (FM-M\, IŠRM-M\, MAT-M\, 
 PM-5)\, Vaje (V)\nLetniki: magistrski študij (FM)\, magistrski študij (I
 ŠRM)\, magistrski študij (M)\, 5. letnik (PM)\nIzvajalci: Filip Koprivec
 \nProstor: 3.10
LOCATION:3.10
ORGANIZER:Filip Koprivec
RELATED-TO:fmf-AFLABS-URNIK:srecanje:4178
X-WR-TIMEZONE:Europe/Ljubljana
END:VEVENT
BEGIN:VEVENT
SUMMARY:Matematika z računalnikom (FM-M\, IŠRM-M\, MAT-M\, PM-5)\, Vaje 
 (V)
DTSTART;TZID=Europe/Ljubljana:20200422T100000
DTEND;TZID=Europe/Ljubljana:20200422T120000
DTSTAMP:20260426T024039Z
UID:fmf-AFLABS-URNIK:premaknjeno-srecanje:67740
ATTENDEE:5. letnik (PM)
ATTENDEE:magistrski študij (FM)
ATTENDEE:magistrski študij (IŠRM)
ATTENDEE:magistrski študij (M)
CATEGORIES:Entry,Standard
COLOR:darkgreen
DESCRIPTION:Predmet: Matematika z računalnikom (FM-M\, IŠRM-M\, MAT-M\, 
 PM-5)\, Vaje (V)\nLetniki: magistrski študij (FM)\, magistrski študij (I
 ŠRM)\, magistrski študij (M)\, 5. letnik (PM)\nIzvajalci: Filip Koprivec
 \nProstor: 3.10
LOCATION:3.10
ORGANIZER:Filip Koprivec
RELATED-TO:fmf-AFLABS-URNIK:srecanje:4178
X-WR-TIMEZONE:Europe/Ljubljana
END:VEVENT
BEGIN:VEVENT
SUMMARY:Matematika z računalnikom (FM-M\, IŠRM-M\, MAT-M\, PM-5)\, Vaje 
 (V)
DTSTART;TZID=Europe/Ljubljana:20200429T100000
DTEND;TZID=Europe/Ljubljana:20200429T120000
DTSTAMP:20260426T024039Z
UID:fmf-AFLABS-URNIK:premaknjeno-srecanje:67741
ATTENDEE:5. letnik (PM)
ATTENDEE:magistrski študij (FM)
ATTENDEE:magistrski študij (IŠRM)
ATTENDEE:magistrski študij (M)
CATEGORIES:Entry,Standard
COLOR:darkgreen
DESCRIPTION:Predmet: Matematika z računalnikom (FM-M\, IŠRM-M\, MAT-M\, 
 PM-5)\, Vaje (V)\nLetniki: magistrski študij (FM)\, magistrski študij (I
 ŠRM)\, magistrski študij (M)\, 5. letnik (PM)\nIzvajalci: Filip Koprivec
 \nProstor: 3.10
LOCATION:3.10
ORGANIZER:Filip Koprivec
RELATED-TO:fmf-AFLABS-URNIK:srecanje:4178
X-WR-TIMEZONE:Europe/Ljubljana
END:VEVENT
BEGIN:VEVENT
SUMMARY:Matematika z računalnikom (FM-M\, IŠRM-M\, MAT-M\, PM-5)\, Vaje 
 (V)
DTSTART;TZID=Europe/Ljubljana:20200506T100000
DTEND;TZID=Europe/Ljubljana:20200506T120000
DTSTAMP:20260426T024039Z
UID:fmf-AFLABS-URNIK:premaknjeno-srecanje:67742
ATTENDEE:5. letnik (PM)
ATTENDEE:magistrski študij (FM)
ATTENDEE:magistrski študij (IŠRM)
ATTENDEE:magistrski študij (M)
CATEGORIES:Entry,Standard
COLOR:darkgreen
DESCRIPTION:Predmet: Matematika z računalnikom (FM-M\, IŠRM-M\, MAT-M\, 
 PM-5)\, Vaje (V)\nLetniki: magistrski študij (FM)\, magistrski študij (I
 ŠRM)\, magistrski študij (M)\, 5. letnik (PM)\nIzvajalci: Filip Koprivec
 \nProstor: 3.10
LOCATION:3.10
ORGANIZER:Filip Koprivec
RELATED-TO:fmf-AFLABS-URNIK:srecanje:4178
X-WR-TIMEZONE:Europe/Ljubljana
END:VEVENT
BEGIN:VEVENT
SUMMARY:Matematika z računalnikom (FM-M\, IŠRM-M\, MAT-M\, PM-5)\, Vaje 
 (V)
DTSTART;TZID=Europe/Ljubljana:20200513T100000
DTEND;TZID=Europe/Ljubljana:20200513T120000
DTSTAMP:20260426T024039Z
UID:fmf-AFLABS-URNIK:premaknjeno-srecanje:67743
ATTENDEE:5. letnik (PM)
ATTENDEE:magistrski študij (FM)
ATTENDEE:magistrski študij (IŠRM)
ATTENDEE:magistrski študij (M)
CATEGORIES:Entry,Standard
COLOR:darkgreen
DESCRIPTION:Predmet: Matematika z računalnikom (FM-M\, IŠRM-M\, MAT-M\, 
 PM-5)\, Vaje (V)\nLetniki: magistrski študij (FM)\, magistrski študij (I
 ŠRM)\, magistrski študij (M)\, 5. letnik (PM)\nIzvajalci: Filip Koprivec
 \nProstor: 3.10
LOCATION:3.10
ORGANIZER:Filip Koprivec
RELATED-TO:fmf-AFLABS-URNIK:srecanje:4178
X-WR-TIMEZONE:Europe/Ljubljana
END:VEVENT
BEGIN:VEVENT
SUMMARY:Matematika z računalnikom (FM-M\, IŠRM-M\, MAT-M\, PM-5)\, Vaje 
 (V)
DTSTART;TZID=Europe/Ljubljana:20200520T100000
DTEND;TZID=Europe/Ljubljana:20200520T120000
DTSTAMP:20260426T024039Z
UID:fmf-AFLABS-URNIK:premaknjeno-srecanje:67744
ATTENDEE:5. letnik (PM)
ATTENDEE:magistrski študij (FM)
ATTENDEE:magistrski študij (IŠRM)
ATTENDEE:magistrski študij (M)
CATEGORIES:Entry,Standard
COLOR:darkgreen
DESCRIPTION:Predmet: Matematika z računalnikom (FM-M\, IŠRM-M\, MAT-M\, 
 PM-5)\, Vaje (V)\nLetniki: magistrski študij (FM)\, magistrski študij (I
 ŠRM)\, magistrski študij (M)\, 5. letnik (PM)\nIzvajalci: Filip Koprivec
 \nProstor: 3.10
LOCATION:3.10
ORGANIZER:Filip Koprivec
RELATED-TO:fmf-AFLABS-URNIK:srecanje:4178
X-WR-TIMEZONE:Europe/Ljubljana
END:VEVENT
BEGIN:VEVENT
SUMMARY:Matematika z računalnikom (FM-M\, IŠRM-M\, MAT-M\, PM-5)\, Vaje 
 (V)
DTSTART;TZID=Europe/Ljubljana:20200527T100000
DTEND;TZID=Europe/Ljubljana:20200527T120000
DTSTAMP:20260426T024039Z
UID:fmf-AFLABS-URNIK:premaknjeno-srecanje:67745
ATTENDEE:5. letnik (PM)
ATTENDEE:magistrski študij (FM)
ATTENDEE:magistrski študij (IŠRM)
ATTENDEE:magistrski študij (M)
CATEGORIES:Entry,Standard
COLOR:darkgreen
DESCRIPTION:Predmet: Matematika z računalnikom (FM-M\, IŠRM-M\, MAT-M\, 
 PM-5)\, Vaje (V)\nLetniki: magistrski študij (FM)\, magistrski študij (I
 ŠRM)\, magistrski študij (M)\, 5. letnik (PM)\nIzvajalci: Filip Koprivec
 \nProstor: 3.10
LOCATION:3.10
ORGANIZER:Filip Koprivec
RELATED-TO:fmf-AFLABS-URNIK:srecanje:4178
X-WR-TIMEZONE:Europe/Ljubljana
END:VEVENT
END:VCALENDAR
