BEGIN:VCALENDAR
VERSION:2.0
PRODID:-//AFLabs urnik izvoz - fmf//aflabs.si//SI
DTSTAMP:20260425T110112Z
NAME:UL FMF urnik
REFRESH-INTERVAL:PT1H
SOURCE:https://urnik.fmf.uni-lj.si/teacher/319?day=2021-02-01&export=1
URL:https://urnik.fmf.uni-lj.si/teacher/319?day=2021-02-01&export=1
X-PUBLISHED-TTL:PT1H
X-WR-CALNAME:UL FMF urnik
X-WR-TIMEZONE:Europe/Ljubljana
BEGIN:VTIMEZONE
TZID:Europe/Ljubljana
BEGIN:DAYLIGHT
DTSTART:20260329T020000
RDATE:20260329T020000
RDATE:20270328T020000
TZNAME:CEST
TZOFFSETFROM:+0100
TZOFFSETTO:+0200
END:DAYLIGHT
BEGIN:STANDARD
DTSTART:20261025T030000
RDATE:20261025T030000
RDATE:20271031T030000
TZNAME:CET
TZOFFSETFROM:+0200
TZOFFSETTO:+0100
END:STANDARD
END:VTIMEZONE
BEGIN:VEVENT
SUMMARY:Programiranje 1 (FM-3\, MAT-2\, PM-4)\, Vaje (V)\, [1]
DTSTART;TZID=Europe/Ljubljana:20201228T100000
DTEND;TZID=Europe/Ljubljana:20201228T120000
DTSTAMP:20260425T110112Z
UID:fmf-AFLABS-URNIK:premaknjeno-srecanje:85930
ATTENDEE:2. letnik (M)
ATTENDEE:3. letnik (FM)
ATTENDEE:4. letnik (PM)
CATEGORIES:Entry,Standard
COLOR:darkgreen
DESCRIPTION:Predmet: Programiranje 1 (FM-3\, MAT-2\, PM-4)\, Vaje (V)\, [1
 ]\nLetniki: 3. letnik (FM)\, 2. letnik (M)\, 4. letnik (PM)\nIzvajalci: Fi
 lip Koprivec\nProstor: 3.11
LOCATION:3.11
ORGANIZER:Filip Koprivec
RELATED-TO:fmf-AFLABS-URNIK:srecanje:5093
X-WR-TIMEZONE:Europe/Ljubljana
END:VEVENT
BEGIN:VEVENT
SUMMARY:Programiranje 1 (FM-3\, MAT-2\, PM-4)\, Vaje (V)\, [1]
DTSTART;TZID=Europe/Ljubljana:20210104T100000
DTEND;TZID=Europe/Ljubljana:20210104T120000
DTSTAMP:20260425T110112Z
UID:fmf-AFLABS-URNIK:premaknjeno-srecanje:85931
ATTENDEE:2. letnik (M)
ATTENDEE:3. letnik (FM)
ATTENDEE:4. letnik (PM)
CATEGORIES:Entry,Standard
COLOR:darkgreen
DESCRIPTION:Predmet: Programiranje 1 (FM-3\, MAT-2\, PM-4)\, Vaje (V)\, [1
 ]\nLetniki: 3. letnik (FM)\, 2. letnik (M)\, 4. letnik (PM)\nIzvajalci: Fi
 lip Koprivec\nProstor: 3.11
LOCATION:3.11
ORGANIZER:Filip Koprivec
RELATED-TO:fmf-AFLABS-URNIK:srecanje:5093
X-WR-TIMEZONE:Europe/Ljubljana
END:VEVENT
BEGIN:VEVENT
SUMMARY:Programiranje 1 (FM-3\, MAT-2\, PM-4)\, Vaje (V)\, [1]
DTSTART;TZID=Europe/Ljubljana:20210111T100000
DTEND;TZID=Europe/Ljubljana:20210111T120000
DTSTAMP:20260425T110112Z
UID:fmf-AFLABS-URNIK:premaknjeno-srecanje:85932
ATTENDEE:2. letnik (M)
ATTENDEE:3. letnik (FM)
ATTENDEE:4. letnik (PM)
CATEGORIES:Entry,Standard
COLOR:darkgreen
DESCRIPTION:Predmet: Programiranje 1 (FM-3\, MAT-2\, PM-4)\, Vaje (V)\, [1
 ]\nLetniki: 3. letnik (FM)\, 2. letnik (M)\, 4. letnik (PM)\nIzvajalci: Fi
 lip Koprivec\nProstor: 3.11
LOCATION:3.11
ORGANIZER:Filip Koprivec
RELATED-TO:fmf-AFLABS-URNIK:srecanje:5093
X-WR-TIMEZONE:Europe/Ljubljana
END:VEVENT
BEGIN:VEVENT
SUMMARY:Programiranje 1 (FM-3\, MAT-2\, PM-4)\, Vaje (V)\, [2]
DTSTART;TZID=Europe/Ljubljana:20201228T120000
DTEND;TZID=Europe/Ljubljana:20201228T140000
DTSTAMP:20260425T110112Z
UID:fmf-AFLABS-URNIK:premaknjeno-srecanje:86228
ATTENDEE:2. letnik (M)
ATTENDEE:3. letnik (FM)
ATTENDEE:4. letnik (PM)
CATEGORIES:Entry,Standard
COLOR:darkgreen
DESCRIPTION:Predmet: Programiranje 1 (FM-3\, MAT-2\, PM-4)\, Vaje (V)\, [2
 ]\nLetniki: 3. letnik (FM)\, 2. letnik (M)\, 4. letnik (PM)\nIzvajalci: Fi
 lip Koprivec\nProstor: 3.10
LOCATION:3.10
ORGANIZER:Filip Koprivec
RELATED-TO:fmf-AFLABS-URNIK:srecanje:5091
X-WR-TIMEZONE:Europe/Ljubljana
END:VEVENT
BEGIN:VEVENT
SUMMARY:Programiranje 1 (FM-3\, MAT-2\, PM-4)\, Vaje (V)\, [2]
DTSTART;TZID=Europe/Ljubljana:20210104T120000
DTEND;TZID=Europe/Ljubljana:20210104T140000
DTSTAMP:20260425T110112Z
UID:fmf-AFLABS-URNIK:premaknjeno-srecanje:86229
ATTENDEE:2. letnik (M)
ATTENDEE:3. letnik (FM)
ATTENDEE:4. letnik (PM)
CATEGORIES:Entry,Standard
COLOR:darkgreen
DESCRIPTION:Predmet: Programiranje 1 (FM-3\, MAT-2\, PM-4)\, Vaje (V)\, [2
 ]\nLetniki: 3. letnik (FM)\, 2. letnik (M)\, 4. letnik (PM)\nIzvajalci: Fi
 lip Koprivec\nProstor: 3.10
LOCATION:3.10
ORGANIZER:Filip Koprivec
RELATED-TO:fmf-AFLABS-URNIK:srecanje:5091
X-WR-TIMEZONE:Europe/Ljubljana
END:VEVENT
BEGIN:VEVENT
SUMMARY:Programiranje 1 (FM-3\, MAT-2\, PM-4)\, Vaje (V)\, [2]
DTSTART;TZID=Europe/Ljubljana:20210111T120000
DTEND;TZID=Europe/Ljubljana:20210111T140000
DTSTAMP:20260425T110112Z
UID:fmf-AFLABS-URNIK:premaknjeno-srecanje:86230
ATTENDEE:2. letnik (M)
ATTENDEE:3. letnik (FM)
ATTENDEE:4. letnik (PM)
CATEGORIES:Entry,Standard
COLOR:darkgreen
DESCRIPTION:Predmet: Programiranje 1 (FM-3\, MAT-2\, PM-4)\, Vaje (V)\, [2
 ]\nLetniki: 3. letnik (FM)\, 2. letnik (M)\, 4. letnik (PM)\nIzvajalci: Fi
 lip Koprivec\nProstor: 3.10
LOCATION:3.10
ORGANIZER:Filip Koprivec
RELATED-TO:fmf-AFLABS-URNIK:srecanje:5091
X-WR-TIMEZONE:Europe/Ljubljana
END:VEVENT
BEGIN:VEVENT
SUMMARY:Uvod v programiranje (FM-1)\, Vaje (V)\, [2]
DTSTART;TZID=Europe/Ljubljana:20210215T160000
DTEND;TZID=Europe/Ljubljana:20210215T190000
DTSTAMP:20260425T110112Z
UID:fmf-AFLABS-URNIK:premaknjeno-srecanje:117652
ATTENDEE:1. letnik (FM)
CATEGORIES:Entry,Standard
COLOR:darkgreen
DESCRIPTION:Predmet: Uvod v programiranje (FM-1)\, Vaje (V)\, [2]\nLetniki
 : 1. letnik (FM)\nIzvajalci: Filip Koprivec\nProstor: 3.11
LOCATION:3.11
ORGANIZER:Filip Koprivec
RELATED-TO:fmf-AFLABS-URNIK:srecanje:5966
X-WR-TIMEZONE:Europe/Ljubljana
END:VEVENT
BEGIN:VEVENT
SUMMARY:Uvod v programiranje (FM-1)\, Vaje (V)\, [2]
DTSTART;TZID=Europe/Ljubljana:20210222T160000
DTEND;TZID=Europe/Ljubljana:20210222T190000
DTSTAMP:20260425T110112Z
UID:fmf-AFLABS-URNIK:premaknjeno-srecanje:117653
ATTENDEE:1. letnik (FM)
CATEGORIES:Entry,Standard
COLOR:darkgreen
DESCRIPTION:Predmet: Uvod v programiranje (FM-1)\, Vaje (V)\, [2]\nLetniki
 : 1. letnik (FM)\nIzvajalci: Filip Koprivec\nProstor: 3.11
LOCATION:3.11
ORGANIZER:Filip Koprivec
RELATED-TO:fmf-AFLABS-URNIK:srecanje:5966
X-WR-TIMEZONE:Europe/Ljubljana
END:VEVENT
BEGIN:VEVENT
SUMMARY:Uvod v programiranje (FM-1)\, Vaje (V)\, [2]
DTSTART;TZID=Europe/Ljubljana:20210301T160000
DTEND;TZID=Europe/Ljubljana:20210301T190000
DTSTAMP:20260425T110112Z
UID:fmf-AFLABS-URNIK:premaknjeno-srecanje:117654
ATTENDEE:1. letnik (FM)
CATEGORIES:Entry,Standard
COLOR:darkgreen
DESCRIPTION:Predmet: Uvod v programiranje (FM-1)\, Vaje (V)\, [2]\nLetniki
 : 1. letnik (FM)\nIzvajalci: Filip Koprivec\nProstor: 3.11
LOCATION:3.11
ORGANIZER:Filip Koprivec
RELATED-TO:fmf-AFLABS-URNIK:srecanje:5966
X-WR-TIMEZONE:Europe/Ljubljana
END:VEVENT
BEGIN:VEVENT
SUMMARY:Uvod v programiranje (FM-1)\, Vaje (V)\, [2]
DTSTART;TZID=Europe/Ljubljana:20210308T160000
DTEND;TZID=Europe/Ljubljana:20210308T190000
DTSTAMP:20260425T110112Z
UID:fmf-AFLABS-URNIK:premaknjeno-srecanje:117655
ATTENDEE:1. letnik (FM)
CATEGORIES:Entry,Standard
COLOR:darkgreen
DESCRIPTION:Predmet: Uvod v programiranje (FM-1)\, Vaje (V)\, [2]\nLetniki
 : 1. letnik (FM)\nIzvajalci: Filip Koprivec\nProstor: 3.11
LOCATION:3.11
ORGANIZER:Filip Koprivec
RELATED-TO:fmf-AFLABS-URNIK:srecanje:5966
X-WR-TIMEZONE:Europe/Ljubljana
END:VEVENT
END:VCALENDAR
