BEGIN:VCALENDAR
VERSION:2.0
PRODID:-//AFLabs urnik izvoz - fmf//aflabs.si//SI
DTSTAMP:20260425T112417Z
NAME:UL FMF urnik
REFRESH-INTERVAL:PT1H
SOURCE:https://urnik.fmf.uni-lj.si/teacher/319?day=2021-10-04&export=1
URL:https://urnik.fmf.uni-lj.si/teacher/319?day=2021-10-04&export=1
X-PUBLISHED-TTL:PT1H
X-WR-CALNAME:UL FMF urnik
X-WR-TIMEZONE:Europe/Ljubljana
BEGIN:VTIMEZONE
TZID:Europe/Ljubljana
BEGIN:DAYLIGHT
DTSTART:20260329T020000
RDATE:20260329T020000
RDATE:20270328T020000
TZNAME:CEST
TZOFFSETFROM:+0100
TZOFFSETTO:+0200
END:DAYLIGHT
BEGIN:STANDARD
DTSTART:20261025T030000
RDATE:20261025T030000
RDATE:20271031T030000
TZNAME:CET
TZOFFSETFROM:+0200
TZOFFSETTO:+0100
END:STANDARD
END:VTIMEZONE
BEGIN:VEVENT
SUMMARY:Programiranje 1 (FM-3\, MAT-2\, PM-4)\, Vaje (V)\, [2]
DTSTART;TZID=Europe/Ljubljana:20211005T120000
DTEND;TZID=Europe/Ljubljana:20211005T140000
DTSTAMP:20260425T112417Z
UID:fmf-AFLABS-URNIK:premaknjeno-srecanje:86263
ATTENDEE:2. letnik (M)
ATTENDEE:3. letnik (FM)
ATTENDEE:4. letnik (PM)
CATEGORIES:Entry,Standard
COLOR:darkgreen
DESCRIPTION:Predmet: Programiranje 1 (FM-3\, MAT-2\, PM-4)\, Vaje (V)\, [2
 ]\nLetniki: 3. letnik (FM)\, 2. letnik (M)\, 4. letnik (PM)\nIzvajalci: Fi
 lip Koprivec\nProstor: 3.10
LOCATION:3.10
ORGANIZER:Filip Koprivec
RELATED-TO:fmf-AFLABS-URNIK:srecanje:6503
X-WR-TIMEZONE:Europe/Ljubljana
END:VEVENT
BEGIN:VEVENT
SUMMARY:Programiranje 1 (FM-3\, MAT-2\, PM-4)\, Vaje (V)\, [2]
DTSTART;TZID=Europe/Ljubljana:20211012T120000
DTEND;TZID=Europe/Ljubljana:20211012T140000
DTSTAMP:20260425T112417Z
UID:fmf-AFLABS-URNIK:premaknjeno-srecanje:86264
ATTENDEE:2. letnik (M)
ATTENDEE:3. letnik (FM)
ATTENDEE:4. letnik (PM)
CATEGORIES:Entry,Standard
COLOR:darkgreen
DESCRIPTION:Predmet: Programiranje 1 (FM-3\, MAT-2\, PM-4)\, Vaje (V)\, [2
 ]\nLetniki: 3. letnik (FM)\, 2. letnik (M)\, 4. letnik (PM)\nIzvajalci: Fi
 lip Koprivec\nProstor: 3.10
LOCATION:3.10
ORGANIZER:Filip Koprivec
RELATED-TO:fmf-AFLABS-URNIK:srecanje:6503
X-WR-TIMEZONE:Europe/Ljubljana
END:VEVENT
BEGIN:VEVENT
SUMMARY:Programiranje 1 (FM-3\, MAT-2\, PM-4)\, Vaje (V)\, [2]
DTSTART;TZID=Europe/Ljubljana:20211019T120000
DTEND;TZID=Europe/Ljubljana:20211019T140000
DTSTAMP:20260425T112417Z
UID:fmf-AFLABS-URNIK:premaknjeno-srecanje:86265
ATTENDEE:2. letnik (M)
ATTENDEE:3. letnik (FM)
ATTENDEE:4. letnik (PM)
CATEGORIES:Entry,Standard
COLOR:darkgreen
DESCRIPTION:Predmet: Programiranje 1 (FM-3\, MAT-2\, PM-4)\, Vaje (V)\, [2
 ]\nLetniki: 3. letnik (FM)\, 2. letnik (M)\, 4. letnik (PM)\nIzvajalci: Fi
 lip Koprivec\nProstor: 3.10
LOCATION:3.10
ORGANIZER:Filip Koprivec
RELATED-TO:fmf-AFLABS-URNIK:srecanje:6503
X-WR-TIMEZONE:Europe/Ljubljana
END:VEVENT
BEGIN:VEVENT
SUMMARY:Programiranje 1 (FM-3\, MAT-2\, PM-4)\, Vaje (V)\, [2]
DTSTART;TZID=Europe/Ljubljana:20211026T120000
DTEND;TZID=Europe/Ljubljana:20211026T140000
DTSTAMP:20260425T112417Z
UID:fmf-AFLABS-URNIK:premaknjeno-srecanje:86266
ATTENDEE:2. letnik (M)
ATTENDEE:3. letnik (FM)
ATTENDEE:4. letnik (PM)
CATEGORIES:Entry,Standard
COLOR:darkgreen
DESCRIPTION:Predmet: Programiranje 1 (FM-3\, MAT-2\, PM-4)\, Vaje (V)\, [2
 ]\nLetniki: 3. letnik (FM)\, 2. letnik (M)\, 4. letnik (PM)\nIzvajalci: Fi
 lip Koprivec\nProstor: 3.10
LOCATION:3.10
ORGANIZER:Filip Koprivec
RELATED-TO:fmf-AFLABS-URNIK:srecanje:6503
X-WR-TIMEZONE:Europe/Ljubljana
END:VEVENT
BEGIN:VEVENT
SUMMARY:Programiranje 1 (FM-3\, MAT-2\, PM-4)\, Vaje (V)\, [2]
DTSTART;TZID=Europe/Ljubljana:20211102T120000
DTEND;TZID=Europe/Ljubljana:20211102T140000
DTSTAMP:20260425T112417Z
UID:fmf-AFLABS-URNIK:premaknjeno-srecanje:86267
ATTENDEE:2. letnik (M)
ATTENDEE:3. letnik (FM)
ATTENDEE:4. letnik (PM)
CATEGORIES:Entry,Standard
COLOR:darkgreen
DESCRIPTION:Predmet: Programiranje 1 (FM-3\, MAT-2\, PM-4)\, Vaje (V)\, [2
 ]\nLetniki: 3. letnik (FM)\, 2. letnik (M)\, 4. letnik (PM)\nIzvajalci: Fi
 lip Koprivec\nProstor: 3.10
LOCATION:3.10
ORGANIZER:Filip Koprivec
RELATED-TO:fmf-AFLABS-URNIK:srecanje:6503
X-WR-TIMEZONE:Europe/Ljubljana
END:VEVENT
BEGIN:VEVENT
SUMMARY:Programiranje 1 (FM-3\, MAT-2\, PM-4)\, Vaje (V)\, [2]
DTSTART;TZID=Europe/Ljubljana:20211109T120000
DTEND;TZID=Europe/Ljubljana:20211109T140000
DTSTAMP:20260425T112417Z
UID:fmf-AFLABS-URNIK:premaknjeno-srecanje:86268
ATTENDEE:2. letnik (M)
ATTENDEE:3. letnik (FM)
ATTENDEE:4. letnik (PM)
CATEGORIES:Entry,Standard
COLOR:darkgreen
DESCRIPTION:Predmet: Programiranje 1 (FM-3\, MAT-2\, PM-4)\, Vaje (V)\, [2
 ]\nLetniki: 3. letnik (FM)\, 2. letnik (M)\, 4. letnik (PM)\nIzvajalci: Fi
 lip Koprivec\nProstor: 3.10
LOCATION:3.10
ORGANIZER:Filip Koprivec
RELATED-TO:fmf-AFLABS-URNIK:srecanje:6503
X-WR-TIMEZONE:Europe/Ljubljana
END:VEVENT
BEGIN:VEVENT
SUMMARY:Programiranje 1 (FM-3\, MAT-2\, PM-4)\, Vaje (V)\, [2]
DTSTART;TZID=Europe/Ljubljana:20211116T120000
DTEND;TZID=Europe/Ljubljana:20211116T140000
DTSTAMP:20260425T112417Z
UID:fmf-AFLABS-URNIK:premaknjeno-srecanje:86269
ATTENDEE:2. letnik (M)
ATTENDEE:3. letnik (FM)
ATTENDEE:4. letnik (PM)
CATEGORIES:Entry,Standard
COLOR:darkgreen
DESCRIPTION:Predmet: Programiranje 1 (FM-3\, MAT-2\, PM-4)\, Vaje (V)\, [2
 ]\nLetniki: 3. letnik (FM)\, 2. letnik (M)\, 4. letnik (PM)\nIzvajalci: Fi
 lip Koprivec\nProstor: 3.10
LOCATION:3.10
ORGANIZER:Filip Koprivec
RELATED-TO:fmf-AFLABS-URNIK:srecanje:6503
X-WR-TIMEZONE:Europe/Ljubljana
END:VEVENT
BEGIN:VEVENT
SUMMARY:Programiranje 1 (FM-3\, MAT-2\, PM-4)\, Vaje (V)\, [2]
DTSTART;TZID=Europe/Ljubljana:20211123T120000
DTEND;TZID=Europe/Ljubljana:20211123T140000
DTSTAMP:20260425T112417Z
UID:fmf-AFLABS-URNIK:premaknjeno-srecanje:86270
ATTENDEE:2. letnik (M)
ATTENDEE:3. letnik (FM)
ATTENDEE:4. letnik (PM)
CATEGORIES:Entry,Standard
COLOR:darkgreen
DESCRIPTION:Predmet: Programiranje 1 (FM-3\, MAT-2\, PM-4)\, Vaje (V)\, [2
 ]\nLetniki: 3. letnik (FM)\, 2. letnik (M)\, 4. letnik (PM)\nIzvajalci: Fi
 lip Koprivec\nProstor: 3.10
LOCATION:3.10
ORGANIZER:Filip Koprivec
RELATED-TO:fmf-AFLABS-URNIK:srecanje:6503
X-WR-TIMEZONE:Europe/Ljubljana
END:VEVENT
BEGIN:VEVENT
SUMMARY:Programiranje 1 (FM-3\, MAT-2\, PM-4)\, Vaje (V)\, [2]
DTSTART;TZID=Europe/Ljubljana:20211130T120000
DTEND;TZID=Europe/Ljubljana:20211130T140000
DTSTAMP:20260425T112417Z
UID:fmf-AFLABS-URNIK:premaknjeno-srecanje:86271
ATTENDEE:2. letnik (M)
ATTENDEE:3. letnik (FM)
ATTENDEE:4. letnik (PM)
CATEGORIES:Entry,Standard
COLOR:darkgreen
DESCRIPTION:Predmet: Programiranje 1 (FM-3\, MAT-2\, PM-4)\, Vaje (V)\, [2
 ]\nLetniki: 3. letnik (FM)\, 2. letnik (M)\, 4. letnik (PM)\nIzvajalci: Fi
 lip Koprivec\nProstor: 3.10
LOCATION:3.10
ORGANIZER:Filip Koprivec
RELATED-TO:fmf-AFLABS-URNIK:srecanje:6503
X-WR-TIMEZONE:Europe/Ljubljana
END:VEVENT
BEGIN:VEVENT
SUMMARY:Programiranje 1 (FM-3\, MAT-2\, PM-4)\, Vaje (V)\, [2]
DTSTART;TZID=Europe/Ljubljana:20211207T120000
DTEND;TZID=Europe/Ljubljana:20211207T140000
DTSTAMP:20260425T112417Z
UID:fmf-AFLABS-URNIK:premaknjeno-srecanje:86272
ATTENDEE:2. letnik (M)
ATTENDEE:3. letnik (FM)
ATTENDEE:4. letnik (PM)
CATEGORIES:Entry,Standard
COLOR:darkgreen
DESCRIPTION:Predmet: Programiranje 1 (FM-3\, MAT-2\, PM-4)\, Vaje (V)\, [2
 ]\nLetniki: 3. letnik (FM)\, 2. letnik (M)\, 4. letnik (PM)\nIzvajalci: Fi
 lip Koprivec\nProstor: 3.10
LOCATION:3.10
ORGANIZER:Filip Koprivec
RELATED-TO:fmf-AFLABS-URNIK:srecanje:6503
X-WR-TIMEZONE:Europe/Ljubljana
END:VEVENT
BEGIN:VEVENT
SUMMARY:Programiranje 1 (FM-3\, MAT-2\, PM-4)\, Vaje (V)\, [2]
DTSTART;TZID=Europe/Ljubljana:20211214T120000
DTEND;TZID=Europe/Ljubljana:20211214T140000
DTSTAMP:20260425T112417Z
UID:fmf-AFLABS-URNIK:premaknjeno-srecanje:86273
ATTENDEE:2. letnik (M)
ATTENDEE:3. letnik (FM)
ATTENDEE:4. letnik (PM)
CATEGORIES:Entry,Standard
COLOR:darkgreen
DESCRIPTION:Predmet: Programiranje 1 (FM-3\, MAT-2\, PM-4)\, Vaje (V)\, [2
 ]\nLetniki: 3. letnik (FM)\, 2. letnik (M)\, 4. letnik (PM)\nIzvajalci: Fi
 lip Koprivec\nProstor: 3.10
LOCATION:3.10
ORGANIZER:Filip Koprivec
RELATED-TO:fmf-AFLABS-URNIK:srecanje:6503
X-WR-TIMEZONE:Europe/Ljubljana
END:VEVENT
BEGIN:VEVENT
SUMMARY:Programiranje 1 (FM-3\, MAT-2\, PM-4)\, Vaje (V)\, [2]
DTSTART;TZID=Europe/Ljubljana:20211221T120000
DTEND;TZID=Europe/Ljubljana:20211221T140000
DTSTAMP:20260425T112417Z
UID:fmf-AFLABS-URNIK:premaknjeno-srecanje:86274
ATTENDEE:2. letnik (M)
ATTENDEE:3. letnik (FM)
ATTENDEE:4. letnik (PM)
CATEGORIES:Entry,Standard
COLOR:darkgreen
DESCRIPTION:Predmet: Programiranje 1 (FM-3\, MAT-2\, PM-4)\, Vaje (V)\, [2
 ]\nLetniki: 3. letnik (FM)\, 2. letnik (M)\, 4. letnik (PM)\nIzvajalci: Fi
 lip Koprivec\nProstor: 3.10
LOCATION:3.10
ORGANIZER:Filip Koprivec
RELATED-TO:fmf-AFLABS-URNIK:srecanje:6503
X-WR-TIMEZONE:Europe/Ljubljana
END:VEVENT
BEGIN:VEVENT
SUMMARY:Programiranje 1 (FM-3\, MAT-2\, PM-4)\, Vaje (V)\, [2]
DTSTART;TZID=Europe/Ljubljana:20211228T120000
DTEND;TZID=Europe/Ljubljana:20211228T140000
DTSTAMP:20260425T112417Z
UID:fmf-AFLABS-URNIK:premaknjeno-srecanje:86275
ATTENDEE:2. letnik (M)
ATTENDEE:3. letnik (FM)
ATTENDEE:4. letnik (PM)
CATEGORIES:Entry,Standard
COLOR:darkgreen
DESCRIPTION:Predmet: Programiranje 1 (FM-3\, MAT-2\, PM-4)\, Vaje (V)\, [2
 ]\nLetniki: 3. letnik (FM)\, 2. letnik (M)\, 4. letnik (PM)\nIzvajalci: Fi
 lip Koprivec\nProstor: 3.10
LOCATION:3.10
ORGANIZER:Filip Koprivec
RELATED-TO:fmf-AFLABS-URNIK:srecanje:6503
X-WR-TIMEZONE:Europe/Ljubljana
END:VEVENT
BEGIN:VEVENT
SUMMARY:Programiranje 1 (FM-3\, MAT-2\, PM-4)\, Vaje (V)\, [2]
DTSTART;TZID=Europe/Ljubljana:20220104T120000
DTEND;TZID=Europe/Ljubljana:20220104T140000
DTSTAMP:20260425T112417Z
UID:fmf-AFLABS-URNIK:premaknjeno-srecanje:86276
ATTENDEE:2. letnik (M)
ATTENDEE:3. letnik (FM)
ATTENDEE:4. letnik (PM)
CATEGORIES:Entry,Standard
COLOR:darkgreen
DESCRIPTION:Predmet: Programiranje 1 (FM-3\, MAT-2\, PM-4)\, Vaje (V)\, [2
 ]\nLetniki: 3. letnik (FM)\, 2. letnik (M)\, 4. letnik (PM)\nIzvajalci: Fi
 lip Koprivec\nProstor: 3.10
LOCATION:3.10
ORGANIZER:Filip Koprivec
RELATED-TO:fmf-AFLABS-URNIK:srecanje:6503
X-WR-TIMEZONE:Europe/Ljubljana
END:VEVENT
BEGIN:VEVENT
SUMMARY:Programiranje 1 (FM-3\, MAT-2\, PM-4)\, Vaje (V)\, [2]
DTSTART;TZID=Europe/Ljubljana:20220111T120000
DTEND;TZID=Europe/Ljubljana:20220111T140000
DTSTAMP:20260425T112417Z
UID:fmf-AFLABS-URNIK:premaknjeno-srecanje:86277
ATTENDEE:2. letnik (M)
ATTENDEE:3. letnik (FM)
ATTENDEE:4. letnik (PM)
CATEGORIES:Entry,Standard
COLOR:darkgreen
DESCRIPTION:Predmet: Programiranje 1 (FM-3\, MAT-2\, PM-4)\, Vaje (V)\, [2
 ]\nLetniki: 3. letnik (FM)\, 2. letnik (M)\, 4. letnik (PM)\nIzvajalci: Fi
 lip Koprivec\nProstor: 3.10
LOCATION:3.10
ORGANIZER:Filip Koprivec
RELATED-TO:fmf-AFLABS-URNIK:srecanje:6503
X-WR-TIMEZONE:Europe/Ljubljana
END:VEVENT
END:VCALENDAR
