BEGIN:VCALENDAR
VERSION:2.0
PRODID:-//AFLabs urnik izvoz - fmf//aflabs.si//SI
DTSTAMP:20260425T182234Z
NAME:UL FMF urnik
REFRESH-INTERVAL:PT1H
SOURCE:https://urnik.fmf.uni-lj.si/teacher/319?day=2023-01-02&export=1
URL:https://urnik.fmf.uni-lj.si/teacher/319?day=2023-01-02&export=1
X-PUBLISHED-TTL:PT1H
X-WR-CALNAME:UL FMF urnik
X-WR-TIMEZONE:Europe/Ljubljana
BEGIN:VTIMEZONE
TZID:Europe/Ljubljana
BEGIN:DAYLIGHT
DTSTART:20260329T020000
RDATE:20260329T020000
RDATE:20270328T020000
TZNAME:CEST
TZOFFSETFROM:+0100
TZOFFSETTO:+0200
END:DAYLIGHT
BEGIN:STANDARD
DTSTART:20261025T030000
RDATE:20261025T030000
RDATE:20271031T030000
TZNAME:CET
TZOFFSETFROM:+0200
TZOFFSETTO:+0100
END:STANDARD
END:VTIMEZONE
BEGIN:VEVENT
SUMMARY:Podatkovne baze 1 (APM-2\, APM-3)\, Vaje (V)
DTSTART;TZID=Europe/Ljubljana:20221003T120000
DTEND;TZID=Europe/Ljubljana:20221003T140000
DTSTAMP:20260425T182234Z
UID:fmf-AFLABS-URNIK:premaknjeno-srecanje:82931
ATTENDEE:2. letnik (APM)
ATTENDEE:3. letnik (APM)
CATEGORIES:Entry,Standard
COLOR:darkgreen
DESCRIPTION:Predmet: Podatkovne baze 1 (APM-2\, APM-3)\, Vaje (V)\nLetniki
 : 2. letnik (APM)\, 3. letnik (APM)\nIzvajalci: Filip Koprivec\nProstor: 3
 .12
LOCATION:3.12
ORGANIZER:Filip Koprivec
RELATED-TO:fmf-AFLABS-URNIK:srecanje:7887
X-WR-TIMEZONE:Europe/Ljubljana
END:VEVENT
BEGIN:VEVENT
SUMMARY:Podatkovne baze 1 (APM-2\, APM-3)\, Vaje (V)
DTSTART;TZID=Europe/Ljubljana:20221010T120000
DTEND;TZID=Europe/Ljubljana:20221010T140000
DTSTAMP:20260425T182234Z
UID:fmf-AFLABS-URNIK:premaknjeno-srecanje:82932
ATTENDEE:2. letnik (APM)
ATTENDEE:3. letnik (APM)
CATEGORIES:Entry,Standard
COLOR:darkgreen
DESCRIPTION:Predmet: Podatkovne baze 1 (APM-2\, APM-3)\, Vaje (V)\nLetniki
 : 2. letnik (APM)\, 3. letnik (APM)\nIzvajalci: Filip Koprivec\nProstor: 3
 .12
LOCATION:3.12
ORGANIZER:Filip Koprivec
RELATED-TO:fmf-AFLABS-URNIK:srecanje:7887
X-WR-TIMEZONE:Europe/Ljubljana
END:VEVENT
BEGIN:VEVENT
SUMMARY:Podatkovne baze 1 (APM-2\, APM-3)\, Vaje (V)
DTSTART;TZID=Europe/Ljubljana:20221017T120000
DTEND;TZID=Europe/Ljubljana:20221017T140000
DTSTAMP:20260425T182234Z
UID:fmf-AFLABS-URNIK:premaknjeno-srecanje:82933
ATTENDEE:2. letnik (APM)
ATTENDEE:3. letnik (APM)
CATEGORIES:Entry,Standard
COLOR:darkgreen
DESCRIPTION:Predmet: Podatkovne baze 1 (APM-2\, APM-3)\, Vaje (V)\nLetniki
 : 2. letnik (APM)\, 3. letnik (APM)\nIzvajalci: Filip Koprivec\nProstor: 3
 .12
LOCATION:3.12
ORGANIZER:Filip Koprivec
RELATED-TO:fmf-AFLABS-URNIK:srecanje:7887
X-WR-TIMEZONE:Europe/Ljubljana
END:VEVENT
BEGIN:VEVENT
SUMMARY:Podatkovne baze 1 (APM-2\, APM-3)\, Vaje (V)
DTSTART;TZID=Europe/Ljubljana:20221024T120000
DTEND;TZID=Europe/Ljubljana:20221024T140000
DTSTAMP:20260425T182234Z
UID:fmf-AFLABS-URNIK:premaknjeno-srecanje:82934
ATTENDEE:2. letnik (APM)
ATTENDEE:3. letnik (APM)
CATEGORIES:Entry,Standard
COLOR:darkgreen
DESCRIPTION:Predmet: Podatkovne baze 1 (APM-2\, APM-3)\, Vaje (V)\nLetniki
 : 2. letnik (APM)\, 3. letnik (APM)\nIzvajalci: Filip Koprivec\nProstor: 3
 .12
LOCATION:3.12
ORGANIZER:Filip Koprivec
RELATED-TO:fmf-AFLABS-URNIK:srecanje:7887
X-WR-TIMEZONE:Europe/Ljubljana
END:VEVENT
BEGIN:VEVENT
SUMMARY:Podatkovne baze 1 (APM-2\, APM-3)\, Vaje (V)
DTSTART;TZID=Europe/Ljubljana:20221031T120000
DTEND;TZID=Europe/Ljubljana:20221031T140000
DTSTAMP:20260425T182234Z
UID:fmf-AFLABS-URNIK:premaknjeno-srecanje:82935
ATTENDEE:2. letnik (APM)
ATTENDEE:3. letnik (APM)
CATEGORIES:Entry,Standard
COLOR:darkgreen
DESCRIPTION:Predmet: Podatkovne baze 1 (APM-2\, APM-3)\, Vaje (V)\nLetniki
 : 2. letnik (APM)\, 3. letnik (APM)\nIzvajalci: Filip Koprivec\nProstor: 3
 .12
LOCATION:3.12
ORGANIZER:Filip Koprivec
RELATED-TO:fmf-AFLABS-URNIK:srecanje:7887
X-WR-TIMEZONE:Europe/Ljubljana
END:VEVENT
BEGIN:VEVENT
SUMMARY:Podatkovne baze 1 (APM-2\, APM-3)\, Vaje (V)
DTSTART;TZID=Europe/Ljubljana:20221107T120000
DTEND;TZID=Europe/Ljubljana:20221107T140000
DTSTAMP:20260425T182234Z
UID:fmf-AFLABS-URNIK:premaknjeno-srecanje:82936
ATTENDEE:2. letnik (APM)
ATTENDEE:3. letnik (APM)
CATEGORIES:Entry,Standard
COLOR:darkgreen
DESCRIPTION:Predmet: Podatkovne baze 1 (APM-2\, APM-3)\, Vaje (V)\nLetniki
 : 2. letnik (APM)\, 3. letnik (APM)\nIzvajalci: Filip Koprivec\nProstor: 3
 .12
LOCATION:3.12
ORGANIZER:Filip Koprivec
RELATED-TO:fmf-AFLABS-URNIK:srecanje:7887
X-WR-TIMEZONE:Europe/Ljubljana
END:VEVENT
BEGIN:VEVENT
SUMMARY:Podatkovne baze 1 (APM-2\, APM-3)\, Vaje (V)
DTSTART;TZID=Europe/Ljubljana:20221114T120000
DTEND;TZID=Europe/Ljubljana:20221114T140000
DTSTAMP:20260425T182234Z
UID:fmf-AFLABS-URNIK:premaknjeno-srecanje:82937
ATTENDEE:2. letnik (APM)
ATTENDEE:3. letnik (APM)
CATEGORIES:Entry,Standard
COLOR:darkgreen
DESCRIPTION:Predmet: Podatkovne baze 1 (APM-2\, APM-3)\, Vaje (V)\nLetniki
 : 2. letnik (APM)\, 3. letnik (APM)\nIzvajalci: Filip Koprivec\nProstor: 3
 .12
LOCATION:3.12
ORGANIZER:Filip Koprivec
RELATED-TO:fmf-AFLABS-URNIK:srecanje:7887
X-WR-TIMEZONE:Europe/Ljubljana
END:VEVENT
BEGIN:VEVENT
SUMMARY:Podatkovne baze 1 (APM-2\, APM-3)\, Vaje (V)
DTSTART;TZID=Europe/Ljubljana:20221121T120000
DTEND;TZID=Europe/Ljubljana:20221121T140000
DTSTAMP:20260425T182234Z
UID:fmf-AFLABS-URNIK:premaknjeno-srecanje:82938
ATTENDEE:2. letnik (APM)
ATTENDEE:3. letnik (APM)
CATEGORIES:Entry,Standard
COLOR:darkgreen
DESCRIPTION:Predmet: Podatkovne baze 1 (APM-2\, APM-3)\, Vaje (V)\nLetniki
 : 2. letnik (APM)\, 3. letnik (APM)\nIzvajalci: Filip Koprivec\nProstor: 3
 .12
LOCATION:3.12
ORGANIZER:Filip Koprivec
RELATED-TO:fmf-AFLABS-URNIK:srecanje:7887
X-WR-TIMEZONE:Europe/Ljubljana
END:VEVENT
BEGIN:VEVENT
SUMMARY:Podatkovne baze 1 (APM-2\, APM-3)\, Vaje (V)
DTSTART;TZID=Europe/Ljubljana:20221128T120000
DTEND;TZID=Europe/Ljubljana:20221128T140000
DTSTAMP:20260425T182234Z
UID:fmf-AFLABS-URNIK:premaknjeno-srecanje:82939
ATTENDEE:2. letnik (APM)
ATTENDEE:3. letnik (APM)
CATEGORIES:Entry,Standard
COLOR:darkgreen
DESCRIPTION:Predmet: Podatkovne baze 1 (APM-2\, APM-3)\, Vaje (V)\nLetniki
 : 2. letnik (APM)\, 3. letnik (APM)\nIzvajalci: Filip Koprivec\nProstor: 3
 .12
LOCATION:3.12
ORGANIZER:Filip Koprivec
RELATED-TO:fmf-AFLABS-URNIK:srecanje:7887
X-WR-TIMEZONE:Europe/Ljubljana
END:VEVENT
BEGIN:VEVENT
SUMMARY:Podatkovne baze 1 (APM-2\, APM-3)\, Vaje (V)
DTSTART;TZID=Europe/Ljubljana:20221205T120000
DTEND;TZID=Europe/Ljubljana:20221205T140000
DTSTAMP:20260425T182234Z
UID:fmf-AFLABS-URNIK:premaknjeno-srecanje:82940
ATTENDEE:2. letnik (APM)
ATTENDEE:3. letnik (APM)
CATEGORIES:Entry,Standard
COLOR:darkgreen
DESCRIPTION:Predmet: Podatkovne baze 1 (APM-2\, APM-3)\, Vaje (V)\nLetniki
 : 2. letnik (APM)\, 3. letnik (APM)\nIzvajalci: Filip Koprivec\nProstor: 3
 .12
LOCATION:3.12
ORGANIZER:Filip Koprivec
RELATED-TO:fmf-AFLABS-URNIK:srecanje:7887
X-WR-TIMEZONE:Europe/Ljubljana
END:VEVENT
BEGIN:VEVENT
SUMMARY:Podatkovne baze 1 (APM-2\, APM-3)\, Vaje (V)
DTSTART;TZID=Europe/Ljubljana:20221212T120000
DTEND;TZID=Europe/Ljubljana:20221212T140000
DTSTAMP:20260425T182234Z
UID:fmf-AFLABS-URNIK:premaknjeno-srecanje:82941
ATTENDEE:2. letnik (APM)
ATTENDEE:3. letnik (APM)
CATEGORIES:Entry,Standard
COLOR:darkgreen
DESCRIPTION:Predmet: Podatkovne baze 1 (APM-2\, APM-3)\, Vaje (V)\nLetniki
 : 2. letnik (APM)\, 3. letnik (APM)\nIzvajalci: Filip Koprivec\nProstor: 3
 .12
LOCATION:3.12
ORGANIZER:Filip Koprivec
RELATED-TO:fmf-AFLABS-URNIK:srecanje:7887
X-WR-TIMEZONE:Europe/Ljubljana
END:VEVENT
BEGIN:VEVENT
SUMMARY:Podatkovne baze 1 (APM-2\, APM-3)\, Vaje (V)
DTSTART;TZID=Europe/Ljubljana:20221219T120000
DTEND;TZID=Europe/Ljubljana:20221219T140000
DTSTAMP:20260425T182234Z
UID:fmf-AFLABS-URNIK:premaknjeno-srecanje:82942
ATTENDEE:2. letnik (APM)
ATTENDEE:3. letnik (APM)
CATEGORIES:Entry,Standard
COLOR:darkgreen
DESCRIPTION:Predmet: Podatkovne baze 1 (APM-2\, APM-3)\, Vaje (V)\nLetniki
 : 2. letnik (APM)\, 3. letnik (APM)\nIzvajalci: Filip Koprivec\nProstor: 3
 .12
LOCATION:3.12
ORGANIZER:Filip Koprivec
RELATED-TO:fmf-AFLABS-URNIK:srecanje:7887
X-WR-TIMEZONE:Europe/Ljubljana
END:VEVENT
BEGIN:VEVENT
SUMMARY:Podatkovne baze 1 (APM-2\, APM-3)\, Vaje (V)
DTSTART;TZID=Europe/Ljubljana:20221226T120000
DTEND;TZID=Europe/Ljubljana:20221226T140000
DTSTAMP:20260425T182234Z
UID:fmf-AFLABS-URNIK:premaknjeno-srecanje:82943
ATTENDEE:2. letnik (APM)
ATTENDEE:3. letnik (APM)
CATEGORIES:Entry,Standard
COLOR:darkgreen
DESCRIPTION:Predmet: Podatkovne baze 1 (APM-2\, APM-3)\, Vaje (V)\nLetniki
 : 2. letnik (APM)\, 3. letnik (APM)\nIzvajalci: Filip Koprivec\nProstor: 3
 .12
LOCATION:3.12
ORGANIZER:Filip Koprivec
RELATED-TO:fmf-AFLABS-URNIK:srecanje:7887
X-WR-TIMEZONE:Europe/Ljubljana
END:VEVENT
BEGIN:VEVENT
SUMMARY:Podatkovne baze 1 (APM-2\, APM-3)\, Vaje (V)
DTSTART;TZID=Europe/Ljubljana:20230102T120000
DTEND;TZID=Europe/Ljubljana:20230102T140000
DTSTAMP:20260425T182234Z
UID:fmf-AFLABS-URNIK:premaknjeno-srecanje:82944
ATTENDEE:2. letnik (APM)
ATTENDEE:3. letnik (APM)
CATEGORIES:Entry,Standard
COLOR:darkgreen
DESCRIPTION:Predmet: Podatkovne baze 1 (APM-2\, APM-3)\, Vaje (V)\nLetniki
 : 2. letnik (APM)\, 3. letnik (APM)\nIzvajalci: Filip Koprivec\nProstor: 3
 .12
LOCATION:3.12
ORGANIZER:Filip Koprivec
RELATED-TO:fmf-AFLABS-URNIK:srecanje:7887
X-WR-TIMEZONE:Europe/Ljubljana
END:VEVENT
BEGIN:VEVENT
SUMMARY:Podatkovne baze 1 (APM-2\, APM-3)\, Vaje (V)
DTSTART;TZID=Europe/Ljubljana:20230109T120000
DTEND;TZID=Europe/Ljubljana:20230109T140000
DTSTAMP:20260425T182234Z
UID:fmf-AFLABS-URNIK:premaknjeno-srecanje:82945
ATTENDEE:2. letnik (APM)
ATTENDEE:3. letnik (APM)
CATEGORIES:Entry,Standard
COLOR:darkgreen
DESCRIPTION:Predmet: Podatkovne baze 1 (APM-2\, APM-3)\, Vaje (V)\nLetniki
 : 2. letnik (APM)\, 3. letnik (APM)\nIzvajalci: Filip Koprivec\nProstor: 3
 .12
LOCATION:3.12
ORGANIZER:Filip Koprivec
RELATED-TO:fmf-AFLABS-URNIK:srecanje:7887
X-WR-TIMEZONE:Europe/Ljubljana
END:VEVENT
BEGIN:VEVENT
SUMMARY:Podatkovne baze 1 (APM-2\, APM-3)\, Vaje (V)
DTSTART;TZID=Europe/Ljubljana:20230116T120000
DTEND;TZID=Europe/Ljubljana:20230116T140000
DTSTAMP:20260425T182234Z
UID:fmf-AFLABS-URNIK:premaknjeno-srecanje:82946
ATTENDEE:2. letnik (APM)
ATTENDEE:3. letnik (APM)
CATEGORIES:Entry,Standard
COLOR:darkgreen
DESCRIPTION:Predmet: Podatkovne baze 1 (APM-2\, APM-3)\, Vaje (V)\nLetniki
 : 2. letnik (APM)\, 3. letnik (APM)\nIzvajalci: Filip Koprivec\nProstor: 3
 .12
LOCATION:3.12
ORGANIZER:Filip Koprivec
RELATED-TO:fmf-AFLABS-URNIK:srecanje:7887
X-WR-TIMEZONE:Europe/Ljubljana
END:VEVENT
BEGIN:VEVENT
SUMMARY:Programiranje 1 (FM-3\, MAT-2\, PM-4)\, Vaje (V)\, [1]
DTSTART;TZID=Europe/Ljubljana:20221003T100000
DTEND;TZID=Europe/Ljubljana:20221003T120000
DTSTAMP:20260425T182234Z
UID:fmf-AFLABS-URNIK:premaknjeno-srecanje:85948
ATTENDEE:2. letnik (M)
ATTENDEE:3. letnik (FM)
ATTENDEE:4. letnik (PM)
CATEGORIES:Entry,Standard
COLOR:darkgreen
DESCRIPTION:Predmet: Programiranje 1 (FM-3\, MAT-2\, PM-4)\, Vaje (V)\, [1
 ]\nLetniki: 3. letnik (FM)\, 2. letnik (M)\, 4. letnik (PM)\nIzvajalci: Fi
 lip Koprivec\nProstor: 3.11
LOCATION:3.11
ORGANIZER:Filip Koprivec
RELATED-TO:fmf-AFLABS-URNIK:srecanje:7909
X-WR-TIMEZONE:Europe/Ljubljana
END:VEVENT
BEGIN:VEVENT
SUMMARY:Programiranje 1 (FM-3\, MAT-2\, PM-4)\, Vaje (V)\, [1]
DTSTART;TZID=Europe/Ljubljana:20221010T100000
DTEND;TZID=Europe/Ljubljana:20221010T120000
DTSTAMP:20260425T182234Z
UID:fmf-AFLABS-URNIK:premaknjeno-srecanje:85949
ATTENDEE:2. letnik (M)
ATTENDEE:3. letnik (FM)
ATTENDEE:4. letnik (PM)
CATEGORIES:Entry,Standard
COLOR:darkgreen
DESCRIPTION:Predmet: Programiranje 1 (FM-3\, MAT-2\, PM-4)\, Vaje (V)\, [1
 ]\nLetniki: 3. letnik (FM)\, 2. letnik (M)\, 4. letnik (PM)\nIzvajalci: Fi
 lip Koprivec\nProstor: 3.11
LOCATION:3.11
ORGANIZER:Filip Koprivec
RELATED-TO:fmf-AFLABS-URNIK:srecanje:7909
X-WR-TIMEZONE:Europe/Ljubljana
END:VEVENT
BEGIN:VEVENT
SUMMARY:Programiranje 1 (FM-3\, MAT-2\, PM-4)\, Vaje (V)\, [1]
DTSTART;TZID=Europe/Ljubljana:20221017T100000
DTEND;TZID=Europe/Ljubljana:20221017T120000
DTSTAMP:20260425T182234Z
UID:fmf-AFLABS-URNIK:premaknjeno-srecanje:85950
ATTENDEE:2. letnik (M)
ATTENDEE:3. letnik (FM)
ATTENDEE:4. letnik (PM)
CATEGORIES:Entry,Standard
COLOR:darkgreen
DESCRIPTION:Predmet: Programiranje 1 (FM-3\, MAT-2\, PM-4)\, Vaje (V)\, [1
 ]\nLetniki: 3. letnik (FM)\, 2. letnik (M)\, 4. letnik (PM)\nIzvajalci: Fi
 lip Koprivec\nProstor: 3.11
LOCATION:3.11
ORGANIZER:Filip Koprivec
RELATED-TO:fmf-AFLABS-URNIK:srecanje:7909
X-WR-TIMEZONE:Europe/Ljubljana
END:VEVENT
BEGIN:VEVENT
SUMMARY:Programiranje 1 (FM-3\, MAT-2\, PM-4)\, Vaje (V)\, [1]
DTSTART;TZID=Europe/Ljubljana:20221024T100000
DTEND;TZID=Europe/Ljubljana:20221024T120000
DTSTAMP:20260425T182234Z
UID:fmf-AFLABS-URNIK:premaknjeno-srecanje:85951
ATTENDEE:2. letnik (M)
ATTENDEE:3. letnik (FM)
ATTENDEE:4. letnik (PM)
CATEGORIES:Entry,Standard
COLOR:darkgreen
DESCRIPTION:Predmet: Programiranje 1 (FM-3\, MAT-2\, PM-4)\, Vaje (V)\, [1
 ]\nLetniki: 3. letnik (FM)\, 2. letnik (M)\, 4. letnik (PM)\nIzvajalci: Fi
 lip Koprivec\nProstor: 3.11
LOCATION:3.11
ORGANIZER:Filip Koprivec
RELATED-TO:fmf-AFLABS-URNIK:srecanje:7909
X-WR-TIMEZONE:Europe/Ljubljana
END:VEVENT
BEGIN:VEVENT
SUMMARY:Programiranje 1 (FM-3\, MAT-2\, PM-4)\, Vaje (V)\, [1]
DTSTART;TZID=Europe/Ljubljana:20221031T100000
DTEND;TZID=Europe/Ljubljana:20221031T120000
DTSTAMP:20260425T182234Z
UID:fmf-AFLABS-URNIK:premaknjeno-srecanje:85952
ATTENDEE:2. letnik (M)
ATTENDEE:3. letnik (FM)
ATTENDEE:4. letnik (PM)
CATEGORIES:Entry,Standard
COLOR:darkgreen
DESCRIPTION:Predmet: Programiranje 1 (FM-3\, MAT-2\, PM-4)\, Vaje (V)\, [1
 ]\nLetniki: 3. letnik (FM)\, 2. letnik (M)\, 4. letnik (PM)\nIzvajalci: Fi
 lip Koprivec\nProstor: 3.11
LOCATION:3.11
ORGANIZER:Filip Koprivec
RELATED-TO:fmf-AFLABS-URNIK:srecanje:7909
X-WR-TIMEZONE:Europe/Ljubljana
END:VEVENT
BEGIN:VEVENT
SUMMARY:Programiranje 1 (FM-3\, MAT-2\, PM-4)\, Vaje (V)\, [1]
DTSTART;TZID=Europe/Ljubljana:20221107T100000
DTEND;TZID=Europe/Ljubljana:20221107T120000
DTSTAMP:20260425T182234Z
UID:fmf-AFLABS-URNIK:premaknjeno-srecanje:85953
ATTENDEE:2. letnik (M)
ATTENDEE:3. letnik (FM)
ATTENDEE:4. letnik (PM)
CATEGORIES:Entry,Standard
COLOR:darkgreen
DESCRIPTION:Predmet: Programiranje 1 (FM-3\, MAT-2\, PM-4)\, Vaje (V)\, [1
 ]\nLetniki: 3. letnik (FM)\, 2. letnik (M)\, 4. letnik (PM)\nIzvajalci: Fi
 lip Koprivec\nProstor: 3.11
LOCATION:3.11
ORGANIZER:Filip Koprivec
RELATED-TO:fmf-AFLABS-URNIK:srecanje:7909
X-WR-TIMEZONE:Europe/Ljubljana
END:VEVENT
BEGIN:VEVENT
SUMMARY:Programiranje 1 (FM-3\, MAT-2\, PM-4)\, Vaje (V)\, [1]
DTSTART;TZID=Europe/Ljubljana:20221114T100000
DTEND;TZID=Europe/Ljubljana:20221114T120000
DTSTAMP:20260425T182234Z
UID:fmf-AFLABS-URNIK:premaknjeno-srecanje:85954
ATTENDEE:2. letnik (M)
ATTENDEE:3. letnik (FM)
ATTENDEE:4. letnik (PM)
CATEGORIES:Entry,Standard
COLOR:darkgreen
DESCRIPTION:Predmet: Programiranje 1 (FM-3\, MAT-2\, PM-4)\, Vaje (V)\, [1
 ]\nLetniki: 3. letnik (FM)\, 2. letnik (M)\, 4. letnik (PM)\nIzvajalci: Fi
 lip Koprivec\nProstor: 3.11
LOCATION:3.11
ORGANIZER:Filip Koprivec
RELATED-TO:fmf-AFLABS-URNIK:srecanje:7909
X-WR-TIMEZONE:Europe/Ljubljana
END:VEVENT
BEGIN:VEVENT
SUMMARY:Programiranje 1 (FM-3\, MAT-2\, PM-4)\, Vaje (V)\, [1]
DTSTART;TZID=Europe/Ljubljana:20221121T100000
DTEND;TZID=Europe/Ljubljana:20221121T120000
DTSTAMP:20260425T182234Z
UID:fmf-AFLABS-URNIK:premaknjeno-srecanje:85955
ATTENDEE:2. letnik (M)
ATTENDEE:3. letnik (FM)
ATTENDEE:4. letnik (PM)
CATEGORIES:Entry,Standard
COLOR:darkgreen
DESCRIPTION:Predmet: Programiranje 1 (FM-3\, MAT-2\, PM-4)\, Vaje (V)\, [1
 ]\nLetniki: 3. letnik (FM)\, 2. letnik (M)\, 4. letnik (PM)\nIzvajalci: Fi
 lip Koprivec\nProstor: 3.11
LOCATION:3.11
ORGANIZER:Filip Koprivec
RELATED-TO:fmf-AFLABS-URNIK:srecanje:7909
X-WR-TIMEZONE:Europe/Ljubljana
END:VEVENT
BEGIN:VEVENT
SUMMARY:Programiranje 1 (FM-3\, MAT-2\, PM-4)\, Vaje (V)\, [1]
DTSTART;TZID=Europe/Ljubljana:20221128T100000
DTEND;TZID=Europe/Ljubljana:20221128T120000
DTSTAMP:20260425T182234Z
UID:fmf-AFLABS-URNIK:premaknjeno-srecanje:85956
ATTENDEE:2. letnik (M)
ATTENDEE:3. letnik (FM)
ATTENDEE:4. letnik (PM)
CATEGORIES:Entry,Standard
COLOR:darkgreen
DESCRIPTION:Predmet: Programiranje 1 (FM-3\, MAT-2\, PM-4)\, Vaje (V)\, [1
 ]\nLetniki: 3. letnik (FM)\, 2. letnik (M)\, 4. letnik (PM)\nIzvajalci: Fi
 lip Koprivec\nProstor: 3.11
LOCATION:3.11
ORGANIZER:Filip Koprivec
RELATED-TO:fmf-AFLABS-URNIK:srecanje:7909
X-WR-TIMEZONE:Europe/Ljubljana
END:VEVENT
BEGIN:VEVENT
SUMMARY:Programiranje 1 (FM-3\, MAT-2\, PM-4)\, Vaje (V)\, [1]
DTSTART;TZID=Europe/Ljubljana:20221205T100000
DTEND;TZID=Europe/Ljubljana:20221205T120000
DTSTAMP:20260425T182234Z
UID:fmf-AFLABS-URNIK:premaknjeno-srecanje:85957
ATTENDEE:2. letnik (M)
ATTENDEE:3. letnik (FM)
ATTENDEE:4. letnik (PM)
CATEGORIES:Entry,Standard
COLOR:darkgreen
DESCRIPTION:Predmet: Programiranje 1 (FM-3\, MAT-2\, PM-4)\, Vaje (V)\, [1
 ]\nLetniki: 3. letnik (FM)\, 2. letnik (M)\, 4. letnik (PM)\nIzvajalci: Fi
 lip Koprivec\nProstor: 3.11
LOCATION:3.11
ORGANIZER:Filip Koprivec
RELATED-TO:fmf-AFLABS-URNIK:srecanje:7909
X-WR-TIMEZONE:Europe/Ljubljana
END:VEVENT
BEGIN:VEVENT
SUMMARY:Programiranje 1 (FM-3\, MAT-2\, PM-4)\, Vaje (V)\, [1]
DTSTART;TZID=Europe/Ljubljana:20221212T100000
DTEND;TZID=Europe/Ljubljana:20221212T120000
DTSTAMP:20260425T182234Z
UID:fmf-AFLABS-URNIK:premaknjeno-srecanje:85958
ATTENDEE:2. letnik (M)
ATTENDEE:3. letnik (FM)
ATTENDEE:4. letnik (PM)
CATEGORIES:Entry,Standard
COLOR:darkgreen
DESCRIPTION:Predmet: Programiranje 1 (FM-3\, MAT-2\, PM-4)\, Vaje (V)\, [1
 ]\nLetniki: 3. letnik (FM)\, 2. letnik (M)\, 4. letnik (PM)\nIzvajalci: Fi
 lip Koprivec\nProstor: 3.11
LOCATION:3.11
ORGANIZER:Filip Koprivec
RELATED-TO:fmf-AFLABS-URNIK:srecanje:7909
X-WR-TIMEZONE:Europe/Ljubljana
END:VEVENT
BEGIN:VEVENT
SUMMARY:Programiranje 1 (FM-3\, MAT-2\, PM-4)\, Vaje (V)\, [1]
DTSTART;TZID=Europe/Ljubljana:20221219T100000
DTEND;TZID=Europe/Ljubljana:20221219T120000
DTSTAMP:20260425T182234Z
UID:fmf-AFLABS-URNIK:premaknjeno-srecanje:85959
ATTENDEE:2. letnik (M)
ATTENDEE:3. letnik (FM)
ATTENDEE:4. letnik (PM)
CATEGORIES:Entry,Standard
COLOR:darkgreen
DESCRIPTION:Predmet: Programiranje 1 (FM-3\, MAT-2\, PM-4)\, Vaje (V)\, [1
 ]\nLetniki: 3. letnik (FM)\, 2. letnik (M)\, 4. letnik (PM)\nIzvajalci: Fi
 lip Koprivec\nProstor: 3.11
LOCATION:3.11
ORGANIZER:Filip Koprivec
RELATED-TO:fmf-AFLABS-URNIK:srecanje:7909
X-WR-TIMEZONE:Europe/Ljubljana
END:VEVENT
BEGIN:VEVENT
SUMMARY:Programiranje 1 (FM-3\, MAT-2\, PM-4)\, Vaje (V)\, [1]
DTSTART;TZID=Europe/Ljubljana:20221226T100000
DTEND;TZID=Europe/Ljubljana:20221226T120000
DTSTAMP:20260425T182234Z
UID:fmf-AFLABS-URNIK:premaknjeno-srecanje:85960
ATTENDEE:2. letnik (M)
ATTENDEE:3. letnik (FM)
ATTENDEE:4. letnik (PM)
CATEGORIES:Entry,Standard
COLOR:darkgreen
DESCRIPTION:Predmet: Programiranje 1 (FM-3\, MAT-2\, PM-4)\, Vaje (V)\, [1
 ]\nLetniki: 3. letnik (FM)\, 2. letnik (M)\, 4. letnik (PM)\nIzvajalci: Fi
 lip Koprivec\nProstor: 3.11
LOCATION:3.11
ORGANIZER:Filip Koprivec
RELATED-TO:fmf-AFLABS-URNIK:srecanje:7909
X-WR-TIMEZONE:Europe/Ljubljana
END:VEVENT
BEGIN:VEVENT
SUMMARY:Programiranje 1 (FM-3\, MAT-2\, PM-4)\, Vaje (V)\, [1]
DTSTART;TZID=Europe/Ljubljana:20230102T100000
DTEND;TZID=Europe/Ljubljana:20230102T120000
DTSTAMP:20260425T182234Z
UID:fmf-AFLABS-URNIK:premaknjeno-srecanje:85961
ATTENDEE:2. letnik (M)
ATTENDEE:3. letnik (FM)
ATTENDEE:4. letnik (PM)
CATEGORIES:Entry,Standard
COLOR:darkgreen
DESCRIPTION:Predmet: Programiranje 1 (FM-3\, MAT-2\, PM-4)\, Vaje (V)\, [1
 ]\nLetniki: 3. letnik (FM)\, 2. letnik (M)\, 4. letnik (PM)\nIzvajalci: Fi
 lip Koprivec\nProstor: 3.11
LOCATION:3.11
ORGANIZER:Filip Koprivec
RELATED-TO:fmf-AFLABS-URNIK:srecanje:7909
X-WR-TIMEZONE:Europe/Ljubljana
END:VEVENT
BEGIN:VEVENT
SUMMARY:Programiranje 1 (FM-3\, MAT-2\, PM-4)\, Vaje (V)\, [1]
DTSTART;TZID=Europe/Ljubljana:20230109T100000
DTEND;TZID=Europe/Ljubljana:20230109T120000
DTSTAMP:20260425T182234Z
UID:fmf-AFLABS-URNIK:premaknjeno-srecanje:85962
ATTENDEE:2. letnik (M)
ATTENDEE:3. letnik (FM)
ATTENDEE:4. letnik (PM)
CATEGORIES:Entry,Standard
COLOR:darkgreen
DESCRIPTION:Predmet: Programiranje 1 (FM-3\, MAT-2\, PM-4)\, Vaje (V)\, [1
 ]\nLetniki: 3. letnik (FM)\, 2. letnik (M)\, 4. letnik (PM)\nIzvajalci: Fi
 lip Koprivec\nProstor: 3.11
LOCATION:3.11
ORGANIZER:Filip Koprivec
RELATED-TO:fmf-AFLABS-URNIK:srecanje:7909
X-WR-TIMEZONE:Europe/Ljubljana
END:VEVENT
BEGIN:VEVENT
SUMMARY:Programiranje 1 (FM-3\, MAT-2\, PM-4)\, Vaje (V)\, [1]
DTSTART;TZID=Europe/Ljubljana:20230116T100000
DTEND;TZID=Europe/Ljubljana:20230116T120000
DTSTAMP:20260425T182234Z
UID:fmf-AFLABS-URNIK:premaknjeno-srecanje:85963
ATTENDEE:2. letnik (M)
ATTENDEE:3. letnik (FM)
ATTENDEE:4. letnik (PM)
CATEGORIES:Entry,Standard
COLOR:darkgreen
DESCRIPTION:Predmet: Programiranje 1 (FM-3\, MAT-2\, PM-4)\, Vaje (V)\, [1
 ]\nLetniki: 3. letnik (FM)\, 2. letnik (M)\, 4. letnik (PM)\nIzvajalci: Fi
 lip Koprivec\nProstor: 3.11
LOCATION:3.11
ORGANIZER:Filip Koprivec
RELATED-TO:fmf-AFLABS-URNIK:srecanje:7909
X-WR-TIMEZONE:Europe/Ljubljana
END:VEVENT
END:VCALENDAR
