BEGIN:VCALENDAR
VERSION:2.0
PRODID:-//AFLabs urnik izvoz - fmf//aflabs.si//SI
DTSTAMP:20260423T194129Z
NAME:UL FMF urnik
REFRESH-INTERVAL:PT1H
SOURCE:https://urnik.fmf.uni-lj.si/teacher/329?day=2020-02-03&export=1
URL:https://urnik.fmf.uni-lj.si/teacher/329?day=2020-02-03&export=1
X-PUBLISHED-TTL:PT1H
X-WR-CALNAME:UL FMF urnik
X-WR-TIMEZONE:Europe/Ljubljana
BEGIN:VTIMEZONE
TZID:Europe/Ljubljana
BEGIN:DAYLIGHT
DTSTART:20260329T020000
RDATE:20260329T020000
RDATE:20270328T020000
TZNAME:CEST
TZOFFSETFROM:+0100
TZOFFSETTO:+0200
END:DAYLIGHT
BEGIN:STANDARD
DTSTART:20261025T030000
RDATE:20261025T030000
RDATE:20271031T030000
TZNAME:CET
TZOFFSETFROM:+0200
TZOFFSETTO:+0100
END:STANDARD
END:VTIMEZONE
BEGIN:VEVENT
SUMMARY:Matematika 2 (APF-2)\, Vaje (V)
DTSTART;TZID=Europe/Ljubljana:20200101T080000
DTEND;TZID=Europe/Ljubljana:20200101T100000
DTSTAMP:20260423T194129Z
UID:fmf-AFLABS-URNIK:premaknjeno-srecanje:65725
ATTENDEE:2. letnik (Aplikativna fizika)
CATEGORIES:Entry,Standard
COLOR:darkgreen
DESCRIPTION:Predmet: Matematika 2 (APF-2)\, Vaje (V)\nLetniki: 2. letnik (
 Aplikativna fizika)\nIzvajalci: Eva Zmazek\nProstor: F5
LOCATION:F5
ORGANIZER:Eva Zmazek
RELATED-TO:fmf-AFLABS-URNIK:srecanje:3880
X-WR-TIMEZONE:Europe/Ljubljana
END:VEVENT
BEGIN:VEVENT
SUMMARY:Matematika 2 (APF-2)\, Vaje (V)
DTSTART;TZID=Europe/Ljubljana:20200108T080000
DTEND;TZID=Europe/Ljubljana:20200108T100000
DTSTAMP:20260423T194129Z
UID:fmf-AFLABS-URNIK:premaknjeno-srecanje:65726
ATTENDEE:2. letnik (Aplikativna fizika)
CATEGORIES:Entry,Standard
COLOR:darkgreen
DESCRIPTION:Predmet: Matematika 2 (APF-2)\, Vaje (V)\nLetniki: 2. letnik (
 Aplikativna fizika)\nIzvajalci: Eva Zmazek\nProstor: F5
LOCATION:F5
ORGANIZER:Eva Zmazek
RELATED-TO:fmf-AFLABS-URNIK:srecanje:3880
X-WR-TIMEZONE:Europe/Ljubljana
END:VEVENT
BEGIN:VEVENT
SUMMARY:Matematika 2 (APF-2)\, Vaje (V)
DTSTART;TZID=Europe/Ljubljana:20200115T080000
DTEND;TZID=Europe/Ljubljana:20200115T100000
DTSTAMP:20260423T194129Z
UID:fmf-AFLABS-URNIK:premaknjeno-srecanje:65727
ATTENDEE:2. letnik (Aplikativna fizika)
CATEGORIES:Entry,Standard
COLOR:darkgreen
DESCRIPTION:Predmet: Matematika 2 (APF-2)\, Vaje (V)\nLetniki: 2. letnik (
 Aplikativna fizika)\nIzvajalci: Eva Zmazek\nProstor: F5
LOCATION:F5
ORGANIZER:Eva Zmazek
RELATED-TO:fmf-AFLABS-URNIK:srecanje:3880
X-WR-TIMEZONE:Europe/Ljubljana
END:VEVENT
BEGIN:VEVENT
SUMMARY:Matematika 2 (APM-2)\, Vaje (V)
DTSTART;TZID=Europe/Ljubljana:20200219T080000
DTEND;TZID=Europe/Ljubljana:20200219T100000
DTSTAMP:20260423T194129Z
UID:fmf-AFLABS-URNIK:premaknjeno-srecanje:63317
ATTENDEE:2. letnik (APM)
CATEGORIES:Entry,Standard
COLOR:darkgreen
DESCRIPTION:Predmet: Matematika 2 (APM-2)\, Vaje (V)\nLetniki: 2. letnik (
 APM)\nIzvajalci: Eva Zmazek\nProstor: F3
LOCATION:F3
ORGANIZER:Eva Zmazek
RELATED-TO:fmf-AFLABS-URNIK:srecanje:4260
X-WR-TIMEZONE:Europe/Ljubljana
END:VEVENT
BEGIN:VEVENT
SUMMARY:Matematika 2 (APM-2)\, Vaje (V)
DTSTART;TZID=Europe/Ljubljana:20200226T080000
DTEND;TZID=Europe/Ljubljana:20200226T100000
DTSTAMP:20260423T194129Z
UID:fmf-AFLABS-URNIK:premaknjeno-srecanje:63318
ATTENDEE:2. letnik (APM)
CATEGORIES:Entry,Standard
COLOR:darkgreen
DESCRIPTION:Predmet: Matematika 2 (APM-2)\, Vaje (V)\nLetniki: 2. letnik (
 APM)\nIzvajalci: Eva Zmazek\nProstor: F3
LOCATION:F3
ORGANIZER:Eva Zmazek
RELATED-TO:fmf-AFLABS-URNIK:srecanje:4260
X-WR-TIMEZONE:Europe/Ljubljana
END:VEVENT
BEGIN:VEVENT
SUMMARY:Matematika 2 (APM-2)\, Vaje (V)
DTSTART;TZID=Europe/Ljubljana:20200304T080000
DTEND;TZID=Europe/Ljubljana:20200304T100000
DTSTAMP:20260423T194129Z
UID:fmf-AFLABS-URNIK:premaknjeno-srecanje:63319
ATTENDEE:2. letnik (APM)
CATEGORIES:Entry,Standard
COLOR:darkgreen
DESCRIPTION:Predmet: Matematika 2 (APM-2)\, Vaje (V)\nLetniki: 2. letnik (
 APM)\nIzvajalci: Eva Zmazek\nProstor: F3
LOCATION:F3
ORGANIZER:Eva Zmazek
RELATED-TO:fmf-AFLABS-URNIK:srecanje:4260
X-WR-TIMEZONE:Europe/Ljubljana
END:VEVENT
BEGIN:VEVENT
SUMMARY:Rezervacija
DTSTART;TZID=Europe/Ljubljana:20200121T130000
DTEND;TZID=Europe/Ljubljana:20200121T150000
DTSTAMP:20260423T194129Z
UID:fmf-AFLABS-URNIK:rezervacija:4873
CATEGORIES:Reservation
COLOR:royalblue
DESCRIPTION:Predmeti: \nLetniki: \nIzvajalci: Eva Zmazek\nProstori: 2.04
LOCATION:2.04
ORGANIZER:Eva Zmazek
X-WR-TIMEZONE:Europe/Ljubljana
END:VEVENT
BEGIN:VEVENT
SUMMARY:Rezervacija
DTSTART;TZID=Europe/Ljubljana:20200122T140000
DTEND;TZID=Europe/Ljubljana:20200122T160000
DTSTAMP:20260423T194129Z
UID:fmf-AFLABS-URNIK:rezervacija:4898
CATEGORIES:Reservation
COLOR:royalblue
DESCRIPTION:Predmeti: \nLetniki: \nIzvajalci: Eva Zmazek\nProstori: 2.01
LOCATION:2.01
ORGANIZER:Eva Zmazek
X-WR-TIMEZONE:Europe/Ljubljana
END:VEVENT
END:VCALENDAR
