BEGIN:VCALENDAR
VERSION:2.0
PRODID:-//AFLabs urnik izvoz - fmf//aflabs.si//SI
DTSTAMP:20260423T053259Z
NAME:UL FMF urnik
REFRESH-INTERVAL:PT1H
SOURCE:https://urnik.fmf.uni-lj.si/teacher/329?day=2020-04-06&export=1
URL:https://urnik.fmf.uni-lj.si/teacher/329?day=2020-04-06&export=1
X-PUBLISHED-TTL:PT1H
X-WR-CALNAME:UL FMF urnik
X-WR-TIMEZONE:Europe/Ljubljana
BEGIN:VTIMEZONE
TZID:Europe/Ljubljana
BEGIN:DAYLIGHT
DTSTART:20260329T020000
RDATE:20260329T020000
RDATE:20270328T020000
TZNAME:CEST
TZOFFSETFROM:+0100
TZOFFSETTO:+0200
END:DAYLIGHT
BEGIN:STANDARD
DTSTART:20261025T030000
RDATE:20261025T030000
RDATE:20271031T030000
TZNAME:CET
TZOFFSETFROM:+0200
TZOFFSETTO:+0100
END:STANDARD
END:VTIMEZONE
BEGIN:VEVENT
SUMMARY:Matematika 2 (APM-2)\, Vaje (V)
DTSTART;TZID=Europe/Ljubljana:20200219T080000
DTEND;TZID=Europe/Ljubljana:20200219T100000
DTSTAMP:20260423T053259Z
UID:fmf-AFLABS-URNIK:premaknjeno-srecanje:63317
ATTENDEE:2. letnik (APM)
CATEGORIES:Entry,Standard
COLOR:darkgreen
DESCRIPTION:Predmet: Matematika 2 (APM-2)\, Vaje (V)\nLetniki: 2. letnik (
 APM)\nIzvajalci: Eva Zmazek\nProstor: F3
LOCATION:F3
ORGANIZER:Eva Zmazek
RELATED-TO:fmf-AFLABS-URNIK:srecanje:4260
X-WR-TIMEZONE:Europe/Ljubljana
END:VEVENT
BEGIN:VEVENT
SUMMARY:Matematika 2 (APM-2)\, Vaje (V)
DTSTART;TZID=Europe/Ljubljana:20200226T080000
DTEND;TZID=Europe/Ljubljana:20200226T100000
DTSTAMP:20260423T053259Z
UID:fmf-AFLABS-URNIK:premaknjeno-srecanje:63318
ATTENDEE:2. letnik (APM)
CATEGORIES:Entry,Standard
COLOR:darkgreen
DESCRIPTION:Predmet: Matematika 2 (APM-2)\, Vaje (V)\nLetniki: 2. letnik (
 APM)\nIzvajalci: Eva Zmazek\nProstor: F3
LOCATION:F3
ORGANIZER:Eva Zmazek
RELATED-TO:fmf-AFLABS-URNIK:srecanje:4260
X-WR-TIMEZONE:Europe/Ljubljana
END:VEVENT
BEGIN:VEVENT
SUMMARY:Matematika 2 (APM-2)\, Vaje (V)
DTSTART;TZID=Europe/Ljubljana:20200304T080000
DTEND;TZID=Europe/Ljubljana:20200304T100000
DTSTAMP:20260423T053259Z
UID:fmf-AFLABS-URNIK:premaknjeno-srecanje:63319
ATTENDEE:2. letnik (APM)
CATEGORIES:Entry,Standard
COLOR:darkgreen
DESCRIPTION:Predmet: Matematika 2 (APM-2)\, Vaje (V)\nLetniki: 2. letnik (
 APM)\nIzvajalci: Eva Zmazek\nProstor: F3
LOCATION:F3
ORGANIZER:Eva Zmazek
RELATED-TO:fmf-AFLABS-URNIK:srecanje:4260
X-WR-TIMEZONE:Europe/Ljubljana
END:VEVENT
BEGIN:VEVENT
SUMMARY:Matematika 2 (APM-2)\, Vaje (V)
DTSTART;TZID=Europe/Ljubljana:20200311T080000
DTEND;TZID=Europe/Ljubljana:20200311T100000
DTSTAMP:20260423T053259Z
UID:fmf-AFLABS-URNIK:premaknjeno-srecanje:63320
ATTENDEE:2. letnik (APM)
CATEGORIES:Entry,Standard
COLOR:darkgreen
DESCRIPTION:Predmet: Matematika 2 (APM-2)\, Vaje (V)\nLetniki: 2. letnik (
 APM)\nIzvajalci: Eva Zmazek\nProstor: F3
LOCATION:F3
ORGANIZER:Eva Zmazek
RELATED-TO:fmf-AFLABS-URNIK:srecanje:4260
X-WR-TIMEZONE:Europe/Ljubljana
END:VEVENT
BEGIN:VEVENT
SUMMARY:Matematika 2 (APM-2)\, Vaje (V)
DTSTART;TZID=Europe/Ljubljana:20200318T080000
DTEND;TZID=Europe/Ljubljana:20200318T100000
DTSTAMP:20260423T053259Z
UID:fmf-AFLABS-URNIK:premaknjeno-srecanje:63321
ATTENDEE:2. letnik (APM)
CATEGORIES:Entry,Standard
COLOR:darkgreen
DESCRIPTION:Predmet: Matematika 2 (APM-2)\, Vaje (V)\nLetniki: 2. letnik (
 APM)\nIzvajalci: Eva Zmazek\nProstor: F3
LOCATION:F3
ORGANIZER:Eva Zmazek
RELATED-TO:fmf-AFLABS-URNIK:srecanje:4260
X-WR-TIMEZONE:Europe/Ljubljana
END:VEVENT
BEGIN:VEVENT
SUMMARY:Matematika 2 (APM-2)\, Vaje (V)
DTSTART;TZID=Europe/Ljubljana:20200325T080000
DTEND;TZID=Europe/Ljubljana:20200325T100000
DTSTAMP:20260423T053259Z
UID:fmf-AFLABS-URNIK:premaknjeno-srecanje:63322
ATTENDEE:2. letnik (APM)
CATEGORIES:Entry,Standard
COLOR:darkgreen
DESCRIPTION:Predmet: Matematika 2 (APM-2)\, Vaje (V)\nLetniki: 2. letnik (
 APM)\nIzvajalci: Eva Zmazek\nProstor: F3
LOCATION:F3
ORGANIZER:Eva Zmazek
RELATED-TO:fmf-AFLABS-URNIK:srecanje:4260
X-WR-TIMEZONE:Europe/Ljubljana
END:VEVENT
BEGIN:VEVENT
SUMMARY:Matematika 2 (APM-2)\, Vaje (V)
DTSTART;TZID=Europe/Ljubljana:20200401T080000
DTEND;TZID=Europe/Ljubljana:20200401T100000
DTSTAMP:20260423T053259Z
UID:fmf-AFLABS-URNIK:premaknjeno-srecanje:63323
ATTENDEE:2. letnik (APM)
CATEGORIES:Entry,Standard
COLOR:darkgreen
DESCRIPTION:Predmet: Matematika 2 (APM-2)\, Vaje (V)\nLetniki: 2. letnik (
 APM)\nIzvajalci: Eva Zmazek\nProstor: F3
LOCATION:F3
ORGANIZER:Eva Zmazek
RELATED-TO:fmf-AFLABS-URNIK:srecanje:4260
X-WR-TIMEZONE:Europe/Ljubljana
END:VEVENT
BEGIN:VEVENT
SUMMARY:Matematika 2 (APM-2)\, Vaje (V)
DTSTART;TZID=Europe/Ljubljana:20200408T080000
DTEND;TZID=Europe/Ljubljana:20200408T100000
DTSTAMP:20260423T053259Z
UID:fmf-AFLABS-URNIK:premaknjeno-srecanje:63324
ATTENDEE:2. letnik (APM)
CATEGORIES:Entry,Standard
COLOR:darkgreen
DESCRIPTION:Predmet: Matematika 2 (APM-2)\, Vaje (V)\nLetniki: 2. letnik (
 APM)\nIzvajalci: Eva Zmazek\nProstor: F3
LOCATION:F3
ORGANIZER:Eva Zmazek
RELATED-TO:fmf-AFLABS-URNIK:srecanje:4260
X-WR-TIMEZONE:Europe/Ljubljana
END:VEVENT
BEGIN:VEVENT
SUMMARY:Matematika 2 (APM-2)\, Vaje (V)
DTSTART;TZID=Europe/Ljubljana:20200415T080000
DTEND;TZID=Europe/Ljubljana:20200415T100000
DTSTAMP:20260423T053259Z
UID:fmf-AFLABS-URNIK:premaknjeno-srecanje:63325
ATTENDEE:2. letnik (APM)
CATEGORIES:Entry,Standard
COLOR:darkgreen
DESCRIPTION:Predmet: Matematika 2 (APM-2)\, Vaje (V)\nLetniki: 2. letnik (
 APM)\nIzvajalci: Eva Zmazek\nProstor: F3
LOCATION:F3
ORGANIZER:Eva Zmazek
RELATED-TO:fmf-AFLABS-URNIK:srecanje:4260
X-WR-TIMEZONE:Europe/Ljubljana
END:VEVENT
BEGIN:VEVENT
SUMMARY:Matematika 2 (APM-2)\, Vaje (V)
DTSTART;TZID=Europe/Ljubljana:20200422T080000
DTEND;TZID=Europe/Ljubljana:20200422T100000
DTSTAMP:20260423T053259Z
UID:fmf-AFLABS-URNIK:premaknjeno-srecanje:63326
ATTENDEE:2. letnik (APM)
CATEGORIES:Entry,Standard
COLOR:darkgreen
DESCRIPTION:Predmet: Matematika 2 (APM-2)\, Vaje (V)\nLetniki: 2. letnik (
 APM)\nIzvajalci: Eva Zmazek\nProstor: F3
LOCATION:F3
ORGANIZER:Eva Zmazek
RELATED-TO:fmf-AFLABS-URNIK:srecanje:4260
X-WR-TIMEZONE:Europe/Ljubljana
END:VEVENT
BEGIN:VEVENT
SUMMARY:Matematika 2 (APM-2)\, Vaje (V)
DTSTART;TZID=Europe/Ljubljana:20200429T080000
DTEND;TZID=Europe/Ljubljana:20200429T100000
DTSTAMP:20260423T053259Z
UID:fmf-AFLABS-URNIK:premaknjeno-srecanje:63327
ATTENDEE:2. letnik (APM)
CATEGORIES:Entry,Standard
COLOR:darkgreen
DESCRIPTION:Predmet: Matematika 2 (APM-2)\, Vaje (V)\nLetniki: 2. letnik (
 APM)\nIzvajalci: Eva Zmazek\nProstor: F3
LOCATION:F3
ORGANIZER:Eva Zmazek
RELATED-TO:fmf-AFLABS-URNIK:srecanje:4260
X-WR-TIMEZONE:Europe/Ljubljana
END:VEVENT
BEGIN:VEVENT
SUMMARY:Matematika 2 (APM-2)\, Vaje (V)
DTSTART;TZID=Europe/Ljubljana:20200506T080000
DTEND;TZID=Europe/Ljubljana:20200506T100000
DTSTAMP:20260423T053259Z
UID:fmf-AFLABS-URNIK:premaknjeno-srecanje:63328
ATTENDEE:2. letnik (APM)
CATEGORIES:Entry,Standard
COLOR:darkgreen
DESCRIPTION:Predmet: Matematika 2 (APM-2)\, Vaje (V)\nLetniki: 2. letnik (
 APM)\nIzvajalci: Eva Zmazek\nProstor: F3
LOCATION:F3
ORGANIZER:Eva Zmazek
RELATED-TO:fmf-AFLABS-URNIK:srecanje:4260
X-WR-TIMEZONE:Europe/Ljubljana
END:VEVENT
BEGIN:VEVENT
SUMMARY:Matematika 2 (APM-2)\, Vaje (V)
DTSTART;TZID=Europe/Ljubljana:20200513T080000
DTEND;TZID=Europe/Ljubljana:20200513T100000
DTSTAMP:20260423T053259Z
UID:fmf-AFLABS-URNIK:premaknjeno-srecanje:63329
ATTENDEE:2. letnik (APM)
CATEGORIES:Entry,Standard
COLOR:darkgreen
DESCRIPTION:Predmet: Matematika 2 (APM-2)\, Vaje (V)\nLetniki: 2. letnik (
 APM)\nIzvajalci: Eva Zmazek\nProstor: F3
LOCATION:F3
ORGANIZER:Eva Zmazek
RELATED-TO:fmf-AFLABS-URNIK:srecanje:4260
X-WR-TIMEZONE:Europe/Ljubljana
END:VEVENT
BEGIN:VEVENT
SUMMARY:Matematika 2 (APM-2)\, Vaje (V)
DTSTART;TZID=Europe/Ljubljana:20200520T080000
DTEND;TZID=Europe/Ljubljana:20200520T100000
DTSTAMP:20260423T053259Z
UID:fmf-AFLABS-URNIK:premaknjeno-srecanje:63330
ATTENDEE:2. letnik (APM)
CATEGORIES:Entry,Standard
COLOR:darkgreen
DESCRIPTION:Predmet: Matematika 2 (APM-2)\, Vaje (V)\nLetniki: 2. letnik (
 APM)\nIzvajalci: Eva Zmazek\nProstor: F3
LOCATION:F3
ORGANIZER:Eva Zmazek
RELATED-TO:fmf-AFLABS-URNIK:srecanje:4260
X-WR-TIMEZONE:Europe/Ljubljana
END:VEVENT
BEGIN:VEVENT
SUMMARY:Matematika 2 (APM-2)\, Vaje (V)
DTSTART;TZID=Europe/Ljubljana:20200527T080000
DTEND;TZID=Europe/Ljubljana:20200527T100000
DTSTAMP:20260423T053259Z
UID:fmf-AFLABS-URNIK:premaknjeno-srecanje:63331
ATTENDEE:2. letnik (APM)
CATEGORIES:Entry,Standard
COLOR:darkgreen
DESCRIPTION:Predmet: Matematika 2 (APM-2)\, Vaje (V)\nLetniki: 2. letnik (
 APM)\nIzvajalci: Eva Zmazek\nProstor: F3
LOCATION:F3
ORGANIZER:Eva Zmazek
RELATED-TO:fmf-AFLABS-URNIK:srecanje:4260
X-WR-TIMEZONE:Europe/Ljubljana
END:VEVENT
END:VCALENDAR
