BEGIN:VCALENDAR
VERSION:2.0
PRODID:-//AFLabs urnik izvoz - fmf//aflabs.si//SI
DTSTAMP:20260419T191855Z
NAME:UL FMF urnik
REFRESH-INTERVAL:PT1H
SOURCE:https://urnik.fmf.uni-lj.si/teacher/32?day=2022-06-06&export=1
URL:https://urnik.fmf.uni-lj.si/teacher/32?day=2022-06-06&export=1
X-PUBLISHED-TTL:PT1H
X-WR-CALNAME:UL FMF urnik
X-WR-TIMEZONE:Europe/Ljubljana
BEGIN:VTIMEZONE
TZID:Europe/Ljubljana
BEGIN:DAYLIGHT
DTSTART:20260329T020000
RDATE:20260329T020000
RDATE:20270328T020000
TZNAME:CEST
TZOFFSETFROM:+0100
TZOFFSETTO:+0200
END:DAYLIGHT
BEGIN:STANDARD
DTSTART:20261025T030000
RDATE:20261025T030000
RDATE:20271031T030000
TZNAME:CET
TZOFFSETFROM:+0200
TZOFFSETTO:+0100
END:STANDARD
END:VTIMEZONE
BEGIN:VEVENT
SUMMARY:ZUNANJE OBVEZNOSTI ()\, Predavanja (P)
DTSTART;TZID=Europe/Ljubljana:20220503T080000
DTEND;TZID=Europe/Ljubljana:20220503T090000
DTSTAMP:20260419T191855Z
UID:fmf-AFLABS-URNIK:premaknjeno-srecanje:121589
CATEGORIES:Entry,Standard
COLOR:darkgreen
DESCRIPTION:Predmet: ZUNANJE OBVEZNOSTI ()\, Predavanja (P)\nLetniki: \nIz
 vajalci: Jaka Smrekar\nProstor: X
LOCATION:X
ORGANIZER:Jaka Smrekar
RELATED-TO:fmf-AFLABS-URNIK:srecanje:7357
X-WR-TIMEZONE:Europe/Ljubljana
END:VEVENT
BEGIN:VEVENT
SUMMARY:ZUNANJE OBVEZNOSTI ()\, Predavanja (P)
DTSTART;TZID=Europe/Ljubljana:20220510T080000
DTEND;TZID=Europe/Ljubljana:20220510T090000
DTSTAMP:20260419T191855Z
UID:fmf-AFLABS-URNIK:premaknjeno-srecanje:121590
CATEGORIES:Entry,Standard
COLOR:darkgreen
DESCRIPTION:Predmet: ZUNANJE OBVEZNOSTI ()\, Predavanja (P)\nLetniki: \nIz
 vajalci: Jaka Smrekar\nProstor: X
LOCATION:X
ORGANIZER:Jaka Smrekar
RELATED-TO:fmf-AFLABS-URNIK:srecanje:7357
X-WR-TIMEZONE:Europe/Ljubljana
END:VEVENT
BEGIN:VEVENT
SUMMARY:ZUNANJE OBVEZNOSTI ()\, Predavanja (P)
DTSTART;TZID=Europe/Ljubljana:20220517T080000
DTEND;TZID=Europe/Ljubljana:20220517T090000
DTSTAMP:20260419T191855Z
UID:fmf-AFLABS-URNIK:premaknjeno-srecanje:121591
CATEGORIES:Entry,Standard
COLOR:darkgreen
DESCRIPTION:Predmet: ZUNANJE OBVEZNOSTI ()\, Predavanja (P)\nLetniki: \nIz
 vajalci: Jaka Smrekar\nProstor: X
LOCATION:X
ORGANIZER:Jaka Smrekar
RELATED-TO:fmf-AFLABS-URNIK:srecanje:7357
X-WR-TIMEZONE:Europe/Ljubljana
END:VEVENT
BEGIN:VEVENT
SUMMARY:ZUNANJE OBVEZNOSTI ()\, Predavanja (P)
DTSTART;TZID=Europe/Ljubljana:20220524T080000
DTEND;TZID=Europe/Ljubljana:20220524T090000
DTSTAMP:20260419T191855Z
UID:fmf-AFLABS-URNIK:premaknjeno-srecanje:121592
CATEGORIES:Entry,Standard
COLOR:darkgreen
DESCRIPTION:Predmet: ZUNANJE OBVEZNOSTI ()\, Predavanja (P)\nLetniki: \nIz
 vajalci: Jaka Smrekar\nProstor: X
LOCATION:X
ORGANIZER:Jaka Smrekar
RELATED-TO:fmf-AFLABS-URNIK:srecanje:7357
X-WR-TIMEZONE:Europe/Ljubljana
END:VEVENT
BEGIN:VEVENT
SUMMARY:ZUNANJE OBVEZNOSTI ()\, Predavanja (P)
DTSTART;TZID=Europe/Ljubljana:20220531T080000
DTEND;TZID=Europe/Ljubljana:20220531T090000
DTSTAMP:20260419T191855Z
UID:fmf-AFLABS-URNIK:premaknjeno-srecanje:121593
CATEGORIES:Entry,Standard
COLOR:darkgreen
DESCRIPTION:Predmet: ZUNANJE OBVEZNOSTI ()\, Predavanja (P)\nLetniki: \nIz
 vajalci: Jaka Smrekar\nProstor: X
LOCATION:X
ORGANIZER:Jaka Smrekar
RELATED-TO:fmf-AFLABS-URNIK:srecanje:7357
X-WR-TIMEZONE:Europe/Ljubljana
END:VEVENT
BEGIN:VEVENT
SUMMARY:Statistika 1 (FM-3)\, Predavanja (P)
DTSTART;TZID=Europe/Ljubljana:20220504T080000
DTEND;TZID=Europe/Ljubljana:20220504T100000
DTSTAMP:20260419T191855Z
UID:fmf-AFLABS-URNIK:premaknjeno-srecanje:105955
ATTENDEE:3. letnik (FM)
CATEGORIES:Entry,Standard
COLOR:darkgreen
DESCRIPTION:Predmet: Statistika 1 (FM-3)\, Predavanja (P)\nLetniki: 3. let
 nik (FM)\nIzvajalci: Jaka Smrekar\nProstor: 2.03
LOCATION:2.03
ORGANIZER:Jaka Smrekar
RELATED-TO:fmf-AFLABS-URNIK:srecanje:7305
X-WR-TIMEZONE:Europe/Ljubljana
END:VEVENT
BEGIN:VEVENT
SUMMARY:Statistika 1 (FM-3)\, Predavanja (P)
DTSTART;TZID=Europe/Ljubljana:20220511T080000
DTEND;TZID=Europe/Ljubljana:20220511T100000
DTSTAMP:20260419T191855Z
UID:fmf-AFLABS-URNIK:premaknjeno-srecanje:105956
ATTENDEE:3. letnik (FM)
CATEGORIES:Entry,Standard
COLOR:darkgreen
DESCRIPTION:Predmet: Statistika 1 (FM-3)\, Predavanja (P)\nLetniki: 3. let
 nik (FM)\nIzvajalci: Jaka Smrekar\nProstor: 2.03
LOCATION:2.03
ORGANIZER:Jaka Smrekar
RELATED-TO:fmf-AFLABS-URNIK:srecanje:7305
X-WR-TIMEZONE:Europe/Ljubljana
END:VEVENT
BEGIN:VEVENT
SUMMARY:Statistika 1 (FM-3)\, Predavanja (P)
DTSTART;TZID=Europe/Ljubljana:20220518T080000
DTEND;TZID=Europe/Ljubljana:20220518T100000
DTSTAMP:20260419T191855Z
UID:fmf-AFLABS-URNIK:premaknjeno-srecanje:105957
ATTENDEE:3. letnik (FM)
CATEGORIES:Entry,Standard
COLOR:darkgreen
DESCRIPTION:Predmet: Statistika 1 (FM-3)\, Predavanja (P)\nLetniki: 3. let
 nik (FM)\nIzvajalci: Jaka Smrekar\nProstor: 2.03
LOCATION:2.03
ORGANIZER:Jaka Smrekar
RELATED-TO:fmf-AFLABS-URNIK:srecanje:7305
X-WR-TIMEZONE:Europe/Ljubljana
END:VEVENT
BEGIN:VEVENT
SUMMARY:Statistika 1 (FM-3)\, Predavanja (P)
DTSTART;TZID=Europe/Ljubljana:20220525T080000
DTEND;TZID=Europe/Ljubljana:20220525T100000
DTSTAMP:20260419T191855Z
UID:fmf-AFLABS-URNIK:premaknjeno-srecanje:105958
ATTENDEE:3. letnik (FM)
CATEGORIES:Entry,Standard
COLOR:darkgreen
DESCRIPTION:Predmet: Statistika 1 (FM-3)\, Predavanja (P)\nLetniki: 3. let
 nik (FM)\nIzvajalci: Jaka Smrekar\nProstor: 2.03
LOCATION:2.03
ORGANIZER:Jaka Smrekar
RELATED-TO:fmf-AFLABS-URNIK:srecanje:7305
X-WR-TIMEZONE:Europe/Ljubljana
END:VEVENT
BEGIN:VEVENT
SUMMARY:ZUNANJE OBVEZNOSTI ()\, Predavanja (P)
DTSTART;TZID=Europe/Ljubljana:20220505T080000
DTEND;TZID=Europe/Ljubljana:20220505T090000
DTSTAMP:20260419T191855Z
UID:fmf-AFLABS-URNIK:premaknjeno-srecanje:121682
CATEGORIES:Entry,Standard
COLOR:darkgreen
DESCRIPTION:Predmet: ZUNANJE OBVEZNOSTI ()\, Predavanja (P)\nLetniki: \nIz
 vajalci: Jaka Smrekar\nProstor: X
LOCATION:X
ORGANIZER:Jaka Smrekar
RELATED-TO:fmf-AFLABS-URNIK:srecanje:7358
X-WR-TIMEZONE:Europe/Ljubljana
END:VEVENT
BEGIN:VEVENT
SUMMARY:ZUNANJE OBVEZNOSTI ()\, Predavanja (P)
DTSTART;TZID=Europe/Ljubljana:20220512T080000
DTEND;TZID=Europe/Ljubljana:20220512T090000
DTSTAMP:20260419T191855Z
UID:fmf-AFLABS-URNIK:premaknjeno-srecanje:121683
CATEGORIES:Entry,Standard
COLOR:darkgreen
DESCRIPTION:Predmet: ZUNANJE OBVEZNOSTI ()\, Predavanja (P)\nLetniki: \nIz
 vajalci: Jaka Smrekar\nProstor: X
LOCATION:X
ORGANIZER:Jaka Smrekar
RELATED-TO:fmf-AFLABS-URNIK:srecanje:7358
X-WR-TIMEZONE:Europe/Ljubljana
END:VEVENT
BEGIN:VEVENT
SUMMARY:ZUNANJE OBVEZNOSTI ()\, Predavanja (P)
DTSTART;TZID=Europe/Ljubljana:20220519T080000
DTEND;TZID=Europe/Ljubljana:20220519T090000
DTSTAMP:20260419T191855Z
UID:fmf-AFLABS-URNIK:premaknjeno-srecanje:121684
CATEGORIES:Entry,Standard
COLOR:darkgreen
DESCRIPTION:Predmet: ZUNANJE OBVEZNOSTI ()\, Predavanja (P)\nLetniki: \nIz
 vajalci: Jaka Smrekar\nProstor: X
LOCATION:X
ORGANIZER:Jaka Smrekar
RELATED-TO:fmf-AFLABS-URNIK:srecanje:7358
X-WR-TIMEZONE:Europe/Ljubljana
END:VEVENT
BEGIN:VEVENT
SUMMARY:ZUNANJE OBVEZNOSTI ()\, Predavanja (P)
DTSTART;TZID=Europe/Ljubljana:20220526T080000
DTEND;TZID=Europe/Ljubljana:20220526T090000
DTSTAMP:20260419T191855Z
UID:fmf-AFLABS-URNIK:premaknjeno-srecanje:121685
CATEGORIES:Entry,Standard
COLOR:darkgreen
DESCRIPTION:Predmet: ZUNANJE OBVEZNOSTI ()\, Predavanja (P)\nLetniki: \nIz
 vajalci: Jaka Smrekar\nProstor: X
LOCATION:X
ORGANIZER:Jaka Smrekar
RELATED-TO:fmf-AFLABS-URNIK:srecanje:7358
X-WR-TIMEZONE:Europe/Ljubljana
END:VEVENT
BEGIN:VEVENT
SUMMARY:Verjetnost in statistika (FM-2)\, Predavanja (P)
DTSTART;TZID=Europe/Ljubljana:20220506T100000
DTEND;TZID=Europe/Ljubljana:20220506T130000
DTSTAMP:20260419T191855Z
UID:fmf-AFLABS-URNIK:premaknjeno-srecanje:119195
ATTENDEE:2. letnik (FM)
CATEGORIES:Entry,Standard
COLOR:darkgreen
DESCRIPTION:Predmet: Verjetnost in statistika (FM-2)\, Predavanja (P)\nLet
 niki: 2. letnik (FM)\nIzvajalci: Jaka Smrekar\nProstor: 2.02
LOCATION:2.02
ORGANIZER:Jaka Smrekar
RELATED-TO:fmf-AFLABS-URNIK:srecanje:7352
X-WR-TIMEZONE:Europe/Ljubljana
END:VEVENT
BEGIN:VEVENT
SUMMARY:Verjetnost in statistika (FM-2)\, Predavanja (P)
DTSTART;TZID=Europe/Ljubljana:20220513T100000
DTEND;TZID=Europe/Ljubljana:20220513T130000
DTSTAMP:20260419T191855Z
UID:fmf-AFLABS-URNIK:premaknjeno-srecanje:119196
ATTENDEE:2. letnik (FM)
CATEGORIES:Entry,Standard
COLOR:darkgreen
DESCRIPTION:Predmet: Verjetnost in statistika (FM-2)\, Predavanja (P)\nLet
 niki: 2. letnik (FM)\nIzvajalci: Jaka Smrekar\nProstor: 2.02
LOCATION:2.02
ORGANIZER:Jaka Smrekar
RELATED-TO:fmf-AFLABS-URNIK:srecanje:7352
X-WR-TIMEZONE:Europe/Ljubljana
END:VEVENT
BEGIN:VEVENT
SUMMARY:Verjetnost in statistika (FM-2)\, Predavanja (P)
DTSTART;TZID=Europe/Ljubljana:20220520T100000
DTEND;TZID=Europe/Ljubljana:20220520T130000
DTSTAMP:20260419T191855Z
UID:fmf-AFLABS-URNIK:premaknjeno-srecanje:119197
ATTENDEE:2. letnik (FM)
CATEGORIES:Entry,Standard
COLOR:darkgreen
DESCRIPTION:Predmet: Verjetnost in statistika (FM-2)\, Predavanja (P)\nLet
 niki: 2. letnik (FM)\nIzvajalci: Jaka Smrekar\nProstor: 2.02
LOCATION:2.02
ORGANIZER:Jaka Smrekar
RELATED-TO:fmf-AFLABS-URNIK:srecanje:7352
X-WR-TIMEZONE:Europe/Ljubljana
END:VEVENT
BEGIN:VEVENT
SUMMARY:Verjetnost in statistika (FM-2)\, Predavanja (P)
DTSTART;TZID=Europe/Ljubljana:20220527T100000
DTEND;TZID=Europe/Ljubljana:20220527T130000
DTSTAMP:20260419T191855Z
UID:fmf-AFLABS-URNIK:premaknjeno-srecanje:119198
ATTENDEE:2. letnik (FM)
CATEGORIES:Entry,Standard
COLOR:darkgreen
DESCRIPTION:Predmet: Verjetnost in statistika (FM-2)\, Predavanja (P)\nLet
 niki: 2. letnik (FM)\nIzvajalci: Jaka Smrekar\nProstor: 2.02
LOCATION:2.02
ORGANIZER:Jaka Smrekar
RELATED-TO:fmf-AFLABS-URNIK:srecanje:7352
X-WR-TIMEZONE:Europe/Ljubljana
END:VEVENT
BEGIN:VEVENT
SUMMARY:Rezervacija
DTSTART;TZID=Europe/Ljubljana:20220524T180000
DTEND;TZID=Europe/Ljubljana:20220524T200000
DTSTAMP:20260419T191855Z
UID:fmf-AFLABS-URNIK:rezervacija:9066
CATEGORIES:Reservation
COLOR:royalblue
DESCRIPTION:Predmeti: \nLetniki: \nIzvajalci: Jaka Smrekar\nProstori: VFP
LOCATION:VFP
ORGANIZER:Jaka Smrekar
X-WR-TIMEZONE:Europe/Ljubljana
END:VEVENT
END:VCALENDAR
