BEGIN:VCALENDAR
VERSION:2.0
PRODID:-//AFLabs urnik izvoz - fmf//aflabs.si//SI
DTSTAMP:20260423T032805Z
NAME:UL FMF urnik
REFRESH-INTERVAL:PT1H
SOURCE:https://urnik.fmf.uni-lj.si/teacher/33?day=2020-06-01&export=1
URL:https://urnik.fmf.uni-lj.si/teacher/33?day=2020-06-01&export=1
X-PUBLISHED-TTL:PT1H
X-WR-CALNAME:UL FMF urnik
X-WR-TIMEZONE:Europe/Ljubljana
BEGIN:VTIMEZONE
TZID:Europe/Ljubljana
BEGIN:DAYLIGHT
DTSTART:20260329T020000
RDATE:20260329T020000
RDATE:20270328T020000
TZNAME:CEST
TZOFFSETFROM:+0100
TZOFFSETTO:+0200
END:DAYLIGHT
BEGIN:STANDARD
DTSTART:20261025T030000
RDATE:20261025T030000
RDATE:20271031T030000
TZNAME:CET
TZOFFSETFROM:+0200
TZOFFSETTO:+0100
END:STANDARD
END:VTIMEZONE
BEGIN:VEVENT
SUMMARY:Topološki seminar (MAT-D)\, Seminar (S)
DTSTART;TZID=Europe/Ljubljana:20200427T120000
DTEND;TZID=Europe/Ljubljana:20200427T140000
DTSTAMP:20260423T032805Z
UID:fmf-AFLABS-URNIK:premaknjeno-srecanje:110593
ATTENDEE:doktorski študij (M)
CATEGORIES:Entry,Standard
COLOR:darkgreen
DESCRIPTION:Predmet: Topološki seminar (MAT-D)\, Seminar (S)\nLetniki: do
 ktorski študij (M)\nIzvajalci: Petar Pavešić\nProstor: 3.06
LOCATION:3.06
ORGANIZER:Petar Pavešić
RELATED-TO:fmf-AFLABS-URNIK:srecanje:4480
X-WR-TIMEZONE:Europe/Ljubljana
END:VEVENT
BEGIN:VEVENT
SUMMARY:Topološki seminar (MAT-D)\, Seminar (S)
DTSTART;TZID=Europe/Ljubljana:20200504T120000
DTEND;TZID=Europe/Ljubljana:20200504T140000
DTSTAMP:20260423T032805Z
UID:fmf-AFLABS-URNIK:premaknjeno-srecanje:110594
ATTENDEE:doktorski študij (M)
CATEGORIES:Entry,Standard
COLOR:darkgreen
DESCRIPTION:Predmet: Topološki seminar (MAT-D)\, Seminar (S)\nLetniki: do
 ktorski študij (M)\nIzvajalci: Petar Pavešić\nProstor: 3.06
LOCATION:3.06
ORGANIZER:Petar Pavešić
RELATED-TO:fmf-AFLABS-URNIK:srecanje:4480
X-WR-TIMEZONE:Europe/Ljubljana
END:VEVENT
BEGIN:VEVENT
SUMMARY:Topološki seminar (MAT-D)\, Seminar (S)
DTSTART;TZID=Europe/Ljubljana:20200511T120000
DTEND;TZID=Europe/Ljubljana:20200511T140000
DTSTAMP:20260423T032805Z
UID:fmf-AFLABS-URNIK:premaknjeno-srecanje:110595
ATTENDEE:doktorski študij (M)
CATEGORIES:Entry,Standard
COLOR:darkgreen
DESCRIPTION:Predmet: Topološki seminar (MAT-D)\, Seminar (S)\nLetniki: do
 ktorski študij (M)\nIzvajalci: Petar Pavešić\nProstor: 3.06
LOCATION:3.06
ORGANIZER:Petar Pavešić
RELATED-TO:fmf-AFLABS-URNIK:srecanje:4480
X-WR-TIMEZONE:Europe/Ljubljana
END:VEVENT
BEGIN:VEVENT
SUMMARY:Topološki seminar (MAT-D)\, Seminar (S)
DTSTART;TZID=Europe/Ljubljana:20200518T120000
DTEND;TZID=Europe/Ljubljana:20200518T140000
DTSTAMP:20260423T032805Z
UID:fmf-AFLABS-URNIK:premaknjeno-srecanje:110596
ATTENDEE:doktorski študij (M)
CATEGORIES:Entry,Standard
COLOR:darkgreen
DESCRIPTION:Predmet: Topološki seminar (MAT-D)\, Seminar (S)\nLetniki: do
 ktorski študij (M)\nIzvajalci: Petar Pavešić\nProstor: 3.06
LOCATION:3.06
ORGANIZER:Petar Pavešić
RELATED-TO:fmf-AFLABS-URNIK:srecanje:4480
X-WR-TIMEZONE:Europe/Ljubljana
END:VEVENT
BEGIN:VEVENT
SUMMARY:Topološki seminar (MAT-D)\, Seminar (S)
DTSTART;TZID=Europe/Ljubljana:20200525T120000
DTEND;TZID=Europe/Ljubljana:20200525T140000
DTSTAMP:20260423T032805Z
UID:fmf-AFLABS-URNIK:premaknjeno-srecanje:110597
ATTENDEE:doktorski študij (M)
CATEGORIES:Entry,Standard
COLOR:darkgreen
DESCRIPTION:Predmet: Topološki seminar (MAT-D)\, Seminar (S)\nLetniki: do
 ktorski študij (M)\nIzvajalci: Petar Pavešić\nProstor: 3.06
LOCATION:3.06
ORGANIZER:Petar Pavešić
RELATED-TO:fmf-AFLABS-URNIK:srecanje:4480
X-WR-TIMEZONE:Europe/Ljubljana
END:VEVENT
BEGIN:VEVENT
SUMMARY:Izbrana poglavja iz matematike (IŠRM-2)\, Predavanja (P)
DTSTART;TZID=Europe/Ljubljana:20200428T100000
DTEND;TZID=Europe/Ljubljana:20200428T120000
DTSTAMP:20260423T032805Z
UID:fmf-AFLABS-URNIK:premaknjeno-srecanje:43462
ATTENDEE:2. letnik (IŠRM)
CATEGORIES:Entry,Standard
COLOR:darkgreen
DESCRIPTION:Predmet: Izbrana poglavja iz matematike (IŠRM-2)\, Predavanja
  (P)\nLetniki: 2. letnik (IŠRM)\nIzvajalci: Petar Pavešić\nProstor: F4
LOCATION:F4
ORGANIZER:Petar Pavešić
RELATED-TO:fmf-AFLABS-URNIK:srecanje:4172
X-WR-TIMEZONE:Europe/Ljubljana
END:VEVENT
BEGIN:VEVENT
SUMMARY:Izbrana poglavja iz matematike (IŠRM-2)\, Predavanja (P)
DTSTART;TZID=Europe/Ljubljana:20200505T100000
DTEND;TZID=Europe/Ljubljana:20200505T120000
DTSTAMP:20260423T032805Z
UID:fmf-AFLABS-URNIK:premaknjeno-srecanje:43463
ATTENDEE:2. letnik (IŠRM)
CATEGORIES:Entry,Standard
COLOR:darkgreen
DESCRIPTION:Predmet: Izbrana poglavja iz matematike (IŠRM-2)\, Predavanja
  (P)\nLetniki: 2. letnik (IŠRM)\nIzvajalci: Petar Pavešić\nProstor: F4
LOCATION:F4
ORGANIZER:Petar Pavešić
RELATED-TO:fmf-AFLABS-URNIK:srecanje:4172
X-WR-TIMEZONE:Europe/Ljubljana
END:VEVENT
BEGIN:VEVENT
SUMMARY:Izbrana poglavja iz matematike (IŠRM-2)\, Predavanja (P)
DTSTART;TZID=Europe/Ljubljana:20200512T100000
DTEND;TZID=Europe/Ljubljana:20200512T120000
DTSTAMP:20260423T032805Z
UID:fmf-AFLABS-URNIK:premaknjeno-srecanje:43464
ATTENDEE:2. letnik (IŠRM)
CATEGORIES:Entry,Standard
COLOR:darkgreen
DESCRIPTION:Predmet: Izbrana poglavja iz matematike (IŠRM-2)\, Predavanja
  (P)\nLetniki: 2. letnik (IŠRM)\nIzvajalci: Petar Pavešić\nProstor: F4
LOCATION:F4
ORGANIZER:Petar Pavešić
RELATED-TO:fmf-AFLABS-URNIK:srecanje:4172
X-WR-TIMEZONE:Europe/Ljubljana
END:VEVENT
BEGIN:VEVENT
SUMMARY:Izbrana poglavja iz matematike (IŠRM-2)\, Predavanja (P)
DTSTART;TZID=Europe/Ljubljana:20200519T100000
DTEND;TZID=Europe/Ljubljana:20200519T120000
DTSTAMP:20260423T032805Z
UID:fmf-AFLABS-URNIK:premaknjeno-srecanje:43465
ATTENDEE:2. letnik (IŠRM)
CATEGORIES:Entry,Standard
COLOR:darkgreen
DESCRIPTION:Predmet: Izbrana poglavja iz matematike (IŠRM-2)\, Predavanja
  (P)\nLetniki: 2. letnik (IŠRM)\nIzvajalci: Petar Pavešić\nProstor: F4
LOCATION:F4
ORGANIZER:Petar Pavešić
RELATED-TO:fmf-AFLABS-URNIK:srecanje:4172
X-WR-TIMEZONE:Europe/Ljubljana
END:VEVENT
BEGIN:VEVENT
SUMMARY:Izbrana poglavja iz matematike (IŠRM-2)\, Predavanja (P)
DTSTART;TZID=Europe/Ljubljana:20200526T100000
DTEND;TZID=Europe/Ljubljana:20200526T120000
DTSTAMP:20260423T032805Z
UID:fmf-AFLABS-URNIK:premaknjeno-srecanje:43466
ATTENDEE:2. letnik (IŠRM)
CATEGORIES:Entry,Standard
COLOR:darkgreen
DESCRIPTION:Predmet: Izbrana poglavja iz matematike (IŠRM-2)\, Predavanja
  (P)\nLetniki: 2. letnik (IŠRM)\nIzvajalci: Petar Pavešić\nProstor: F4
LOCATION:F4
ORGANIZER:Petar Pavešić
RELATED-TO:fmf-AFLABS-URNIK:srecanje:4172
X-WR-TIMEZONE:Europe/Ljubljana
END:VEVENT
BEGIN:VEVENT
SUMMARY:Izbrana poglavja iz topologije (MAT-D)\, Predavanja (P)
DTSTART;TZID=Europe/Ljubljana:20200501T080000
DTEND;TZID=Europe/Ljubljana:20200501T100000
DTSTAMP:20260423T032805Z
UID:fmf-AFLABS-URNIK:premaknjeno-srecanje:44711
ATTENDEE:doktorski študij (M)
CATEGORIES:Entry,Standard
COLOR:darkgreen
DESCRIPTION:Predmet: Izbrana poglavja iz topologije (MAT-D)\, Predavanja (
 P)\nLetniki: doktorski študij (M)\nIzvajalci: Sergio Cabello\, Petar Pave
 šić\, Žiga Virk\nProstor: 2.04
LOCATION:2.04
ORGANIZER:Sergio Cabello, Petar Pavešić, Žiga Virk
RELATED-TO:fmf-AFLABS-URNIK:srecanje:4559
X-WR-TIMEZONE:Europe/Ljubljana
END:VEVENT
BEGIN:VEVENT
SUMMARY:Izbrana poglavja iz topologije (MAT-D)\, Predavanja (P)
DTSTART;TZID=Europe/Ljubljana:20200508T080000
DTEND;TZID=Europe/Ljubljana:20200508T100000
DTSTAMP:20260423T032805Z
UID:fmf-AFLABS-URNIK:premaknjeno-srecanje:44712
ATTENDEE:doktorski študij (M)
CATEGORIES:Entry,Standard
COLOR:darkgreen
DESCRIPTION:Predmet: Izbrana poglavja iz topologije (MAT-D)\, Predavanja (
 P)\nLetniki: doktorski študij (M)\nIzvajalci: Sergio Cabello\, Petar Pave
 šić\, Žiga Virk\nProstor: 2.04
LOCATION:2.04
ORGANIZER:Sergio Cabello, Petar Pavešić, Žiga Virk
RELATED-TO:fmf-AFLABS-URNIK:srecanje:4559
X-WR-TIMEZONE:Europe/Ljubljana
END:VEVENT
BEGIN:VEVENT
SUMMARY:Izbrana poglavja iz topologije (MAT-D)\, Predavanja (P)
DTSTART;TZID=Europe/Ljubljana:20200515T080000
DTEND;TZID=Europe/Ljubljana:20200515T100000
DTSTAMP:20260423T032805Z
UID:fmf-AFLABS-URNIK:premaknjeno-srecanje:44713
ATTENDEE:doktorski študij (M)
CATEGORIES:Entry,Standard
COLOR:darkgreen
DESCRIPTION:Predmet: Izbrana poglavja iz topologije (MAT-D)\, Predavanja (
 P)\nLetniki: doktorski študij (M)\nIzvajalci: Sergio Cabello\, Petar Pave
 šić\, Žiga Virk\nProstor: 2.04
LOCATION:2.04
ORGANIZER:Sergio Cabello, Petar Pavešić, Žiga Virk
RELATED-TO:fmf-AFLABS-URNIK:srecanje:4559
X-WR-TIMEZONE:Europe/Ljubljana
END:VEVENT
BEGIN:VEVENT
SUMMARY:Izbrana poglavja iz topologije (MAT-D)\, Predavanja (P)
DTSTART;TZID=Europe/Ljubljana:20200522T080000
DTEND;TZID=Europe/Ljubljana:20200522T100000
DTSTAMP:20260423T032805Z
UID:fmf-AFLABS-URNIK:premaknjeno-srecanje:44714
ATTENDEE:doktorski študij (M)
CATEGORIES:Entry,Standard
COLOR:darkgreen
DESCRIPTION:Predmet: Izbrana poglavja iz topologije (MAT-D)\, Predavanja (
 P)\nLetniki: doktorski študij (M)\nIzvajalci: Sergio Cabello\, Petar Pave
 šić\, Žiga Virk\nProstor: 2.04
LOCATION:2.04
ORGANIZER:Sergio Cabello, Petar Pavešić, Žiga Virk
RELATED-TO:fmf-AFLABS-URNIK:srecanje:4559
X-WR-TIMEZONE:Europe/Ljubljana
END:VEVENT
BEGIN:VEVENT
SUMMARY:Izbrana poglavja iz topologije (MAT-D)\, Predavanja (P)
DTSTART;TZID=Europe/Ljubljana:20200529T080000
DTEND;TZID=Europe/Ljubljana:20200529T100000
DTSTAMP:20260423T032805Z
UID:fmf-AFLABS-URNIK:premaknjeno-srecanje:44715
ATTENDEE:doktorski študij (M)
CATEGORIES:Entry,Standard
COLOR:darkgreen
DESCRIPTION:Predmet: Izbrana poglavja iz topologije (MAT-D)\, Predavanja (
 P)\nLetniki: doktorski študij (M)\nIzvajalci: Sergio Cabello\, Petar Pave
 šić\, Žiga Virk\nProstor: 2.04
LOCATION:2.04
ORGANIZER:Sergio Cabello, Petar Pavešić, Žiga Virk
RELATED-TO:fmf-AFLABS-URNIK:srecanje:4559
X-WR-TIMEZONE:Europe/Ljubljana
END:VEVENT
BEGIN:VEVENT
SUMMARY:Rezervacija
DTSTART;TZID=Europe/Ljubljana:20200611T090000
DTEND;TZID=Europe/Ljubljana:20200611T110000
DTSTAMP:20260423T032805Z
UID:fmf-AFLABS-URNIK:rezervacija:5469
CATEGORIES:Reservation
COLOR:royalblue
DESCRIPTION:Predmeti: \nLetniki: \nIzvajalci: Davorin Lešnik\, Petar Pave
 šić\nProstori: 2.05
LOCATION:2.05
ORGANIZER:Davorin Lešnik, Petar Pavešić
X-WR-TIMEZONE:Europe/Ljubljana
END:VEVENT
BEGIN:VEVENT
SUMMARY:Rezervacija
DTSTART;TZID=Europe/Ljubljana:20200618T090000
DTEND;TZID=Europe/Ljubljana:20200618T120000
DTSTAMP:20260423T032805Z
UID:fmf-AFLABS-URNIK:rezervacija:5566
ATTENDEE:doktorski študij (M)
CATEGORIES:Reservation
COLOR:royalblue
DESCRIPTION:Predmeti: Izbrana poglavja iz topologije (MAT-D)\nLetniki: dok
 torski študij (M)\nIzvajalci: Sergio Cabello Justo\, Petar Pavešić\, Ž
 iga Virk\nProstori: P.02
LOCATION:P.02
ORGANIZER:Sergio Cabello Justo, Petar Pavešić, Žiga Virk
X-WR-TIMEZONE:Europe/Ljubljana
END:VEVENT
BEGIN:VEVENT
SUMMARY:Rezervacija
DTSTART;TZID=Europe/Ljubljana:20200624T100000
DTEND;TZID=Europe/Ljubljana:20200624T120000
DTSTAMP:20260423T032805Z
UID:fmf-AFLABS-URNIK:rezervacija:5655
CATEGORIES:Reservation
COLOR:royalblue
DESCRIPTION:Predmeti: \nLetniki: \nIzvajalci: Petar Pavešić\nProstori: 3
 .08
LOCATION:3.08
ORGANIZER:Petar Pavešić
X-WR-TIMEZONE:Europe/Ljubljana
END:VEVENT
BEGIN:VEVENT
SUMMARY:Rezervacija
DTSTART;TZID=Europe/Ljubljana:20200629T100000
DTEND;TZID=Europe/Ljubljana:20200629T150000
DTSTAMP:20260423T032805Z
UID:fmf-AFLABS-URNIK:rezervacija:5698
ATTENDEE:2. letnik (M)
ATTENDEE:3. letnik (FM)
ATTENDEE:3. letnik (IŠRM)
CATEGORIES:Reservation
COLOR:royalblue
DESCRIPTION:Predmeti: Splošna topologija (FM-3\, IŠRM-3\, MAT-2)\nLetnik
 i: 3. letnik (FM)\, 3. letnik (IŠRM)\, 2. letnik (M)\nIzvajalci: Petar Pa
 vešić\nProstori: 3.08
LOCATION:3.08
ORGANIZER:Petar Pavešić
X-WR-TIMEZONE:Europe/Ljubljana
END:VEVENT
END:VCALENDAR
