BEGIN:VCALENDAR
VERSION:2.0
PRODID:-//AFLabs urnik izvoz - fmf//aflabs.si//SI
DTSTAMP:20260420T150912Z
NAME:UL FMF urnik
REFRESH-INTERVAL:PT1H
SOURCE:https://urnik.fmf.uni-lj.si/teacher/33?day=2021-08-30&export=1
URL:https://urnik.fmf.uni-lj.si/teacher/33?day=2021-08-30&export=1
X-PUBLISHED-TTL:PT1H
X-WR-CALNAME:UL FMF urnik
X-WR-TIMEZONE:Europe/Ljubljana
BEGIN:VTIMEZONE
TZID:Europe/Ljubljana
BEGIN:DAYLIGHT
DTSTART:20260329T020000
RDATE:20260329T020000
RDATE:20270328T020000
TZNAME:CEST
TZOFFSETFROM:+0100
TZOFFSETTO:+0200
END:DAYLIGHT
BEGIN:STANDARD
DTSTART:20261025T030000
RDATE:20261025T030000
RDATE:20271031T030000
TZNAME:CET
TZOFFSETFROM:+0200
TZOFFSETTO:+0100
END:STANDARD
END:VTIMEZONE
BEGIN:VEVENT
SUMMARY:Konzultacije ()\, Ostalo (O)
DTSTART;TZID=Europe/Ljubljana:20211001T110000
DTEND;TZID=Europe/Ljubljana:20211001T120000
DTSTAMP:20260420T150912Z
UID:fmf-AFLABS-URNIK:premaknjeno-srecanje:55354
CATEGORIES:Entry,Standard
COLOR:darkgreen
DESCRIPTION:Predmet: Konzultacije ()\, Ostalo (O)\nLetniki: \nIzvajalci: P
 etar Pavešić\nProstor: ILIRIJA
LOCATION:ILIRIJA
ORGANIZER:Petar Pavešić
RELATED-TO:fmf-AFLABS-URNIK:srecanje:6359
X-WR-TIMEZONE:Europe/Ljubljana
END:VEVENT
BEGIN:VEVENT
SUMMARY:Matematika (FFA) ()\, Predavanja (P)
DTSTART;TZID=Europe/Ljubljana:20211001T090000
DTEND;TZID=Europe/Ljubljana:20211001T110000
DTSTAMP:20260420T150912Z
UID:fmf-AFLABS-URNIK:premaknjeno-srecanje:61194
CATEGORIES:Entry,Standard
COLOR:darkgreen
DESCRIPTION:Predmet: Matematika (FFA) ()\, Predavanja (P)\nLetniki: \nIzva
 jalci: Petar Pavešić\nProstor: ILIRIJA
LOCATION:ILIRIJA
ORGANIZER:Petar Pavešić
RELATED-TO:fmf-AFLABS-URNIK:srecanje:6396
X-WR-TIMEZONE:Europe/Ljubljana
END:VEVENT
BEGIN:VEVENT
SUMMARY:TOP SEM (MAT-D)\, Seminar (S)
DTSTART;TZID=Europe/Ljubljana:20211004T120000
DTEND;TZID=Europe/Ljubljana:20211004T140000
DTSTAMP:20260420T150912Z
UID:fmf-AFLABS-URNIK:premaknjeno-srecanje:107309
ATTENDEE:doktorski študij (M)
CATEGORIES:Entry,Standard
COLOR:darkgreen
DESCRIPTION:Predmet: TOP SEM (MAT-D)\, Seminar (S)\nLetniki: doktorski št
 udij (M)\nIzvajalci: Petar Pavešić\nProstor: 3.06
LOCATION:3.06
ORGANIZER:Petar Pavešić
RELATED-TO:fmf-AFLABS-URNIK:srecanje:6608
X-WR-TIMEZONE:Europe/Ljubljana
END:VEVENT
BEGIN:VEVENT
SUMMARY:Rezervacija
DTSTART;TZID=Europe/Ljubljana:20210927T120000
DTEND;TZID=Europe/Ljubljana:20210927T140000
DTSTAMP:20260420T150912Z
UID:fmf-AFLABS-URNIK:rezervacija:7898
CATEGORIES:Reservation
COLOR:royalblue
DESCRIPTION:Predmeti: \nLetniki: \nIzvajalci: Petar Pavešić\nProstori: 3
 .04
LOCATION:3.04
ORGANIZER:Petar Pavešić
X-WR-TIMEZONE:Europe/Ljubljana
END:VEVENT
END:VCALENDAR
