BEGIN:VCALENDAR
VERSION:2.0
PRODID:-//AFLabs urnik izvoz - fmf//aflabs.si//SI
DTSTAMP:20260424T125248Z
NAME:UL FMF urnik
REFRESH-INTERVAL:PT1H
SOURCE:https://urnik.fmf.uni-lj.si/teacher/34?day=2021-08-16&export=1
URL:https://urnik.fmf.uni-lj.si/teacher/34?day=2021-08-16&export=1
X-PUBLISHED-TTL:PT1H
X-WR-CALNAME:UL FMF urnik
X-WR-TIMEZONE:Europe/Ljubljana
BEGIN:VTIMEZONE
TZID:Europe/Ljubljana
BEGIN:DAYLIGHT
DTSTART:20260329T020000
RDATE:20260329T020000
RDATE:20270328T020000
TZNAME:CEST
TZOFFSETFROM:+0100
TZOFFSETTO:+0200
END:DAYLIGHT
BEGIN:STANDARD
DTSTART:20261025T030000
RDATE:20261025T030000
RDATE:20271031T030000
TZNAME:CET
TZOFFSETFROM:+0200
TZOFFSETTO:+0100
END:STANDARD
END:VTIMEZONE
BEGIN:VEVENT
SUMMARY:Rezervacija
DTSTART;TZID=Europe/Ljubljana:20210818T090000
DTEND;TZID=Europe/Ljubljana:20210818T120000
DTSTAMP:20260424T125248Z
UID:fmf-AFLABS-URNIK:rezervacija:7386
ATTENDEE:3. letnik (FM)
ATTENDEE:3. letnik (IŠRM)
ATTENDEE:3. letnik (M)
ATTENDEE:4. letnik (PM)
CATEGORIES:Reservation
COLOR:royalblue
DESCRIPTION:Predmeti: Matematično modeliranje (FM-3\, IŠRM-3\, MAT-3\, P
 M-4)\nLetniki: 3. letnik (FM)\, 3. letnik (IŠRM)\, 3. letnik (M)\, 4. let
 nik (PM)\nIzvajalci: Emil Žagar\nProstori: 3.10
LOCATION:3.10
ORGANIZER:Emil Žagar
X-WR-TIMEZONE:Europe/Ljubljana
END:VEVENT
BEGIN:VEVENT
SUMMARY:Rezervacija
DTSTART;TZID=Europe/Ljubljana:20210820T100000
DTEND;TZID=Europe/Ljubljana:20210820T120000
DTSTAMP:20260424T125248Z
UID:fmf-AFLABS-URNIK:rezervacija:7425
CATEGORIES:Reservation
COLOR:royalblue
DESCRIPTION:Predmeti: \nLetniki: \nIzvajalci: Emil Žagar\nProstori: VFP
LOCATION:VFP
ORGANIZER:Emil Žagar
X-WR-TIMEZONE:Europe/Ljubljana
END:VEVENT
BEGIN:VEVENT
SUMMARY:Rezervacija
DTSTART;TZID=Europe/Ljubljana:20210826T080000
DTEND;TZID=Europe/Ljubljana:20210826T100000
DTSTAMP:20260424T125248Z
UID:fmf-AFLABS-URNIK:rezervacija:7500
CATEGORIES:Reservation
COLOR:royalblue
DESCRIPTION:Predmeti: \nLetniki: \nIzvajalci: Emil Žagar\nProstori: 3.07
LOCATION:3.07
ORGANIZER:Emil Žagar
X-WR-TIMEZONE:Europe/Ljubljana
END:VEVENT
BEGIN:VEVENT
SUMMARY:Rezervacija
DTSTART;TZID=Europe/Ljubljana:20210831T150000
DTEND;TZID=Europe/Ljubljana:20210831T170000
DTSTAMP:20260424T125248Z
UID:fmf-AFLABS-URNIK:rezervacija:7599
CATEGORIES:Reservation
COLOR:royalblue
DESCRIPTION:Predmeti: \nLetniki: \nIzvajalci: Emil Žagar\nProstori: VFP
LOCATION:VFP
ORGANIZER:Emil Žagar
X-WR-TIMEZONE:Europe/Ljubljana
END:VEVENT
BEGIN:VEVENT
SUMMARY:Rezervacija
DTSTART;TZID=Europe/Ljubljana:20210909T080000
DTEND;TZID=Europe/Ljubljana:20210909T100000
DTSTAMP:20260424T125248Z
UID:fmf-AFLABS-URNIK:rezervacija:7766
CATEGORIES:Reservation
COLOR:royalblue
DESCRIPTION:Predmeti: \nLetniki: \nIzvajalci: Emil Žagar\nProstori: 3.06
LOCATION:3.06
ORGANIZER:Emil Žagar
X-WR-TIMEZONE:Europe/Ljubljana
END:VEVENT
END:VCALENDAR
