BEGIN:VCALENDAR
VERSION:2.0
PRODID:-//AFLabs urnik izvoz - fmf//aflabs.si//SI
DTSTAMP:20260421T204852Z
NAME:UL FMF urnik
REFRESH-INTERVAL:PT1H
SOURCE:https://urnik.fmf.uni-lj.si/teacher/34?day=2023-06-05&export=1
URL:https://urnik.fmf.uni-lj.si/teacher/34?day=2023-06-05&export=1
X-PUBLISHED-TTL:PT1H
X-WR-CALNAME:UL FMF urnik
X-WR-TIMEZONE:Europe/Ljubljana
BEGIN:VTIMEZONE
TZID:Europe/Ljubljana
BEGIN:DAYLIGHT
DTSTART:20260329T020000
RDATE:20260329T020000
RDATE:20270328T020000
TZNAME:CEST
TZOFFSETFROM:+0100
TZOFFSETTO:+0200
END:DAYLIGHT
BEGIN:STANDARD
DTSTART:20261025T030000
RDATE:20261025T030000
RDATE:20271031T030000
TZNAME:CET
TZOFFSETFROM:+0200
TZOFFSETTO:+0100
END:STANDARD
END:VTIMEZONE
BEGIN:VEVENT
SUMMARY:Matematično modeliranje (FM-3\, IŠRM-3\, MAT-3\, PM-4)\, Predava
 nja (P)
DTSTART;TZID=Europe/Ljubljana:20230501T140000
DTEND;TZID=Europe/Ljubljana:20230501T160000
DTSTAMP:20260421T204852Z
UID:fmf-AFLABS-URNIK:premaknjeno-srecanje:69722
ATTENDEE:3. letnik (FM)
ATTENDEE:3. letnik (IŠRM)
ATTENDEE:3. letnik (M)
ATTENDEE:4. letnik (PM)
CATEGORIES:Entry,Standard
COLOR:darkgreen
DESCRIPTION:Predmet: Matematično modeliranje (FM-3\, IŠRM-3\, MAT-3\, PM
 -4)\, Predavanja (P)\nLetniki: 3. letnik (FM)\, 3. letnik (IŠRM)\, 3. let
 nik (M)\, 4. letnik (PM)\nIzvajalci: Emil Žagar\nProstor: 2.02
LOCATION:2.02
ORGANIZER:Emil Žagar
RELATED-TO:fmf-AFLABS-URNIK:srecanje:8541
X-WR-TIMEZONE:Europe/Ljubljana
END:VEVENT
BEGIN:VEVENT
SUMMARY:Matematično modeliranje (FM-3\, IŠRM-3\, MAT-3\, PM-4)\, Predava
 nja (P)
DTSTART;TZID=Europe/Ljubljana:20230508T140000
DTEND;TZID=Europe/Ljubljana:20230508T160000
DTSTAMP:20260421T204852Z
UID:fmf-AFLABS-URNIK:premaknjeno-srecanje:69723
ATTENDEE:3. letnik (FM)
ATTENDEE:3. letnik (IŠRM)
ATTENDEE:3. letnik (M)
ATTENDEE:4. letnik (PM)
CATEGORIES:Entry,Standard
COLOR:darkgreen
DESCRIPTION:Predmet: Matematično modeliranje (FM-3\, IŠRM-3\, MAT-3\, PM
 -4)\, Predavanja (P)\nLetniki: 3. letnik (FM)\, 3. letnik (IŠRM)\, 3. let
 nik (M)\, 4. letnik (PM)\nIzvajalci: Emil Žagar\nProstor: 2.02
LOCATION:2.02
ORGANIZER:Emil Žagar
RELATED-TO:fmf-AFLABS-URNIK:srecanje:8541
X-WR-TIMEZONE:Europe/Ljubljana
END:VEVENT
BEGIN:VEVENT
SUMMARY:Matematično modeliranje (FM-3\, IŠRM-3\, MAT-3\, PM-4)\, Predava
 nja (P)
DTSTART;TZID=Europe/Ljubljana:20230515T140000
DTEND;TZID=Europe/Ljubljana:20230515T160000
DTSTAMP:20260421T204852Z
UID:fmf-AFLABS-URNIK:premaknjeno-srecanje:69724
ATTENDEE:3. letnik (FM)
ATTENDEE:3. letnik (IŠRM)
ATTENDEE:3. letnik (M)
ATTENDEE:4. letnik (PM)
CATEGORIES:Entry,Standard
COLOR:darkgreen
DESCRIPTION:Predmet: Matematično modeliranje (FM-3\, IŠRM-3\, MAT-3\, PM
 -4)\, Predavanja (P)\nLetniki: 3. letnik (FM)\, 3. letnik (IŠRM)\, 3. let
 nik (M)\, 4. letnik (PM)\nIzvajalci: Emil Žagar\nProstor: 2.02
LOCATION:2.02
ORGANIZER:Emil Žagar
RELATED-TO:fmf-AFLABS-URNIK:srecanje:8541
X-WR-TIMEZONE:Europe/Ljubljana
END:VEVENT
BEGIN:VEVENT
SUMMARY:Matematično modeliranje (FM-3\, IŠRM-3\, MAT-3\, PM-4)\, Predava
 nja (P)
DTSTART;TZID=Europe/Ljubljana:20230522T140000
DTEND;TZID=Europe/Ljubljana:20230522T160000
DTSTAMP:20260421T204852Z
UID:fmf-AFLABS-URNIK:premaknjeno-srecanje:69725
ATTENDEE:3. letnik (FM)
ATTENDEE:3. letnik (IŠRM)
ATTENDEE:3. letnik (M)
ATTENDEE:4. letnik (PM)
CATEGORIES:Entry,Standard
COLOR:darkgreen
DESCRIPTION:Predmet: Matematično modeliranje (FM-3\, IŠRM-3\, MAT-3\, PM
 -4)\, Predavanja (P)\nLetniki: 3. letnik (FM)\, 3. letnik (IŠRM)\, 3. let
 nik (M)\, 4. letnik (PM)\nIzvajalci: Emil Žagar\nProstor: 2.02
LOCATION:2.02
ORGANIZER:Emil Žagar
RELATED-TO:fmf-AFLABS-URNIK:srecanje:8541
X-WR-TIMEZONE:Europe/Ljubljana
END:VEVENT
BEGIN:VEVENT
SUMMARY:Matematično modeliranje (FM-3\, IŠRM-3\, MAT-3\, PM-4)\, Predava
 nja (P)
DTSTART;TZID=Europe/Ljubljana:20230529T140000
DTEND;TZID=Europe/Ljubljana:20230529T160000
DTSTAMP:20260421T204852Z
UID:fmf-AFLABS-URNIK:premaknjeno-srecanje:69726
ATTENDEE:3. letnik (FM)
ATTENDEE:3. letnik (IŠRM)
ATTENDEE:3. letnik (M)
ATTENDEE:4. letnik (PM)
CATEGORIES:Entry,Standard
COLOR:darkgreen
DESCRIPTION:Predmet: Matematično modeliranje (FM-3\, IŠRM-3\, MAT-3\, PM
 -4)\, Predavanja (P)\nLetniki: 3. letnik (FM)\, 3. letnik (IŠRM)\, 3. let
 nik (M)\, 4. letnik (PM)\nIzvajalci: Emil Žagar\nProstor: 2.02
LOCATION:2.02
ORGANIZER:Emil Žagar
RELATED-TO:fmf-AFLABS-URNIK:srecanje:8541
X-WR-TIMEZONE:Europe/Ljubljana
END:VEVENT
BEGIN:VEVENT
SUMMARY:Praktično usposabljanje (APM-3)\, Predavanja (P)
DTSTART;TZID=Europe/Ljubljana:20230502T140000
DTEND;TZID=Europe/Ljubljana:20230502T160000
DTSTAMP:20260421T204852Z
UID:fmf-AFLABS-URNIK:premaknjeno-srecanje:84867
ATTENDEE:3. letnik (APM)
CATEGORIES:Entry,Standard
COLOR:darkgreen
DESCRIPTION:Predmet: Praktično usposabljanje (APM-3)\, Predavanja (P)\nLe
 tniki: 3. letnik (APM)\nIzvajalci: Emil Žagar\nProstor: P.01
LOCATION:P.01
ORGANIZER:Emil Žagar
RELATED-TO:fmf-AFLABS-URNIK:srecanje:8635
X-WR-TIMEZONE:Europe/Ljubljana
END:VEVENT
BEGIN:VEVENT
SUMMARY:Praktično usposabljanje (APM-3)\, Predavanja (P)
DTSTART;TZID=Europe/Ljubljana:20230509T140000
DTEND;TZID=Europe/Ljubljana:20230509T160000
DTSTAMP:20260421T204852Z
UID:fmf-AFLABS-URNIK:premaknjeno-srecanje:84868
ATTENDEE:3. letnik (APM)
CATEGORIES:Entry,Standard
COLOR:darkgreen
DESCRIPTION:Predmet: Praktično usposabljanje (APM-3)\, Predavanja (P)\nLe
 tniki: 3. letnik (APM)\nIzvajalci: Emil Žagar\nProstor: P.01
LOCATION:P.01
ORGANIZER:Emil Žagar
RELATED-TO:fmf-AFLABS-URNIK:srecanje:8635
X-WR-TIMEZONE:Europe/Ljubljana
END:VEVENT
BEGIN:VEVENT
SUMMARY:Praktično usposabljanje (APM-3)\, Predavanja (P)
DTSTART;TZID=Europe/Ljubljana:20230516T140000
DTEND;TZID=Europe/Ljubljana:20230516T160000
DTSTAMP:20260421T204852Z
UID:fmf-AFLABS-URNIK:premaknjeno-srecanje:84869
ATTENDEE:3. letnik (APM)
CATEGORIES:Entry,Standard
COLOR:darkgreen
DESCRIPTION:Predmet: Praktično usposabljanje (APM-3)\, Predavanja (P)\nLe
 tniki: 3. letnik (APM)\nIzvajalci: Emil Žagar\nProstor: P.01
LOCATION:P.01
ORGANIZER:Emil Žagar
RELATED-TO:fmf-AFLABS-URNIK:srecanje:8635
X-WR-TIMEZONE:Europe/Ljubljana
END:VEVENT
BEGIN:VEVENT
SUMMARY:Praktično usposabljanje (APM-3)\, Predavanja (P)
DTSTART;TZID=Europe/Ljubljana:20230523T140000
DTEND;TZID=Europe/Ljubljana:20230523T160000
DTSTAMP:20260421T204852Z
UID:fmf-AFLABS-URNIK:premaknjeno-srecanje:84870
ATTENDEE:3. letnik (APM)
CATEGORIES:Entry,Standard
COLOR:darkgreen
DESCRIPTION:Predmet: Praktično usposabljanje (APM-3)\, Predavanja (P)\nLe
 tniki: 3. letnik (APM)\nIzvajalci: Emil Žagar\nProstor: P.01
LOCATION:P.01
ORGANIZER:Emil Žagar
RELATED-TO:fmf-AFLABS-URNIK:srecanje:8635
X-WR-TIMEZONE:Europe/Ljubljana
END:VEVENT
BEGIN:VEVENT
SUMMARY:Praktično usposabljanje (APM-3)\, Predavanja (P)
DTSTART;TZID=Europe/Ljubljana:20230530T140000
DTEND;TZID=Europe/Ljubljana:20230530T160000
DTSTAMP:20260421T204852Z
UID:fmf-AFLABS-URNIK:premaknjeno-srecanje:84871
ATTENDEE:3. letnik (APM)
CATEGORIES:Entry,Standard
COLOR:darkgreen
DESCRIPTION:Predmet: Praktično usposabljanje (APM-3)\, Predavanja (P)\nLe
 tniki: 3. letnik (APM)\nIzvajalci: Emil Žagar\nProstor: P.01
LOCATION:P.01
ORGANIZER:Emil Žagar
RELATED-TO:fmf-AFLABS-URNIK:srecanje:8635
X-WR-TIMEZONE:Europe/Ljubljana
END:VEVENT
BEGIN:VEVENT
SUMMARY:Projekt NOO ()\, Ostalo (O)
DTSTART;TZID=Europe/Ljubljana:20230503T140000
DTEND;TZID=Europe/Ljubljana:20230503T160000
DTSTAMP:20260421T204852Z
UID:fmf-AFLABS-URNIK:premaknjeno-srecanje:87567
CATEGORIES:Entry,Standard
COLOR:darkgreen
DESCRIPTION:Predmet: Projekt NOO ()\, Ostalo (O)\nLetniki: \nIzvajalci: Em
 il Žagar\nProstor: 3.07
LOCATION:3.07
ORGANIZER:Emil Žagar
RELATED-TO:fmf-AFLABS-URNIK:srecanje:8644
X-WR-TIMEZONE:Europe/Ljubljana
END:VEVENT
BEGIN:VEVENT
SUMMARY:Projekt NOO ()\, Ostalo (O)
DTSTART;TZID=Europe/Ljubljana:20230510T140000
DTEND;TZID=Europe/Ljubljana:20230510T160000
DTSTAMP:20260421T204852Z
UID:fmf-AFLABS-URNIK:premaknjeno-srecanje:87568
CATEGORIES:Entry,Standard
COLOR:darkgreen
DESCRIPTION:Predmet: Projekt NOO ()\, Ostalo (O)\nLetniki: \nIzvajalci: Em
 il Žagar\nProstor: 3.07
LOCATION:3.07
ORGANIZER:Emil Žagar
RELATED-TO:fmf-AFLABS-URNIK:srecanje:8644
X-WR-TIMEZONE:Europe/Ljubljana
END:VEVENT
BEGIN:VEVENT
SUMMARY:Projekt NOO ()\, Ostalo (O)
DTSTART;TZID=Europe/Ljubljana:20230517T140000
DTEND;TZID=Europe/Ljubljana:20230517T160000
DTSTAMP:20260421T204852Z
UID:fmf-AFLABS-URNIK:premaknjeno-srecanje:87569
CATEGORIES:Entry,Standard
COLOR:darkgreen
DESCRIPTION:Predmet: Projekt NOO ()\, Ostalo (O)\nLetniki: \nIzvajalci: Em
 il Žagar\nProstor: 3.07
LOCATION:3.07
ORGANIZER:Emil Žagar
RELATED-TO:fmf-AFLABS-URNIK:srecanje:8644
X-WR-TIMEZONE:Europe/Ljubljana
END:VEVENT
BEGIN:VEVENT
SUMMARY:Projekt NOO ()\, Ostalo (O)
DTSTART;TZID=Europe/Ljubljana:20230524T140000
DTEND;TZID=Europe/Ljubljana:20230524T160000
DTSTAMP:20260421T204852Z
UID:fmf-AFLABS-URNIK:premaknjeno-srecanje:87570
CATEGORIES:Entry,Standard
COLOR:darkgreen
DESCRIPTION:Predmet: Projekt NOO ()\, Ostalo (O)\nLetniki: \nIzvajalci: Em
 il Žagar\nProstor: 3.07
LOCATION:3.07
ORGANIZER:Emil Žagar
RELATED-TO:fmf-AFLABS-URNIK:srecanje:8644
X-WR-TIMEZONE:Europe/Ljubljana
END:VEVENT
BEGIN:VEVENT
SUMMARY:Projekt NOO ()\, Ostalo (O)
DTSTART;TZID=Europe/Ljubljana:20230531T140000
DTEND;TZID=Europe/Ljubljana:20230531T160000
DTSTAMP:20260421T204852Z
UID:fmf-AFLABS-URNIK:premaknjeno-srecanje:87571
CATEGORIES:Entry,Standard
COLOR:darkgreen
DESCRIPTION:Predmet: Projekt NOO ()\, Ostalo (O)\nLetniki: \nIzvajalci: Em
 il Žagar\nProstor: 3.07
LOCATION:3.07
ORGANIZER:Emil Žagar
RELATED-TO:fmf-AFLABS-URNIK:srecanje:8644
X-WR-TIMEZONE:Europe/Ljubljana
END:VEVENT
BEGIN:VEVENT
SUMMARY:Numerične metode (FIZ-2)\, Predavanja (P)
DTSTART;TZID=Europe/Ljubljana:20230504T100000
DTEND;TZID=Europe/Ljubljana:20230504T120000
DTSTAMP:20260421T204852Z
UID:fmf-AFLABS-URNIK:premaknjeno-srecanje:76791
ATTENDEE:2. letnik (Fizika, 1. stopnja)
CATEGORIES:Entry,Standard
COLOR:darkgreen
DESCRIPTION:Predmet: Numerične metode (FIZ-2)\, Predavanja (P)\nLetniki: 
 2. letnik (Fizika\, 1. stopnja)\nIzvajalci: Emil Žagar\nProstor: F2
LOCATION:F2
ORGANIZER:Emil Žagar
RELATED-TO:fmf-AFLABS-URNIK:srecanje:8585
X-WR-TIMEZONE:Europe/Ljubljana
END:VEVENT
BEGIN:VEVENT
SUMMARY:Numerične metode (FIZ-2)\, Predavanja (P)
DTSTART;TZID=Europe/Ljubljana:20230511T100000
DTEND;TZID=Europe/Ljubljana:20230511T120000
DTSTAMP:20260421T204852Z
UID:fmf-AFLABS-URNIK:premaknjeno-srecanje:76792
ATTENDEE:2. letnik (Fizika, 1. stopnja)
CATEGORIES:Entry,Standard
COLOR:darkgreen
DESCRIPTION:Predmet: Numerične metode (FIZ-2)\, Predavanja (P)\nLetniki: 
 2. letnik (Fizika\, 1. stopnja)\nIzvajalci: Emil Žagar\nProstor: F2
LOCATION:F2
ORGANIZER:Emil Žagar
RELATED-TO:fmf-AFLABS-URNIK:srecanje:8585
X-WR-TIMEZONE:Europe/Ljubljana
END:VEVENT
BEGIN:VEVENT
SUMMARY:Numerične metode (FIZ-2)\, Predavanja (P)
DTSTART;TZID=Europe/Ljubljana:20230518T100000
DTEND;TZID=Europe/Ljubljana:20230518T120000
DTSTAMP:20260421T204852Z
UID:fmf-AFLABS-URNIK:premaknjeno-srecanje:76793
ATTENDEE:2. letnik (Fizika, 1. stopnja)
CATEGORIES:Entry,Standard
COLOR:darkgreen
DESCRIPTION:Predmet: Numerične metode (FIZ-2)\, Predavanja (P)\nLetniki: 
 2. letnik (Fizika\, 1. stopnja)\nIzvajalci: Emil Žagar\nProstor: F2
LOCATION:F2
ORGANIZER:Emil Žagar
RELATED-TO:fmf-AFLABS-URNIK:srecanje:8585
X-WR-TIMEZONE:Europe/Ljubljana
END:VEVENT
BEGIN:VEVENT
SUMMARY:Numerične metode (FIZ-2)\, Predavanja (P)
DTSTART;TZID=Europe/Ljubljana:20230525T100000
DTEND;TZID=Europe/Ljubljana:20230525T120000
DTSTAMP:20260421T204852Z
UID:fmf-AFLABS-URNIK:premaknjeno-srecanje:76794
ATTENDEE:2. letnik (Fizika, 1. stopnja)
CATEGORIES:Entry,Standard
COLOR:darkgreen
DESCRIPTION:Predmet: Numerične metode (FIZ-2)\, Predavanja (P)\nLetniki: 
 2. letnik (Fizika\, 1. stopnja)\nIzvajalci: Emil Žagar\nProstor: F2
LOCATION:F2
ORGANIZER:Emil Žagar
RELATED-TO:fmf-AFLABS-URNIK:srecanje:8585
X-WR-TIMEZONE:Europe/Ljubljana
END:VEVENT
BEGIN:VEVENT
SUMMARY:Numerične metode (FIZ-2)\, Predavanja (P)
DTSTART;TZID=Europe/Ljubljana:20230601T100000
DTEND;TZID=Europe/Ljubljana:20230601T120000
DTSTAMP:20260421T204852Z
UID:fmf-AFLABS-URNIK:premaknjeno-srecanje:76795
ATTENDEE:2. letnik (Fizika, 1. stopnja)
CATEGORIES:Entry,Standard
COLOR:darkgreen
DESCRIPTION:Predmet: Numerične metode (FIZ-2)\, Predavanja (P)\nLetniki: 
 2. letnik (Fizika\, 1. stopnja)\nIzvajalci: Emil Žagar\nProstor: F2
LOCATION:F2
ORGANIZER:Emil Žagar
RELATED-TO:fmf-AFLABS-URNIK:srecanje:8585
X-WR-TIMEZONE:Europe/Ljubljana
END:VEVENT
BEGIN:VEVENT
SUMMARY:Numerične metode (FIZ-2)\, Vaje (V)
DTSTART;TZID=Europe/Ljubljana:20230504T120000
DTEND;TZID=Europe/Ljubljana:20230504T130000
DTSTAMP:20260421T204852Z
UID:fmf-AFLABS-URNIK:premaknjeno-srecanje:77026
ATTENDEE:2. letnik (Fizika, 1. stopnja)
CATEGORIES:Entry,Standard
COLOR:darkgreen
DESCRIPTION:Predmet: Numerične metode (FIZ-2)\, Vaje (V)\nLetniki: 2. let
 nik (Fizika\, 1. stopnja)\nIzvajalci: Emil Žagar\nProstor: F2
LOCATION:F2
ORGANIZER:Emil Žagar
RELATED-TO:fmf-AFLABS-URNIK:srecanje:8586
X-WR-TIMEZONE:Europe/Ljubljana
END:VEVENT
BEGIN:VEVENT
SUMMARY:Numerične metode (FIZ-2)\, Vaje (V)
DTSTART;TZID=Europe/Ljubljana:20230511T120000
DTEND;TZID=Europe/Ljubljana:20230511T130000
DTSTAMP:20260421T204852Z
UID:fmf-AFLABS-URNIK:premaknjeno-srecanje:77027
ATTENDEE:2. letnik (Fizika, 1. stopnja)
CATEGORIES:Entry,Standard
COLOR:darkgreen
DESCRIPTION:Predmet: Numerične metode (FIZ-2)\, Vaje (V)\nLetniki: 2. let
 nik (Fizika\, 1. stopnja)\nIzvajalci: Emil Žagar\nProstor: F2
LOCATION:F2
ORGANIZER:Emil Žagar
RELATED-TO:fmf-AFLABS-URNIK:srecanje:8586
X-WR-TIMEZONE:Europe/Ljubljana
END:VEVENT
BEGIN:VEVENT
SUMMARY:Numerične metode (FIZ-2)\, Vaje (V)
DTSTART;TZID=Europe/Ljubljana:20230518T120000
DTEND;TZID=Europe/Ljubljana:20230518T130000
DTSTAMP:20260421T204852Z
UID:fmf-AFLABS-URNIK:premaknjeno-srecanje:77028
ATTENDEE:2. letnik (Fizika, 1. stopnja)
CATEGORIES:Entry,Standard
COLOR:darkgreen
DESCRIPTION:Predmet: Numerične metode (FIZ-2)\, Vaje (V)\nLetniki: 2. let
 nik (Fizika\, 1. stopnja)\nIzvajalci: Emil Žagar\nProstor: F2
LOCATION:F2
ORGANIZER:Emil Žagar
RELATED-TO:fmf-AFLABS-URNIK:srecanje:8586
X-WR-TIMEZONE:Europe/Ljubljana
END:VEVENT
BEGIN:VEVENT
SUMMARY:Numerične metode (FIZ-2)\, Vaje (V)
DTSTART;TZID=Europe/Ljubljana:20230525T120000
DTEND;TZID=Europe/Ljubljana:20230525T130000
DTSTAMP:20260421T204852Z
UID:fmf-AFLABS-URNIK:premaknjeno-srecanje:77029
ATTENDEE:2. letnik (Fizika, 1. stopnja)
CATEGORIES:Entry,Standard
COLOR:darkgreen
DESCRIPTION:Predmet: Numerične metode (FIZ-2)\, Vaje (V)\nLetniki: 2. let
 nik (Fizika\, 1. stopnja)\nIzvajalci: Emil Žagar\nProstor: F2
LOCATION:F2
ORGANIZER:Emil Žagar
RELATED-TO:fmf-AFLABS-URNIK:srecanje:8586
X-WR-TIMEZONE:Europe/Ljubljana
END:VEVENT
BEGIN:VEVENT
SUMMARY:Numerične metode (FIZ-2)\, Vaje (V)
DTSTART;TZID=Europe/Ljubljana:20230601T120000
DTEND;TZID=Europe/Ljubljana:20230601T130000
DTSTAMP:20260421T204852Z
UID:fmf-AFLABS-URNIK:premaknjeno-srecanje:77030
ATTENDEE:2. letnik (Fizika, 1. stopnja)
CATEGORIES:Entry,Standard
COLOR:darkgreen
DESCRIPTION:Predmet: Numerične metode (FIZ-2)\, Vaje (V)\nLetniki: 2. let
 nik (Fizika\, 1. stopnja)\nIzvajalci: Emil Žagar\nProstor: F2
LOCATION:F2
ORGANIZER:Emil Žagar
RELATED-TO:fmf-AFLABS-URNIK:srecanje:8586
X-WR-TIMEZONE:Europe/Ljubljana
END:VEVENT
BEGIN:VEVENT
SUMMARY:SESTANEK ()\, Ostalo (O)
DTSTART;TZID=Europe/Ljubljana:20230504T130000
DTEND;TZID=Europe/Ljubljana:20230504T160000
DTSTAMP:20260421T204852Z
UID:fmf-AFLABS-URNIK:premaknjeno-srecanje:99588
CATEGORIES:Entry,Standard
COLOR:darkgreen
DESCRIPTION:Predmet: SESTANEK ()\, Ostalo (O)\nLetniki: \nIzvajalci: Emil 
 Žagar\nProstor: FRI
LOCATION:FRI
ORGANIZER:Emil Žagar
RELATED-TO:fmf-AFLABS-URNIK:srecanje:8909
X-WR-TIMEZONE:Europe/Ljubljana
END:VEVENT
BEGIN:VEVENT
SUMMARY:SESTANEK ()\, Ostalo (O)
DTSTART;TZID=Europe/Ljubljana:20230511T130000
DTEND;TZID=Europe/Ljubljana:20230511T160000
DTSTAMP:20260421T204852Z
UID:fmf-AFLABS-URNIK:premaknjeno-srecanje:99589
CATEGORIES:Entry,Standard
COLOR:darkgreen
DESCRIPTION:Predmet: SESTANEK ()\, Ostalo (O)\nLetniki: \nIzvajalci: Emil 
 Žagar\nProstor: FRI
LOCATION:FRI
ORGANIZER:Emil Žagar
RELATED-TO:fmf-AFLABS-URNIK:srecanje:8909
X-WR-TIMEZONE:Europe/Ljubljana
END:VEVENT
BEGIN:VEVENT
SUMMARY:SESTANEK ()\, Ostalo (O)
DTSTART;TZID=Europe/Ljubljana:20230518T130000
DTEND;TZID=Europe/Ljubljana:20230518T160000
DTSTAMP:20260421T204852Z
UID:fmf-AFLABS-URNIK:premaknjeno-srecanje:99590
CATEGORIES:Entry,Standard
COLOR:darkgreen
DESCRIPTION:Predmet: SESTANEK ()\, Ostalo (O)\nLetniki: \nIzvajalci: Emil 
 Žagar\nProstor: FRI
LOCATION:FRI
ORGANIZER:Emil Žagar
RELATED-TO:fmf-AFLABS-URNIK:srecanje:8909
X-WR-TIMEZONE:Europe/Ljubljana
END:VEVENT
BEGIN:VEVENT
SUMMARY:SESTANEK ()\, Ostalo (O)
DTSTART;TZID=Europe/Ljubljana:20230525T130000
DTEND;TZID=Europe/Ljubljana:20230525T160000
DTSTAMP:20260421T204852Z
UID:fmf-AFLABS-URNIK:premaknjeno-srecanje:99591
CATEGORIES:Entry,Standard
COLOR:darkgreen
DESCRIPTION:Predmet: SESTANEK ()\, Ostalo (O)\nLetniki: \nIzvajalci: Emil 
 Žagar\nProstor: FRI
LOCATION:FRI
ORGANIZER:Emil Žagar
RELATED-TO:fmf-AFLABS-URNIK:srecanje:8909
X-WR-TIMEZONE:Europe/Ljubljana
END:VEVENT
BEGIN:VEVENT
SUMMARY:SESTANEK ()\, Ostalo (O)
DTSTART;TZID=Europe/Ljubljana:20230601T130000
DTEND;TZID=Europe/Ljubljana:20230601T160000
DTSTAMP:20260421T204852Z
UID:fmf-AFLABS-URNIK:premaknjeno-srecanje:99592
CATEGORIES:Entry,Standard
COLOR:darkgreen
DESCRIPTION:Predmet: SESTANEK ()\, Ostalo (O)\nLetniki: \nIzvajalci: Emil 
 Žagar\nProstor: FRI
LOCATION:FRI
ORGANIZER:Emil Žagar
RELATED-TO:fmf-AFLABS-URNIK:srecanje:8909
X-WR-TIMEZONE:Europe/Ljubljana
END:VEVENT
BEGIN:VEVENT
SUMMARY:Rezervacija
DTSTART;TZID=Europe/Ljubljana:20230516T180000
DTEND;TZID=Europe/Ljubljana:20230516T200000
DTSTAMP:20260421T204852Z
UID:fmf-AFLABS-URNIK:rezervacija:11847
CATEGORIES:Reservation
COLOR:royalblue
DESCRIPTION:Predmeti: \nLetniki: \nIzvajalci: Emil Žagar\nProstori: 2.02
LOCATION:2.02
ORGANIZER:Emil Žagar
X-WR-TIMEZONE:Europe/Ljubljana
END:VEVENT
BEGIN:VEVENT
SUMMARY:Rezervacija
DTSTART;TZID=Europe/Ljubljana:20230530T180000
DTEND;TZID=Europe/Ljubljana:20230530T200000
DTSTAMP:20260421T204852Z
UID:fmf-AFLABS-URNIK:rezervacija:11993
CATEGORIES:Reservation
COLOR:royalblue
DESCRIPTION:Predmeti: \nLetniki: \nIzvajalci: Emil Žagar\nProstori: 2.02
LOCATION:2.02
ORGANIZER:Emil Žagar
X-WR-TIMEZONE:Europe/Ljubljana
END:VEVENT
BEGIN:VEVENT
SUMMARY:Rezervacija
DTSTART;TZID=Europe/Ljubljana:20230601T140000
DTEND;TZID=Europe/Ljubljana:20230601T160000
DTSTAMP:20260421T204852Z
UID:fmf-AFLABS-URNIK:rezervacija:12025
ATTENDEE:3. letnik (IŠRM)
CATEGORIES:Reservation
COLOR:royalblue
DESCRIPTION:Predmeti: Numerične metode (IŠRM-3)\nLetniki: 3. letnik (IŠ
 RM)\nIzvajalci: Ada Sadl\, Emil Žagar\nProstori: 3.07
LOCATION:3.07
ORGANIZER:Ada Sadl, Emil Žagar
X-WR-TIMEZONE:Europe/Ljubljana
END:VEVENT
BEGIN:VEVENT
SUMMARY:Rezervacija
DTSTART;TZID=Europe/Ljubljana:20230620T100000
DTEND;TZID=Europe/Ljubljana:20230620T120000
DTSTAMP:20260421T204852Z
UID:fmf-AFLABS-URNIK:rezervacija:12314
CATEGORIES:Reservation
COLOR:royalblue
DESCRIPTION:Predmeti: \nLetniki: \nIzvajalci: Emil Žagar\nProstori: 2.05
LOCATION:2.05
ORGANIZER:Emil Žagar
X-WR-TIMEZONE:Europe/Ljubljana
END:VEVENT
BEGIN:VEVENT
SUMMARY:Rezervacija
DTSTART;TZID=Europe/Ljubljana:20230620T120000
DTEND;TZID=Europe/Ljubljana:20230620T130000
DTSTAMP:20260421T204852Z
UID:fmf-AFLABS-URNIK:rezervacija:12317
CATEGORIES:Reservation
COLOR:royalblue
DESCRIPTION:Predmeti: \nLetniki: \nIzvajalci: Emil Žagar\nProstori: 2.05
LOCATION:2.05
ORGANIZER:Emil Žagar
X-WR-TIMEZONE:Europe/Ljubljana
END:VEVENT
END:VCALENDAR
