BEGIN:VCALENDAR
VERSION:2.0
PRODID:-//AFLabs urnik izvoz - fmf//aflabs.si//SI
DTSTAMP:20260426T004827Z
NAME:UL FMF urnik
REFRESH-INTERVAL:PT1H
SOURCE:https://urnik.fmf.uni-lj.si/teacher/34?day=2023-09-25&export=1
URL:https://urnik.fmf.uni-lj.si/teacher/34?day=2023-09-25&export=1
X-PUBLISHED-TTL:PT1H
X-WR-CALNAME:UL FMF urnik
X-WR-TIMEZONE:Europe/Ljubljana
BEGIN:VTIMEZONE
TZID:Europe/Ljubljana
BEGIN:DAYLIGHT
DTSTART:20260329T020000
RDATE:20260329T020000
RDATE:20270328T020000
TZNAME:CEST
TZOFFSETFROM:+0100
TZOFFSETTO:+0200
END:DAYLIGHT
BEGIN:STANDARD
DTSTART:20261025T030000
RDATE:20261025T030000
RDATE:20271031T030000
TZNAME:CET
TZOFFSETFROM:+0200
TZOFFSETTO:+0100
END:STANDARD
END:VTIMEZONE
BEGIN:VEVENT
SUMMARY:NM (FE) ()\, Predavanja (P)
DTSTART;TZID=Europe/Ljubljana:20231002T160000
DTEND;TZID=Europe/Ljubljana:20231002T180000
DTSTAMP:20260426T004827Z
UID:fmf-AFLABS-URNIK:premaknjeno-srecanje:75345
CATEGORIES:Entry,Standard
COLOR:darkgreen
DESCRIPTION:Predmet: NM (FE) ()\, Predavanja (P)\nLetniki: \nIzvajalci: Em
 il Žagar\nProstor: FE
LOCATION:FE
ORGANIZER:Emil Žagar
RELATED-TO:fmf-AFLABS-URNIK:srecanje:9692
X-WR-TIMEZONE:Europe/Ljubljana
END:VEVENT
BEGIN:VEVENT
SUMMARY:NM (FE) ()\, Predavanja (P)
DTSTART;TZID=Europe/Ljubljana:20231009T160000
DTEND;TZID=Europe/Ljubljana:20231009T180000
DTSTAMP:20260426T004827Z
UID:fmf-AFLABS-URNIK:premaknjeno-srecanje:75346
CATEGORIES:Entry,Standard
COLOR:darkgreen
DESCRIPTION:Predmet: NM (FE) ()\, Predavanja (P)\nLetniki: \nIzvajalci: Em
 il Žagar\nProstor: FE
LOCATION:FE
ORGANIZER:Emil Žagar
RELATED-TO:fmf-AFLABS-URNIK:srecanje:9692
X-WR-TIMEZONE:Europe/Ljubljana
END:VEVENT
BEGIN:VEVENT
SUMMARY:NM (FE) ()\, Predavanja (P)
DTSTART;TZID=Europe/Ljubljana:20231016T160000
DTEND;TZID=Europe/Ljubljana:20231016T180000
DTSTAMP:20260426T004827Z
UID:fmf-AFLABS-URNIK:premaknjeno-srecanje:75347
CATEGORIES:Entry,Standard
COLOR:darkgreen
DESCRIPTION:Predmet: NM (FE) ()\, Predavanja (P)\nLetniki: \nIzvajalci: Em
 il Žagar\nProstor: FE
LOCATION:FE
ORGANIZER:Emil Žagar
RELATED-TO:fmf-AFLABS-URNIK:srecanje:9692
X-WR-TIMEZONE:Europe/Ljubljana
END:VEVENT
BEGIN:VEVENT
SUMMARY:NM (FE) ()\, Predavanja (P)
DTSTART;TZID=Europe/Ljubljana:20231023T160000
DTEND;TZID=Europe/Ljubljana:20231023T180000
DTSTAMP:20260426T004827Z
UID:fmf-AFLABS-URNIK:premaknjeno-srecanje:75348
CATEGORIES:Entry,Standard
COLOR:darkgreen
DESCRIPTION:Predmet: NM (FE) ()\, Predavanja (P)\nLetniki: \nIzvajalci: Em
 il Žagar\nProstor: FE
LOCATION:FE
ORGANIZER:Emil Žagar
RELATED-TO:fmf-AFLABS-URNIK:srecanje:9692
X-WR-TIMEZONE:Europe/Ljubljana
END:VEVENT
BEGIN:VEVENT
SUMMARY:NM (FE) ()\, Predavanja (P)
DTSTART;TZID=Europe/Ljubljana:20231030T160000
DTEND;TZID=Europe/Ljubljana:20231030T180000
DTSTAMP:20260426T004827Z
UID:fmf-AFLABS-URNIK:premaknjeno-srecanje:75349
CATEGORIES:Entry,Standard
COLOR:darkgreen
DESCRIPTION:Predmet: NM (FE) ()\, Predavanja (P)\nLetniki: \nIzvajalci: Em
 il Žagar\nProstor: FE
LOCATION:FE
ORGANIZER:Emil Žagar
RELATED-TO:fmf-AFLABS-URNIK:srecanje:9692
X-WR-TIMEZONE:Europe/Ljubljana
END:VEVENT
BEGIN:VEVENT
SUMMARY:Matematično modeliranje (APM-3)\, Predavanja (P)
DTSTART;TZID=Europe/Ljubljana:20231003T100000
DTEND;TZID=Europe/Ljubljana:20231003T120000
DTSTAMP:20260426T004827Z
UID:fmf-AFLABS-URNIK:premaknjeno-srecanje:69758
ATTENDEE:3. letnik (APM)
CATEGORIES:Entry,Standard
COLOR:darkgreen
DESCRIPTION:Predmet: Matematično modeliranje (APM-3)\, Predavanja (P)\nLe
 tniki: 3. letnik (APM)\nIzvajalci: Emil Žagar\nProstor: 3.10
LOCATION:3.10
ORGANIZER:Emil Žagar
RELATED-TO:fmf-AFLABS-URNIK:srecanje:9314
X-WR-TIMEZONE:Europe/Ljubljana
END:VEVENT
BEGIN:VEVENT
SUMMARY:Matematično modeliranje (APM-3)\, Predavanja (P)
DTSTART;TZID=Europe/Ljubljana:20231010T100000
DTEND;TZID=Europe/Ljubljana:20231010T120000
DTSTAMP:20260426T004827Z
UID:fmf-AFLABS-URNIK:premaknjeno-srecanje:69759
ATTENDEE:3. letnik (APM)
CATEGORIES:Entry,Standard
COLOR:darkgreen
DESCRIPTION:Predmet: Matematično modeliranje (APM-3)\, Predavanja (P)\nLe
 tniki: 3. letnik (APM)\nIzvajalci: Emil Žagar\nProstor: 3.10
LOCATION:3.10
ORGANIZER:Emil Žagar
RELATED-TO:fmf-AFLABS-URNIK:srecanje:9314
X-WR-TIMEZONE:Europe/Ljubljana
END:VEVENT
BEGIN:VEVENT
SUMMARY:Matematično modeliranje (APM-3)\, Predavanja (P)
DTSTART;TZID=Europe/Ljubljana:20231017T100000
DTEND;TZID=Europe/Ljubljana:20231017T120000
DTSTAMP:20260426T004827Z
UID:fmf-AFLABS-URNIK:premaknjeno-srecanje:69760
ATTENDEE:3. letnik (APM)
CATEGORIES:Entry,Standard
COLOR:darkgreen
DESCRIPTION:Predmet: Matematično modeliranje (APM-3)\, Predavanja (P)\nLe
 tniki: 3. letnik (APM)\nIzvajalci: Emil Žagar\nProstor: 3.10
LOCATION:3.10
ORGANIZER:Emil Žagar
RELATED-TO:fmf-AFLABS-URNIK:srecanje:9314
X-WR-TIMEZONE:Europe/Ljubljana
END:VEVENT
BEGIN:VEVENT
SUMMARY:Matematično modeliranje (APM-3)\, Predavanja (P)
DTSTART;TZID=Europe/Ljubljana:20231024T100000
DTEND;TZID=Europe/Ljubljana:20231024T120000
DTSTAMP:20260426T004827Z
UID:fmf-AFLABS-URNIK:premaknjeno-srecanje:69761
ATTENDEE:3. letnik (APM)
CATEGORIES:Entry,Standard
COLOR:darkgreen
DESCRIPTION:Predmet: Matematično modeliranje (APM-3)\, Predavanja (P)\nLe
 tniki: 3. letnik (APM)\nIzvajalci: Emil Žagar\nProstor: 3.10
LOCATION:3.10
ORGANIZER:Emil Žagar
RELATED-TO:fmf-AFLABS-URNIK:srecanje:9314
X-WR-TIMEZONE:Europe/Ljubljana
END:VEVENT
BEGIN:VEVENT
SUMMARY:SESTANEK ()\, Ostalo (O)
DTSTART;TZID=Europe/Ljubljana:20231004T150000
DTEND;TZID=Europe/Ljubljana:20231004T160000
DTSTAMP:20260426T004827Z
UID:fmf-AFLABS-URNIK:premaknjeno-srecanje:99561
CATEGORIES:Entry,Standard
COLOR:darkgreen
DESCRIPTION:Predmet: SESTANEK ()\, Ostalo (O)\nLetniki: \nIzvajalci: Emil 
 Žagar\nProstor: P.02
LOCATION:P.02
ORGANIZER:Emil Žagar
RELATED-TO:fmf-AFLABS-URNIK:srecanje:9693
X-WR-TIMEZONE:Europe/Ljubljana
END:VEVENT
BEGIN:VEVENT
SUMMARY:SESTANEK ()\, Ostalo (O)
DTSTART;TZID=Europe/Ljubljana:20231011T150000
DTEND;TZID=Europe/Ljubljana:20231011T160000
DTSTAMP:20260426T004827Z
UID:fmf-AFLABS-URNIK:premaknjeno-srecanje:99562
CATEGORIES:Entry,Standard
COLOR:darkgreen
DESCRIPTION:Predmet: SESTANEK ()\, Ostalo (O)\nLetniki: \nIzvajalci: Emil 
 Žagar\nProstor: P.02
LOCATION:P.02
ORGANIZER:Emil Žagar
RELATED-TO:fmf-AFLABS-URNIK:srecanje:9693
X-WR-TIMEZONE:Europe/Ljubljana
END:VEVENT
BEGIN:VEVENT
SUMMARY:SESTANEK ()\, Ostalo (O)
DTSTART;TZID=Europe/Ljubljana:20231018T150000
DTEND;TZID=Europe/Ljubljana:20231018T160000
DTSTAMP:20260426T004827Z
UID:fmf-AFLABS-URNIK:premaknjeno-srecanje:99563
CATEGORIES:Entry,Standard
COLOR:darkgreen
DESCRIPTION:Predmet: SESTANEK ()\, Ostalo (O)\nLetniki: \nIzvajalci: Emil 
 Žagar\nProstor: P.02
LOCATION:P.02
ORGANIZER:Emil Žagar
RELATED-TO:fmf-AFLABS-URNIK:srecanje:9693
X-WR-TIMEZONE:Europe/Ljubljana
END:VEVENT
BEGIN:VEVENT
SUMMARY:SESTANEK ()\, Ostalo (O)
DTSTART;TZID=Europe/Ljubljana:20231025T150000
DTEND;TZID=Europe/Ljubljana:20231025T160000
DTSTAMP:20260426T004827Z
UID:fmf-AFLABS-URNIK:premaknjeno-srecanje:99564
CATEGORIES:Entry,Standard
COLOR:darkgreen
DESCRIPTION:Predmet: SESTANEK ()\, Ostalo (O)\nLetniki: \nIzvajalci: Emil 
 Žagar\nProstor: P.02
LOCATION:P.02
ORGANIZER:Emil Žagar
RELATED-TO:fmf-AFLABS-URNIK:srecanje:9693
X-WR-TIMEZONE:Europe/Ljubljana
END:VEVENT
BEGIN:VEVENT
SUMMARY:Izbrana poglavja iz matematike (FE) ()\, Predavanja (P)
DTSTART;TZID=Europe/Ljubljana:20231005T160000
DTEND;TZID=Europe/Ljubljana:20231005T190000
DTSTAMP:20260426T004827Z
UID:fmf-AFLABS-URNIK:premaknjeno-srecanje:43622
CATEGORIES:Entry,Standard
COLOR:darkgreen
DESCRIPTION:Predmet: Izbrana poglavja iz matematike (FE) ()\, Predavanja (
 P)\nLetniki: \nIzvajalci: Emil Žagar\nProstor: FE
LOCATION:FE
ORGANIZER:Emil Žagar
RELATED-TO:fmf-AFLABS-URNIK:srecanje:9691
X-WR-TIMEZONE:Europe/Ljubljana
END:VEVENT
BEGIN:VEVENT
SUMMARY:Izbrana poglavja iz matematike (FE) ()\, Predavanja (P)
DTSTART;TZID=Europe/Ljubljana:20231012T160000
DTEND;TZID=Europe/Ljubljana:20231012T190000
DTSTAMP:20260426T004827Z
UID:fmf-AFLABS-URNIK:premaknjeno-srecanje:43623
CATEGORIES:Entry,Standard
COLOR:darkgreen
DESCRIPTION:Predmet: Izbrana poglavja iz matematike (FE) ()\, Predavanja (
 P)\nLetniki: \nIzvajalci: Emil Žagar\nProstor: FE
LOCATION:FE
ORGANIZER:Emil Žagar
RELATED-TO:fmf-AFLABS-URNIK:srecanje:9691
X-WR-TIMEZONE:Europe/Ljubljana
END:VEVENT
BEGIN:VEVENT
SUMMARY:Izbrana poglavja iz matematike (FE) ()\, Predavanja (P)
DTSTART;TZID=Europe/Ljubljana:20231019T160000
DTEND;TZID=Europe/Ljubljana:20231019T190000
DTSTAMP:20260426T004827Z
UID:fmf-AFLABS-URNIK:premaknjeno-srecanje:43624
CATEGORIES:Entry,Standard
COLOR:darkgreen
DESCRIPTION:Predmet: Izbrana poglavja iz matematike (FE) ()\, Predavanja (
 P)\nLetniki: \nIzvajalci: Emil Žagar\nProstor: FE
LOCATION:FE
ORGANIZER:Emil Žagar
RELATED-TO:fmf-AFLABS-URNIK:srecanje:9691
X-WR-TIMEZONE:Europe/Ljubljana
END:VEVENT
BEGIN:VEVENT
SUMMARY:Izbrana poglavja iz matematike (FE) ()\, Predavanja (P)
DTSTART;TZID=Europe/Ljubljana:20231026T160000
DTEND;TZID=Europe/Ljubljana:20231026T190000
DTSTAMP:20260426T004827Z
UID:fmf-AFLABS-URNIK:premaknjeno-srecanje:43625
CATEGORIES:Entry,Standard
COLOR:darkgreen
DESCRIPTION:Predmet: Izbrana poglavja iz matematike (FE) ()\, Predavanja (
 P)\nLetniki: \nIzvajalci: Emil Žagar\nProstor: FE
LOCATION:FE
ORGANIZER:Emil Žagar
RELATED-TO:fmf-AFLABS-URNIK:srecanje:9691
X-WR-TIMEZONE:Europe/Ljubljana
END:VEVENT
BEGIN:VEVENT
SUMMARY:Matematični seminar (MAT-M)\, Predavanja (P)
DTSTART;TZID=Europe/Ljubljana:20231005T160000
DTEND;TZID=Europe/Ljubljana:20231005T170000
DTSTAMP:20260426T004827Z
UID:fmf-AFLABS-URNIK:premaknjeno-srecanje:68963
ATTENDEE:magistrski študij (M)
CATEGORIES:Entry,Standard
COLOR:darkgreen
DESCRIPTION:Predmet: Matematični seminar (MAT-M)\, Predavanja (P)\nLetnik
 i: magistrski študij (M)\nIzvajalci: Aleš Vavpetič\, Emil Žagar\nProst
 or: P.02
LOCATION:P.02
ORGANIZER:Aleš Vavpetič, Emil Žagar
RELATED-TO:fmf-AFLABS-URNIK:srecanje:9627
X-WR-TIMEZONE:Europe/Ljubljana
END:VEVENT
BEGIN:VEVENT
SUMMARY:Matematični seminar (MAT-M)\, Predavanja (P)
DTSTART;TZID=Europe/Ljubljana:20231012T160000
DTEND;TZID=Europe/Ljubljana:20231012T170000
DTSTAMP:20260426T004827Z
UID:fmf-AFLABS-URNIK:premaknjeno-srecanje:68964
ATTENDEE:magistrski študij (M)
CATEGORIES:Entry,Standard
COLOR:darkgreen
DESCRIPTION:Predmet: Matematični seminar (MAT-M)\, Predavanja (P)\nLetnik
 i: magistrski študij (M)\nIzvajalci: Aleš Vavpetič\, Emil Žagar\nProst
 or: P.02
LOCATION:P.02
ORGANIZER:Aleš Vavpetič, Emil Žagar
RELATED-TO:fmf-AFLABS-URNIK:srecanje:9627
X-WR-TIMEZONE:Europe/Ljubljana
END:VEVENT
BEGIN:VEVENT
SUMMARY:Matematični seminar (MAT-M)\, Predavanja (P)
DTSTART;TZID=Europe/Ljubljana:20231019T160000
DTEND;TZID=Europe/Ljubljana:20231019T170000
DTSTAMP:20260426T004827Z
UID:fmf-AFLABS-URNIK:premaknjeno-srecanje:68965
ATTENDEE:magistrski študij (M)
CATEGORIES:Entry,Standard
COLOR:darkgreen
DESCRIPTION:Predmet: Matematični seminar (MAT-M)\, Predavanja (P)\nLetnik
 i: magistrski študij (M)\nIzvajalci: Aleš Vavpetič\, Emil Žagar\nProst
 or: P.02
LOCATION:P.02
ORGANIZER:Aleš Vavpetič, Emil Žagar
RELATED-TO:fmf-AFLABS-URNIK:srecanje:9627
X-WR-TIMEZONE:Europe/Ljubljana
END:VEVENT
BEGIN:VEVENT
SUMMARY:Matematični seminar (MAT-M)\, Predavanja (P)
DTSTART;TZID=Europe/Ljubljana:20231026T160000
DTEND;TZID=Europe/Ljubljana:20231026T170000
DTSTAMP:20260426T004827Z
UID:fmf-AFLABS-URNIK:premaknjeno-srecanje:68966
ATTENDEE:magistrski študij (M)
CATEGORIES:Entry,Standard
COLOR:darkgreen
DESCRIPTION:Predmet: Matematični seminar (MAT-M)\, Predavanja (P)\nLetnik
 i: magistrski študij (M)\nIzvajalci: Aleš Vavpetič\, Emil Žagar\nProst
 or: P.02
LOCATION:P.02
ORGANIZER:Aleš Vavpetič, Emil Žagar
RELATED-TO:fmf-AFLABS-URNIK:srecanje:9627
X-WR-TIMEZONE:Europe/Ljubljana
END:VEVENT
BEGIN:VEVENT
SUMMARY:SESTANEK ()\, Ostalo (O)
DTSTART;TZID=Europe/Ljubljana:20231005T140000
DTEND;TZID=Europe/Ljubljana:20231005T160000
DTSTAMP:20260426T004827Z
UID:fmf-AFLABS-URNIK:premaknjeno-srecanje:99593
CATEGORIES:Entry,Standard
COLOR:darkgreen
DESCRIPTION:Predmet: SESTANEK ()\, Ostalo (O)\nLetniki: \nIzvajalci: Emil 
 Žagar\nProstor: FRI
LOCATION:FRI
ORGANIZER:Emil Žagar
RELATED-TO:fmf-AFLABS-URNIK:srecanje:9690
X-WR-TIMEZONE:Europe/Ljubljana
END:VEVENT
BEGIN:VEVENT
SUMMARY:SESTANEK ()\, Ostalo (O)
DTSTART;TZID=Europe/Ljubljana:20231012T140000
DTEND;TZID=Europe/Ljubljana:20231012T160000
DTSTAMP:20260426T004827Z
UID:fmf-AFLABS-URNIK:premaknjeno-srecanje:99594
CATEGORIES:Entry,Standard
COLOR:darkgreen
DESCRIPTION:Predmet: SESTANEK ()\, Ostalo (O)\nLetniki: \nIzvajalci: Emil 
 Žagar\nProstor: FRI
LOCATION:FRI
ORGANIZER:Emil Žagar
RELATED-TO:fmf-AFLABS-URNIK:srecanje:9690
X-WR-TIMEZONE:Europe/Ljubljana
END:VEVENT
BEGIN:VEVENT
SUMMARY:SESTANEK ()\, Ostalo (O)
DTSTART;TZID=Europe/Ljubljana:20231019T140000
DTEND;TZID=Europe/Ljubljana:20231019T160000
DTSTAMP:20260426T004827Z
UID:fmf-AFLABS-URNIK:premaknjeno-srecanje:99595
CATEGORIES:Entry,Standard
COLOR:darkgreen
DESCRIPTION:Predmet: SESTANEK ()\, Ostalo (O)\nLetniki: \nIzvajalci: Emil 
 Žagar\nProstor: FRI
LOCATION:FRI
ORGANIZER:Emil Žagar
RELATED-TO:fmf-AFLABS-URNIK:srecanje:9690
X-WR-TIMEZONE:Europe/Ljubljana
END:VEVENT
BEGIN:VEVENT
SUMMARY:SESTANEK ()\, Ostalo (O)
DTSTART;TZID=Europe/Ljubljana:20231026T140000
DTEND;TZID=Europe/Ljubljana:20231026T160000
DTSTAMP:20260426T004827Z
UID:fmf-AFLABS-URNIK:premaknjeno-srecanje:99596
CATEGORIES:Entry,Standard
COLOR:darkgreen
DESCRIPTION:Predmet: SESTANEK ()\, Ostalo (O)\nLetniki: \nIzvajalci: Emil 
 Žagar\nProstor: FRI
LOCATION:FRI
ORGANIZER:Emil Žagar
RELATED-TO:fmf-AFLABS-URNIK:srecanje:9690
X-WR-TIMEZONE:Europe/Ljubljana
END:VEVENT
BEGIN:VEVENT
SUMMARY:Govorilna ura ()\, Ostalo (O)
DTSTART;TZID=Europe/Ljubljana:20231006T090000
DTEND;TZID=Europe/Ljubljana:20231006T100000
DTSTAMP:20260426T004827Z
UID:fmf-AFLABS-URNIK:premaknjeno-srecanje:39961
CATEGORIES:Entry,Standard
COLOR:darkgreen
DESCRIPTION:Predmet: Govorilna ura ()\, Ostalo (O)\nLetniki: \nIzvajalci: 
 Emil Žagar\nProstor: 4.33
LOCATION:4.33
ORGANIZER:Emil Žagar
RELATED-TO:fmf-AFLABS-URNIK:srecanje:9172
X-WR-TIMEZONE:Europe/Ljubljana
END:VEVENT
BEGIN:VEVENT
SUMMARY:Govorilna ura ()\, Ostalo (O)
DTSTART;TZID=Europe/Ljubljana:20231013T090000
DTEND;TZID=Europe/Ljubljana:20231013T100000
DTSTAMP:20260426T004827Z
UID:fmf-AFLABS-URNIK:premaknjeno-srecanje:39962
CATEGORIES:Entry,Standard
COLOR:darkgreen
DESCRIPTION:Predmet: Govorilna ura ()\, Ostalo (O)\nLetniki: \nIzvajalci: 
 Emil Žagar\nProstor: 4.33
LOCATION:4.33
ORGANIZER:Emil Žagar
RELATED-TO:fmf-AFLABS-URNIK:srecanje:9172
X-WR-TIMEZONE:Europe/Ljubljana
END:VEVENT
BEGIN:VEVENT
SUMMARY:Govorilna ura ()\, Ostalo (O)
DTSTART;TZID=Europe/Ljubljana:20231020T090000
DTEND;TZID=Europe/Ljubljana:20231020T100000
DTSTAMP:20260426T004827Z
UID:fmf-AFLABS-URNIK:premaknjeno-srecanje:39963
CATEGORIES:Entry,Standard
COLOR:darkgreen
DESCRIPTION:Predmet: Govorilna ura ()\, Ostalo (O)\nLetniki: \nIzvajalci: 
 Emil Žagar\nProstor: 4.33
LOCATION:4.33
ORGANIZER:Emil Žagar
RELATED-TO:fmf-AFLABS-URNIK:srecanje:9172
X-WR-TIMEZONE:Europe/Ljubljana
END:VEVENT
BEGIN:VEVENT
SUMMARY:Govorilna ura ()\, Ostalo (O)
DTSTART;TZID=Europe/Ljubljana:20231027T090000
DTEND;TZID=Europe/Ljubljana:20231027T100000
DTSTAMP:20260426T004827Z
UID:fmf-AFLABS-URNIK:premaknjeno-srecanje:39964
CATEGORIES:Entry,Standard
COLOR:darkgreen
DESCRIPTION:Predmet: Govorilna ura ()\, Ostalo (O)\nLetniki: \nIzvajalci: 
 Emil Žagar\nProstor: 4.33
LOCATION:4.33
ORGANIZER:Emil Žagar
RELATED-TO:fmf-AFLABS-URNIK:srecanje:9172
X-WR-TIMEZONE:Europe/Ljubljana
END:VEVENT
BEGIN:VEVENT
SUMMARY:Numerične metode (IŠRM-3)\, Predavanja (P)
DTSTART;TZID=Europe/Ljubljana:20231006T100000
DTEND;TZID=Europe/Ljubljana:20231006T130000
DTSTAMP:20260426T004827Z
UID:fmf-AFLABS-URNIK:premaknjeno-srecanje:76891
ATTENDEE:3. letnik (IŠRM)
CATEGORIES:Entry,Standard
COLOR:darkgreen
DESCRIPTION:Predmet: Numerične metode (IŠRM-3)\, Predavanja (P)\nLetniki
 : 3. letnik (IŠRM)\nIzvajalci: Emil Žagar\nProstor: 3.04
LOCATION:3.04
ORGANIZER:Emil Žagar
RELATED-TO:fmf-AFLABS-URNIK:srecanje:9345
X-WR-TIMEZONE:Europe/Ljubljana
END:VEVENT
BEGIN:VEVENT
SUMMARY:Numerične metode (IŠRM-3)\, Predavanja (P)
DTSTART;TZID=Europe/Ljubljana:20231013T100000
DTEND;TZID=Europe/Ljubljana:20231013T130000
DTSTAMP:20260426T004827Z
UID:fmf-AFLABS-URNIK:premaknjeno-srecanje:76892
ATTENDEE:3. letnik (IŠRM)
CATEGORIES:Entry,Standard
COLOR:darkgreen
DESCRIPTION:Predmet: Numerične metode (IŠRM-3)\, Predavanja (P)\nLetniki
 : 3. letnik (IŠRM)\nIzvajalci: Emil Žagar\nProstor: 3.04
LOCATION:3.04
ORGANIZER:Emil Žagar
RELATED-TO:fmf-AFLABS-URNIK:srecanje:9345
X-WR-TIMEZONE:Europe/Ljubljana
END:VEVENT
BEGIN:VEVENT
SUMMARY:Numerične metode (IŠRM-3)\, Predavanja (P)
DTSTART;TZID=Europe/Ljubljana:20231020T100000
DTEND;TZID=Europe/Ljubljana:20231020T130000
DTSTAMP:20260426T004827Z
UID:fmf-AFLABS-URNIK:premaknjeno-srecanje:76893
ATTENDEE:3. letnik (IŠRM)
CATEGORIES:Entry,Standard
COLOR:darkgreen
DESCRIPTION:Predmet: Numerične metode (IŠRM-3)\, Predavanja (P)\nLetniki
 : 3. letnik (IŠRM)\nIzvajalci: Emil Žagar\nProstor: 3.04
LOCATION:3.04
ORGANIZER:Emil Žagar
RELATED-TO:fmf-AFLABS-URNIK:srecanje:9345
X-WR-TIMEZONE:Europe/Ljubljana
END:VEVENT
BEGIN:VEVENT
SUMMARY:Numerične metode (IŠRM-3)\, Predavanja (P)
DTSTART;TZID=Europe/Ljubljana:20231027T100000
DTEND;TZID=Europe/Ljubljana:20231027T130000
DTSTAMP:20260426T004827Z
UID:fmf-AFLABS-URNIK:premaknjeno-srecanje:76894
ATTENDEE:3. letnik (IŠRM)
CATEGORIES:Entry,Standard
COLOR:darkgreen
DESCRIPTION:Predmet: Numerične metode (IŠRM-3)\, Predavanja (P)\nLetniki
 : 3. letnik (IŠRM)\nIzvajalci: Emil Žagar\nProstor: 3.04
LOCATION:3.04
ORGANIZER:Emil Žagar
RELATED-TO:fmf-AFLABS-URNIK:srecanje:9345
X-WR-TIMEZONE:Europe/Ljubljana
END:VEVENT
BEGIN:VEVENT
SUMMARY:Rezervacija
DTSTART;TZID=Europe/Ljubljana:20230823T130000
DTEND;TZID=Europe/Ljubljana:20230823T140000
DTSTAMP:20260426T004827Z
UID:fmf-AFLABS-URNIK:rezervacija:12891
CATEGORIES:Reservation
COLOR:royalblue
DESCRIPTION:Predmeti: \nLetniki: \nIzvajalci: Emil Žagar\nProstori: 3.12
LOCATION:3.12
ORGANIZER:Emil Žagar
X-WR-TIMEZONE:Europe/Ljubljana
END:VEVENT
BEGIN:VEVENT
SUMMARY:Rezervacija
DTSTART;TZID=Europe/Ljubljana:20230831T100000
DTEND;TZID=Europe/Ljubljana:20230831T120000
DTSTAMP:20260426T004827Z
UID:fmf-AFLABS-URNIK:rezervacija:13025
CATEGORIES:Reservation
COLOR:royalblue
DESCRIPTION:Predmeti: \nLetniki: \nIzvajalci: Emil Žagar\nProstori: F4
LOCATION:F4
ORGANIZER:Emil Žagar
X-WR-TIMEZONE:Europe/Ljubljana
END:VEVENT
BEGIN:VEVENT
SUMMARY:Rezervacija
DTSTART;TZID=Europe/Ljubljana:20230926T110000
DTEND;TZID=Europe/Ljubljana:20230926T130000
DTSTAMP:20260426T004827Z
UID:fmf-AFLABS-URNIK:rezervacija:13356
CATEGORIES:Reservation
COLOR:royalblue
DESCRIPTION:Predmeti: \nLetniki: \nIzvajalci: Katja Berčič\, Pino Koc\, 
 Matija Lokar\, Emil Žagar\nProstori: 3.11
LOCATION:3.11
ORGANIZER:Katja Berčič, Pino Koc, Matija Lokar, Emil Žagar
X-WR-TIMEZONE:Europe/Ljubljana
END:VEVENT
BEGIN:VEVENT
SUMMARY:Rezervacija
DTSTART;TZID=Europe/Ljubljana:20230926T130000
DTEND;TZID=Europe/Ljubljana:20230926T150000
DTSTAMP:20260426T004827Z
UID:fmf-AFLABS-URNIK:rezervacija:13358
CATEGORIES:Reservation
COLOR:royalblue
DESCRIPTION:Predmeti: \nLetniki: \nIzvajalci: Katja Berčič\, Pino Koc\, 
 Matija Lokar\, Emil Žagar\nProstori: 3.05
LOCATION:3.05
ORGANIZER:Katja Berčič, Pino Koc, Matija Lokar, Emil Žagar
X-WR-TIMEZONE:Europe/Ljubljana
END:VEVENT
BEGIN:VEVENT
SUMMARY:Rezervacija
DTSTART;TZID=Europe/Ljubljana:20230927T100000
DTEND;TZID=Europe/Ljubljana:20230927T130000
DTSTAMP:20260426T004827Z
UID:fmf-AFLABS-URNIK:rezervacija:13361
CATEGORIES:Reservation
COLOR:royalblue
DESCRIPTION:Predmeti: \nLetniki: \nIzvajalci: Katja Berčič\, Pino Koc\, 
 Matija Lokar\, Emil Žagar\nProstori: 3.11
LOCATION:3.11
ORGANIZER:Katja Berčič, Pino Koc, Matija Lokar, Emil Žagar
X-WR-TIMEZONE:Europe/Ljubljana
END:VEVENT
BEGIN:VEVENT
SUMMARY:Rezervacija
DTSTART;TZID=Europe/Ljubljana:20230927T130000
DTEND;TZID=Europe/Ljubljana:20230927T150000
DTSTAMP:20260426T004827Z
UID:fmf-AFLABS-URNIK:rezervacija:13362
CATEGORIES:Reservation
COLOR:royalblue
DESCRIPTION:Predmeti: \nLetniki: \nIzvajalci: Katja Berčič\, Pino Koc\, 
 Matija Lokar\, Emil Žagar\nProstori: 3.05
LOCATION:3.05
ORGANIZER:Katja Berčič, Pino Koc, Matija Lokar, Emil Žagar
X-WR-TIMEZONE:Europe/Ljubljana
END:VEVENT
BEGIN:VEVENT
SUMMARY:Rezervacija
DTSTART;TZID=Europe/Ljubljana:20230928T100000
DTEND;TZID=Europe/Ljubljana:20230928T120000
DTSTAMP:20260426T004827Z
UID:fmf-AFLABS-URNIK:rezervacija:13371
CATEGORIES:Reservation
COLOR:royalblue
DESCRIPTION:Predmeti: \nLetniki: \nIzvajalci: Katja Berčič\, Pino Koc\, 
 Matija Lokar\, Emil Žagar\nProstori: 3.05
LOCATION:3.05
ORGANIZER:Katja Berčič, Pino Koc, Matija Lokar, Emil Žagar
X-WR-TIMEZONE:Europe/Ljubljana
END:VEVENT
BEGIN:VEVENT
SUMMARY:Rezervacija
DTSTART;TZID=Europe/Ljubljana:20230928T120000
DTEND;TZID=Europe/Ljubljana:20230928T150000
DTSTAMP:20260426T004827Z
UID:fmf-AFLABS-URNIK:rezervacija:13373
CATEGORIES:Reservation
COLOR:royalblue
DESCRIPTION:Predmeti: \nLetniki: \nIzvajalci: Katja Berčič\, Pino Koc\, 
 Matija Lokar\, Emil Žagar\nProstori: 3.11
LOCATION:3.11
ORGANIZER:Katja Berčič, Pino Koc, Matija Lokar, Emil Žagar
X-WR-TIMEZONE:Europe/Ljubljana
END:VEVENT
BEGIN:VEVENT
SUMMARY:Rezervacija
DTSTART;TZID=Europe/Ljubljana:20230929T100000
DTEND;TZID=Europe/Ljubljana:20230929T120000
DTSTAMP:20260426T004827Z
UID:fmf-AFLABS-URNIK:rezervacija:13380
CATEGORIES:Reservation
COLOR:royalblue
DESCRIPTION:Predmeti: \nLetniki: \nIzvajalci: Katja Berčič\, Pino Koc\, 
 Matija Lokar\, Emil Žagar\nProstori: 3.11
LOCATION:3.11
ORGANIZER:Katja Berčič, Pino Koc, Matija Lokar, Emil Žagar
X-WR-TIMEZONE:Europe/Ljubljana
END:VEVENT
BEGIN:VEVENT
SUMMARY:Rezervacija
DTSTART;TZID=Europe/Ljubljana:20230929T120000
DTEND;TZID=Europe/Ljubljana:20230929T150000
DTSTAMP:20260426T004827Z
UID:fmf-AFLABS-URNIK:rezervacija:13382
CATEGORIES:Reservation
COLOR:royalblue
DESCRIPTION:Predmeti: \nLetniki: \nIzvajalci: Katja Berčič\, Pino Koc\, 
 Matija Lokar\, Emil Žagar\nProstori: 3.05
LOCATION:3.05
ORGANIZER:Katja Berčič, Pino Koc, Matija Lokar, Emil Žagar
X-WR-TIMEZONE:Europe/Ljubljana
END:VEVENT
BEGIN:VEVENT
SUMMARY:Rezervacija
DTSTART;TZID=Europe/Ljubljana:20231003T080000
DTEND;TZID=Europe/Ljubljana:20231003T160000
DTSTAMP:20260426T004827Z
UID:fmf-AFLABS-URNIK:rezervacija:13387
CATEGORIES:Reservation
COLOR:royalblue
DESCRIPTION:Predmeti: \nLetniki: \nIzvajalci: Emil Žagar\nProstori: 3.12
LOCATION:3.12
ORGANIZER:Emil Žagar
X-WR-TIMEZONE:Europe/Ljubljana
END:VEVENT
BEGIN:VEVENT
SUMMARY:Rezervacija
DTSTART;TZID=Europe/Ljubljana:20231004T080000
DTEND;TZID=Europe/Ljubljana:20231004T160000
DTSTAMP:20260426T004827Z
UID:fmf-AFLABS-URNIK:rezervacija:13388
CATEGORIES:Reservation
COLOR:royalblue
DESCRIPTION:Predmeti: \nLetniki: \nIzvajalci: Emil Žagar\nProstori: 3.12
LOCATION:3.12
ORGANIZER:Emil Žagar
X-WR-TIMEZONE:Europe/Ljubljana
END:VEVENT
BEGIN:VEVENT
SUMMARY:Rezervacija
DTSTART;TZID=Europe/Ljubljana:20231005T080000
DTEND;TZID=Europe/Ljubljana:20231005T160000
DTSTAMP:20260426T004827Z
UID:fmf-AFLABS-URNIK:rezervacija:13389
CATEGORIES:Reservation
COLOR:royalblue
DESCRIPTION:Predmeti: \nLetniki: \nIzvajalci: Emil Žagar\nProstori: 3.12
LOCATION:3.12
ORGANIZER:Emil Žagar
X-WR-TIMEZONE:Europe/Ljubljana
END:VEVENT
BEGIN:VEVENT
SUMMARY:Rezervacija
DTSTART;TZID=Europe/Ljubljana:20231003T100000
DTEND;TZID=Europe/Ljubljana:20231003T120000
DTSTAMP:20260426T004827Z
UID:fmf-AFLABS-URNIK:rezervacija:13391
CATEGORIES:Reservation
COLOR:royalblue
DESCRIPTION:Predmeti: \nLetniki: \nIzvajalci: Katja Berčič\, Pino Koc\, 
 Matija Lokar\, Emil Žagar\nProstori: 3.07
LOCATION:3.07
ORGANIZER:Katja Berčič, Pino Koc, Matija Lokar, Emil Žagar
X-WR-TIMEZONE:Europe/Ljubljana
END:VEVENT
BEGIN:VEVENT
SUMMARY:Rezervacija
DTSTART;TZID=Europe/Ljubljana:20231004T090000
DTEND;TZID=Europe/Ljubljana:20231004T100000
DTSTAMP:20260426T004827Z
UID:fmf-AFLABS-URNIK:rezervacija:13395
CATEGORIES:Reservation
COLOR:royalblue
DESCRIPTION:Predmeti: \nLetniki: \nIzvajalci: Katja Berčič\, Pino Koc\, 
 Matija Lokar\, Emil Žagar\nProstori: 2.01
LOCATION:2.01
ORGANIZER:Katja Berčič, Pino Koc, Matija Lokar, Emil Žagar
X-WR-TIMEZONE:Europe/Ljubljana
END:VEVENT
BEGIN:VEVENT
SUMMARY:Rezervacija
DTSTART;TZID=Europe/Ljubljana:20231004T120000
DTEND;TZID=Europe/Ljubljana:20231004T140000
DTSTAMP:20260426T004827Z
UID:fmf-AFLABS-URNIK:rezervacija:13398
CATEGORIES:Reservation
COLOR:royalblue
DESCRIPTION:Predmeti: \nLetniki: \nIzvajalci: Katja Berčič\, Pino Koc\, 
 Emil Žagar\nProstori: 3.10
LOCATION:3.10
ORGANIZER:Katja Berčič, Pino Koc, Emil Žagar
X-WR-TIMEZONE:Europe/Ljubljana
END:VEVENT
BEGIN:VEVENT
SUMMARY:Rezervacija
DTSTART;TZID=Europe/Ljubljana:20231004T120000
DTEND;TZID=Europe/Ljubljana:20231004T160000
DTSTAMP:20260426T004827Z
UID:fmf-AFLABS-URNIK:rezervacija:13399
CATEGORIES:Reservation
COLOR:royalblue
DESCRIPTION:Predmeti: \nLetniki: \nIzvajalci: Katja Berčič\, Pino Koc\, 
 Matija Lokar\, Emil Žagar\nProstori: 3.11
LOCATION:3.11
ORGANIZER:Katja Berčič, Pino Koc, Matija Lokar, Emil Žagar
X-WR-TIMEZONE:Europe/Ljubljana
END:VEVENT
BEGIN:VEVENT
SUMMARY:Rezervacija
DTSTART;TZID=Europe/Ljubljana:20231005T110000
DTEND;TZID=Europe/Ljubljana:20231005T130000
DTSTAMP:20260426T004827Z
UID:fmf-AFLABS-URNIK:rezervacija:13407
CATEGORIES:Reservation
COLOR:royalblue
DESCRIPTION:Predmeti: \nLetniki: \nIzvajalci: Katja Berčič\, Pino Koc\, 
 Matija Lokar\, Emil Žagar\nProstori: 3.11
LOCATION:3.11
ORGANIZER:Katja Berčič, Pino Koc, Matija Lokar, Emil Žagar
X-WR-TIMEZONE:Europe/Ljubljana
END:VEVENT
BEGIN:VEVENT
SUMMARY:Rezervacija
DTSTART;TZID=Europe/Ljubljana:20231005T140000
DTEND;TZID=Europe/Ljubljana:20231005T160000
DTSTAMP:20260426T004827Z
UID:fmf-AFLABS-URNIK:rezervacija:13409
CATEGORIES:Reservation
COLOR:royalblue
DESCRIPTION:Predmeti: \nLetniki: \nIzvajalci: Emil Žagar\nProstori: 3.07
LOCATION:3.07
ORGANIZER:Emil Žagar
X-WR-TIMEZONE:Europe/Ljubljana
END:VEVENT
BEGIN:VEVENT
SUMMARY:Rezervacija
DTSTART;TZID=Europe/Ljubljana:20231005T150000
DTEND;TZID=Europe/Ljubljana:20231005T160000
DTSTAMP:20260426T004827Z
UID:fmf-AFLABS-URNIK:rezervacija:13410
CATEGORIES:Reservation
COLOR:royalblue
DESCRIPTION:Predmeti: \nLetniki: \nIzvajalci: Katja Berčič\, Pino Koc\, 
 Matija Lokar\, Emil Žagar\nProstori: P.02
LOCATION:P.02
ORGANIZER:Katja Berčič, Pino Koc, Matija Lokar, Emil Žagar
X-WR-TIMEZONE:Europe/Ljubljana
END:VEVENT
END:VCALENDAR
