BEGIN:VCALENDAR
VERSION:2.0
PRODID:-//AFLabs urnik izvoz - fmf//aflabs.si//SI
DTSTAMP:20260425T105315Z
NAME:UL FMF urnik
REFRESH-INTERVAL:PT1H
SOURCE:https://urnik.fmf.uni-lj.si/teacher/34?day=2024-09-16&export=1
URL:https://urnik.fmf.uni-lj.si/teacher/34?day=2024-09-16&export=1
X-PUBLISHED-TTL:PT1H
X-WR-CALNAME:UL FMF urnik
X-WR-TIMEZONE:Europe/Ljubljana
BEGIN:VTIMEZONE
TZID:Europe/Ljubljana
BEGIN:DAYLIGHT
DTSTART:20260329T020000
RDATE:20260329T020000
RDATE:20270328T020000
TZNAME:CEST
TZOFFSETFROM:+0100
TZOFFSETTO:+0200
END:DAYLIGHT
BEGIN:STANDARD
DTSTART:20261025T030000
RDATE:20261025T030000
RDATE:20271031T030000
TZNAME:CET
TZOFFSETFROM:+0200
TZOFFSETTO:+0100
END:STANDARD
END:VTIMEZONE
BEGIN:VEVENT
SUMMARY:Numerična integracija in navadne diferencialne enačbe / Izbrana 
 poglavja iz numerične matematike (FM-M\, IŠRM-M\, MAT-M)\, Predavanja (P
 )
DTSTART;TZID=Europe/Ljubljana:20241001T080000
DTEND;TZID=Europe/Ljubljana:20241001T100000
DTSTAMP:20260425T105315Z
UID:fmf-AFLABS-URNIK:premaknjeno-srecanje:183082
ATTENDEE:magistrski študij (FM)
ATTENDEE:magistrski študij (IŠRM)
ATTENDEE:magistrski študij (M)
CATEGORIES:Entry,Standard
COLOR:darkgreen
DESCRIPTION:Predmet: Numerična integracija in navadne diferencialne enač
 be / Izbrana poglavja iz numerične matematike (FM-M\, IŠRM-M\, MAT-M)\, 
 Predavanja (P)\nLetniki: magistrski študij (FM)\, magistrski študij (IŠ
 RM)\, magistrski študij (M)\nIzvajalci: Emil Žagar\nProstor: 2.03
LOCATION:2.03
ORGANIZER:Emil Žagar
RELATED-TO:fmf-AFLABS-URNIK:srecanje:14537
X-WR-TIMEZONE:Europe/Ljubljana
END:VEVENT
BEGIN:VEVENT
SUMMARY:Numerična integracija in navadne diferencialne enačbe / Izbrana 
 poglavja iz numerične matematike (FM-M\, IŠRM-M\, MAT-M)\, Predavanja (P
 )
DTSTART;TZID=Europe/Ljubljana:20241008T080000
DTEND;TZID=Europe/Ljubljana:20241008T100000
DTSTAMP:20260425T105315Z
UID:fmf-AFLABS-URNIK:premaknjeno-srecanje:183083
ATTENDEE:magistrski študij (FM)
ATTENDEE:magistrski študij (IŠRM)
ATTENDEE:magistrski študij (M)
CATEGORIES:Entry,Standard
COLOR:darkgreen
DESCRIPTION:Predmet: Numerična integracija in navadne diferencialne enač
 be / Izbrana poglavja iz numerične matematike (FM-M\, IŠRM-M\, MAT-M)\, 
 Predavanja (P)\nLetniki: magistrski študij (FM)\, magistrski študij (IŠ
 RM)\, magistrski študij (M)\nIzvajalci: Emil Žagar\nProstor: 2.03
LOCATION:2.03
ORGANIZER:Emil Žagar
RELATED-TO:fmf-AFLABS-URNIK:srecanje:14537
X-WR-TIMEZONE:Europe/Ljubljana
END:VEVENT
BEGIN:VEVENT
SUMMARY:Numerična integracija in navadne diferencialne enačbe / Izbrana 
 poglavja iz numerične matematike (FM-M\, IŠRM-M\, MAT-M)\, Predavanja (P
 )
DTSTART;TZID=Europe/Ljubljana:20241015T080000
DTEND;TZID=Europe/Ljubljana:20241015T100000
DTSTAMP:20260425T105315Z
UID:fmf-AFLABS-URNIK:premaknjeno-srecanje:183084
ATTENDEE:magistrski študij (FM)
ATTENDEE:magistrski študij (IŠRM)
ATTENDEE:magistrski študij (M)
CATEGORIES:Entry,Standard
COLOR:darkgreen
DESCRIPTION:Predmet: Numerična integracija in navadne diferencialne enač
 be / Izbrana poglavja iz numerične matematike (FM-M\, IŠRM-M\, MAT-M)\, 
 Predavanja (P)\nLetniki: magistrski študij (FM)\, magistrski študij (IŠ
 RM)\, magistrski študij (M)\nIzvajalci: Emil Žagar\nProstor: 2.03
LOCATION:2.03
ORGANIZER:Emil Žagar
RELATED-TO:fmf-AFLABS-URNIK:srecanje:14537
X-WR-TIMEZONE:Europe/Ljubljana
END:VEVENT
BEGIN:VEVENT
SUMMARY:SESTANEK ()\, Ostalo (O)
DTSTART;TZID=Europe/Ljubljana:20241001T120000
DTEND;TZID=Europe/Ljubljana:20241001T150000
DTSTAMP:20260425T105315Z
UID:fmf-AFLABS-URNIK:premaknjeno-srecanje:184882
CATEGORIES:Entry,Standard
COLOR:darkgreen
DESCRIPTION:Predmet: SESTANEK ()\, Ostalo (O)\nLetniki: \nIzvajalci: Emil 
 Žagar\nProstor: FRI
LOCATION:FRI
ORGANIZER:Emil Žagar
RELATED-TO:fmf-AFLABS-URNIK:srecanje:14045
X-WR-TIMEZONE:Europe/Ljubljana
END:VEVENT
BEGIN:VEVENT
SUMMARY:SESTANEK ()\, Ostalo (O)
DTSTART;TZID=Europe/Ljubljana:20241008T120000
DTEND;TZID=Europe/Ljubljana:20241008T150000
DTSTAMP:20260425T105315Z
UID:fmf-AFLABS-URNIK:premaknjeno-srecanje:184883
CATEGORIES:Entry,Standard
COLOR:darkgreen
DESCRIPTION:Predmet: SESTANEK ()\, Ostalo (O)\nLetniki: \nIzvajalci: Emil 
 Žagar\nProstor: FRI
LOCATION:FRI
ORGANIZER:Emil Žagar
RELATED-TO:fmf-AFLABS-URNIK:srecanje:14045
X-WR-TIMEZONE:Europe/Ljubljana
END:VEVENT
BEGIN:VEVENT
SUMMARY:SESTANEK ()\, Ostalo (O)
DTSTART;TZID=Europe/Ljubljana:20241015T120000
DTEND;TZID=Europe/Ljubljana:20241015T150000
DTSTAMP:20260425T105315Z
UID:fmf-AFLABS-URNIK:premaknjeno-srecanje:184884
CATEGORIES:Entry,Standard
COLOR:darkgreen
DESCRIPTION:Predmet: SESTANEK ()\, Ostalo (O)\nLetniki: \nIzvajalci: Emil 
 Žagar\nProstor: FRI
LOCATION:FRI
ORGANIZER:Emil Žagar
RELATED-TO:fmf-AFLABS-URNIK:srecanje:14045
X-WR-TIMEZONE:Europe/Ljubljana
END:VEVENT
BEGIN:VEVENT
SUMMARY:Govorilna ura ()\, Ostalo (O)
DTSTART;TZID=Europe/Ljubljana:20241002T090000
DTEND;TZID=Europe/Ljubljana:20241002T100000
DTSTAMP:20260425T105315Z
UID:fmf-AFLABS-URNIK:premaknjeno-srecanje:180202
CATEGORIES:Entry,Standard
COLOR:darkgreen
DESCRIPTION:Predmet: Govorilna ura ()\, Ostalo (O)\nLetniki: \nIzvajalci: 
 Emil Žagar\nProstor: 4.33
LOCATION:4.33
ORGANIZER:Emil Žagar
RELATED-TO:fmf-AFLABS-URNIK:srecanje:13733
X-WR-TIMEZONE:Europe/Ljubljana
END:VEVENT
BEGIN:VEVENT
SUMMARY:Govorilna ura ()\, Ostalo (O)
DTSTART;TZID=Europe/Ljubljana:20241009T090000
DTEND;TZID=Europe/Ljubljana:20241009T100000
DTSTAMP:20260425T105315Z
UID:fmf-AFLABS-URNIK:premaknjeno-srecanje:180203
CATEGORIES:Entry,Standard
COLOR:darkgreen
DESCRIPTION:Predmet: Govorilna ura ()\, Ostalo (O)\nLetniki: \nIzvajalci: 
 Emil Žagar\nProstor: 4.33
LOCATION:4.33
ORGANIZER:Emil Žagar
RELATED-TO:fmf-AFLABS-URNIK:srecanje:13733
X-WR-TIMEZONE:Europe/Ljubljana
END:VEVENT
BEGIN:VEVENT
SUMMARY:Govorilna ura ()\, Ostalo (O)
DTSTART;TZID=Europe/Ljubljana:20241016T090000
DTEND;TZID=Europe/Ljubljana:20241016T100000
DTSTAMP:20260425T105315Z
UID:fmf-AFLABS-URNIK:premaknjeno-srecanje:180204
CATEGORIES:Entry,Standard
COLOR:darkgreen
DESCRIPTION:Predmet: Govorilna ura ()\, Ostalo (O)\nLetniki: \nIzvajalci: 
 Emil Žagar\nProstor: 4.33
LOCATION:4.33
ORGANIZER:Emil Žagar
RELATED-TO:fmf-AFLABS-URNIK:srecanje:13733
X-WR-TIMEZONE:Europe/Ljubljana
END:VEVENT
BEGIN:VEVENT
SUMMARY:Matematično modeliranje (APM-3)\, Predavanja (P)
DTSTART;TZID=Europe/Ljubljana:20241003T090000
DTEND;TZID=Europe/Ljubljana:20241003T110000
DTSTAMP:20260425T105315Z
UID:fmf-AFLABS-URNIK:premaknjeno-srecanje:195685
ATTENDEE:3. letnik (APM)
CATEGORIES:Entry,Standard
COLOR:darkgreen
DESCRIPTION:Predmet: Matematično modeliranje (APM-3)\, Predavanja (P)\nLe
 tniki: 3. letnik (APM)\nIzvajalci: Emil Žagar\nProstor: 3.10
LOCATION:3.10
ORGANIZER:Emil Žagar
RELATED-TO:fmf-AFLABS-URNIK:srecanje:14496
X-WR-TIMEZONE:Europe/Ljubljana
END:VEVENT
BEGIN:VEVENT
SUMMARY:Matematično modeliranje (APM-3)\, Predavanja (P)
DTSTART;TZID=Europe/Ljubljana:20241010T090000
DTEND;TZID=Europe/Ljubljana:20241010T110000
DTSTAMP:20260425T105315Z
UID:fmf-AFLABS-URNIK:premaknjeno-srecanje:195686
ATTENDEE:3. letnik (APM)
CATEGORIES:Entry,Standard
COLOR:darkgreen
DESCRIPTION:Predmet: Matematično modeliranje (APM-3)\, Predavanja (P)\nLe
 tniki: 3. letnik (APM)\nIzvajalci: Emil Žagar\nProstor: 3.10
LOCATION:3.10
ORGANIZER:Emil Žagar
RELATED-TO:fmf-AFLABS-URNIK:srecanje:14496
X-WR-TIMEZONE:Europe/Ljubljana
END:VEVENT
BEGIN:VEVENT
SUMMARY:Matematično modeliranje (APM-3)\, Predavanja (P)
DTSTART;TZID=Europe/Ljubljana:20241017T090000
DTEND;TZID=Europe/Ljubljana:20241017T110000
DTSTAMP:20260425T105315Z
UID:fmf-AFLABS-URNIK:premaknjeno-srecanje:195687
ATTENDEE:3. letnik (APM)
CATEGORIES:Entry,Standard
COLOR:darkgreen
DESCRIPTION:Predmet: Matematično modeliranje (APM-3)\, Predavanja (P)\nLe
 tniki: 3. letnik (APM)\nIzvajalci: Emil Žagar\nProstor: 3.10
LOCATION:3.10
ORGANIZER:Emil Žagar
RELATED-TO:fmf-AFLABS-URNIK:srecanje:14496
X-WR-TIMEZONE:Europe/Ljubljana
END:VEVENT
BEGIN:VEVENT
SUMMARY:Numerična integracija in navadne diferencialne enačbe / Izbrana 
 poglavja iz numerične matematike (FM-M\, IŠRM-M\, MAT-M)\, Predavanja (P
 )
DTSTART;TZID=Europe/Ljubljana:20241004T090000
DTEND;TZID=Europe/Ljubljana:20241004T100000
DTSTAMP:20260425T105315Z
UID:fmf-AFLABS-URNIK:premaknjeno-srecanje:183097
ATTENDEE:magistrski študij (FM)
ATTENDEE:magistrski študij (IŠRM)
ATTENDEE:magistrski študij (M)
CATEGORIES:Entry,Standard
COLOR:darkgreen
DESCRIPTION:Predmet: Numerična integracija in navadne diferencialne enač
 be / Izbrana poglavja iz numerične matematike (FM-M\, IŠRM-M\, MAT-M)\, 
 Predavanja (P)\nLetniki: magistrski študij (FM)\, magistrski študij (IŠ
 RM)\, magistrski študij (M)\nIzvajalci: Emil Žagar\nProstor: 2.02
LOCATION:2.02
ORGANIZER:Emil Žagar
RELATED-TO:fmf-AFLABS-URNIK:srecanje:14409
X-WR-TIMEZONE:Europe/Ljubljana
END:VEVENT
BEGIN:VEVENT
SUMMARY:Numerična integracija in navadne diferencialne enačbe / Izbrana 
 poglavja iz numerične matematike (FM-M\, IŠRM-M\, MAT-M)\, Predavanja (P
 )
DTSTART;TZID=Europe/Ljubljana:20241011T090000
DTEND;TZID=Europe/Ljubljana:20241011T100000
DTSTAMP:20260425T105315Z
UID:fmf-AFLABS-URNIK:premaknjeno-srecanje:183098
ATTENDEE:magistrski študij (FM)
ATTENDEE:magistrski študij (IŠRM)
ATTENDEE:magistrski študij (M)
CATEGORIES:Entry,Standard
COLOR:darkgreen
DESCRIPTION:Predmet: Numerična integracija in navadne diferencialne enač
 be / Izbrana poglavja iz numerične matematike (FM-M\, IŠRM-M\, MAT-M)\, 
 Predavanja (P)\nLetniki: magistrski študij (FM)\, magistrski študij (IŠ
 RM)\, magistrski študij (M)\nIzvajalci: Emil Žagar\nProstor: 2.02
LOCATION:2.02
ORGANIZER:Emil Žagar
RELATED-TO:fmf-AFLABS-URNIK:srecanje:14409
X-WR-TIMEZONE:Europe/Ljubljana
END:VEVENT
BEGIN:VEVENT
SUMMARY:Numerična integracija in navadne diferencialne enačbe / Izbrana 
 poglavja iz numerične matematike (FM-M\, IŠRM-M\, MAT-M)\, Predavanja (P
 )
DTSTART;TZID=Europe/Ljubljana:20241018T090000
DTEND;TZID=Europe/Ljubljana:20241018T100000
DTSTAMP:20260425T105315Z
UID:fmf-AFLABS-URNIK:premaknjeno-srecanje:183099
ATTENDEE:magistrski študij (FM)
ATTENDEE:magistrski študij (IŠRM)
ATTENDEE:magistrski študij (M)
CATEGORIES:Entry,Standard
COLOR:darkgreen
DESCRIPTION:Predmet: Numerična integracija in navadne diferencialne enač
 be / Izbrana poglavja iz numerične matematike (FM-M\, IŠRM-M\, MAT-M)\, 
 Predavanja (P)\nLetniki: magistrski študij (FM)\, magistrski študij (IŠ
 RM)\, magistrski študij (M)\nIzvajalci: Emil Žagar\nProstor: 2.02
LOCATION:2.02
ORGANIZER:Emil Žagar
RELATED-TO:fmf-AFLABS-URNIK:srecanje:14409
X-WR-TIMEZONE:Europe/Ljubljana
END:VEVENT
BEGIN:VEVENT
SUMMARY:Numerične metode (IŠRM-3)\, Predavanja (P)
DTSTART;TZID=Europe/Ljubljana:20241004T100000
DTEND;TZID=Europe/Ljubljana:20241004T130000
DTSTAMP:20260425T105315Z
UID:fmf-AFLABS-URNIK:premaknjeno-srecanje:183127
ATTENDEE:3. letnik (IŠRM)
CATEGORIES:Entry,Standard
COLOR:darkgreen
DESCRIPTION:Predmet: Numerične metode (IŠRM-3)\, Predavanja (P)\nLetniki
 : 3. letnik (IŠRM)\nIzvajalci: Emil Žagar\nProstor: 2.04
LOCATION:2.04
ORGANIZER:Emil Žagar
RELATED-TO:fmf-AFLABS-URNIK:srecanje:14539
X-WR-TIMEZONE:Europe/Ljubljana
END:VEVENT
BEGIN:VEVENT
SUMMARY:Numerične metode (IŠRM-3)\, Predavanja (P)
DTSTART;TZID=Europe/Ljubljana:20241011T100000
DTEND;TZID=Europe/Ljubljana:20241011T130000
DTSTAMP:20260425T105315Z
UID:fmf-AFLABS-URNIK:premaknjeno-srecanje:183128
ATTENDEE:3. letnik (IŠRM)
CATEGORIES:Entry,Standard
COLOR:darkgreen
DESCRIPTION:Predmet: Numerične metode (IŠRM-3)\, Predavanja (P)\nLetniki
 : 3. letnik (IŠRM)\nIzvajalci: Emil Žagar\nProstor: 2.04
LOCATION:2.04
ORGANIZER:Emil Žagar
RELATED-TO:fmf-AFLABS-URNIK:srecanje:14539
X-WR-TIMEZONE:Europe/Ljubljana
END:VEVENT
BEGIN:VEVENT
SUMMARY:Numerične metode (IŠRM-3)\, Predavanja (P)
DTSTART;TZID=Europe/Ljubljana:20241018T100000
DTEND;TZID=Europe/Ljubljana:20241018T130000
DTSTAMP:20260425T105315Z
UID:fmf-AFLABS-URNIK:premaknjeno-srecanje:183129
ATTENDEE:3. letnik (IŠRM)
CATEGORIES:Entry,Standard
COLOR:darkgreen
DESCRIPTION:Predmet: Numerične metode (IŠRM-3)\, Predavanja (P)\nLetniki
 : 3. letnik (IŠRM)\nIzvajalci: Emil Žagar\nProstor: 2.04
LOCATION:2.04
ORGANIZER:Emil Žagar
RELATED-TO:fmf-AFLABS-URNIK:srecanje:14539
X-WR-TIMEZONE:Europe/Ljubljana
END:VEVENT
BEGIN:VEVENT
SUMMARY:3.izpit NM-ISRM
DTSTART;TZID=Europe/Ljubljana:20240823T100000
DTEND;TZID=Europe/Ljubljana:20240823T120000
DTSTAMP:20260425T105315Z
UID:fmf-AFLABS-URNIK:rezervacija:14319
CATEGORIES:Reservation
COLOR:royalblue
DESCRIPTION:Predmeti: \nLetniki: \nIzvajalci: Ada Sadl\, Emil Žagar\nPros
 tori: 3.06
LOCATION:3.06
ORGANIZER:Ada Sadl, Emil Žagar
X-WR-TIMEZONE:Europe/Ljubljana
END:VEVENT
BEGIN:VEVENT
SUMMARY:Predstavitev praktičnega usposabljanja\, Prak. mat.\, Bojko
DTSTART;TZID=Europe/Ljubljana:20240814T110000
DTEND;TZID=Europe/Ljubljana:20240814T120000
DTSTAMP:20260425T105315Z
UID:fmf-AFLABS-URNIK:rezervacija:17710
CATEGORIES:Reservation
COLOR:royalblue
DESCRIPTION:Predmeti: \nLetniki: \nIzvajalci: Emil Žagar\nProstori: 3.07
LOCATION:3.07
ORGANIZER:Emil Žagar
X-WR-TIMEZONE:Europe/Ljubljana
END:VEVENT
BEGIN:VEVENT
SUMMARY:Predstavitev praktičnega usposabljanja\, Kumelj
DTSTART;TZID=Europe/Ljubljana:20240819T100000
DTEND;TZID=Europe/Ljubljana:20240819T110000
DTSTAMP:20260425T105315Z
UID:fmf-AFLABS-URNIK:rezervacija:17728
CATEGORIES:Reservation
COLOR:royalblue
DESCRIPTION:Predmeti: \nLetniki: \nIzvajalci: Emil Žagar\nProstori: 3.04
LOCATION:3.04
ORGANIZER:Emil Žagar
X-WR-TIMEZONE:Europe/Ljubljana
END:VEVENT
BEGIN:VEVENT
SUMMARY:Predstavitev praktičnega usposabljanja\, Bobnar
DTSTART;TZID=Europe/Ljubljana:20240828T100000
DTEND;TZID=Europe/Ljubljana:20240828T110000
DTSTAMP:20260425T105315Z
UID:fmf-AFLABS-URNIK:rezervacija:17789
CATEGORIES:Reservation
COLOR:royalblue
DESCRIPTION:Predmeti: \nLetniki: \nIzvajalci: Emil Žagar\nProstori: 3.07
LOCATION:3.07
ORGANIZER:Emil Žagar
X-WR-TIMEZONE:Europe/Ljubljana
END:VEVENT
BEGIN:VEVENT
SUMMARY:Pisni izpit iz NM za fizike
DTSTART;TZID=Europe/Ljubljana:20240905T100000
DTEND;TZID=Europe/Ljubljana:20240905T120000
DTSTAMP:20260425T105315Z
UID:fmf-AFLABS-URNIK:rezervacija:17923
CATEGORIES:Reservation
COLOR:royalblue
DESCRIPTION:Predmeti: \nLetniki: \nIzvajalci: Emil Žagar\nProstori: 3.06
LOCATION:3.06
ORGANIZER:Emil Žagar
X-WR-TIMEZONE:Europe/Ljubljana
END:VEVENT
BEGIN:VEVENT
SUMMARY:Predstavitev praktičnega usposabljanja\, Duh
DTSTART;TZID=Europe/Ljubljana:20240905T090000
DTEND;TZID=Europe/Ljubljana:20240905T100000
DTSTAMP:20260425T105315Z
UID:fmf-AFLABS-URNIK:rezervacija:18019
CATEGORIES:Reservation
COLOR:royalblue
DESCRIPTION:Predmeti: \nLetniki: \nIzvajalci: Emil Žagar\nProstori: 3.07
LOCATION:3.07
ORGANIZER:Emil Žagar
X-WR-TIMEZONE:Europe/Ljubljana
END:VEVENT
BEGIN:VEVENT
SUMMARY:Predstavitev praktičnega usposabljanja\, Lukežič
DTSTART;TZID=Europe/Ljubljana:20240911T080000
DTEND;TZID=Europe/Ljubljana:20240911T090000
DTSTAMP:20260425T105315Z
UID:fmf-AFLABS-URNIK:rezervacija:18208
CATEGORIES:Reservation
COLOR:royalblue
DESCRIPTION:Predmeti: \nLetniki: \nIzvajalci: Emil Žagar\nProstori: 3.07
LOCATION:3.07
ORGANIZER:Emil Žagar
X-WR-TIMEZONE:Europe/Ljubljana
END:VEVENT
BEGIN:VEVENT
SUMMARY:Predstavitev praktičnega usposabljanja\, Fajdiga\, Mužič\, Krig
 l
DTSTART;TZID=Europe/Ljubljana:20240912T110000
DTEND;TZID=Europe/Ljubljana:20240912T130000
DTSTAMP:20260425T105315Z
UID:fmf-AFLABS-URNIK:rezervacija:18220
CATEGORIES:Reservation
COLOR:royalblue
DESCRIPTION:Predmeti: \nLetniki: \nIzvajalci: Emil Žagar\nProstori: 3.05
LOCATION:3.05
ORGANIZER:Emil Žagar
X-WR-TIMEZONE:Europe/Ljubljana
END:VEVENT
BEGIN:VEVENT
SUMMARY:Repetitorij matematike
DTSTART;TZID=Europe/Ljubljana:20240923T080000
DTEND;TZID=Europe/Ljubljana:20240923T170000
DTSTAMP:20260425T105315Z
UID:fmf-AFLABS-URNIK:rezervacija:18267
CATEGORIES:Reservation
COLOR:royalblue
DESCRIPTION:Predmeti: \nLetniki: \nIzvajalci: Emil Žagar\nProstori: 3.04
LOCATION:3.04
ORGANIZER:Emil Žagar
X-WR-TIMEZONE:Europe/Ljubljana
END:VEVENT
BEGIN:VEVENT
SUMMARY:Repetitorij matematike
DTSTART;TZID=Europe/Ljubljana:20240924T080000
DTEND;TZID=Europe/Ljubljana:20240924T170000
DTSTAMP:20260425T105315Z
UID:fmf-AFLABS-URNIK:rezervacija:18268
CATEGORIES:Reservation
COLOR:royalblue
DESCRIPTION:Predmeti: \nLetniki: \nIzvajalci: Emil Žagar\nProstori: 3.04
LOCATION:3.04
ORGANIZER:Emil Žagar
X-WR-TIMEZONE:Europe/Ljubljana
END:VEVENT
BEGIN:VEVENT
SUMMARY:Repetitorij matematike
DTSTART;TZID=Europe/Ljubljana:20240925T080000
DTEND;TZID=Europe/Ljubljana:20240925T170000
DTSTAMP:20260425T105315Z
UID:fmf-AFLABS-URNIK:rezervacija:18269
CATEGORIES:Reservation
COLOR:royalblue
DESCRIPTION:Predmeti: \nLetniki: \nIzvajalci: Emil Žagar\nProstori: 3.04
LOCATION:3.04
ORGANIZER:Emil Žagar
X-WR-TIMEZONE:Europe/Ljubljana
END:VEVENT
BEGIN:VEVENT
SUMMARY:Repetitorij matematike
DTSTART;TZID=Europe/Ljubljana:20240926T080000
DTEND;TZID=Europe/Ljubljana:20240926T170000
DTSTAMP:20260425T105315Z
UID:fmf-AFLABS-URNIK:rezervacija:18270
CATEGORIES:Reservation
COLOR:royalblue
DESCRIPTION:Predmeti: \nLetniki: \nIzvajalci: Emil Žagar\nProstori: 3.04
LOCATION:3.04
ORGANIZER:Emil Žagar
X-WR-TIMEZONE:Europe/Ljubljana
END:VEVENT
BEGIN:VEVENT
SUMMARY:Repetitorij matematike
DTSTART;TZID=Europe/Ljubljana:20240927T080000
DTEND;TZID=Europe/Ljubljana:20240927T170000
DTSTAMP:20260425T105315Z
UID:fmf-AFLABS-URNIK:rezervacija:18271
CATEGORIES:Reservation
COLOR:royalblue
DESCRIPTION:Predmeti: \nLetniki: \nIzvajalci: Emil Žagar\nProstori: 3.04
LOCATION:3.04
ORGANIZER:Emil Žagar
X-WR-TIMEZONE:Europe/Ljubljana
END:VEVENT
BEGIN:VEVENT
SUMMARY:Tečaj programiranja
DTSTART;TZID=Europe/Ljubljana:20240923T080000
DTEND;TZID=Europe/Ljubljana:20240923T170000
DTSTAMP:20260425T105315Z
UID:fmf-AFLABS-URNIK:rezervacija:18272
CATEGORIES:Reservation
COLOR:royalblue
DESCRIPTION:Predmeti: \nLetniki: \nIzvajalci: Emil Žagar\nProstori: 3.11
LOCATION:3.11
ORGANIZER:Emil Žagar
X-WR-TIMEZONE:Europe/Ljubljana
END:VEVENT
BEGIN:VEVENT
SUMMARY:Tečaj programiranja
DTSTART;TZID=Europe/Ljubljana:20240924T080000
DTEND;TZID=Europe/Ljubljana:20240924T170000
DTSTAMP:20260425T105315Z
UID:fmf-AFLABS-URNIK:rezervacija:18273
CATEGORIES:Reservation
COLOR:royalblue
DESCRIPTION:Predmeti: \nLetniki: \nIzvajalci: Emil Žagar\nProstori: 3.11
LOCATION:3.11
ORGANIZER:Emil Žagar
X-WR-TIMEZONE:Europe/Ljubljana
END:VEVENT
BEGIN:VEVENT
SUMMARY:Tečaj programiranja
DTSTART;TZID=Europe/Ljubljana:20240925T080000
DTEND;TZID=Europe/Ljubljana:20240925T170000
DTSTAMP:20260425T105315Z
UID:fmf-AFLABS-URNIK:rezervacija:18274
CATEGORIES:Reservation
COLOR:royalblue
DESCRIPTION:Predmeti: \nLetniki: \nIzvajalci: Emil Žagar\nProstori: 3.11
LOCATION:3.11
ORGANIZER:Emil Žagar
X-WR-TIMEZONE:Europe/Ljubljana
END:VEVENT
BEGIN:VEVENT
SUMMARY:Tečaj programiranja
DTSTART;TZID=Europe/Ljubljana:20240926T080000
DTEND;TZID=Europe/Ljubljana:20240926T170000
DTSTAMP:20260425T105315Z
UID:fmf-AFLABS-URNIK:rezervacija:18275
CATEGORIES:Reservation
COLOR:royalblue
DESCRIPTION:Predmeti: \nLetniki: \nIzvajalci: Emil Žagar\nProstori: 3.11
LOCATION:3.11
ORGANIZER:Emil Žagar
X-WR-TIMEZONE:Europe/Ljubljana
END:VEVENT
BEGIN:VEVENT
SUMMARY:Tečaj programiranja
DTSTART;TZID=Europe/Ljubljana:20240927T080000
DTEND;TZID=Europe/Ljubljana:20240927T170000
DTSTAMP:20260425T105315Z
UID:fmf-AFLABS-URNIK:rezervacija:18276
CATEGORIES:Reservation
COLOR:royalblue
DESCRIPTION:Predmeti: \nLetniki: \nIzvajalci: Emil Žagar\nProstori: 3.11
LOCATION:3.11
ORGANIZER:Emil Žagar
X-WR-TIMEZONE:Europe/Ljubljana
END:VEVENT
BEGIN:VEVENT
SUMMARY:Predstavitev praktičnega usposabljanja\, Prak. mat.\, Zakrajšek
DTSTART;TZID=Europe/Ljubljana:20240930T130000
DTEND;TZID=Europe/Ljubljana:20240930T140000
DTSTAMP:20260425T105315Z
UID:fmf-AFLABS-URNIK:rezervacija:18463
CATEGORIES:Reservation
COLOR:royalblue
DESCRIPTION:Predmeti: \nLetniki: \nIzvajalci: Emil Žagar\nProstori: 3.07
LOCATION:3.07
ORGANIZER:Emil Žagar
X-WR-TIMEZONE:Europe/Ljubljana
END:VEVENT
END:VCALENDAR
