BEGIN:VCALENDAR
VERSION:2.0
PRODID:-//AFLabs urnik izvoz - fmf//aflabs.si//SI
DTSTAMP:20260424T070411Z
NAME:UL FMF urnik
REFRESH-INTERVAL:PT1H
SOURCE:https://urnik.fmf.uni-lj.si/teacher/355?day=2020-04-06&export=1
URL:https://urnik.fmf.uni-lj.si/teacher/355?day=2020-04-06&export=1
X-PUBLISHED-TTL:PT1H
X-WR-CALNAME:UL FMF urnik
X-WR-TIMEZONE:Europe/Ljubljana
BEGIN:VTIMEZONE
TZID:Europe/Ljubljana
BEGIN:DAYLIGHT
DTSTART:20260329T020000
RDATE:20260329T020000
RDATE:20270328T020000
TZNAME:CEST
TZOFFSETFROM:+0100
TZOFFSETTO:+0200
END:DAYLIGHT
BEGIN:STANDARD
DTSTART:20261025T030000
RDATE:20261025T030000
RDATE:20271031T030000
TZNAME:CET
TZOFFSETFROM:+0200
TZOFFSETTO:+0100
END:STANDARD
END:VTIMEZONE
BEGIN:VEVENT
SUMMARY:Kardinalna aritmetika (FM-M\, MAT-M\, PM-5)\, Vaje (V)
DTSTART;TZID=Europe/Ljubljana:20200220T160000
DTEND;TZID=Europe/Ljubljana:20200220T180000
DTSTAMP:20260424T070411Z
UID:fmf-AFLABS-URNIK:premaknjeno-srecanje:48692
ATTENDEE:5. letnik (PM)
ATTENDEE:magistrski študij (FM)
ATTENDEE:magistrski študij (M)
CATEGORIES:Entry,Standard
COLOR:darkgreen
DESCRIPTION:Predmet: Kardinalna aritmetika (FM-M\, MAT-M\, PM-5)\, Vaje (V
 )\nLetniki: magistrski študij (FM)\, magistrski študij (M)\, 5. letnik (
 PM)\nIzvajalci: Gregor Dolinar\nProstor: 2.02
LOCATION:2.02
ORGANIZER:Gregor Dolinar
RELATED-TO:fmf-AFLABS-URNIK:srecanje:4238
X-WR-TIMEZONE:Europe/Ljubljana
END:VEVENT
BEGIN:VEVENT
SUMMARY:Kardinalna aritmetika (FM-M\, MAT-M\, PM-5)\, Vaje (V)
DTSTART;TZID=Europe/Ljubljana:20200227T160000
DTEND;TZID=Europe/Ljubljana:20200227T180000
DTSTAMP:20260424T070411Z
UID:fmf-AFLABS-URNIK:premaknjeno-srecanje:48693
ATTENDEE:5. letnik (PM)
ATTENDEE:magistrski študij (FM)
ATTENDEE:magistrski študij (M)
CATEGORIES:Entry,Standard
COLOR:darkgreen
DESCRIPTION:Predmet: Kardinalna aritmetika (FM-M\, MAT-M\, PM-5)\, Vaje (V
 )\nLetniki: magistrski študij (FM)\, magistrski študij (M)\, 5. letnik (
 PM)\nIzvajalci: Gregor Dolinar\nProstor: 2.02
LOCATION:2.02
ORGANIZER:Gregor Dolinar
RELATED-TO:fmf-AFLABS-URNIK:srecanje:4238
X-WR-TIMEZONE:Europe/Ljubljana
END:VEVENT
BEGIN:VEVENT
SUMMARY:Kardinalna aritmetika (FM-M\, MAT-M\, PM-5)\, Vaje (V)
DTSTART;TZID=Europe/Ljubljana:20200305T160000
DTEND;TZID=Europe/Ljubljana:20200305T180000
DTSTAMP:20260424T070411Z
UID:fmf-AFLABS-URNIK:premaknjeno-srecanje:48694
ATTENDEE:5. letnik (PM)
ATTENDEE:magistrski študij (FM)
ATTENDEE:magistrski študij (M)
CATEGORIES:Entry,Standard
COLOR:darkgreen
DESCRIPTION:Predmet: Kardinalna aritmetika (FM-M\, MAT-M\, PM-5)\, Vaje (V
 )\nLetniki: magistrski študij (FM)\, magistrski študij (M)\, 5. letnik (
 PM)\nIzvajalci: Gregor Dolinar\nProstor: 2.02
LOCATION:2.02
ORGANIZER:Gregor Dolinar
RELATED-TO:fmf-AFLABS-URNIK:srecanje:4238
X-WR-TIMEZONE:Europe/Ljubljana
END:VEVENT
BEGIN:VEVENT
SUMMARY:Kardinalna aritmetika (FM-M\, MAT-M\, PM-5)\, Vaje (V)
DTSTART;TZID=Europe/Ljubljana:20200312T160000
DTEND;TZID=Europe/Ljubljana:20200312T180000
DTSTAMP:20260424T070411Z
UID:fmf-AFLABS-URNIK:premaknjeno-srecanje:48695
ATTENDEE:5. letnik (PM)
ATTENDEE:magistrski študij (FM)
ATTENDEE:magistrski študij (M)
CATEGORIES:Entry,Standard
COLOR:darkgreen
DESCRIPTION:Predmet: Kardinalna aritmetika (FM-M\, MAT-M\, PM-5)\, Vaje (V
 )\nLetniki: magistrski študij (FM)\, magistrski študij (M)\, 5. letnik (
 PM)\nIzvajalci: Gregor Dolinar\nProstor: 2.02
LOCATION:2.02
ORGANIZER:Gregor Dolinar
RELATED-TO:fmf-AFLABS-URNIK:srecanje:4238
X-WR-TIMEZONE:Europe/Ljubljana
END:VEVENT
BEGIN:VEVENT
SUMMARY:Kardinalna aritmetika (FM-M\, MAT-M\, PM-5)\, Vaje (V)
DTSTART;TZID=Europe/Ljubljana:20200319T160000
DTEND;TZID=Europe/Ljubljana:20200319T180000
DTSTAMP:20260424T070411Z
UID:fmf-AFLABS-URNIK:premaknjeno-srecanje:48696
ATTENDEE:5. letnik (PM)
ATTENDEE:magistrski študij (FM)
ATTENDEE:magistrski študij (M)
CATEGORIES:Entry,Standard
COLOR:darkgreen
DESCRIPTION:Predmet: Kardinalna aritmetika (FM-M\, MAT-M\, PM-5)\, Vaje (V
 )\nLetniki: magistrski študij (FM)\, magistrski študij (M)\, 5. letnik (
 PM)\nIzvajalci: Gregor Dolinar\nProstor: 2.02
LOCATION:2.02
ORGANIZER:Gregor Dolinar
RELATED-TO:fmf-AFLABS-URNIK:srecanje:4238
X-WR-TIMEZONE:Europe/Ljubljana
END:VEVENT
BEGIN:VEVENT
SUMMARY:Kardinalna aritmetika (FM-M\, MAT-M\, PM-5)\, Vaje (V)
DTSTART;TZID=Europe/Ljubljana:20200326T160000
DTEND;TZID=Europe/Ljubljana:20200326T180000
DTSTAMP:20260424T070411Z
UID:fmf-AFLABS-URNIK:premaknjeno-srecanje:48697
ATTENDEE:5. letnik (PM)
ATTENDEE:magistrski študij (FM)
ATTENDEE:magistrski študij (M)
CATEGORIES:Entry,Standard
COLOR:darkgreen
DESCRIPTION:Predmet: Kardinalna aritmetika (FM-M\, MAT-M\, PM-5)\, Vaje (V
 )\nLetniki: magistrski študij (FM)\, magistrski študij (M)\, 5. letnik (
 PM)\nIzvajalci: Gregor Dolinar\nProstor: 2.02
LOCATION:2.02
ORGANIZER:Gregor Dolinar
RELATED-TO:fmf-AFLABS-URNIK:srecanje:4238
X-WR-TIMEZONE:Europe/Ljubljana
END:VEVENT
BEGIN:VEVENT
SUMMARY:Kardinalna aritmetika (FM-M\, MAT-M\, PM-5)\, Vaje (V)
DTSTART;TZID=Europe/Ljubljana:20200402T160000
DTEND;TZID=Europe/Ljubljana:20200402T180000
DTSTAMP:20260424T070411Z
UID:fmf-AFLABS-URNIK:premaknjeno-srecanje:48698
ATTENDEE:5. letnik (PM)
ATTENDEE:magistrski študij (FM)
ATTENDEE:magistrski študij (M)
CATEGORIES:Entry,Standard
COLOR:darkgreen
DESCRIPTION:Predmet: Kardinalna aritmetika (FM-M\, MAT-M\, PM-5)\, Vaje (V
 )\nLetniki: magistrski študij (FM)\, magistrski študij (M)\, 5. letnik (
 PM)\nIzvajalci: Gregor Dolinar\nProstor: 2.02
LOCATION:2.02
ORGANIZER:Gregor Dolinar
RELATED-TO:fmf-AFLABS-URNIK:srecanje:4238
X-WR-TIMEZONE:Europe/Ljubljana
END:VEVENT
BEGIN:VEVENT
SUMMARY:Kardinalna aritmetika (FM-M\, MAT-M\, PM-5)\, Vaje (V)
DTSTART;TZID=Europe/Ljubljana:20200409T160000
DTEND;TZID=Europe/Ljubljana:20200409T180000
DTSTAMP:20260424T070411Z
UID:fmf-AFLABS-URNIK:premaknjeno-srecanje:48699
ATTENDEE:5. letnik (PM)
ATTENDEE:magistrski študij (FM)
ATTENDEE:magistrski študij (M)
CATEGORIES:Entry,Standard
COLOR:darkgreen
DESCRIPTION:Predmet: Kardinalna aritmetika (FM-M\, MAT-M\, PM-5)\, Vaje (V
 )\nLetniki: magistrski študij (FM)\, magistrski študij (M)\, 5. letnik (
 PM)\nIzvajalci: Gregor Dolinar\nProstor: 2.02
LOCATION:2.02
ORGANIZER:Gregor Dolinar
RELATED-TO:fmf-AFLABS-URNIK:srecanje:4238
X-WR-TIMEZONE:Europe/Ljubljana
END:VEVENT
BEGIN:VEVENT
SUMMARY:Kardinalna aritmetika (FM-M\, MAT-M\, PM-5)\, Vaje (V)
DTSTART;TZID=Europe/Ljubljana:20200416T160000
DTEND;TZID=Europe/Ljubljana:20200416T180000
DTSTAMP:20260424T070411Z
UID:fmf-AFLABS-URNIK:premaknjeno-srecanje:48700
ATTENDEE:5. letnik (PM)
ATTENDEE:magistrski študij (FM)
ATTENDEE:magistrski študij (M)
CATEGORIES:Entry,Standard
COLOR:darkgreen
DESCRIPTION:Predmet: Kardinalna aritmetika (FM-M\, MAT-M\, PM-5)\, Vaje (V
 )\nLetniki: magistrski študij (FM)\, magistrski študij (M)\, 5. letnik (
 PM)\nIzvajalci: Gregor Dolinar\nProstor: 2.02
LOCATION:2.02
ORGANIZER:Gregor Dolinar
RELATED-TO:fmf-AFLABS-URNIK:srecanje:4238
X-WR-TIMEZONE:Europe/Ljubljana
END:VEVENT
BEGIN:VEVENT
SUMMARY:Kardinalna aritmetika (FM-M\, MAT-M\, PM-5)\, Vaje (V)
DTSTART;TZID=Europe/Ljubljana:20200423T160000
DTEND;TZID=Europe/Ljubljana:20200423T180000
DTSTAMP:20260424T070411Z
UID:fmf-AFLABS-URNIK:premaknjeno-srecanje:48701
ATTENDEE:5. letnik (PM)
ATTENDEE:magistrski študij (FM)
ATTENDEE:magistrski študij (M)
CATEGORIES:Entry,Standard
COLOR:darkgreen
DESCRIPTION:Predmet: Kardinalna aritmetika (FM-M\, MAT-M\, PM-5)\, Vaje (V
 )\nLetniki: magistrski študij (FM)\, magistrski študij (M)\, 5. letnik (
 PM)\nIzvajalci: Gregor Dolinar\nProstor: 2.02
LOCATION:2.02
ORGANIZER:Gregor Dolinar
RELATED-TO:fmf-AFLABS-URNIK:srecanje:4238
X-WR-TIMEZONE:Europe/Ljubljana
END:VEVENT
BEGIN:VEVENT
SUMMARY:Kardinalna aritmetika (FM-M\, MAT-M\, PM-5)\, Vaje (V)
DTSTART;TZID=Europe/Ljubljana:20200430T160000
DTEND;TZID=Europe/Ljubljana:20200430T180000
DTSTAMP:20260424T070411Z
UID:fmf-AFLABS-URNIK:premaknjeno-srecanje:48702
ATTENDEE:5. letnik (PM)
ATTENDEE:magistrski študij (FM)
ATTENDEE:magistrski študij (M)
CATEGORIES:Entry,Standard
COLOR:darkgreen
DESCRIPTION:Predmet: Kardinalna aritmetika (FM-M\, MAT-M\, PM-5)\, Vaje (V
 )\nLetniki: magistrski študij (FM)\, magistrski študij (M)\, 5. letnik (
 PM)\nIzvajalci: Gregor Dolinar\nProstor: 2.02
LOCATION:2.02
ORGANIZER:Gregor Dolinar
RELATED-TO:fmf-AFLABS-URNIK:srecanje:4238
X-WR-TIMEZONE:Europe/Ljubljana
END:VEVENT
BEGIN:VEVENT
SUMMARY:Kardinalna aritmetika (FM-M\, MAT-M\, PM-5)\, Vaje (V)
DTSTART;TZID=Europe/Ljubljana:20200507T160000
DTEND;TZID=Europe/Ljubljana:20200507T180000
DTSTAMP:20260424T070411Z
UID:fmf-AFLABS-URNIK:premaknjeno-srecanje:48703
ATTENDEE:5. letnik (PM)
ATTENDEE:magistrski študij (FM)
ATTENDEE:magistrski študij (M)
CATEGORIES:Entry,Standard
COLOR:darkgreen
DESCRIPTION:Predmet: Kardinalna aritmetika (FM-M\, MAT-M\, PM-5)\, Vaje (V
 )\nLetniki: magistrski študij (FM)\, magistrski študij (M)\, 5. letnik (
 PM)\nIzvajalci: Gregor Dolinar\nProstor: 2.02
LOCATION:2.02
ORGANIZER:Gregor Dolinar
RELATED-TO:fmf-AFLABS-URNIK:srecanje:4238
X-WR-TIMEZONE:Europe/Ljubljana
END:VEVENT
BEGIN:VEVENT
SUMMARY:Kardinalna aritmetika (FM-M\, MAT-M\, PM-5)\, Vaje (V)
DTSTART;TZID=Europe/Ljubljana:20200514T160000
DTEND;TZID=Europe/Ljubljana:20200514T180000
DTSTAMP:20260424T070411Z
UID:fmf-AFLABS-URNIK:premaknjeno-srecanje:48704
ATTENDEE:5. letnik (PM)
ATTENDEE:magistrski študij (FM)
ATTENDEE:magistrski študij (M)
CATEGORIES:Entry,Standard
COLOR:darkgreen
DESCRIPTION:Predmet: Kardinalna aritmetika (FM-M\, MAT-M\, PM-5)\, Vaje (V
 )\nLetniki: magistrski študij (FM)\, magistrski študij (M)\, 5. letnik (
 PM)\nIzvajalci: Gregor Dolinar\nProstor: 2.02
LOCATION:2.02
ORGANIZER:Gregor Dolinar
RELATED-TO:fmf-AFLABS-URNIK:srecanje:4238
X-WR-TIMEZONE:Europe/Ljubljana
END:VEVENT
BEGIN:VEVENT
SUMMARY:Kardinalna aritmetika (FM-M\, MAT-M\, PM-5)\, Vaje (V)
DTSTART;TZID=Europe/Ljubljana:20200521T160000
DTEND;TZID=Europe/Ljubljana:20200521T180000
DTSTAMP:20260424T070411Z
UID:fmf-AFLABS-URNIK:premaknjeno-srecanje:48705
ATTENDEE:5. letnik (PM)
ATTENDEE:magistrski študij (FM)
ATTENDEE:magistrski študij (M)
CATEGORIES:Entry,Standard
COLOR:darkgreen
DESCRIPTION:Predmet: Kardinalna aritmetika (FM-M\, MAT-M\, PM-5)\, Vaje (V
 )\nLetniki: magistrski študij (FM)\, magistrski študij (M)\, 5. letnik (
 PM)\nIzvajalci: Gregor Dolinar\nProstor: 2.02
LOCATION:2.02
ORGANIZER:Gregor Dolinar
RELATED-TO:fmf-AFLABS-URNIK:srecanje:4238
X-WR-TIMEZONE:Europe/Ljubljana
END:VEVENT
BEGIN:VEVENT
SUMMARY:Kardinalna aritmetika (FM-M\, MAT-M\, PM-5)\, Vaje (V)
DTSTART;TZID=Europe/Ljubljana:20200528T160000
DTEND;TZID=Europe/Ljubljana:20200528T180000
DTSTAMP:20260424T070411Z
UID:fmf-AFLABS-URNIK:premaknjeno-srecanje:48706
ATTENDEE:5. letnik (PM)
ATTENDEE:magistrski študij (FM)
ATTENDEE:magistrski študij (M)
CATEGORIES:Entry,Standard
COLOR:darkgreen
DESCRIPTION:Predmet: Kardinalna aritmetika (FM-M\, MAT-M\, PM-5)\, Vaje (V
 )\nLetniki: magistrski študij (FM)\, magistrski študij (M)\, 5. letnik (
 PM)\nIzvajalci: Gregor Dolinar\nProstor: 2.02
LOCATION:2.02
ORGANIZER:Gregor Dolinar
RELATED-TO:fmf-AFLABS-URNIK:srecanje:4238
X-WR-TIMEZONE:Europe/Ljubljana
END:VEVENT
END:VCALENDAR
