BEGIN:VCALENDAR
VERSION:2.0
PRODID:-//AFLabs urnik izvoz - fmf//aflabs.si//SI
DTSTAMP:20260422T180535Z
NAME:UL FMF urnik
REFRESH-INTERVAL:PT1H
SOURCE:https://urnik.fmf.uni-lj.si/teacher/356?day=2021-02-08&export=1
URL:https://urnik.fmf.uni-lj.si/teacher/356?day=2021-02-08&export=1
X-PUBLISHED-TTL:PT1H
X-WR-CALNAME:UL FMF urnik
X-WR-TIMEZONE:Europe/Ljubljana
BEGIN:VTIMEZONE
TZID:Europe/Ljubljana
BEGIN:DAYLIGHT
DTSTART:20260329T020000
RDATE:20260329T020000
RDATE:20270328T020000
TZNAME:CEST
TZOFFSETFROM:+0100
TZOFFSETTO:+0200
END:DAYLIGHT
BEGIN:STANDARD
DTSTART:20261025T030000
RDATE:20261025T030000
RDATE:20271031T030000
TZNAME:CET
TZOFFSETFROM:+0200
TZOFFSETTO:+0100
END:STANDARD
END:VTIMEZONE
BEGIN:VEVENT
SUMMARY:Matematika III (FIZ-2)\, Vaje (V)\, [1]
DTSTART;TZID=Europe/Ljubljana:20210105T150000
DTEND;TZID=Europe/Ljubljana:20210105T180000
DTSTAMP:20260422T180535Z
UID:fmf-AFLABS-URNIK:premaknjeno-srecanje:66416
ATTENDEE:2. letnik (Fizika, 1. stopnja)
CATEGORIES:Entry,Standard
COLOR:darkgreen
DESCRIPTION:Predmet: Matematika III (FIZ-2)\, Vaje (V)\, [1]\nLetniki: 2. 
 letnik (Fizika\, 1. stopnja)\nIzvajalci: Dejan Govc\nProstor: F2
LOCATION:F2
ORGANIZER:Dejan Govc
RELATED-TO:fmf-AFLABS-URNIK:srecanje:5423
X-WR-TIMEZONE:Europe/Ljubljana
END:VEVENT
BEGIN:VEVENT
SUMMARY:Matematika III (FIZ-2)\, Vaje (V)\, [1]
DTSTART;TZID=Europe/Ljubljana:20210112T150000
DTEND;TZID=Europe/Ljubljana:20210112T180000
DTSTAMP:20260422T180535Z
UID:fmf-AFLABS-URNIK:premaknjeno-srecanje:66417
ATTENDEE:2. letnik (Fizika, 1. stopnja)
CATEGORIES:Entry,Standard
COLOR:darkgreen
DESCRIPTION:Predmet: Matematika III (FIZ-2)\, Vaje (V)\, [1]\nLetniki: 2. 
 letnik (Fizika\, 1. stopnja)\nIzvajalci: Dejan Govc\nProstor: F2
LOCATION:F2
ORGANIZER:Dejan Govc
RELATED-TO:fmf-AFLABS-URNIK:srecanje:5423
X-WR-TIMEZONE:Europe/Ljubljana
END:VEVENT
BEGIN:VEVENT
SUMMARY:Uvod v harmonično analizo (FM-M\, MAT-M\, PM-5)\, Vaje (V)
DTSTART;TZID=Europe/Ljubljana:20210108T130000
DTEND;TZID=Europe/Ljubljana:20210108T150000
DTSTAMP:20260422T180535Z
UID:fmf-AFLABS-URNIK:premaknjeno-srecanje:116597
ATTENDEE:5. letnik (PM)
ATTENDEE:magistrski študij (FM)
ATTENDEE:magistrski študij (M)
CATEGORIES:Entry,Standard
COLOR:darkgreen
DESCRIPTION:Predmet: Uvod v harmonično analizo (FM-M\, MAT-M\, PM-5)\, Va
 je (V)\nLetniki: magistrski študij (FM)\, magistrski študij (M)\, 5. let
 nik (PM)\nIzvajalci: Dejan Govc\nProstor: 3.07
LOCATION:3.07
ORGANIZER:Dejan Govc
RELATED-TO:fmf-AFLABS-URNIK:srecanje:4922
X-WR-TIMEZONE:Europe/Ljubljana
END:VEVENT
BEGIN:VEVENT
SUMMARY:Uvod v harmonično analizo (FM-M\, MAT-M\, PM-5)\, Vaje (V)
DTSTART;TZID=Europe/Ljubljana:20210115T130000
DTEND;TZID=Europe/Ljubljana:20210115T150000
DTSTAMP:20260422T180535Z
UID:fmf-AFLABS-URNIK:premaknjeno-srecanje:116598
ATTENDEE:5. letnik (PM)
ATTENDEE:magistrski študij (FM)
ATTENDEE:magistrski študij (M)
CATEGORIES:Entry,Standard
COLOR:darkgreen
DESCRIPTION:Predmet: Uvod v harmonično analizo (FM-M\, MAT-M\, PM-5)\, Va
 je (V)\nLetniki: magistrski študij (FM)\, magistrski študij (M)\, 5. let
 nik (PM)\nIzvajalci: Dejan Govc\nProstor: 3.07
LOCATION:3.07
ORGANIZER:Dejan Govc
RELATED-TO:fmf-AFLABS-URNIK:srecanje:4922
X-WR-TIMEZONE:Europe/Ljubljana
END:VEVENT
BEGIN:VEVENT
SUMMARY:Analiza 4 (MAT-3)\, Vaje (V)
DTSTART;TZID=Europe/Ljubljana:20210215T110000
DTEND;TZID=Europe/Ljubljana:20210215T120000
DTSTAMP:20260422T180535Z
UID:fmf-AFLABS-URNIK:premaknjeno-srecanje:9297
ATTENDEE:3. letnik (M)
CATEGORIES:Entry,Standard
COLOR:darkgreen
DESCRIPTION:Predmet: Analiza 4 (MAT-3)\, Vaje (V)\nLetniki: 3. letnik (M)\
 nIzvajalci: Dejan Govc\nProstor: 3.04
LOCATION:3.04
ORGANIZER:Dejan Govc
RELATED-TO:fmf-AFLABS-URNIK:srecanje:5469
X-WR-TIMEZONE:Europe/Ljubljana
END:VEVENT
BEGIN:VEVENT
SUMMARY:Analiza 4 (MAT-3)\, Vaje (V)
DTSTART;TZID=Europe/Ljubljana:20210222T110000
DTEND;TZID=Europe/Ljubljana:20210222T120000
DTSTAMP:20260422T180535Z
UID:fmf-AFLABS-URNIK:premaknjeno-srecanje:9298
ATTENDEE:3. letnik (M)
CATEGORIES:Entry,Standard
COLOR:darkgreen
DESCRIPTION:Predmet: Analiza 4 (MAT-3)\, Vaje (V)\nLetniki: 3. letnik (M)\
 nIzvajalci: Dejan Govc\nProstor: 3.04
LOCATION:3.04
ORGANIZER:Dejan Govc
RELATED-TO:fmf-AFLABS-URNIK:srecanje:5469
X-WR-TIMEZONE:Europe/Ljubljana
END:VEVENT
BEGIN:VEVENT
SUMMARY:Analiza 4 (MAT-3)\, Vaje (V)
DTSTART;TZID=Europe/Ljubljana:20210301T110000
DTEND;TZID=Europe/Ljubljana:20210301T120000
DTSTAMP:20260422T180535Z
UID:fmf-AFLABS-URNIK:premaknjeno-srecanje:9299
ATTENDEE:3. letnik (M)
CATEGORIES:Entry,Standard
COLOR:darkgreen
DESCRIPTION:Predmet: Analiza 4 (MAT-3)\, Vaje (V)\nLetniki: 3. letnik (M)\
 nIzvajalci: Dejan Govc\nProstor: 3.04
LOCATION:3.04
ORGANIZER:Dejan Govc
RELATED-TO:fmf-AFLABS-URNIK:srecanje:5469
X-WR-TIMEZONE:Europe/Ljubljana
END:VEVENT
BEGIN:VEVENT
SUMMARY:Analiza 4 (MAT-3)\, Vaje (V)
DTSTART;TZID=Europe/Ljubljana:20210308T110000
DTEND;TZID=Europe/Ljubljana:20210308T120000
DTSTAMP:20260422T180535Z
UID:fmf-AFLABS-URNIK:premaknjeno-srecanje:9300
ATTENDEE:3. letnik (M)
CATEGORIES:Entry,Standard
COLOR:darkgreen
DESCRIPTION:Predmet: Analiza 4 (MAT-3)\, Vaje (V)\nLetniki: 3. letnik (M)\
 nIzvajalci: Dejan Govc\nProstor: 3.04
LOCATION:3.04
ORGANIZER:Dejan Govc
RELATED-TO:fmf-AFLABS-URNIK:srecanje:5469
X-WR-TIMEZONE:Europe/Ljubljana
END:VEVENT
BEGIN:VEVENT
SUMMARY:Analiza 4 (MAT-3)\, Vaje (V)
DTSTART;TZID=Europe/Ljubljana:20210315T110000
DTEND;TZID=Europe/Ljubljana:20210315T120000
DTSTAMP:20260422T180535Z
UID:fmf-AFLABS-URNIK:premaknjeno-srecanje:9301
ATTENDEE:3. letnik (M)
CATEGORIES:Entry,Standard
COLOR:darkgreen
DESCRIPTION:Predmet: Analiza 4 (MAT-3)\, Vaje (V)\nLetniki: 3. letnik (M)\
 nIzvajalci: Dejan Govc\nProstor: 3.04
LOCATION:3.04
ORGANIZER:Dejan Govc
RELATED-TO:fmf-AFLABS-URNIK:srecanje:5469
X-WR-TIMEZONE:Europe/Ljubljana
END:VEVENT
BEGIN:VEVENT
SUMMARY:Analiza 4 (MAT-3)\, Vaje (V)
DTSTART;TZID=Europe/Ljubljana:20210218T100000
DTEND;TZID=Europe/Ljubljana:20210218T120000
DTSTAMP:20260422T180535Z
UID:fmf-AFLABS-URNIK:premaknjeno-srecanje:9469
ATTENDEE:3. letnik (M)
CATEGORIES:Entry,Standard
COLOR:darkgreen
DESCRIPTION:Predmet: Analiza 4 (MAT-3)\, Vaje (V)\nLetniki: 3. letnik (M)\
 nIzvajalci: Dejan Govc\nProstor: 2.03
LOCATION:2.03
ORGANIZER:Dejan Govc
RELATED-TO:fmf-AFLABS-URNIK:srecanje:6040
X-WR-TIMEZONE:Europe/Ljubljana
END:VEVENT
BEGIN:VEVENT
SUMMARY:Analiza 4 (MAT-3)\, Vaje (V)
DTSTART;TZID=Europe/Ljubljana:20210225T100000
DTEND;TZID=Europe/Ljubljana:20210225T120000
DTSTAMP:20260422T180535Z
UID:fmf-AFLABS-URNIK:premaknjeno-srecanje:9470
ATTENDEE:3. letnik (M)
CATEGORIES:Entry,Standard
COLOR:darkgreen
DESCRIPTION:Predmet: Analiza 4 (MAT-3)\, Vaje (V)\nLetniki: 3. letnik (M)\
 nIzvajalci: Dejan Govc\nProstor: 2.03
LOCATION:2.03
ORGANIZER:Dejan Govc
RELATED-TO:fmf-AFLABS-URNIK:srecanje:6040
X-WR-TIMEZONE:Europe/Ljubljana
END:VEVENT
BEGIN:VEVENT
SUMMARY:Analiza 4 (MAT-3)\, Vaje (V)
DTSTART;TZID=Europe/Ljubljana:20210304T100000
DTEND;TZID=Europe/Ljubljana:20210304T120000
DTSTAMP:20260422T180535Z
UID:fmf-AFLABS-URNIK:premaknjeno-srecanje:9471
ATTENDEE:3. letnik (M)
CATEGORIES:Entry,Standard
COLOR:darkgreen
DESCRIPTION:Predmet: Analiza 4 (MAT-3)\, Vaje (V)\nLetniki: 3. letnik (M)\
 nIzvajalci: Dejan Govc\nProstor: 2.03
LOCATION:2.03
ORGANIZER:Dejan Govc
RELATED-TO:fmf-AFLABS-URNIK:srecanje:6040
X-WR-TIMEZONE:Europe/Ljubljana
END:VEVENT
BEGIN:VEVENT
SUMMARY:Analiza 4 (MAT-3)\, Vaje (V)
DTSTART;TZID=Europe/Ljubljana:20210311T100000
DTEND;TZID=Europe/Ljubljana:20210311T120000
DTSTAMP:20260422T180535Z
UID:fmf-AFLABS-URNIK:premaknjeno-srecanje:9472
ATTENDEE:3. letnik (M)
CATEGORIES:Entry,Standard
COLOR:darkgreen
DESCRIPTION:Predmet: Analiza 4 (MAT-3)\, Vaje (V)\nLetniki: 3. letnik (M)\
 nIzvajalci: Dejan Govc\nProstor: 2.03
LOCATION:2.03
ORGANIZER:Dejan Govc
RELATED-TO:fmf-AFLABS-URNIK:srecanje:6040
X-WR-TIMEZONE:Europe/Ljubljana
END:VEVENT
BEGIN:VEVENT
SUMMARY:Izbrana poglavja iz matematike (IŠRM-2)\, Vaje (V)
DTSTART;TZID=Europe/Ljubljana:20210219T130000
DTEND;TZID=Europe/Ljubljana:20210219T150000
DTSTAMP:20260422T180535Z
UID:fmf-AFLABS-URNIK:premaknjeno-srecanje:43591
ATTENDEE:2. letnik (IŠRM)
CATEGORIES:Entry,Standard
COLOR:darkgreen
DESCRIPTION:Predmet: Izbrana poglavja iz matematike (IŠRM-2)\, Vaje (V)\n
 Letniki: 2. letnik (IŠRM)\nIzvajalci: Dejan Govc\nProstor: 2.04
LOCATION:2.04
ORGANIZER:Dejan Govc
RELATED-TO:fmf-AFLABS-URNIK:srecanje:5616
X-WR-TIMEZONE:Europe/Ljubljana
END:VEVENT
BEGIN:VEVENT
SUMMARY:Izbrana poglavja iz matematike (IŠRM-2)\, Vaje (V)
DTSTART;TZID=Europe/Ljubljana:20210226T130000
DTEND;TZID=Europe/Ljubljana:20210226T150000
DTSTAMP:20260422T180535Z
UID:fmf-AFLABS-URNIK:premaknjeno-srecanje:43592
ATTENDEE:2. letnik (IŠRM)
CATEGORIES:Entry,Standard
COLOR:darkgreen
DESCRIPTION:Predmet: Izbrana poglavja iz matematike (IŠRM-2)\, Vaje (V)\n
 Letniki: 2. letnik (IŠRM)\nIzvajalci: Dejan Govc\nProstor: 2.04
LOCATION:2.04
ORGANIZER:Dejan Govc
RELATED-TO:fmf-AFLABS-URNIK:srecanje:5616
X-WR-TIMEZONE:Europe/Ljubljana
END:VEVENT
BEGIN:VEVENT
SUMMARY:Izbrana poglavja iz matematike (IŠRM-2)\, Vaje (V)
DTSTART;TZID=Europe/Ljubljana:20210305T130000
DTEND;TZID=Europe/Ljubljana:20210305T150000
DTSTAMP:20260422T180535Z
UID:fmf-AFLABS-URNIK:premaknjeno-srecanje:43593
ATTENDEE:2. letnik (IŠRM)
CATEGORIES:Entry,Standard
COLOR:darkgreen
DESCRIPTION:Predmet: Izbrana poglavja iz matematike (IŠRM-2)\, Vaje (V)\n
 Letniki: 2. letnik (IŠRM)\nIzvajalci: Dejan Govc\nProstor: 2.04
LOCATION:2.04
ORGANIZER:Dejan Govc
RELATED-TO:fmf-AFLABS-URNIK:srecanje:5616
X-WR-TIMEZONE:Europe/Ljubljana
END:VEVENT
BEGIN:VEVENT
SUMMARY:Izbrana poglavja iz matematike (IŠRM-2)\, Vaje (V)
DTSTART;TZID=Europe/Ljubljana:20210312T130000
DTEND;TZID=Europe/Ljubljana:20210312T150000
DTSTAMP:20260422T180535Z
UID:fmf-AFLABS-URNIK:premaknjeno-srecanje:43594
ATTENDEE:2. letnik (IŠRM)
CATEGORIES:Entry,Standard
COLOR:darkgreen
DESCRIPTION:Predmet: Izbrana poglavja iz matematike (IŠRM-2)\, Vaje (V)\n
 Letniki: 2. letnik (IŠRM)\nIzvajalci: Dejan Govc\nProstor: 2.04
LOCATION:2.04
ORGANIZER:Dejan Govc
RELATED-TO:fmf-AFLABS-URNIK:srecanje:5616
X-WR-TIMEZONE:Europe/Ljubljana
END:VEVENT
BEGIN:VEVENT
SUMMARY:Parcialne diferencialne enačbe (FM-M\, MAT-M\, PM-5)\, Vaje (V)
DTSTART;TZID=Europe/Ljubljana:20210219T080000
DTEND;TZID=Europe/Ljubljana:20210219T100000
DTSTAMP:20260422T180535Z
UID:fmf-AFLABS-URNIK:premaknjeno-srecanje:82303
ATTENDEE:5. letnik (PM)
ATTENDEE:magistrski študij (FM)
ATTENDEE:magistrski študij (M)
CATEGORIES:Entry,Standard
COLOR:darkgreen
DESCRIPTION:Predmet: Parcialne diferencialne enačbe (FM-M\, MAT-M\, PM-5)
 \, Vaje (V)\nLetniki: magistrski študij (FM)\, magistrski študij (M)\, 5
 . letnik (PM)\nIzvajalci: Dejan Govc\nProstor: 3.06
LOCATION:3.06
ORGANIZER:Dejan Govc
RELATED-TO:fmf-AFLABS-URNIK:srecanje:5809
X-WR-TIMEZONE:Europe/Ljubljana
END:VEVENT
BEGIN:VEVENT
SUMMARY:Parcialne diferencialne enačbe (FM-M\, MAT-M\, PM-5)\, Vaje (V)
DTSTART;TZID=Europe/Ljubljana:20210226T080000
DTEND;TZID=Europe/Ljubljana:20210226T100000
DTSTAMP:20260422T180535Z
UID:fmf-AFLABS-URNIK:premaknjeno-srecanje:82304
ATTENDEE:5. letnik (PM)
ATTENDEE:magistrski študij (FM)
ATTENDEE:magistrski študij (M)
CATEGORIES:Entry,Standard
COLOR:darkgreen
DESCRIPTION:Predmet: Parcialne diferencialne enačbe (FM-M\, MAT-M\, PM-5)
 \, Vaje (V)\nLetniki: magistrski študij (FM)\, magistrski študij (M)\, 5
 . letnik (PM)\nIzvajalci: Dejan Govc\nProstor: 3.06
LOCATION:3.06
ORGANIZER:Dejan Govc
RELATED-TO:fmf-AFLABS-URNIK:srecanje:5809
X-WR-TIMEZONE:Europe/Ljubljana
END:VEVENT
BEGIN:VEVENT
SUMMARY:Parcialne diferencialne enačbe (FM-M\, MAT-M\, PM-5)\, Vaje (V)
DTSTART;TZID=Europe/Ljubljana:20210305T080000
DTEND;TZID=Europe/Ljubljana:20210305T100000
DTSTAMP:20260422T180535Z
UID:fmf-AFLABS-URNIK:premaknjeno-srecanje:82305
ATTENDEE:5. letnik (PM)
ATTENDEE:magistrski študij (FM)
ATTENDEE:magistrski študij (M)
CATEGORIES:Entry,Standard
COLOR:darkgreen
DESCRIPTION:Predmet: Parcialne diferencialne enačbe (FM-M\, MAT-M\, PM-5)
 \, Vaje (V)\nLetniki: magistrski študij (FM)\, magistrski študij (M)\, 5
 . letnik (PM)\nIzvajalci: Dejan Govc\nProstor: 3.06
LOCATION:3.06
ORGANIZER:Dejan Govc
RELATED-TO:fmf-AFLABS-URNIK:srecanje:5809
X-WR-TIMEZONE:Europe/Ljubljana
END:VEVENT
BEGIN:VEVENT
SUMMARY:Parcialne diferencialne enačbe (FM-M\, MAT-M\, PM-5)\, Vaje (V)
DTSTART;TZID=Europe/Ljubljana:20210312T080000
DTEND;TZID=Europe/Ljubljana:20210312T100000
DTSTAMP:20260422T180535Z
UID:fmf-AFLABS-URNIK:premaknjeno-srecanje:82306
ATTENDEE:5. letnik (PM)
ATTENDEE:magistrski študij (FM)
ATTENDEE:magistrski študij (M)
CATEGORIES:Entry,Standard
COLOR:darkgreen
DESCRIPTION:Predmet: Parcialne diferencialne enačbe (FM-M\, MAT-M\, PM-5)
 \, Vaje (V)\nLetniki: magistrski študij (FM)\, magistrski študij (M)\, 5
 . letnik (PM)\nIzvajalci: Dejan Govc\nProstor: 3.06
LOCATION:3.06
ORGANIZER:Dejan Govc
RELATED-TO:fmf-AFLABS-URNIK:srecanje:5809
X-WR-TIMEZONE:Europe/Ljubljana
END:VEVENT
END:VCALENDAR
