BEGIN:VCALENDAR
VERSION:2.0
PRODID:-//AFLabs urnik izvoz - fmf//aflabs.si//SI
DTSTAMP:20260425T153823Z
NAME:UL FMF urnik
REFRESH-INTERVAL:PT1H
SOURCE:https://urnik.fmf.uni-lj.si/teacher/357?day=2022-01-10&export=1
URL:https://urnik.fmf.uni-lj.si/teacher/357?day=2022-01-10&export=1
X-PUBLISHED-TTL:PT1H
X-WR-CALNAME:UL FMF urnik
X-WR-TIMEZONE:Europe/Ljubljana
BEGIN:VTIMEZONE
TZID:Europe/Ljubljana
BEGIN:DAYLIGHT
DTSTART:20260329T020000
RDATE:20260329T020000
RDATE:20270328T020000
TZNAME:CEST
TZOFFSETFROM:+0100
TZOFFSETTO:+0200
END:DAYLIGHT
BEGIN:STANDARD
DTSTART:20261025T030000
RDATE:20261025T030000
RDATE:20271031T030000
TZNAME:CET
TZOFFSETFROM:+0200
TZOFFSETTO:+0100
END:STANDARD
END:VTIMEZONE
BEGIN:VEVENT
SUMMARY:Matematika (LES) ()\, Predavanja (P)
DTSTART;TZID=Europe/Ljubljana:20211001T080000
DTEND;TZID=Europe/Ljubljana:20211001T110000
DTSTAMP:20260425T153823Z
UID:fmf-AFLABS-URNIK:premaknjeno-srecanje:62044
CATEGORIES:Entry,Standard
COLOR:darkgreen
DESCRIPTION:Predmet: Matematika (LES) ()\, Predavanja (P)\nLetniki: \nIzva
 jalci: Peter Šemrl\nProstor: BF
LOCATION:BF
ORGANIZER:Peter Šemrl
RELATED-TO:fmf-AFLABS-URNIK:srecanje:6400
X-WR-TIMEZONE:Europe/Ljubljana
END:VEVENT
BEGIN:VEVENT
SUMMARY:Matematika (LES) ()\, Predavanja (P)
DTSTART;TZID=Europe/Ljubljana:20211008T080000
DTEND;TZID=Europe/Ljubljana:20211008T110000
DTSTAMP:20260425T153823Z
UID:fmf-AFLABS-URNIK:premaknjeno-srecanje:62045
CATEGORIES:Entry,Standard
COLOR:darkgreen
DESCRIPTION:Predmet: Matematika (LES) ()\, Predavanja (P)\nLetniki: \nIzva
 jalci: Peter Šemrl\nProstor: BF
LOCATION:BF
ORGANIZER:Peter Šemrl
RELATED-TO:fmf-AFLABS-URNIK:srecanje:6400
X-WR-TIMEZONE:Europe/Ljubljana
END:VEVENT
BEGIN:VEVENT
SUMMARY:Matematika (LES) ()\, Predavanja (P)
DTSTART;TZID=Europe/Ljubljana:20211015T080000
DTEND;TZID=Europe/Ljubljana:20211015T110000
DTSTAMP:20260425T153823Z
UID:fmf-AFLABS-URNIK:premaknjeno-srecanje:62046
CATEGORIES:Entry,Standard
COLOR:darkgreen
DESCRIPTION:Predmet: Matematika (LES) ()\, Predavanja (P)\nLetniki: \nIzva
 jalci: Peter Šemrl\nProstor: BF
LOCATION:BF
ORGANIZER:Peter Šemrl
RELATED-TO:fmf-AFLABS-URNIK:srecanje:6400
X-WR-TIMEZONE:Europe/Ljubljana
END:VEVENT
BEGIN:VEVENT
SUMMARY:Matematika (LES) ()\, Predavanja (P)
DTSTART;TZID=Europe/Ljubljana:20211022T080000
DTEND;TZID=Europe/Ljubljana:20211022T110000
DTSTAMP:20260425T153823Z
UID:fmf-AFLABS-URNIK:premaknjeno-srecanje:62047
CATEGORIES:Entry,Standard
COLOR:darkgreen
DESCRIPTION:Predmet: Matematika (LES) ()\, Predavanja (P)\nLetniki: \nIzva
 jalci: Peter Šemrl\nProstor: BF
LOCATION:BF
ORGANIZER:Peter Šemrl
RELATED-TO:fmf-AFLABS-URNIK:srecanje:6400
X-WR-TIMEZONE:Europe/Ljubljana
END:VEVENT
BEGIN:VEVENT
SUMMARY:Matematika (LES) ()\, Predavanja (P)
DTSTART;TZID=Europe/Ljubljana:20211029T080000
DTEND;TZID=Europe/Ljubljana:20211029T110000
DTSTAMP:20260425T153823Z
UID:fmf-AFLABS-URNIK:premaknjeno-srecanje:62048
CATEGORIES:Entry,Standard
COLOR:darkgreen
DESCRIPTION:Predmet: Matematika (LES) ()\, Predavanja (P)\nLetniki: \nIzva
 jalci: Peter Šemrl\nProstor: BF
LOCATION:BF
ORGANIZER:Peter Šemrl
RELATED-TO:fmf-AFLABS-URNIK:srecanje:6400
X-WR-TIMEZONE:Europe/Ljubljana
END:VEVENT
BEGIN:VEVENT
SUMMARY:Matematika (LES) ()\, Predavanja (P)
DTSTART;TZID=Europe/Ljubljana:20211105T080000
DTEND;TZID=Europe/Ljubljana:20211105T110000
DTSTAMP:20260425T153823Z
UID:fmf-AFLABS-URNIK:premaknjeno-srecanje:62049
CATEGORIES:Entry,Standard
COLOR:darkgreen
DESCRIPTION:Predmet: Matematika (LES) ()\, Predavanja (P)\nLetniki: \nIzva
 jalci: Peter Šemrl\nProstor: BF
LOCATION:BF
ORGANIZER:Peter Šemrl
RELATED-TO:fmf-AFLABS-URNIK:srecanje:6400
X-WR-TIMEZONE:Europe/Ljubljana
END:VEVENT
BEGIN:VEVENT
SUMMARY:Matematika (LES) ()\, Predavanja (P)
DTSTART;TZID=Europe/Ljubljana:20211112T080000
DTEND;TZID=Europe/Ljubljana:20211112T110000
DTSTAMP:20260425T153823Z
UID:fmf-AFLABS-URNIK:premaknjeno-srecanje:62050
CATEGORIES:Entry,Standard
COLOR:darkgreen
DESCRIPTION:Predmet: Matematika (LES) ()\, Predavanja (P)\nLetniki: \nIzva
 jalci: Peter Šemrl\nProstor: BF
LOCATION:BF
ORGANIZER:Peter Šemrl
RELATED-TO:fmf-AFLABS-URNIK:srecanje:6400
X-WR-TIMEZONE:Europe/Ljubljana
END:VEVENT
BEGIN:VEVENT
SUMMARY:Matematika (LES) ()\, Predavanja (P)
DTSTART;TZID=Europe/Ljubljana:20211119T080000
DTEND;TZID=Europe/Ljubljana:20211119T110000
DTSTAMP:20260425T153823Z
UID:fmf-AFLABS-URNIK:premaknjeno-srecanje:62051
CATEGORIES:Entry,Standard
COLOR:darkgreen
DESCRIPTION:Predmet: Matematika (LES) ()\, Predavanja (P)\nLetniki: \nIzva
 jalci: Peter Šemrl\nProstor: BF
LOCATION:BF
ORGANIZER:Peter Šemrl
RELATED-TO:fmf-AFLABS-URNIK:srecanje:6400
X-WR-TIMEZONE:Europe/Ljubljana
END:VEVENT
BEGIN:VEVENT
SUMMARY:Matematika (LES) ()\, Predavanja (P)
DTSTART;TZID=Europe/Ljubljana:20211126T080000
DTEND;TZID=Europe/Ljubljana:20211126T110000
DTSTAMP:20260425T153823Z
UID:fmf-AFLABS-URNIK:premaknjeno-srecanje:62052
CATEGORIES:Entry,Standard
COLOR:darkgreen
DESCRIPTION:Predmet: Matematika (LES) ()\, Predavanja (P)\nLetniki: \nIzva
 jalci: Peter Šemrl\nProstor: BF
LOCATION:BF
ORGANIZER:Peter Šemrl
RELATED-TO:fmf-AFLABS-URNIK:srecanje:6400
X-WR-TIMEZONE:Europe/Ljubljana
END:VEVENT
BEGIN:VEVENT
SUMMARY:Matematika (LES) ()\, Predavanja (P)
DTSTART;TZID=Europe/Ljubljana:20211203T080000
DTEND;TZID=Europe/Ljubljana:20211203T110000
DTSTAMP:20260425T153823Z
UID:fmf-AFLABS-URNIK:premaknjeno-srecanje:62053
CATEGORIES:Entry,Standard
COLOR:darkgreen
DESCRIPTION:Predmet: Matematika (LES) ()\, Predavanja (P)\nLetniki: \nIzva
 jalci: Peter Šemrl\nProstor: BF
LOCATION:BF
ORGANIZER:Peter Šemrl
RELATED-TO:fmf-AFLABS-URNIK:srecanje:6400
X-WR-TIMEZONE:Europe/Ljubljana
END:VEVENT
BEGIN:VEVENT
SUMMARY:Matematika (LES) ()\, Predavanja (P)
DTSTART;TZID=Europe/Ljubljana:20211210T080000
DTEND;TZID=Europe/Ljubljana:20211210T110000
DTSTAMP:20260425T153823Z
UID:fmf-AFLABS-URNIK:premaknjeno-srecanje:62054
CATEGORIES:Entry,Standard
COLOR:darkgreen
DESCRIPTION:Predmet: Matematika (LES) ()\, Predavanja (P)\nLetniki: \nIzva
 jalci: Peter Šemrl\nProstor: BF
LOCATION:BF
ORGANIZER:Peter Šemrl
RELATED-TO:fmf-AFLABS-URNIK:srecanje:6400
X-WR-TIMEZONE:Europe/Ljubljana
END:VEVENT
BEGIN:VEVENT
SUMMARY:Matematika (LES) ()\, Predavanja (P)
DTSTART;TZID=Europe/Ljubljana:20211217T080000
DTEND;TZID=Europe/Ljubljana:20211217T110000
DTSTAMP:20260425T153823Z
UID:fmf-AFLABS-URNIK:premaknjeno-srecanje:62055
CATEGORIES:Entry,Standard
COLOR:darkgreen
DESCRIPTION:Predmet: Matematika (LES) ()\, Predavanja (P)\nLetniki: \nIzva
 jalci: Peter Šemrl\nProstor: BF
LOCATION:BF
ORGANIZER:Peter Šemrl
RELATED-TO:fmf-AFLABS-URNIK:srecanje:6400
X-WR-TIMEZONE:Europe/Ljubljana
END:VEVENT
BEGIN:VEVENT
SUMMARY:Matematika (LES) ()\, Predavanja (P)
DTSTART;TZID=Europe/Ljubljana:20211224T080000
DTEND;TZID=Europe/Ljubljana:20211224T110000
DTSTAMP:20260425T153823Z
UID:fmf-AFLABS-URNIK:premaknjeno-srecanje:62056
CATEGORIES:Entry,Standard
COLOR:darkgreen
DESCRIPTION:Predmet: Matematika (LES) ()\, Predavanja (P)\nLetniki: \nIzva
 jalci: Peter Šemrl\nProstor: BF
LOCATION:BF
ORGANIZER:Peter Šemrl
RELATED-TO:fmf-AFLABS-URNIK:srecanje:6400
X-WR-TIMEZONE:Europe/Ljubljana
END:VEVENT
BEGIN:VEVENT
SUMMARY:Matematika (LES) ()\, Predavanja (P)
DTSTART;TZID=Europe/Ljubljana:20211231T080000
DTEND;TZID=Europe/Ljubljana:20211231T110000
DTSTAMP:20260425T153823Z
UID:fmf-AFLABS-URNIK:premaknjeno-srecanje:62057
CATEGORIES:Entry,Standard
COLOR:darkgreen
DESCRIPTION:Predmet: Matematika (LES) ()\, Predavanja (P)\nLetniki: \nIzva
 jalci: Peter Šemrl\nProstor: BF
LOCATION:BF
ORGANIZER:Peter Šemrl
RELATED-TO:fmf-AFLABS-URNIK:srecanje:6400
X-WR-TIMEZONE:Europe/Ljubljana
END:VEVENT
BEGIN:VEVENT
SUMMARY:Matematika (LES) ()\, Predavanja (P)
DTSTART;TZID=Europe/Ljubljana:20220107T080000
DTEND;TZID=Europe/Ljubljana:20220107T110000
DTSTAMP:20260425T153823Z
UID:fmf-AFLABS-URNIK:premaknjeno-srecanje:62058
CATEGORIES:Entry,Standard
COLOR:darkgreen
DESCRIPTION:Predmet: Matematika (LES) ()\, Predavanja (P)\nLetniki: \nIzva
 jalci: Peter Šemrl\nProstor: BF
LOCATION:BF
ORGANIZER:Peter Šemrl
RELATED-TO:fmf-AFLABS-URNIK:srecanje:6400
X-WR-TIMEZONE:Europe/Ljubljana
END:VEVENT
BEGIN:VEVENT
SUMMARY:Matematika (LES) ()\, Predavanja (P)
DTSTART;TZID=Europe/Ljubljana:20220114T080000
DTEND;TZID=Europe/Ljubljana:20220114T110000
DTSTAMP:20260425T153823Z
UID:fmf-AFLABS-URNIK:premaknjeno-srecanje:62059
CATEGORIES:Entry,Standard
COLOR:darkgreen
DESCRIPTION:Predmet: Matematika (LES) ()\, Predavanja (P)\nLetniki: \nIzva
 jalci: Peter Šemrl\nProstor: BF
LOCATION:BF
ORGANIZER:Peter Šemrl
RELATED-TO:fmf-AFLABS-URNIK:srecanje:6400
X-WR-TIMEZONE:Europe/Ljubljana
END:VEVENT
BEGIN:VEVENT
SUMMARY:Matematika (LES) ()\, Predavanja (P)
DTSTART;TZID=Europe/Ljubljana:20211005T080000
DTEND;TZID=Europe/Ljubljana:20211005T100000
DTSTAMP:20260425T153823Z
UID:fmf-AFLABS-URNIK:premaknjeno-srecanje:61948
CATEGORIES:Entry,Standard
COLOR:darkgreen
DESCRIPTION:Predmet: Matematika (LES) ()\, Predavanja (P)\nLetniki: \nIzva
 jalci: Peter Šemrl\nProstor: BF
LOCATION:BF
ORGANIZER:Peter Šemrl
RELATED-TO:fmf-AFLABS-URNIK:srecanje:6399
X-WR-TIMEZONE:Europe/Ljubljana
END:VEVENT
BEGIN:VEVENT
SUMMARY:Matematika (LES) ()\, Predavanja (P)
DTSTART;TZID=Europe/Ljubljana:20211012T080000
DTEND;TZID=Europe/Ljubljana:20211012T100000
DTSTAMP:20260425T153823Z
UID:fmf-AFLABS-URNIK:premaknjeno-srecanje:61949
CATEGORIES:Entry,Standard
COLOR:darkgreen
DESCRIPTION:Predmet: Matematika (LES) ()\, Predavanja (P)\nLetniki: \nIzva
 jalci: Peter Šemrl\nProstor: BF
LOCATION:BF
ORGANIZER:Peter Šemrl
RELATED-TO:fmf-AFLABS-URNIK:srecanje:6399
X-WR-TIMEZONE:Europe/Ljubljana
END:VEVENT
BEGIN:VEVENT
SUMMARY:Matematika (LES) ()\, Predavanja (P)
DTSTART;TZID=Europe/Ljubljana:20211019T080000
DTEND;TZID=Europe/Ljubljana:20211019T100000
DTSTAMP:20260425T153823Z
UID:fmf-AFLABS-URNIK:premaknjeno-srecanje:61950
CATEGORIES:Entry,Standard
COLOR:darkgreen
DESCRIPTION:Predmet: Matematika (LES) ()\, Predavanja (P)\nLetniki: \nIzva
 jalci: Peter Šemrl\nProstor: BF
LOCATION:BF
ORGANIZER:Peter Šemrl
RELATED-TO:fmf-AFLABS-URNIK:srecanje:6399
X-WR-TIMEZONE:Europe/Ljubljana
END:VEVENT
BEGIN:VEVENT
SUMMARY:Matematika (LES) ()\, Predavanja (P)
DTSTART;TZID=Europe/Ljubljana:20211026T080000
DTEND;TZID=Europe/Ljubljana:20211026T100000
DTSTAMP:20260425T153823Z
UID:fmf-AFLABS-URNIK:premaknjeno-srecanje:61951
CATEGORIES:Entry,Standard
COLOR:darkgreen
DESCRIPTION:Predmet: Matematika (LES) ()\, Predavanja (P)\nLetniki: \nIzva
 jalci: Peter Šemrl\nProstor: BF
LOCATION:BF
ORGANIZER:Peter Šemrl
RELATED-TO:fmf-AFLABS-URNIK:srecanje:6399
X-WR-TIMEZONE:Europe/Ljubljana
END:VEVENT
BEGIN:VEVENT
SUMMARY:Matematika (LES) ()\, Predavanja (P)
DTSTART;TZID=Europe/Ljubljana:20211102T080000
DTEND;TZID=Europe/Ljubljana:20211102T100000
DTSTAMP:20260425T153823Z
UID:fmf-AFLABS-URNIK:premaknjeno-srecanje:61952
CATEGORIES:Entry,Standard
COLOR:darkgreen
DESCRIPTION:Predmet: Matematika (LES) ()\, Predavanja (P)\nLetniki: \nIzva
 jalci: Peter Šemrl\nProstor: BF
LOCATION:BF
ORGANIZER:Peter Šemrl
RELATED-TO:fmf-AFLABS-URNIK:srecanje:6399
X-WR-TIMEZONE:Europe/Ljubljana
END:VEVENT
BEGIN:VEVENT
SUMMARY:Matematika (LES) ()\, Predavanja (P)
DTSTART;TZID=Europe/Ljubljana:20211109T080000
DTEND;TZID=Europe/Ljubljana:20211109T100000
DTSTAMP:20260425T153823Z
UID:fmf-AFLABS-URNIK:premaknjeno-srecanje:61953
CATEGORIES:Entry,Standard
COLOR:darkgreen
DESCRIPTION:Predmet: Matematika (LES) ()\, Predavanja (P)\nLetniki: \nIzva
 jalci: Peter Šemrl\nProstor: BF
LOCATION:BF
ORGANIZER:Peter Šemrl
RELATED-TO:fmf-AFLABS-URNIK:srecanje:6399
X-WR-TIMEZONE:Europe/Ljubljana
END:VEVENT
BEGIN:VEVENT
SUMMARY:Matematika (LES) ()\, Predavanja (P)
DTSTART;TZID=Europe/Ljubljana:20211116T080000
DTEND;TZID=Europe/Ljubljana:20211116T100000
DTSTAMP:20260425T153823Z
UID:fmf-AFLABS-URNIK:premaknjeno-srecanje:61954
CATEGORIES:Entry,Standard
COLOR:darkgreen
DESCRIPTION:Predmet: Matematika (LES) ()\, Predavanja (P)\nLetniki: \nIzva
 jalci: Peter Šemrl\nProstor: BF
LOCATION:BF
ORGANIZER:Peter Šemrl
RELATED-TO:fmf-AFLABS-URNIK:srecanje:6399
X-WR-TIMEZONE:Europe/Ljubljana
END:VEVENT
BEGIN:VEVENT
SUMMARY:Matematika (LES) ()\, Predavanja (P)
DTSTART;TZID=Europe/Ljubljana:20211123T080000
DTEND;TZID=Europe/Ljubljana:20211123T100000
DTSTAMP:20260425T153823Z
UID:fmf-AFLABS-URNIK:premaknjeno-srecanje:61955
CATEGORIES:Entry,Standard
COLOR:darkgreen
DESCRIPTION:Predmet: Matematika (LES) ()\, Predavanja (P)\nLetniki: \nIzva
 jalci: Peter Šemrl\nProstor: BF
LOCATION:BF
ORGANIZER:Peter Šemrl
RELATED-TO:fmf-AFLABS-URNIK:srecanje:6399
X-WR-TIMEZONE:Europe/Ljubljana
END:VEVENT
BEGIN:VEVENT
SUMMARY:Matematika (LES) ()\, Predavanja (P)
DTSTART;TZID=Europe/Ljubljana:20211130T080000
DTEND;TZID=Europe/Ljubljana:20211130T100000
DTSTAMP:20260425T153823Z
UID:fmf-AFLABS-URNIK:premaknjeno-srecanje:61956
CATEGORIES:Entry,Standard
COLOR:darkgreen
DESCRIPTION:Predmet: Matematika (LES) ()\, Predavanja (P)\nLetniki: \nIzva
 jalci: Peter Šemrl\nProstor: BF
LOCATION:BF
ORGANIZER:Peter Šemrl
RELATED-TO:fmf-AFLABS-URNIK:srecanje:6399
X-WR-TIMEZONE:Europe/Ljubljana
END:VEVENT
BEGIN:VEVENT
SUMMARY:Matematika (LES) ()\, Predavanja (P)
DTSTART;TZID=Europe/Ljubljana:20211207T080000
DTEND;TZID=Europe/Ljubljana:20211207T100000
DTSTAMP:20260425T153823Z
UID:fmf-AFLABS-URNIK:premaknjeno-srecanje:61957
CATEGORIES:Entry,Standard
COLOR:darkgreen
DESCRIPTION:Predmet: Matematika (LES) ()\, Predavanja (P)\nLetniki: \nIzva
 jalci: Peter Šemrl\nProstor: BF
LOCATION:BF
ORGANIZER:Peter Šemrl
RELATED-TO:fmf-AFLABS-URNIK:srecanje:6399
X-WR-TIMEZONE:Europe/Ljubljana
END:VEVENT
BEGIN:VEVENT
SUMMARY:Matematika (LES) ()\, Predavanja (P)
DTSTART;TZID=Europe/Ljubljana:20211214T080000
DTEND;TZID=Europe/Ljubljana:20211214T100000
DTSTAMP:20260425T153823Z
UID:fmf-AFLABS-URNIK:premaknjeno-srecanje:61958
CATEGORIES:Entry,Standard
COLOR:darkgreen
DESCRIPTION:Predmet: Matematika (LES) ()\, Predavanja (P)\nLetniki: \nIzva
 jalci: Peter Šemrl\nProstor: BF
LOCATION:BF
ORGANIZER:Peter Šemrl
RELATED-TO:fmf-AFLABS-URNIK:srecanje:6399
X-WR-TIMEZONE:Europe/Ljubljana
END:VEVENT
BEGIN:VEVENT
SUMMARY:Matematika (LES) ()\, Predavanja (P)
DTSTART;TZID=Europe/Ljubljana:20211221T080000
DTEND;TZID=Europe/Ljubljana:20211221T100000
DTSTAMP:20260425T153823Z
UID:fmf-AFLABS-URNIK:premaknjeno-srecanje:61959
CATEGORIES:Entry,Standard
COLOR:darkgreen
DESCRIPTION:Predmet: Matematika (LES) ()\, Predavanja (P)\nLetniki: \nIzva
 jalci: Peter Šemrl\nProstor: BF
LOCATION:BF
ORGANIZER:Peter Šemrl
RELATED-TO:fmf-AFLABS-URNIK:srecanje:6399
X-WR-TIMEZONE:Europe/Ljubljana
END:VEVENT
BEGIN:VEVENT
SUMMARY:Matematika (LES) ()\, Predavanja (P)
DTSTART;TZID=Europe/Ljubljana:20211228T080000
DTEND;TZID=Europe/Ljubljana:20211228T100000
DTSTAMP:20260425T153823Z
UID:fmf-AFLABS-URNIK:premaknjeno-srecanje:61960
CATEGORIES:Entry,Standard
COLOR:darkgreen
DESCRIPTION:Predmet: Matematika (LES) ()\, Predavanja (P)\nLetniki: \nIzva
 jalci: Peter Šemrl\nProstor: BF
LOCATION:BF
ORGANIZER:Peter Šemrl
RELATED-TO:fmf-AFLABS-URNIK:srecanje:6399
X-WR-TIMEZONE:Europe/Ljubljana
END:VEVENT
BEGIN:VEVENT
SUMMARY:Matematika (LES) ()\, Predavanja (P)
DTSTART;TZID=Europe/Ljubljana:20220104T080000
DTEND;TZID=Europe/Ljubljana:20220104T100000
DTSTAMP:20260425T153823Z
UID:fmf-AFLABS-URNIK:premaknjeno-srecanje:61961
CATEGORIES:Entry,Standard
COLOR:darkgreen
DESCRIPTION:Predmet: Matematika (LES) ()\, Predavanja (P)\nLetniki: \nIzva
 jalci: Peter Šemrl\nProstor: BF
LOCATION:BF
ORGANIZER:Peter Šemrl
RELATED-TO:fmf-AFLABS-URNIK:srecanje:6399
X-WR-TIMEZONE:Europe/Ljubljana
END:VEVENT
BEGIN:VEVENT
SUMMARY:Matematika (LES) ()\, Predavanja (P)
DTSTART;TZID=Europe/Ljubljana:20220111T080000
DTEND;TZID=Europe/Ljubljana:20220111T100000
DTSTAMP:20260425T153823Z
UID:fmf-AFLABS-URNIK:premaknjeno-srecanje:61962
CATEGORIES:Entry,Standard
COLOR:darkgreen
DESCRIPTION:Predmet: Matematika (LES) ()\, Predavanja (P)\nLetniki: \nIzva
 jalci: Peter Šemrl\nProstor: BF
LOCATION:BF
ORGANIZER:Peter Šemrl
RELATED-TO:fmf-AFLABS-URNIK:srecanje:6399
X-WR-TIMEZONE:Europe/Ljubljana
END:VEVENT
END:VCALENDAR
