BEGIN:VCALENDAR
VERSION:2.0
PRODID:-//AFLabs urnik izvoz - fmf//aflabs.si//SI
DTSTAMP:20260423T072720Z
NAME:UL FMF urnik
REFRESH-INTERVAL:PT1H
SOURCE:https://urnik.fmf.uni-lj.si/teacher/359?day=2020-06-08&export=1
URL:https://urnik.fmf.uni-lj.si/teacher/359?day=2020-06-08&export=1
X-PUBLISHED-TTL:PT1H
X-WR-CALNAME:UL FMF urnik
X-WR-TIMEZONE:Europe/Ljubljana
BEGIN:VTIMEZONE
TZID:Europe/Ljubljana
BEGIN:DAYLIGHT
DTSTART:20260329T020000
RDATE:20260329T020000
RDATE:20270328T020000
TZNAME:CEST
TZOFFSETFROM:+0100
TZOFFSETTO:+0200
END:DAYLIGHT
BEGIN:STANDARD
DTSTART:20261025T030000
RDATE:20261025T030000
RDATE:20271031T030000
TZNAME:CET
TZOFFSETFROM:+0200
TZOFFSETTO:+0100
END:STANDARD
END:VTIMEZONE
BEGIN:VEVENT
SUMMARY:Analiza 2 (IŠRM-1)\, Predavanja (P)
DTSTART;TZID=Europe/Ljubljana:20200505T100000
DTEND;TZID=Europe/Ljubljana:20200505T110000
DTSTAMP:20260423T072720Z
UID:fmf-AFLABS-URNIK:premaknjeno-srecanje:6447
ATTENDEE:1. letnik (IŠRM)
CATEGORIES:Entry,Standard
COLOR:darkgreen
DESCRIPTION:Predmet: Analiza 2 (IŠRM-1)\, Predavanja (P)\nLetniki: 1. let
 nik (IŠRM)\nIzvajalci: Bojan Magajna\nProstor: 2.02
LOCATION:2.02
ORGANIZER:Bojan Magajna
RELATED-TO:fmf-AFLABS-URNIK:srecanje:4002
X-WR-TIMEZONE:Europe/Ljubljana
END:VEVENT
BEGIN:VEVENT
SUMMARY:Analiza 2 (IŠRM-1)\, Predavanja (P)
DTSTART;TZID=Europe/Ljubljana:20200512T100000
DTEND;TZID=Europe/Ljubljana:20200512T110000
DTSTAMP:20260423T072720Z
UID:fmf-AFLABS-URNIK:premaknjeno-srecanje:6448
ATTENDEE:1. letnik (IŠRM)
CATEGORIES:Entry,Standard
COLOR:darkgreen
DESCRIPTION:Predmet: Analiza 2 (IŠRM-1)\, Predavanja (P)\nLetniki: 1. let
 nik (IŠRM)\nIzvajalci: Bojan Magajna\nProstor: 2.02
LOCATION:2.02
ORGANIZER:Bojan Magajna
RELATED-TO:fmf-AFLABS-URNIK:srecanje:4002
X-WR-TIMEZONE:Europe/Ljubljana
END:VEVENT
BEGIN:VEVENT
SUMMARY:Analiza 2 (IŠRM-1)\, Predavanja (P)
DTSTART;TZID=Europe/Ljubljana:20200519T100000
DTEND;TZID=Europe/Ljubljana:20200519T110000
DTSTAMP:20260423T072720Z
UID:fmf-AFLABS-URNIK:premaknjeno-srecanje:6449
ATTENDEE:1. letnik (IŠRM)
CATEGORIES:Entry,Standard
COLOR:darkgreen
DESCRIPTION:Predmet: Analiza 2 (IŠRM-1)\, Predavanja (P)\nLetniki: 1. let
 nik (IŠRM)\nIzvajalci: Bojan Magajna\nProstor: 2.02
LOCATION:2.02
ORGANIZER:Bojan Magajna
RELATED-TO:fmf-AFLABS-URNIK:srecanje:4002
X-WR-TIMEZONE:Europe/Ljubljana
END:VEVENT
BEGIN:VEVENT
SUMMARY:Analiza 2 (IŠRM-1)\, Predavanja (P)
DTSTART;TZID=Europe/Ljubljana:20200526T100000
DTEND;TZID=Europe/Ljubljana:20200526T110000
DTSTAMP:20260423T072720Z
UID:fmf-AFLABS-URNIK:premaknjeno-srecanje:6450
ATTENDEE:1. letnik (IŠRM)
CATEGORIES:Entry,Standard
COLOR:darkgreen
DESCRIPTION:Predmet: Analiza 2 (IŠRM-1)\, Predavanja (P)\nLetniki: 1. let
 nik (IŠRM)\nIzvajalci: Bojan Magajna\nProstor: 2.02
LOCATION:2.02
ORGANIZER:Bojan Magajna
RELATED-TO:fmf-AFLABS-URNIK:srecanje:4002
X-WR-TIMEZONE:Europe/Ljubljana
END:VEVENT
BEGIN:VEVENT
SUMMARY:Matematika IV (FIZ-2)\, Predavanja (P)
DTSTART;TZID=Europe/Ljubljana:20200505T110000
DTEND;TZID=Europe/Ljubljana:20200505T130000
DTSTAMP:20260423T072720Z
UID:fmf-AFLABS-URNIK:premaknjeno-srecanje:66586
ATTENDEE:2. letnik (Fizika, 1. stopnja)
CATEGORIES:Entry,Standard
COLOR:darkgreen
DESCRIPTION:Predmet: Matematika IV (FIZ-2)\, Predavanja (P)\nLetniki: 2. l
 etnik (Fizika\, 1. stopnja)\nIzvajalci: Bojan Magajna\nProstor: F1
LOCATION:F1
ORGANIZER:Bojan Magajna
RELATED-TO:fmf-AFLABS-URNIK:srecanje:4268
X-WR-TIMEZONE:Europe/Ljubljana
END:VEVENT
BEGIN:VEVENT
SUMMARY:Matematika IV (FIZ-2)\, Predavanja (P)
DTSTART;TZID=Europe/Ljubljana:20200512T110000
DTEND;TZID=Europe/Ljubljana:20200512T130000
DTSTAMP:20260423T072720Z
UID:fmf-AFLABS-URNIK:premaknjeno-srecanje:66587
ATTENDEE:2. letnik (Fizika, 1. stopnja)
CATEGORIES:Entry,Standard
COLOR:darkgreen
DESCRIPTION:Predmet: Matematika IV (FIZ-2)\, Predavanja (P)\nLetniki: 2. l
 etnik (Fizika\, 1. stopnja)\nIzvajalci: Bojan Magajna\nProstor: F1
LOCATION:F1
ORGANIZER:Bojan Magajna
RELATED-TO:fmf-AFLABS-URNIK:srecanje:4268
X-WR-TIMEZONE:Europe/Ljubljana
END:VEVENT
BEGIN:VEVENT
SUMMARY:Matematika IV (FIZ-2)\, Predavanja (P)
DTSTART;TZID=Europe/Ljubljana:20200519T110000
DTEND;TZID=Europe/Ljubljana:20200519T130000
DTSTAMP:20260423T072720Z
UID:fmf-AFLABS-URNIK:premaknjeno-srecanje:66588
ATTENDEE:2. letnik (Fizika, 1. stopnja)
CATEGORIES:Entry,Standard
COLOR:darkgreen
DESCRIPTION:Predmet: Matematika IV (FIZ-2)\, Predavanja (P)\nLetniki: 2. l
 etnik (Fizika\, 1. stopnja)\nIzvajalci: Bojan Magajna\nProstor: F1
LOCATION:F1
ORGANIZER:Bojan Magajna
RELATED-TO:fmf-AFLABS-URNIK:srecanje:4268
X-WR-TIMEZONE:Europe/Ljubljana
END:VEVENT
BEGIN:VEVENT
SUMMARY:Matematika IV (FIZ-2)\, Predavanja (P)
DTSTART;TZID=Europe/Ljubljana:20200526T110000
DTEND;TZID=Europe/Ljubljana:20200526T130000
DTSTAMP:20260423T072720Z
UID:fmf-AFLABS-URNIK:premaknjeno-srecanje:66589
ATTENDEE:2. letnik (Fizika, 1. stopnja)
CATEGORIES:Entry,Standard
COLOR:darkgreen
DESCRIPTION:Predmet: Matematika IV (FIZ-2)\, Predavanja (P)\nLetniki: 2. l
 etnik (Fizika\, 1. stopnja)\nIzvajalci: Bojan Magajna\nProstor: F1
LOCATION:F1
ORGANIZER:Bojan Magajna
RELATED-TO:fmf-AFLABS-URNIK:srecanje:4268
X-WR-TIMEZONE:Europe/Ljubljana
END:VEVENT
BEGIN:VEVENT
SUMMARY:Analiza 2 (IŠRM-1)\, Predavanja (P)
DTSTART;TZID=Europe/Ljubljana:20200506T080000
DTEND;TZID=Europe/Ljubljana:20200506T100000
DTSTAMP:20260423T072720Z
UID:fmf-AFLABS-URNIK:premaknjeno-srecanje:6492
ATTENDEE:1. letnik (IŠRM)
CATEGORIES:Entry,Standard
COLOR:darkgreen
DESCRIPTION:Predmet: Analiza 2 (IŠRM-1)\, Predavanja (P)\nLetniki: 1. let
 nik (IŠRM)\nIzvajalci: Bojan Magajna\nProstor: F5
LOCATION:F5
ORGANIZER:Bojan Magajna
RELATED-TO:fmf-AFLABS-URNIK:srecanje:4621
X-WR-TIMEZONE:Europe/Ljubljana
END:VEVENT
BEGIN:VEVENT
SUMMARY:Analiza 2 (IŠRM-1)\, Predavanja (P)
DTSTART;TZID=Europe/Ljubljana:20200513T080000
DTEND;TZID=Europe/Ljubljana:20200513T100000
DTSTAMP:20260423T072720Z
UID:fmf-AFLABS-URNIK:premaknjeno-srecanje:6493
ATTENDEE:1. letnik (IŠRM)
CATEGORIES:Entry,Standard
COLOR:darkgreen
DESCRIPTION:Predmet: Analiza 2 (IŠRM-1)\, Predavanja (P)\nLetniki: 1. let
 nik (IŠRM)\nIzvajalci: Bojan Magajna\nProstor: F5
LOCATION:F5
ORGANIZER:Bojan Magajna
RELATED-TO:fmf-AFLABS-URNIK:srecanje:4621
X-WR-TIMEZONE:Europe/Ljubljana
END:VEVENT
BEGIN:VEVENT
SUMMARY:Analiza 2 (IŠRM-1)\, Predavanja (P)
DTSTART;TZID=Europe/Ljubljana:20200520T080000
DTEND;TZID=Europe/Ljubljana:20200520T100000
DTSTAMP:20260423T072720Z
UID:fmf-AFLABS-URNIK:premaknjeno-srecanje:6494
ATTENDEE:1. letnik (IŠRM)
CATEGORIES:Entry,Standard
COLOR:darkgreen
DESCRIPTION:Predmet: Analiza 2 (IŠRM-1)\, Predavanja (P)\nLetniki: 1. let
 nik (IŠRM)\nIzvajalci: Bojan Magajna\nProstor: F5
LOCATION:F5
ORGANIZER:Bojan Magajna
RELATED-TO:fmf-AFLABS-URNIK:srecanje:4621
X-WR-TIMEZONE:Europe/Ljubljana
END:VEVENT
BEGIN:VEVENT
SUMMARY:Analiza 2 (IŠRM-1)\, Predavanja (P)
DTSTART;TZID=Europe/Ljubljana:20200527T080000
DTEND;TZID=Europe/Ljubljana:20200527T100000
DTSTAMP:20260423T072720Z
UID:fmf-AFLABS-URNIK:premaknjeno-srecanje:6495
ATTENDEE:1. letnik (IŠRM)
CATEGORIES:Entry,Standard
COLOR:darkgreen
DESCRIPTION:Predmet: Analiza 2 (IŠRM-1)\, Predavanja (P)\nLetniki: 1. let
 nik (IŠRM)\nIzvajalci: Bojan Magajna\nProstor: F5
LOCATION:F5
ORGANIZER:Bojan Magajna
RELATED-TO:fmf-AFLABS-URNIK:srecanje:4621
X-WR-TIMEZONE:Europe/Ljubljana
END:VEVENT
BEGIN:VEVENT
SUMMARY:Matematika IV (FIZ-2)\, Predavanja (P)
DTSTART;TZID=Europe/Ljubljana:20200506T110000
DTEND;TZID=Europe/Ljubljana:20200506T130000
DTSTAMP:20260423T072720Z
UID:fmf-AFLABS-URNIK:premaknjeno-srecanje:66678
ATTENDEE:2. letnik (Fizika, 1. stopnja)
CATEGORIES:Entry,Standard
COLOR:darkgreen
DESCRIPTION:Predmet: Matematika IV (FIZ-2)\, Predavanja (P)\nLetniki: 2. l
 etnik (Fizika\, 1. stopnja)\nIzvajalci: Bojan Magajna\nProstor: F1
LOCATION:F1
ORGANIZER:Bojan Magajna
RELATED-TO:fmf-AFLABS-URNIK:srecanje:4269
X-WR-TIMEZONE:Europe/Ljubljana
END:VEVENT
BEGIN:VEVENT
SUMMARY:Matematika IV (FIZ-2)\, Predavanja (P)
DTSTART;TZID=Europe/Ljubljana:20200513T110000
DTEND;TZID=Europe/Ljubljana:20200513T130000
DTSTAMP:20260423T072720Z
UID:fmf-AFLABS-URNIK:premaknjeno-srecanje:66679
ATTENDEE:2. letnik (Fizika, 1. stopnja)
CATEGORIES:Entry,Standard
COLOR:darkgreen
DESCRIPTION:Predmet: Matematika IV (FIZ-2)\, Predavanja (P)\nLetniki: 2. l
 etnik (Fizika\, 1. stopnja)\nIzvajalci: Bojan Magajna\nProstor: F1
LOCATION:F1
ORGANIZER:Bojan Magajna
RELATED-TO:fmf-AFLABS-URNIK:srecanje:4269
X-WR-TIMEZONE:Europe/Ljubljana
END:VEVENT
BEGIN:VEVENT
SUMMARY:Matematika IV (FIZ-2)\, Predavanja (P)
DTSTART;TZID=Europe/Ljubljana:20200520T110000
DTEND;TZID=Europe/Ljubljana:20200520T130000
DTSTAMP:20260423T072720Z
UID:fmf-AFLABS-URNIK:premaknjeno-srecanje:66680
ATTENDEE:2. letnik (Fizika, 1. stopnja)
CATEGORIES:Entry,Standard
COLOR:darkgreen
DESCRIPTION:Predmet: Matematika IV (FIZ-2)\, Predavanja (P)\nLetniki: 2. l
 etnik (Fizika\, 1. stopnja)\nIzvajalci: Bojan Magajna\nProstor: F1
LOCATION:F1
ORGANIZER:Bojan Magajna
RELATED-TO:fmf-AFLABS-URNIK:srecanje:4269
X-WR-TIMEZONE:Europe/Ljubljana
END:VEVENT
BEGIN:VEVENT
SUMMARY:Matematika IV (FIZ-2)\, Predavanja (P)
DTSTART;TZID=Europe/Ljubljana:20200527T110000
DTEND;TZID=Europe/Ljubljana:20200527T130000
DTSTAMP:20260423T072720Z
UID:fmf-AFLABS-URNIK:premaknjeno-srecanje:66681
ATTENDEE:2. letnik (Fizika, 1. stopnja)
CATEGORIES:Entry,Standard
COLOR:darkgreen
DESCRIPTION:Predmet: Matematika IV (FIZ-2)\, Predavanja (P)\nLetniki: 2. l
 etnik (Fizika\, 1. stopnja)\nIzvajalci: Bojan Magajna\nProstor: F1
LOCATION:F1
ORGANIZER:Bojan Magajna
RELATED-TO:fmf-AFLABS-URNIK:srecanje:4269
X-WR-TIMEZONE:Europe/Ljubljana
END:VEVENT
BEGIN:VEVENT
SUMMARY:Rezervacija
DTSTART;TZID=Europe/Ljubljana:20200612T100000
DTEND;TZID=Europe/Ljubljana:20200612T130000
DTSTAMP:20260423T072720Z
UID:fmf-AFLABS-URNIK:rezervacija:5492
CATEGORIES:Reservation
COLOR:royalblue
DESCRIPTION:Predmeti: \nLetniki: \nIzvajalci: Bojan Magajna\nProstori: VFP
LOCATION:VFP
ORGANIZER:Bojan Magajna
X-WR-TIMEZONE:Europe/Ljubljana
END:VEVENT
BEGIN:VEVENT
SUMMARY:Rezervacija
DTSTART;TZID=Europe/Ljubljana:20200617T160000
DTEND;TZID=Europe/Ljubljana:20200617T180000
DTSTAMP:20260423T072720Z
UID:fmf-AFLABS-URNIK:rezervacija:5563
CATEGORIES:Reservation
COLOR:royalblue
DESCRIPTION:Predmeti: \nLetniki: \nIzvajalci: Bojan Magajna\nProstori: VFP
LOCATION:VFP
ORGANIZER:Bojan Magajna
X-WR-TIMEZONE:Europe/Ljubljana
END:VEVENT
BEGIN:VEVENT
SUMMARY:Rezervacija
DTSTART;TZID=Europe/Ljubljana:20200619T080000
DTEND;TZID=Europe/Ljubljana:20200619T110000
DTSTAMP:20260423T072720Z
UID:fmf-AFLABS-URNIK:rezervacija:5582
CATEGORIES:Reservation
COLOR:royalblue
DESCRIPTION:Predmeti: \nLetniki: \nIzvajalci: Blaž Jelenc\, Bojan Magajna
 \nProstori: 3.04\, 3.05
LOCATION:3.04\, 3.05
ORGANIZER:Blaž Jelenc, Bojan Magajna
X-WR-TIMEZONE:Europe/Ljubljana
END:VEVENT
BEGIN:VEVENT
SUMMARY:Rezervacija
DTSTART;TZID=Europe/Ljubljana:20200622T100000
DTEND;TZID=Europe/Ljubljana:20200622T130000
DTSTAMP:20260423T072720Z
UID:fmf-AFLABS-URNIK:rezervacija:5611
CATEGORIES:Reservation
COLOR:royalblue
DESCRIPTION:Predmeti: \nLetniki: \nIzvajalci: Bojan Magajna\nProstori: VFP
LOCATION:VFP
ORGANIZER:Bojan Magajna
X-WR-TIMEZONE:Europe/Ljubljana
END:VEVENT
BEGIN:VEVENT
SUMMARY:Rezervacija
DTSTART;TZID=Europe/Ljubljana:20200630T080000
DTEND;TZID=Europe/Ljubljana:20200630T110000
DTSTAMP:20260423T072720Z
UID:fmf-AFLABS-URNIK:rezervacija:5707
CATEGORIES:Reservation
COLOR:royalblue
DESCRIPTION:Predmeti: \nLetniki: \nIzvajalci: Blaž Jelenc\, Bojan Magajna
 \nProstori: 2.05
LOCATION:2.05
ORGANIZER:Blaž Jelenc, Bojan Magajna
X-WR-TIMEZONE:Europe/Ljubljana
END:VEVENT
BEGIN:VEVENT
SUMMARY:Rezervacija
DTSTART;TZID=Europe/Ljubljana:20200701T100000
DTEND;TZID=Europe/Ljubljana:20200701T130000
DTSTAMP:20260423T072720Z
UID:fmf-AFLABS-URNIK:rezervacija:5735
CATEGORIES:Reservation
COLOR:royalblue
DESCRIPTION:Predmeti: \nLetniki: \nIzvajalci: Blaž Jelenc\, Bojan Magajna
 \nProstori: 2.05
LOCATION:2.05
ORGANIZER:Blaž Jelenc, Bojan Magajna
X-WR-TIMEZONE:Europe/Ljubljana
END:VEVENT
BEGIN:VEVENT
SUMMARY:Rezervacija
DTSTART;TZID=Europe/Ljubljana:20200702T160000
DTEND;TZID=Europe/Ljubljana:20200702T180000
DTSTAMP:20260423T072720Z
UID:fmf-AFLABS-URNIK:rezervacija:5759
ATTENDEE:2. letnik (Fizika, 1. stopnja)
CATEGORIES:Reservation
COLOR:royalblue
DESCRIPTION:Predmeti: Matematika IV (FIZ-2)\nLetniki: 2. letnik (Fizika\, 
 1. stopnja)\nIzvajalci: Bojan Magajna\nProstori: VFP
LOCATION:VFP
ORGANIZER:Bojan Magajna
X-WR-TIMEZONE:Europe/Ljubljana
END:VEVENT
END:VCALENDAR
