BEGIN:VCALENDAR
VERSION:2.0
PRODID:-//AFLabs urnik izvoz - fmf//aflabs.si//SI
DTSTAMP:20260425T112341Z
NAME:UL FMF urnik
REFRESH-INTERVAL:PT1H
SOURCE:https://urnik.fmf.uni-lj.si/teacher/359?day=2020-10-05&export=1
URL:https://urnik.fmf.uni-lj.si/teacher/359?day=2020-10-05&export=1
X-PUBLISHED-TTL:PT1H
X-WR-CALNAME:UL FMF urnik
X-WR-TIMEZONE:Europe/Ljubljana
BEGIN:VTIMEZONE
TZID:Europe/Ljubljana
BEGIN:DAYLIGHT
DTSTART:20260329T020000
RDATE:20260329T020000
RDATE:20270328T020000
TZNAME:CEST
TZOFFSETFROM:+0100
TZOFFSETTO:+0200
END:DAYLIGHT
BEGIN:STANDARD
DTSTART:20261025T030000
RDATE:20261025T030000
RDATE:20271031T030000
TZNAME:CET
TZOFFSETFROM:+0200
TZOFFSETTO:+0100
END:STANDARD
END:VTIMEZONE
BEGIN:VEVENT
SUMMARY:Analiza 3 (FM-2)\, Predavanja (P)
DTSTART;TZID=Europe/Ljubljana:20201001T100000
DTEND;TZID=Europe/Ljubljana:20201001T120000
DTSTAMP:20260425T112341Z
UID:fmf-AFLABS-URNIK:premaknjeno-srecanje:8252
ATTENDEE:2. letnik (FM)
CATEGORIES:Entry,Standard
COLOR:darkgreen
DESCRIPTION:Predmet: Analiza 3 (FM-2)\, Predavanja (P)\nLetniki: 2. letnik
  (FM)\nIzvajalci: Bojan Magajna\nProstor: 3.04
LOCATION:3.04
ORGANIZER:Bojan Magajna
RELATED-TO:fmf-AFLABS-URNIK:srecanje:4685
X-WR-TIMEZONE:Europe/Ljubljana
END:VEVENT
BEGIN:VEVENT
SUMMARY:Analiza 3 (FM-2)\, Predavanja (P)
DTSTART;TZID=Europe/Ljubljana:20201008T100000
DTEND;TZID=Europe/Ljubljana:20201008T120000
DTSTAMP:20260425T112341Z
UID:fmf-AFLABS-URNIK:premaknjeno-srecanje:8253
ATTENDEE:2. letnik (FM)
CATEGORIES:Entry,Standard
COLOR:darkgreen
DESCRIPTION:Predmet: Analiza 3 (FM-2)\, Predavanja (P)\nLetniki: 2. letnik
  (FM)\nIzvajalci: Bojan Magajna\nProstor: 3.04
LOCATION:3.04
ORGANIZER:Bojan Magajna
RELATED-TO:fmf-AFLABS-URNIK:srecanje:4685
X-WR-TIMEZONE:Europe/Ljubljana
END:VEVENT
BEGIN:VEVENT
SUMMARY:Analiza 3 (FM-2)\, Predavanja (P)
DTSTART;TZID=Europe/Ljubljana:20201015T100000
DTEND;TZID=Europe/Ljubljana:20201015T120000
DTSTAMP:20260425T112341Z
UID:fmf-AFLABS-URNIK:premaknjeno-srecanje:8254
ATTENDEE:2. letnik (FM)
CATEGORIES:Entry,Standard
COLOR:darkgreen
DESCRIPTION:Predmet: Analiza 3 (FM-2)\, Predavanja (P)\nLetniki: 2. letnik
  (FM)\nIzvajalci: Bojan Magajna\nProstor: 3.04
LOCATION:3.04
ORGANIZER:Bojan Magajna
RELATED-TO:fmf-AFLABS-URNIK:srecanje:4685
X-WR-TIMEZONE:Europe/Ljubljana
END:VEVENT
BEGIN:VEVENT
SUMMARY:Analiza 3 (FM-2)\, Predavanja (P)
DTSTART;TZID=Europe/Ljubljana:20201022T100000
DTEND;TZID=Europe/Ljubljana:20201022T120000
DTSTAMP:20260425T112341Z
UID:fmf-AFLABS-URNIK:premaknjeno-srecanje:8255
ATTENDEE:2. letnik (FM)
CATEGORIES:Entry,Standard
COLOR:darkgreen
DESCRIPTION:Predmet: Analiza 3 (FM-2)\, Predavanja (P)\nLetniki: 2. letnik
  (FM)\nIzvajalci: Bojan Magajna\nProstor: 3.04
LOCATION:3.04
ORGANIZER:Bojan Magajna
RELATED-TO:fmf-AFLABS-URNIK:srecanje:4685
X-WR-TIMEZONE:Europe/Ljubljana
END:VEVENT
BEGIN:VEVENT
SUMMARY:Analiza 3 (FM-2)\, Predavanja (P)
DTSTART;TZID=Europe/Ljubljana:20201029T100000
DTEND;TZID=Europe/Ljubljana:20201029T120000
DTSTAMP:20260425T112341Z
UID:fmf-AFLABS-URNIK:premaknjeno-srecanje:8256
ATTENDEE:2. letnik (FM)
CATEGORIES:Entry,Standard
COLOR:darkgreen
DESCRIPTION:Predmet: Analiza 3 (FM-2)\, Predavanja (P)\nLetniki: 2. letnik
  (FM)\nIzvajalci: Bojan Magajna\nProstor: 3.04
LOCATION:3.04
ORGANIZER:Bojan Magajna
RELATED-TO:fmf-AFLABS-URNIK:srecanje:4685
X-WR-TIMEZONE:Europe/Ljubljana
END:VEVENT
BEGIN:VEVENT
SUMMARY:Analiza 3 (FM-2)\, Predavanja (P)
DTSTART;TZID=Europe/Ljubljana:20201105T100000
DTEND;TZID=Europe/Ljubljana:20201105T120000
DTSTAMP:20260425T112341Z
UID:fmf-AFLABS-URNIK:premaknjeno-srecanje:8257
ATTENDEE:2. letnik (FM)
CATEGORIES:Entry,Standard
COLOR:darkgreen
DESCRIPTION:Predmet: Analiza 3 (FM-2)\, Predavanja (P)\nLetniki: 2. letnik
  (FM)\nIzvajalci: Bojan Magajna\nProstor: 3.04
LOCATION:3.04
ORGANIZER:Bojan Magajna
RELATED-TO:fmf-AFLABS-URNIK:srecanje:4685
X-WR-TIMEZONE:Europe/Ljubljana
END:VEVENT
BEGIN:VEVENT
SUMMARY:Analiza 3 (FM-2)\, Predavanja (P)
DTSTART;TZID=Europe/Ljubljana:20201112T100000
DTEND;TZID=Europe/Ljubljana:20201112T120000
DTSTAMP:20260425T112341Z
UID:fmf-AFLABS-URNIK:premaknjeno-srecanje:8258
ATTENDEE:2. letnik (FM)
CATEGORIES:Entry,Standard
COLOR:darkgreen
DESCRIPTION:Predmet: Analiza 3 (FM-2)\, Predavanja (P)\nLetniki: 2. letnik
  (FM)\nIzvajalci: Bojan Magajna\nProstor: 3.04
LOCATION:3.04
ORGANIZER:Bojan Magajna
RELATED-TO:fmf-AFLABS-URNIK:srecanje:4685
X-WR-TIMEZONE:Europe/Ljubljana
END:VEVENT
BEGIN:VEVENT
SUMMARY:Analiza 3 (FM-2)\, Predavanja (P)
DTSTART;TZID=Europe/Ljubljana:20201119T100000
DTEND;TZID=Europe/Ljubljana:20201119T120000
DTSTAMP:20260425T112341Z
UID:fmf-AFLABS-URNIK:premaknjeno-srecanje:8259
ATTENDEE:2. letnik (FM)
CATEGORIES:Entry,Standard
COLOR:darkgreen
DESCRIPTION:Predmet: Analiza 3 (FM-2)\, Predavanja (P)\nLetniki: 2. letnik
  (FM)\nIzvajalci: Bojan Magajna\nProstor: 3.04
LOCATION:3.04
ORGANIZER:Bojan Magajna
RELATED-TO:fmf-AFLABS-URNIK:srecanje:4685
X-WR-TIMEZONE:Europe/Ljubljana
END:VEVENT
BEGIN:VEVENT
SUMMARY:Analiza 3 (FM-2)\, Predavanja (P)
DTSTART;TZID=Europe/Ljubljana:20201126T100000
DTEND;TZID=Europe/Ljubljana:20201126T120000
DTSTAMP:20260425T112341Z
UID:fmf-AFLABS-URNIK:premaknjeno-srecanje:8260
ATTENDEE:2. letnik (FM)
CATEGORIES:Entry,Standard
COLOR:darkgreen
DESCRIPTION:Predmet: Analiza 3 (FM-2)\, Predavanja (P)\nLetniki: 2. letnik
  (FM)\nIzvajalci: Bojan Magajna\nProstor: 3.04
LOCATION:3.04
ORGANIZER:Bojan Magajna
RELATED-TO:fmf-AFLABS-URNIK:srecanje:4685
X-WR-TIMEZONE:Europe/Ljubljana
END:VEVENT
BEGIN:VEVENT
SUMMARY:Analiza 3 (FM-2)\, Predavanja (P)
DTSTART;TZID=Europe/Ljubljana:20201203T100000
DTEND;TZID=Europe/Ljubljana:20201203T120000
DTSTAMP:20260425T112341Z
UID:fmf-AFLABS-URNIK:premaknjeno-srecanje:8261
ATTENDEE:2. letnik (FM)
CATEGORIES:Entry,Standard
COLOR:darkgreen
DESCRIPTION:Predmet: Analiza 3 (FM-2)\, Predavanja (P)\nLetniki: 2. letnik
  (FM)\nIzvajalci: Bojan Magajna\nProstor: 3.04
LOCATION:3.04
ORGANIZER:Bojan Magajna
RELATED-TO:fmf-AFLABS-URNIK:srecanje:4685
X-WR-TIMEZONE:Europe/Ljubljana
END:VEVENT
BEGIN:VEVENT
SUMMARY:Analiza 3 (FM-2)\, Predavanja (P)
DTSTART;TZID=Europe/Ljubljana:20201210T100000
DTEND;TZID=Europe/Ljubljana:20201210T120000
DTSTAMP:20260425T112341Z
UID:fmf-AFLABS-URNIK:premaknjeno-srecanje:8262
ATTENDEE:2. letnik (FM)
CATEGORIES:Entry,Standard
COLOR:darkgreen
DESCRIPTION:Predmet: Analiza 3 (FM-2)\, Predavanja (P)\nLetniki: 2. letnik
  (FM)\nIzvajalci: Bojan Magajna\nProstor: 3.04
LOCATION:3.04
ORGANIZER:Bojan Magajna
RELATED-TO:fmf-AFLABS-URNIK:srecanje:4685
X-WR-TIMEZONE:Europe/Ljubljana
END:VEVENT
BEGIN:VEVENT
SUMMARY:Analiza 3 (FM-2)\, Predavanja (P)
DTSTART;TZID=Europe/Ljubljana:20201217T100000
DTEND;TZID=Europe/Ljubljana:20201217T120000
DTSTAMP:20260425T112341Z
UID:fmf-AFLABS-URNIK:premaknjeno-srecanje:8263
ATTENDEE:2. letnik (FM)
CATEGORIES:Entry,Standard
COLOR:darkgreen
DESCRIPTION:Predmet: Analiza 3 (FM-2)\, Predavanja (P)\nLetniki: 2. letnik
  (FM)\nIzvajalci: Bojan Magajna\nProstor: 3.04
LOCATION:3.04
ORGANIZER:Bojan Magajna
RELATED-TO:fmf-AFLABS-URNIK:srecanje:4685
X-WR-TIMEZONE:Europe/Ljubljana
END:VEVENT
BEGIN:VEVENT
SUMMARY:Analiza 3 (FM-2)\, Predavanja (P)
DTSTART;TZID=Europe/Ljubljana:20201224T100000
DTEND;TZID=Europe/Ljubljana:20201224T120000
DTSTAMP:20260425T112341Z
UID:fmf-AFLABS-URNIK:premaknjeno-srecanje:8264
ATTENDEE:2. letnik (FM)
CATEGORIES:Entry,Standard
COLOR:darkgreen
DESCRIPTION:Predmet: Analiza 3 (FM-2)\, Predavanja (P)\nLetniki: 2. letnik
  (FM)\nIzvajalci: Bojan Magajna\nProstor: 3.04
LOCATION:3.04
ORGANIZER:Bojan Magajna
RELATED-TO:fmf-AFLABS-URNIK:srecanje:4685
X-WR-TIMEZONE:Europe/Ljubljana
END:VEVENT
BEGIN:VEVENT
SUMMARY:Analiza 3 (FM-2)\, Predavanja (P)
DTSTART;TZID=Europe/Ljubljana:20201231T100000
DTEND;TZID=Europe/Ljubljana:20201231T120000
DTSTAMP:20260425T112341Z
UID:fmf-AFLABS-URNIK:premaknjeno-srecanje:8265
ATTENDEE:2. letnik (FM)
CATEGORIES:Entry,Standard
COLOR:darkgreen
DESCRIPTION:Predmet: Analiza 3 (FM-2)\, Predavanja (P)\nLetniki: 2. letnik
  (FM)\nIzvajalci: Bojan Magajna\nProstor: 3.04
LOCATION:3.04
ORGANIZER:Bojan Magajna
RELATED-TO:fmf-AFLABS-URNIK:srecanje:4685
X-WR-TIMEZONE:Europe/Ljubljana
END:VEVENT
BEGIN:VEVENT
SUMMARY:Analiza 3 (FM-2)\, Predavanja (P)
DTSTART;TZID=Europe/Ljubljana:20210107T100000
DTEND;TZID=Europe/Ljubljana:20210107T120000
DTSTAMP:20260425T112341Z
UID:fmf-AFLABS-URNIK:premaknjeno-srecanje:8266
ATTENDEE:2. letnik (FM)
CATEGORIES:Entry,Standard
COLOR:darkgreen
DESCRIPTION:Predmet: Analiza 3 (FM-2)\, Predavanja (P)\nLetniki: 2. letnik
  (FM)\nIzvajalci: Bojan Magajna\nProstor: 3.04
LOCATION:3.04
ORGANIZER:Bojan Magajna
RELATED-TO:fmf-AFLABS-URNIK:srecanje:4685
X-WR-TIMEZONE:Europe/Ljubljana
END:VEVENT
BEGIN:VEVENT
SUMMARY:Analiza 3 (FM-2)\, Predavanja (P)
DTSTART;TZID=Europe/Ljubljana:20210114T100000
DTEND;TZID=Europe/Ljubljana:20210114T120000
DTSTAMP:20260425T112341Z
UID:fmf-AFLABS-URNIK:premaknjeno-srecanje:8267
ATTENDEE:2. letnik (FM)
CATEGORIES:Entry,Standard
COLOR:darkgreen
DESCRIPTION:Predmet: Analiza 3 (FM-2)\, Predavanja (P)\nLetniki: 2. letnik
  (FM)\nIzvajalci: Bojan Magajna\nProstor: 3.04
LOCATION:3.04
ORGANIZER:Bojan Magajna
RELATED-TO:fmf-AFLABS-URNIK:srecanje:4685
X-WR-TIMEZONE:Europe/Ljubljana
END:VEVENT
BEGIN:VEVENT
SUMMARY:Analiza 1 (IŠRM-1)\, Predavanja (P)
DTSTART;TZID=Europe/Ljubljana:20201006T090000
DTEND;TZID=Europe/Ljubljana:20201006T120000
DTSTAMP:20260425T112341Z
UID:fmf-AFLABS-URNIK:premaknjeno-srecanje:4595
ATTENDEE:1. letnik (IŠRM)
CATEGORIES:Entry,Standard
COLOR:darkgreen
DESCRIPTION:Predmet: Analiza 1 (IŠRM-1)\, Predavanja (P)\nLetniki: 1. let
 nik (IŠRM)\nIzvajalci: Bojan Magajna\nProstor: 3.04
LOCATION:3.04
ORGANIZER:Bojan Magajna
RELATED-TO:fmf-AFLABS-URNIK:srecanje:4667
X-WR-TIMEZONE:Europe/Ljubljana
END:VEVENT
BEGIN:VEVENT
SUMMARY:Analiza 1 (IŠRM-1)\, Predavanja (P)
DTSTART;TZID=Europe/Ljubljana:20201013T090000
DTEND;TZID=Europe/Ljubljana:20201013T120000
DTSTAMP:20260425T112341Z
UID:fmf-AFLABS-URNIK:premaknjeno-srecanje:4596
ATTENDEE:1. letnik (IŠRM)
CATEGORIES:Entry,Standard
COLOR:darkgreen
DESCRIPTION:Predmet: Analiza 1 (IŠRM-1)\, Predavanja (P)\nLetniki: 1. let
 nik (IŠRM)\nIzvajalci: Bojan Magajna\nProstor: 3.04
LOCATION:3.04
ORGANIZER:Bojan Magajna
RELATED-TO:fmf-AFLABS-URNIK:srecanje:4667
X-WR-TIMEZONE:Europe/Ljubljana
END:VEVENT
BEGIN:VEVENT
SUMMARY:Analiza 1 (IŠRM-1)\, Predavanja (P)
DTSTART;TZID=Europe/Ljubljana:20201020T090000
DTEND;TZID=Europe/Ljubljana:20201020T120000
DTSTAMP:20260425T112341Z
UID:fmf-AFLABS-URNIK:premaknjeno-srecanje:4597
ATTENDEE:1. letnik (IŠRM)
CATEGORIES:Entry,Standard
COLOR:darkgreen
DESCRIPTION:Predmet: Analiza 1 (IŠRM-1)\, Predavanja (P)\nLetniki: 1. let
 nik (IŠRM)\nIzvajalci: Bojan Magajna\nProstor: 3.04
LOCATION:3.04
ORGANIZER:Bojan Magajna
RELATED-TO:fmf-AFLABS-URNIK:srecanje:4667
X-WR-TIMEZONE:Europe/Ljubljana
END:VEVENT
BEGIN:VEVENT
SUMMARY:Analiza 1 (IŠRM-1)\, Predavanja (P)
DTSTART;TZID=Europe/Ljubljana:20201027T090000
DTEND;TZID=Europe/Ljubljana:20201027T120000
DTSTAMP:20260425T112341Z
UID:fmf-AFLABS-URNIK:premaknjeno-srecanje:4598
ATTENDEE:1. letnik (IŠRM)
CATEGORIES:Entry,Standard
COLOR:darkgreen
DESCRIPTION:Predmet: Analiza 1 (IŠRM-1)\, Predavanja (P)\nLetniki: 1. let
 nik (IŠRM)\nIzvajalci: Bojan Magajna\nProstor: 3.04
LOCATION:3.04
ORGANIZER:Bojan Magajna
RELATED-TO:fmf-AFLABS-URNIK:srecanje:4667
X-WR-TIMEZONE:Europe/Ljubljana
END:VEVENT
BEGIN:VEVENT
SUMMARY:Analiza 1 (IŠRM-1)\, Predavanja (P)
DTSTART;TZID=Europe/Ljubljana:20201103T090000
DTEND;TZID=Europe/Ljubljana:20201103T120000
DTSTAMP:20260425T112341Z
UID:fmf-AFLABS-URNIK:premaknjeno-srecanje:4599
ATTENDEE:1. letnik (IŠRM)
CATEGORIES:Entry,Standard
COLOR:darkgreen
DESCRIPTION:Predmet: Analiza 1 (IŠRM-1)\, Predavanja (P)\nLetniki: 1. let
 nik (IŠRM)\nIzvajalci: Bojan Magajna\nProstor: 3.04
LOCATION:3.04
ORGANIZER:Bojan Magajna
RELATED-TO:fmf-AFLABS-URNIK:srecanje:4667
X-WR-TIMEZONE:Europe/Ljubljana
END:VEVENT
BEGIN:VEVENT
SUMMARY:Analiza 1 (IŠRM-1)\, Predavanja (P)
DTSTART;TZID=Europe/Ljubljana:20201110T090000
DTEND;TZID=Europe/Ljubljana:20201110T120000
DTSTAMP:20260425T112341Z
UID:fmf-AFLABS-URNIK:premaknjeno-srecanje:4600
ATTENDEE:1. letnik (IŠRM)
CATEGORIES:Entry,Standard
COLOR:darkgreen
DESCRIPTION:Predmet: Analiza 1 (IŠRM-1)\, Predavanja (P)\nLetniki: 1. let
 nik (IŠRM)\nIzvajalci: Bojan Magajna\nProstor: 3.04
LOCATION:3.04
ORGANIZER:Bojan Magajna
RELATED-TO:fmf-AFLABS-URNIK:srecanje:4667
X-WR-TIMEZONE:Europe/Ljubljana
END:VEVENT
BEGIN:VEVENT
SUMMARY:Analiza 1 (IŠRM-1)\, Predavanja (P)
DTSTART;TZID=Europe/Ljubljana:20201117T090000
DTEND;TZID=Europe/Ljubljana:20201117T120000
DTSTAMP:20260425T112341Z
UID:fmf-AFLABS-URNIK:premaknjeno-srecanje:4601
ATTENDEE:1. letnik (IŠRM)
CATEGORIES:Entry,Standard
COLOR:darkgreen
DESCRIPTION:Predmet: Analiza 1 (IŠRM-1)\, Predavanja (P)\nLetniki: 1. let
 nik (IŠRM)\nIzvajalci: Bojan Magajna\nProstor: 3.04
LOCATION:3.04
ORGANIZER:Bojan Magajna
RELATED-TO:fmf-AFLABS-URNIK:srecanje:4667
X-WR-TIMEZONE:Europe/Ljubljana
END:VEVENT
BEGIN:VEVENT
SUMMARY:Analiza 1 (IŠRM-1)\, Predavanja (P)
DTSTART;TZID=Europe/Ljubljana:20201124T090000
DTEND;TZID=Europe/Ljubljana:20201124T120000
DTSTAMP:20260425T112341Z
UID:fmf-AFLABS-URNIK:premaknjeno-srecanje:4602
ATTENDEE:1. letnik (IŠRM)
CATEGORIES:Entry,Standard
COLOR:darkgreen
DESCRIPTION:Predmet: Analiza 1 (IŠRM-1)\, Predavanja (P)\nLetniki: 1. let
 nik (IŠRM)\nIzvajalci: Bojan Magajna\nProstor: 3.04
LOCATION:3.04
ORGANIZER:Bojan Magajna
RELATED-TO:fmf-AFLABS-URNIK:srecanje:4667
X-WR-TIMEZONE:Europe/Ljubljana
END:VEVENT
BEGIN:VEVENT
SUMMARY:Analiza 1 (IŠRM-1)\, Predavanja (P)
DTSTART;TZID=Europe/Ljubljana:20201201T090000
DTEND;TZID=Europe/Ljubljana:20201201T120000
DTSTAMP:20260425T112341Z
UID:fmf-AFLABS-URNIK:premaknjeno-srecanje:4603
ATTENDEE:1. letnik (IŠRM)
CATEGORIES:Entry,Standard
COLOR:darkgreen
DESCRIPTION:Predmet: Analiza 1 (IŠRM-1)\, Predavanja (P)\nLetniki: 1. let
 nik (IŠRM)\nIzvajalci: Bojan Magajna\nProstor: 3.04
LOCATION:3.04
ORGANIZER:Bojan Magajna
RELATED-TO:fmf-AFLABS-URNIK:srecanje:4667
X-WR-TIMEZONE:Europe/Ljubljana
END:VEVENT
BEGIN:VEVENT
SUMMARY:Analiza 1 (IŠRM-1)\, Predavanja (P)
DTSTART;TZID=Europe/Ljubljana:20201208T090000
DTEND;TZID=Europe/Ljubljana:20201208T120000
DTSTAMP:20260425T112341Z
UID:fmf-AFLABS-URNIK:premaknjeno-srecanje:4604
ATTENDEE:1. letnik (IŠRM)
CATEGORIES:Entry,Standard
COLOR:darkgreen
DESCRIPTION:Predmet: Analiza 1 (IŠRM-1)\, Predavanja (P)\nLetniki: 1. let
 nik (IŠRM)\nIzvajalci: Bojan Magajna\nProstor: 3.04
LOCATION:3.04
ORGANIZER:Bojan Magajna
RELATED-TO:fmf-AFLABS-URNIK:srecanje:4667
X-WR-TIMEZONE:Europe/Ljubljana
END:VEVENT
BEGIN:VEVENT
SUMMARY:Analiza 1 (IŠRM-1)\, Predavanja (P)
DTSTART;TZID=Europe/Ljubljana:20201215T090000
DTEND;TZID=Europe/Ljubljana:20201215T120000
DTSTAMP:20260425T112341Z
UID:fmf-AFLABS-URNIK:premaknjeno-srecanje:4605
ATTENDEE:1. letnik (IŠRM)
CATEGORIES:Entry,Standard
COLOR:darkgreen
DESCRIPTION:Predmet: Analiza 1 (IŠRM-1)\, Predavanja (P)\nLetniki: 1. let
 nik (IŠRM)\nIzvajalci: Bojan Magajna\nProstor: 3.04
LOCATION:3.04
ORGANIZER:Bojan Magajna
RELATED-TO:fmf-AFLABS-URNIK:srecanje:4667
X-WR-TIMEZONE:Europe/Ljubljana
END:VEVENT
BEGIN:VEVENT
SUMMARY:Analiza 1 (IŠRM-1)\, Predavanja (P)
DTSTART;TZID=Europe/Ljubljana:20201222T090000
DTEND;TZID=Europe/Ljubljana:20201222T120000
DTSTAMP:20260425T112341Z
UID:fmf-AFLABS-URNIK:premaknjeno-srecanje:4606
ATTENDEE:1. letnik (IŠRM)
CATEGORIES:Entry,Standard
COLOR:darkgreen
DESCRIPTION:Predmet: Analiza 1 (IŠRM-1)\, Predavanja (P)\nLetniki: 1. let
 nik (IŠRM)\nIzvajalci: Bojan Magajna\nProstor: 3.04
LOCATION:3.04
ORGANIZER:Bojan Magajna
RELATED-TO:fmf-AFLABS-URNIK:srecanje:4667
X-WR-TIMEZONE:Europe/Ljubljana
END:VEVENT
BEGIN:VEVENT
SUMMARY:Analiza 1 (IŠRM-1)\, Predavanja (P)
DTSTART;TZID=Europe/Ljubljana:20201229T090000
DTEND;TZID=Europe/Ljubljana:20201229T120000
DTSTAMP:20260425T112341Z
UID:fmf-AFLABS-URNIK:premaknjeno-srecanje:4607
ATTENDEE:1. letnik (IŠRM)
CATEGORIES:Entry,Standard
COLOR:darkgreen
DESCRIPTION:Predmet: Analiza 1 (IŠRM-1)\, Predavanja (P)\nLetniki: 1. let
 nik (IŠRM)\nIzvajalci: Bojan Magajna\nProstor: 3.04
LOCATION:3.04
ORGANIZER:Bojan Magajna
RELATED-TO:fmf-AFLABS-URNIK:srecanje:4667
X-WR-TIMEZONE:Europe/Ljubljana
END:VEVENT
BEGIN:VEVENT
SUMMARY:Analiza 1 (IŠRM-1)\, Predavanja (P)
DTSTART;TZID=Europe/Ljubljana:20210105T090000
DTEND;TZID=Europe/Ljubljana:20210105T120000
DTSTAMP:20260425T112341Z
UID:fmf-AFLABS-URNIK:premaknjeno-srecanje:4608
ATTENDEE:1. letnik (IŠRM)
CATEGORIES:Entry,Standard
COLOR:darkgreen
DESCRIPTION:Predmet: Analiza 1 (IŠRM-1)\, Predavanja (P)\nLetniki: 1. let
 nik (IŠRM)\nIzvajalci: Bojan Magajna\nProstor: 3.04
LOCATION:3.04
ORGANIZER:Bojan Magajna
RELATED-TO:fmf-AFLABS-URNIK:srecanje:4667
X-WR-TIMEZONE:Europe/Ljubljana
END:VEVENT
BEGIN:VEVENT
SUMMARY:Analiza 1 (IŠRM-1)\, Predavanja (P)
DTSTART;TZID=Europe/Ljubljana:20210112T090000
DTEND;TZID=Europe/Ljubljana:20210112T120000
DTSTAMP:20260425T112341Z
UID:fmf-AFLABS-URNIK:premaknjeno-srecanje:4609
ATTENDEE:1. letnik (IŠRM)
CATEGORIES:Entry,Standard
COLOR:darkgreen
DESCRIPTION:Predmet: Analiza 1 (IŠRM-1)\, Predavanja (P)\nLetniki: 1. let
 nik (IŠRM)\nIzvajalci: Bojan Magajna\nProstor: 3.04
LOCATION:3.04
ORGANIZER:Bojan Magajna
RELATED-TO:fmf-AFLABS-URNIK:srecanje:4667
X-WR-TIMEZONE:Europe/Ljubljana
END:VEVENT
BEGIN:VEVENT
SUMMARY:Analiza 3 (FM-2)\, Predavanja (P)
DTSTART;TZID=Europe/Ljubljana:20201007T100000
DTEND;TZID=Europe/Ljubljana:20201007T120000
DTSTAMP:20260425T112341Z
UID:fmf-AFLABS-URNIK:premaknjeno-srecanje:8096
ATTENDEE:2. letnik (FM)
CATEGORIES:Entry,Standard
COLOR:darkgreen
DESCRIPTION:Predmet: Analiza 3 (FM-2)\, Predavanja (P)\nLetniki: 2. letnik
  (FM)\nIzvajalci: Bojan Magajna\nProstor: 3.04
LOCATION:3.04
ORGANIZER:Bojan Magajna
RELATED-TO:fmf-AFLABS-URNIK:srecanje:4683
X-WR-TIMEZONE:Europe/Ljubljana
END:VEVENT
BEGIN:VEVENT
SUMMARY:Analiza 3 (FM-2)\, Predavanja (P)
DTSTART;TZID=Europe/Ljubljana:20201014T100000
DTEND;TZID=Europe/Ljubljana:20201014T120000
DTSTAMP:20260425T112341Z
UID:fmf-AFLABS-URNIK:premaknjeno-srecanje:8097
ATTENDEE:2. letnik (FM)
CATEGORIES:Entry,Standard
COLOR:darkgreen
DESCRIPTION:Predmet: Analiza 3 (FM-2)\, Predavanja (P)\nLetniki: 2. letnik
  (FM)\nIzvajalci: Bojan Magajna\nProstor: 3.04
LOCATION:3.04
ORGANIZER:Bojan Magajna
RELATED-TO:fmf-AFLABS-URNIK:srecanje:4683
X-WR-TIMEZONE:Europe/Ljubljana
END:VEVENT
BEGIN:VEVENT
SUMMARY:Analiza 3 (FM-2)\, Predavanja (P)
DTSTART;TZID=Europe/Ljubljana:20201021T100000
DTEND;TZID=Europe/Ljubljana:20201021T120000
DTSTAMP:20260425T112341Z
UID:fmf-AFLABS-URNIK:premaknjeno-srecanje:8098
ATTENDEE:2. letnik (FM)
CATEGORIES:Entry,Standard
COLOR:darkgreen
DESCRIPTION:Predmet: Analiza 3 (FM-2)\, Predavanja (P)\nLetniki: 2. letnik
  (FM)\nIzvajalci: Bojan Magajna\nProstor: 3.04
LOCATION:3.04
ORGANIZER:Bojan Magajna
RELATED-TO:fmf-AFLABS-URNIK:srecanje:4683
X-WR-TIMEZONE:Europe/Ljubljana
END:VEVENT
BEGIN:VEVENT
SUMMARY:Analiza 3 (FM-2)\, Predavanja (P)
DTSTART;TZID=Europe/Ljubljana:20201028T100000
DTEND;TZID=Europe/Ljubljana:20201028T120000
DTSTAMP:20260425T112341Z
UID:fmf-AFLABS-URNIK:premaknjeno-srecanje:8099
ATTENDEE:2. letnik (FM)
CATEGORIES:Entry,Standard
COLOR:darkgreen
DESCRIPTION:Predmet: Analiza 3 (FM-2)\, Predavanja (P)\nLetniki: 2. letnik
  (FM)\nIzvajalci: Bojan Magajna\nProstor: 3.04
LOCATION:3.04
ORGANIZER:Bojan Magajna
RELATED-TO:fmf-AFLABS-URNIK:srecanje:4683
X-WR-TIMEZONE:Europe/Ljubljana
END:VEVENT
BEGIN:VEVENT
SUMMARY:Analiza 3 (FM-2)\, Predavanja (P)
DTSTART;TZID=Europe/Ljubljana:20201104T100000
DTEND;TZID=Europe/Ljubljana:20201104T120000
DTSTAMP:20260425T112341Z
UID:fmf-AFLABS-URNIK:premaknjeno-srecanje:8100
ATTENDEE:2. letnik (FM)
CATEGORIES:Entry,Standard
COLOR:darkgreen
DESCRIPTION:Predmet: Analiza 3 (FM-2)\, Predavanja (P)\nLetniki: 2. letnik
  (FM)\nIzvajalci: Bojan Magajna\nProstor: 3.04
LOCATION:3.04
ORGANIZER:Bojan Magajna
RELATED-TO:fmf-AFLABS-URNIK:srecanje:4683
X-WR-TIMEZONE:Europe/Ljubljana
END:VEVENT
BEGIN:VEVENT
SUMMARY:Analiza 3 (FM-2)\, Predavanja (P)
DTSTART;TZID=Europe/Ljubljana:20201111T100000
DTEND;TZID=Europe/Ljubljana:20201111T120000
DTSTAMP:20260425T112341Z
UID:fmf-AFLABS-URNIK:premaknjeno-srecanje:8101
ATTENDEE:2. letnik (FM)
CATEGORIES:Entry,Standard
COLOR:darkgreen
DESCRIPTION:Predmet: Analiza 3 (FM-2)\, Predavanja (P)\nLetniki: 2. letnik
  (FM)\nIzvajalci: Bojan Magajna\nProstor: 3.04
LOCATION:3.04
ORGANIZER:Bojan Magajna
RELATED-TO:fmf-AFLABS-URNIK:srecanje:4683
X-WR-TIMEZONE:Europe/Ljubljana
END:VEVENT
BEGIN:VEVENT
SUMMARY:Analiza 3 (FM-2)\, Predavanja (P)
DTSTART;TZID=Europe/Ljubljana:20201118T100000
DTEND;TZID=Europe/Ljubljana:20201118T120000
DTSTAMP:20260425T112341Z
UID:fmf-AFLABS-URNIK:premaknjeno-srecanje:8102
ATTENDEE:2. letnik (FM)
CATEGORIES:Entry,Standard
COLOR:darkgreen
DESCRIPTION:Predmet: Analiza 3 (FM-2)\, Predavanja (P)\nLetniki: 2. letnik
  (FM)\nIzvajalci: Bojan Magajna\nProstor: 3.04
LOCATION:3.04
ORGANIZER:Bojan Magajna
RELATED-TO:fmf-AFLABS-URNIK:srecanje:4683
X-WR-TIMEZONE:Europe/Ljubljana
END:VEVENT
BEGIN:VEVENT
SUMMARY:Analiza 3 (FM-2)\, Predavanja (P)
DTSTART;TZID=Europe/Ljubljana:20201125T100000
DTEND;TZID=Europe/Ljubljana:20201125T120000
DTSTAMP:20260425T112341Z
UID:fmf-AFLABS-URNIK:premaknjeno-srecanje:8103
ATTENDEE:2. letnik (FM)
CATEGORIES:Entry,Standard
COLOR:darkgreen
DESCRIPTION:Predmet: Analiza 3 (FM-2)\, Predavanja (P)\nLetniki: 2. letnik
  (FM)\nIzvajalci: Bojan Magajna\nProstor: 3.04
LOCATION:3.04
ORGANIZER:Bojan Magajna
RELATED-TO:fmf-AFLABS-URNIK:srecanje:4683
X-WR-TIMEZONE:Europe/Ljubljana
END:VEVENT
BEGIN:VEVENT
SUMMARY:Analiza 3 (FM-2)\, Predavanja (P)
DTSTART;TZID=Europe/Ljubljana:20201202T100000
DTEND;TZID=Europe/Ljubljana:20201202T120000
DTSTAMP:20260425T112341Z
UID:fmf-AFLABS-URNIK:premaknjeno-srecanje:8104
ATTENDEE:2. letnik (FM)
CATEGORIES:Entry,Standard
COLOR:darkgreen
DESCRIPTION:Predmet: Analiza 3 (FM-2)\, Predavanja (P)\nLetniki: 2. letnik
  (FM)\nIzvajalci: Bojan Magajna\nProstor: 3.04
LOCATION:3.04
ORGANIZER:Bojan Magajna
RELATED-TO:fmf-AFLABS-URNIK:srecanje:4683
X-WR-TIMEZONE:Europe/Ljubljana
END:VEVENT
BEGIN:VEVENT
SUMMARY:Analiza 3 (FM-2)\, Predavanja (P)
DTSTART;TZID=Europe/Ljubljana:20201209T100000
DTEND;TZID=Europe/Ljubljana:20201209T120000
DTSTAMP:20260425T112341Z
UID:fmf-AFLABS-URNIK:premaknjeno-srecanje:8105
ATTENDEE:2. letnik (FM)
CATEGORIES:Entry,Standard
COLOR:darkgreen
DESCRIPTION:Predmet: Analiza 3 (FM-2)\, Predavanja (P)\nLetniki: 2. letnik
  (FM)\nIzvajalci: Bojan Magajna\nProstor: 3.04
LOCATION:3.04
ORGANIZER:Bojan Magajna
RELATED-TO:fmf-AFLABS-URNIK:srecanje:4683
X-WR-TIMEZONE:Europe/Ljubljana
END:VEVENT
BEGIN:VEVENT
SUMMARY:Analiza 3 (FM-2)\, Predavanja (P)
DTSTART;TZID=Europe/Ljubljana:20201216T100000
DTEND;TZID=Europe/Ljubljana:20201216T120000
DTSTAMP:20260425T112341Z
UID:fmf-AFLABS-URNIK:premaknjeno-srecanje:8106
ATTENDEE:2. letnik (FM)
CATEGORIES:Entry,Standard
COLOR:darkgreen
DESCRIPTION:Predmet: Analiza 3 (FM-2)\, Predavanja (P)\nLetniki: 2. letnik
  (FM)\nIzvajalci: Bojan Magajna\nProstor: 3.04
LOCATION:3.04
ORGANIZER:Bojan Magajna
RELATED-TO:fmf-AFLABS-URNIK:srecanje:4683
X-WR-TIMEZONE:Europe/Ljubljana
END:VEVENT
BEGIN:VEVENT
SUMMARY:Analiza 3 (FM-2)\, Predavanja (P)
DTSTART;TZID=Europe/Ljubljana:20201223T100000
DTEND;TZID=Europe/Ljubljana:20201223T120000
DTSTAMP:20260425T112341Z
UID:fmf-AFLABS-URNIK:premaknjeno-srecanje:8107
ATTENDEE:2. letnik (FM)
CATEGORIES:Entry,Standard
COLOR:darkgreen
DESCRIPTION:Predmet: Analiza 3 (FM-2)\, Predavanja (P)\nLetniki: 2. letnik
  (FM)\nIzvajalci: Bojan Magajna\nProstor: 3.04
LOCATION:3.04
ORGANIZER:Bojan Magajna
RELATED-TO:fmf-AFLABS-URNIK:srecanje:4683
X-WR-TIMEZONE:Europe/Ljubljana
END:VEVENT
BEGIN:VEVENT
SUMMARY:Analiza 3 (FM-2)\, Predavanja (P)
DTSTART;TZID=Europe/Ljubljana:20201230T100000
DTEND;TZID=Europe/Ljubljana:20201230T120000
DTSTAMP:20260425T112341Z
UID:fmf-AFLABS-URNIK:premaknjeno-srecanje:8108
ATTENDEE:2. letnik (FM)
CATEGORIES:Entry,Standard
COLOR:darkgreen
DESCRIPTION:Predmet: Analiza 3 (FM-2)\, Predavanja (P)\nLetniki: 2. letnik
  (FM)\nIzvajalci: Bojan Magajna\nProstor: 3.04
LOCATION:3.04
ORGANIZER:Bojan Magajna
RELATED-TO:fmf-AFLABS-URNIK:srecanje:4683
X-WR-TIMEZONE:Europe/Ljubljana
END:VEVENT
BEGIN:VEVENT
SUMMARY:Analiza 3 (FM-2)\, Predavanja (P)
DTSTART;TZID=Europe/Ljubljana:20210106T100000
DTEND;TZID=Europe/Ljubljana:20210106T120000
DTSTAMP:20260425T112341Z
UID:fmf-AFLABS-URNIK:premaknjeno-srecanje:8109
ATTENDEE:2. letnik (FM)
CATEGORIES:Entry,Standard
COLOR:darkgreen
DESCRIPTION:Predmet: Analiza 3 (FM-2)\, Predavanja (P)\nLetniki: 2. letnik
  (FM)\nIzvajalci: Bojan Magajna\nProstor: 3.04
LOCATION:3.04
ORGANIZER:Bojan Magajna
RELATED-TO:fmf-AFLABS-URNIK:srecanje:4683
X-WR-TIMEZONE:Europe/Ljubljana
END:VEVENT
BEGIN:VEVENT
SUMMARY:Analiza 3 (FM-2)\, Predavanja (P)
DTSTART;TZID=Europe/Ljubljana:20210113T100000
DTEND;TZID=Europe/Ljubljana:20210113T120000
DTSTAMP:20260425T112341Z
UID:fmf-AFLABS-URNIK:premaknjeno-srecanje:8110
ATTENDEE:2. letnik (FM)
CATEGORIES:Entry,Standard
COLOR:darkgreen
DESCRIPTION:Predmet: Analiza 3 (FM-2)\, Predavanja (P)\nLetniki: 2. letnik
  (FM)\nIzvajalci: Bojan Magajna\nProstor: 3.04
LOCATION:3.04
ORGANIZER:Bojan Magajna
RELATED-TO:fmf-AFLABS-URNIK:srecanje:4683
X-WR-TIMEZONE:Europe/Ljubljana
END:VEVENT
END:VCALENDAR
