BEGIN:VCALENDAR
VERSION:2.0
PRODID:-//AFLabs urnik izvoz - fmf//aflabs.si//SI
DTSTAMP:20260424T133726Z
NAME:UL FMF urnik
REFRESH-INTERVAL:PT1H
SOURCE:https://urnik.fmf.uni-lj.si/teacher/359?day=2021-04-05&export=1
URL:https://urnik.fmf.uni-lj.si/teacher/359?day=2021-04-05&export=1
X-PUBLISHED-TTL:PT1H
X-WR-CALNAME:UL FMF urnik
X-WR-TIMEZONE:Europe/Ljubljana
BEGIN:VTIMEZONE
TZID:Europe/Ljubljana
BEGIN:DAYLIGHT
DTSTART:20260329T020000
RDATE:20260329T020000
RDATE:20270328T020000
TZNAME:CEST
TZOFFSETFROM:+0100
TZOFFSETTO:+0200
END:DAYLIGHT
BEGIN:STANDARD
DTSTART:20261025T030000
RDATE:20261025T030000
RDATE:20271031T030000
TZNAME:CET
TZOFFSETFROM:+0200
TZOFFSETTO:+0100
END:STANDARD
END:VTIMEZONE
BEGIN:VEVENT
SUMMARY:Analiza 2 (IŠRM-1)\, Predavanja (P)
DTSTART;TZID=Europe/Ljubljana:20210218T090000
DTEND;TZID=Europe/Ljubljana:20210218T120000
DTSTAMP:20260424T133726Z
UID:fmf-AFLABS-URNIK:premaknjeno-srecanje:6589
ATTENDEE:1. letnik (IŠRM)
CATEGORIES:Entry,Standard
COLOR:darkgreen
DESCRIPTION:Predmet: Analiza 2 (IŠRM-1)\, Predavanja (P)\nLetniki: 1. let
 nik (IŠRM)\nIzvajalci: Bojan Magajna\nProstor: 3.04
LOCATION:3.04
ORGANIZER:Bojan Magajna
RELATED-TO:fmf-AFLABS-URNIK:srecanje:5456
X-WR-TIMEZONE:Europe/Ljubljana
END:VEVENT
BEGIN:VEVENT
SUMMARY:Analiza 2 (IŠRM-1)\, Predavanja (P)
DTSTART;TZID=Europe/Ljubljana:20210225T090000
DTEND;TZID=Europe/Ljubljana:20210225T120000
DTSTAMP:20260424T133726Z
UID:fmf-AFLABS-URNIK:premaknjeno-srecanje:6590
ATTENDEE:1. letnik (IŠRM)
CATEGORIES:Entry,Standard
COLOR:darkgreen
DESCRIPTION:Predmet: Analiza 2 (IŠRM-1)\, Predavanja (P)\nLetniki: 1. let
 nik (IŠRM)\nIzvajalci: Bojan Magajna\nProstor: 3.04
LOCATION:3.04
ORGANIZER:Bojan Magajna
RELATED-TO:fmf-AFLABS-URNIK:srecanje:5456
X-WR-TIMEZONE:Europe/Ljubljana
END:VEVENT
BEGIN:VEVENT
SUMMARY:Analiza 2 (IŠRM-1)\, Predavanja (P)
DTSTART;TZID=Europe/Ljubljana:20210304T090000
DTEND;TZID=Europe/Ljubljana:20210304T120000
DTSTAMP:20260424T133726Z
UID:fmf-AFLABS-URNIK:premaknjeno-srecanje:6591
ATTENDEE:1. letnik (IŠRM)
CATEGORIES:Entry,Standard
COLOR:darkgreen
DESCRIPTION:Predmet: Analiza 2 (IŠRM-1)\, Predavanja (P)\nLetniki: 1. let
 nik (IŠRM)\nIzvajalci: Bojan Magajna\nProstor: 3.04
LOCATION:3.04
ORGANIZER:Bojan Magajna
RELATED-TO:fmf-AFLABS-URNIK:srecanje:5456
X-WR-TIMEZONE:Europe/Ljubljana
END:VEVENT
BEGIN:VEVENT
SUMMARY:Analiza 2 (IŠRM-1)\, Predavanja (P)
DTSTART;TZID=Europe/Ljubljana:20210311T090000
DTEND;TZID=Europe/Ljubljana:20210311T120000
DTSTAMP:20260424T133726Z
UID:fmf-AFLABS-URNIK:premaknjeno-srecanje:6592
ATTENDEE:1. letnik (IŠRM)
CATEGORIES:Entry,Standard
COLOR:darkgreen
DESCRIPTION:Predmet: Analiza 2 (IŠRM-1)\, Predavanja (P)\nLetniki: 1. let
 nik (IŠRM)\nIzvajalci: Bojan Magajna\nProstor: 3.04
LOCATION:3.04
ORGANIZER:Bojan Magajna
RELATED-TO:fmf-AFLABS-URNIK:srecanje:5456
X-WR-TIMEZONE:Europe/Ljubljana
END:VEVENT
BEGIN:VEVENT
SUMMARY:Analiza 2 (IŠRM-1)\, Predavanja (P)
DTSTART;TZID=Europe/Ljubljana:20210318T090000
DTEND;TZID=Europe/Ljubljana:20210318T120000
DTSTAMP:20260424T133726Z
UID:fmf-AFLABS-URNIK:premaknjeno-srecanje:6593
ATTENDEE:1. letnik (IŠRM)
CATEGORIES:Entry,Standard
COLOR:darkgreen
DESCRIPTION:Predmet: Analiza 2 (IŠRM-1)\, Predavanja (P)\nLetniki: 1. let
 nik (IŠRM)\nIzvajalci: Bojan Magajna\nProstor: 3.04
LOCATION:3.04
ORGANIZER:Bojan Magajna
RELATED-TO:fmf-AFLABS-URNIK:srecanje:5456
X-WR-TIMEZONE:Europe/Ljubljana
END:VEVENT
BEGIN:VEVENT
SUMMARY:Analiza 2 (IŠRM-1)\, Predavanja (P)
DTSTART;TZID=Europe/Ljubljana:20210325T090000
DTEND;TZID=Europe/Ljubljana:20210325T120000
DTSTAMP:20260424T133726Z
UID:fmf-AFLABS-URNIK:premaknjeno-srecanje:6594
ATTENDEE:1. letnik (IŠRM)
CATEGORIES:Entry,Standard
COLOR:darkgreen
DESCRIPTION:Predmet: Analiza 2 (IŠRM-1)\, Predavanja (P)\nLetniki: 1. let
 nik (IŠRM)\nIzvajalci: Bojan Magajna\nProstor: 3.04
LOCATION:3.04
ORGANIZER:Bojan Magajna
RELATED-TO:fmf-AFLABS-URNIK:srecanje:5456
X-WR-TIMEZONE:Europe/Ljubljana
END:VEVENT
BEGIN:VEVENT
SUMMARY:Analiza 2 (IŠRM-1)\, Predavanja (P)
DTSTART;TZID=Europe/Ljubljana:20210401T090000
DTEND;TZID=Europe/Ljubljana:20210401T120000
DTSTAMP:20260424T133726Z
UID:fmf-AFLABS-URNIK:premaknjeno-srecanje:6595
ATTENDEE:1. letnik (IŠRM)
CATEGORIES:Entry,Standard
COLOR:darkgreen
DESCRIPTION:Predmet: Analiza 2 (IŠRM-1)\, Predavanja (P)\nLetniki: 1. let
 nik (IŠRM)\nIzvajalci: Bojan Magajna\nProstor: 3.04
LOCATION:3.04
ORGANIZER:Bojan Magajna
RELATED-TO:fmf-AFLABS-URNIK:srecanje:5456
X-WR-TIMEZONE:Europe/Ljubljana
END:VEVENT
BEGIN:VEVENT
SUMMARY:Analiza 2 (IŠRM-1)\, Predavanja (P)
DTSTART;TZID=Europe/Ljubljana:20210408T090000
DTEND;TZID=Europe/Ljubljana:20210408T120000
DTSTAMP:20260424T133726Z
UID:fmf-AFLABS-URNIK:premaknjeno-srecanje:6596
ATTENDEE:1. letnik (IŠRM)
CATEGORIES:Entry,Standard
COLOR:darkgreen
DESCRIPTION:Predmet: Analiza 2 (IŠRM-1)\, Predavanja (P)\nLetniki: 1. let
 nik (IŠRM)\nIzvajalci: Bojan Magajna\nProstor: 3.04
LOCATION:3.04
ORGANIZER:Bojan Magajna
RELATED-TO:fmf-AFLABS-URNIK:srecanje:5456
X-WR-TIMEZONE:Europe/Ljubljana
END:VEVENT
BEGIN:VEVENT
SUMMARY:Analiza 2 (IŠRM-1)\, Predavanja (P)
DTSTART;TZID=Europe/Ljubljana:20210415T090000
DTEND;TZID=Europe/Ljubljana:20210415T120000
DTSTAMP:20260424T133726Z
UID:fmf-AFLABS-URNIK:premaknjeno-srecanje:6597
ATTENDEE:1. letnik (IŠRM)
CATEGORIES:Entry,Standard
COLOR:darkgreen
DESCRIPTION:Predmet: Analiza 2 (IŠRM-1)\, Predavanja (P)\nLetniki: 1. let
 nik (IŠRM)\nIzvajalci: Bojan Magajna\nProstor: 3.04
LOCATION:3.04
ORGANIZER:Bojan Magajna
RELATED-TO:fmf-AFLABS-URNIK:srecanje:5456
X-WR-TIMEZONE:Europe/Ljubljana
END:VEVENT
BEGIN:VEVENT
SUMMARY:Analiza 2 (IŠRM-1)\, Predavanja (P)
DTSTART;TZID=Europe/Ljubljana:20210422T090000
DTEND;TZID=Europe/Ljubljana:20210422T120000
DTSTAMP:20260424T133726Z
UID:fmf-AFLABS-URNIK:premaknjeno-srecanje:6598
ATTENDEE:1. letnik (IŠRM)
CATEGORIES:Entry,Standard
COLOR:darkgreen
DESCRIPTION:Predmet: Analiza 2 (IŠRM-1)\, Predavanja (P)\nLetniki: 1. let
 nik (IŠRM)\nIzvajalci: Bojan Magajna\nProstor: 3.04
LOCATION:3.04
ORGANIZER:Bojan Magajna
RELATED-TO:fmf-AFLABS-URNIK:srecanje:5456
X-WR-TIMEZONE:Europe/Ljubljana
END:VEVENT
BEGIN:VEVENT
SUMMARY:Analiza 2 (IŠRM-1)\, Predavanja (P)
DTSTART;TZID=Europe/Ljubljana:20210429T090000
DTEND;TZID=Europe/Ljubljana:20210429T120000
DTSTAMP:20260424T133726Z
UID:fmf-AFLABS-URNIK:premaknjeno-srecanje:6599
ATTENDEE:1. letnik (IŠRM)
CATEGORIES:Entry,Standard
COLOR:darkgreen
DESCRIPTION:Predmet: Analiza 2 (IŠRM-1)\, Predavanja (P)\nLetniki: 1. let
 nik (IŠRM)\nIzvajalci: Bojan Magajna\nProstor: 3.04
LOCATION:3.04
ORGANIZER:Bojan Magajna
RELATED-TO:fmf-AFLABS-URNIK:srecanje:5456
X-WR-TIMEZONE:Europe/Ljubljana
END:VEVENT
BEGIN:VEVENT
SUMMARY:Analiza 2 (IŠRM-1)\, Predavanja (P)
DTSTART;TZID=Europe/Ljubljana:20210506T090000
DTEND;TZID=Europe/Ljubljana:20210506T120000
DTSTAMP:20260424T133726Z
UID:fmf-AFLABS-URNIK:premaknjeno-srecanje:6600
ATTENDEE:1. letnik (IŠRM)
CATEGORIES:Entry,Standard
COLOR:darkgreen
DESCRIPTION:Predmet: Analiza 2 (IŠRM-1)\, Predavanja (P)\nLetniki: 1. let
 nik (IŠRM)\nIzvajalci: Bojan Magajna\nProstor: 3.04
LOCATION:3.04
ORGANIZER:Bojan Magajna
RELATED-TO:fmf-AFLABS-URNIK:srecanje:5456
X-WR-TIMEZONE:Europe/Ljubljana
END:VEVENT
BEGIN:VEVENT
SUMMARY:Analiza 2 (IŠRM-1)\, Predavanja (P)
DTSTART;TZID=Europe/Ljubljana:20210513T090000
DTEND;TZID=Europe/Ljubljana:20210513T120000
DTSTAMP:20260424T133726Z
UID:fmf-AFLABS-URNIK:premaknjeno-srecanje:6601
ATTENDEE:1. letnik (IŠRM)
CATEGORIES:Entry,Standard
COLOR:darkgreen
DESCRIPTION:Predmet: Analiza 2 (IŠRM-1)\, Predavanja (P)\nLetniki: 1. let
 nik (IŠRM)\nIzvajalci: Bojan Magajna\nProstor: 3.04
LOCATION:3.04
ORGANIZER:Bojan Magajna
RELATED-TO:fmf-AFLABS-URNIK:srecanje:5456
X-WR-TIMEZONE:Europe/Ljubljana
END:VEVENT
BEGIN:VEVENT
SUMMARY:Analiza 2 (IŠRM-1)\, Predavanja (P)
DTSTART;TZID=Europe/Ljubljana:20210520T090000
DTEND;TZID=Europe/Ljubljana:20210520T120000
DTSTAMP:20260424T133726Z
UID:fmf-AFLABS-URNIK:premaknjeno-srecanje:6602
ATTENDEE:1. letnik (IŠRM)
CATEGORIES:Entry,Standard
COLOR:darkgreen
DESCRIPTION:Predmet: Analiza 2 (IŠRM-1)\, Predavanja (P)\nLetniki: 1. let
 nik (IŠRM)\nIzvajalci: Bojan Magajna\nProstor: 3.04
LOCATION:3.04
ORGANIZER:Bojan Magajna
RELATED-TO:fmf-AFLABS-URNIK:srecanje:5456
X-WR-TIMEZONE:Europe/Ljubljana
END:VEVENT
BEGIN:VEVENT
SUMMARY:Analiza 2 (IŠRM-1)\, Predavanja (P)
DTSTART;TZID=Europe/Ljubljana:20210527T090000
DTEND;TZID=Europe/Ljubljana:20210527T120000
DTSTAMP:20260424T133726Z
UID:fmf-AFLABS-URNIK:premaknjeno-srecanje:6603
ATTENDEE:1. letnik (IŠRM)
CATEGORIES:Entry,Standard
COLOR:darkgreen
DESCRIPTION:Predmet: Analiza 2 (IŠRM-1)\, Predavanja (P)\nLetniki: 1. let
 nik (IŠRM)\nIzvajalci: Bojan Magajna\nProstor: 3.04
LOCATION:3.04
ORGANIZER:Bojan Magajna
RELATED-TO:fmf-AFLABS-URNIK:srecanje:5456
X-WR-TIMEZONE:Europe/Ljubljana
END:VEVENT
BEGIN:VEVENT
SUMMARY:SEM (MAT-2\, PM-3\, PM-4)\, Seminar (S)\, [2]
DTSTART;TZID=Europe/Ljubljana:20210219T140000
DTEND;TZID=Europe/Ljubljana:20210219T160000
DTSTAMP:20260424T133726Z
UID:fmf-AFLABS-URNIK:premaknjeno-srecanje:99392
ATTENDEE:2. letnik (M)
ATTENDEE:3. letnik (PM)
ATTENDEE:4. letnik (PM)
CATEGORIES:Entry,Standard
COLOR:darkgreen
DESCRIPTION:Predmet: SEM (MAT-2\, PM-3\, PM-4)\, Seminar (S)\, [2]\nLetnik
 i: 2. letnik (M)\, 3. letnik (PM)\, 4. letnik (PM)\nIzvajalci: Bojan Magaj
 na\nProstor: 2.03
LOCATION:2.03
ORGANIZER:Bojan Magajna
RELATED-TO:fmf-AFLABS-URNIK:srecanje:5878
X-WR-TIMEZONE:Europe/Ljubljana
END:VEVENT
BEGIN:VEVENT
SUMMARY:SEM (MAT-2\, PM-3\, PM-4)\, Seminar (S)\, [2]
DTSTART;TZID=Europe/Ljubljana:20210226T140000
DTEND;TZID=Europe/Ljubljana:20210226T160000
DTSTAMP:20260424T133726Z
UID:fmf-AFLABS-URNIK:premaknjeno-srecanje:99393
ATTENDEE:2. letnik (M)
ATTENDEE:3. letnik (PM)
ATTENDEE:4. letnik (PM)
CATEGORIES:Entry,Standard
COLOR:darkgreen
DESCRIPTION:Predmet: SEM (MAT-2\, PM-3\, PM-4)\, Seminar (S)\, [2]\nLetnik
 i: 2. letnik (M)\, 3. letnik (PM)\, 4. letnik (PM)\nIzvajalci: Bojan Magaj
 na\nProstor: 2.03
LOCATION:2.03
ORGANIZER:Bojan Magajna
RELATED-TO:fmf-AFLABS-URNIK:srecanje:5878
X-WR-TIMEZONE:Europe/Ljubljana
END:VEVENT
BEGIN:VEVENT
SUMMARY:SEM (MAT-2\, PM-3\, PM-4)\, Seminar (S)\, [2]
DTSTART;TZID=Europe/Ljubljana:20210305T140000
DTEND;TZID=Europe/Ljubljana:20210305T160000
DTSTAMP:20260424T133726Z
UID:fmf-AFLABS-URNIK:premaknjeno-srecanje:99394
ATTENDEE:2. letnik (M)
ATTENDEE:3. letnik (PM)
ATTENDEE:4. letnik (PM)
CATEGORIES:Entry,Standard
COLOR:darkgreen
DESCRIPTION:Predmet: SEM (MAT-2\, PM-3\, PM-4)\, Seminar (S)\, [2]\nLetnik
 i: 2. letnik (M)\, 3. letnik (PM)\, 4. letnik (PM)\nIzvajalci: Bojan Magaj
 na\nProstor: 2.03
LOCATION:2.03
ORGANIZER:Bojan Magajna
RELATED-TO:fmf-AFLABS-URNIK:srecanje:5878
X-WR-TIMEZONE:Europe/Ljubljana
END:VEVENT
BEGIN:VEVENT
SUMMARY:SEM (MAT-2\, PM-3\, PM-4)\, Seminar (S)\, [2]
DTSTART;TZID=Europe/Ljubljana:20210312T140000
DTEND;TZID=Europe/Ljubljana:20210312T160000
DTSTAMP:20260424T133726Z
UID:fmf-AFLABS-URNIK:premaknjeno-srecanje:99395
ATTENDEE:2. letnik (M)
ATTENDEE:3. letnik (PM)
ATTENDEE:4. letnik (PM)
CATEGORIES:Entry,Standard
COLOR:darkgreen
DESCRIPTION:Predmet: SEM (MAT-2\, PM-3\, PM-4)\, Seminar (S)\, [2]\nLetnik
 i: 2. letnik (M)\, 3. letnik (PM)\, 4. letnik (PM)\nIzvajalci: Bojan Magaj
 na\nProstor: 2.03
LOCATION:2.03
ORGANIZER:Bojan Magajna
RELATED-TO:fmf-AFLABS-URNIK:srecanje:5878
X-WR-TIMEZONE:Europe/Ljubljana
END:VEVENT
BEGIN:VEVENT
SUMMARY:SEM (MAT-2\, PM-3\, PM-4)\, Seminar (S)\, [2]
DTSTART;TZID=Europe/Ljubljana:20210319T140000
DTEND;TZID=Europe/Ljubljana:20210319T160000
DTSTAMP:20260424T133726Z
UID:fmf-AFLABS-URNIK:premaknjeno-srecanje:99396
ATTENDEE:2. letnik (M)
ATTENDEE:3. letnik (PM)
ATTENDEE:4. letnik (PM)
CATEGORIES:Entry,Standard
COLOR:darkgreen
DESCRIPTION:Predmet: SEM (MAT-2\, PM-3\, PM-4)\, Seminar (S)\, [2]\nLetnik
 i: 2. letnik (M)\, 3. letnik (PM)\, 4. letnik (PM)\nIzvajalci: Bojan Magaj
 na\nProstor: 2.03
LOCATION:2.03
ORGANIZER:Bojan Magajna
RELATED-TO:fmf-AFLABS-URNIK:srecanje:5878
X-WR-TIMEZONE:Europe/Ljubljana
END:VEVENT
BEGIN:VEVENT
SUMMARY:SEM (MAT-2\, PM-3\, PM-4)\, Seminar (S)\, [2]
DTSTART;TZID=Europe/Ljubljana:20210326T140000
DTEND;TZID=Europe/Ljubljana:20210326T160000
DTSTAMP:20260424T133726Z
UID:fmf-AFLABS-URNIK:premaknjeno-srecanje:99397
ATTENDEE:2. letnik (M)
ATTENDEE:3. letnik (PM)
ATTENDEE:4. letnik (PM)
CATEGORIES:Entry,Standard
COLOR:darkgreen
DESCRIPTION:Predmet: SEM (MAT-2\, PM-3\, PM-4)\, Seminar (S)\, [2]\nLetnik
 i: 2. letnik (M)\, 3. letnik (PM)\, 4. letnik (PM)\nIzvajalci: Bojan Magaj
 na\nProstor: 2.03
LOCATION:2.03
ORGANIZER:Bojan Magajna
RELATED-TO:fmf-AFLABS-URNIK:srecanje:5878
X-WR-TIMEZONE:Europe/Ljubljana
END:VEVENT
BEGIN:VEVENT
SUMMARY:SEM (MAT-2\, PM-3\, PM-4)\, Seminar (S)\, [2]
DTSTART;TZID=Europe/Ljubljana:20210402T140000
DTEND;TZID=Europe/Ljubljana:20210402T160000
DTSTAMP:20260424T133726Z
UID:fmf-AFLABS-URNIK:premaknjeno-srecanje:99398
ATTENDEE:2. letnik (M)
ATTENDEE:3. letnik (PM)
ATTENDEE:4. letnik (PM)
CATEGORIES:Entry,Standard
COLOR:darkgreen
DESCRIPTION:Predmet: SEM (MAT-2\, PM-3\, PM-4)\, Seminar (S)\, [2]\nLetnik
 i: 2. letnik (M)\, 3. letnik (PM)\, 4. letnik (PM)\nIzvajalci: Bojan Magaj
 na\nProstor: 2.03
LOCATION:2.03
ORGANIZER:Bojan Magajna
RELATED-TO:fmf-AFLABS-URNIK:srecanje:5878
X-WR-TIMEZONE:Europe/Ljubljana
END:VEVENT
BEGIN:VEVENT
SUMMARY:SEM (MAT-2\, PM-3\, PM-4)\, Seminar (S)\, [2]
DTSTART;TZID=Europe/Ljubljana:20210409T140000
DTEND;TZID=Europe/Ljubljana:20210409T160000
DTSTAMP:20260424T133726Z
UID:fmf-AFLABS-URNIK:premaknjeno-srecanje:99399
ATTENDEE:2. letnik (M)
ATTENDEE:3. letnik (PM)
ATTENDEE:4. letnik (PM)
CATEGORIES:Entry,Standard
COLOR:darkgreen
DESCRIPTION:Predmet: SEM (MAT-2\, PM-3\, PM-4)\, Seminar (S)\, [2]\nLetnik
 i: 2. letnik (M)\, 3. letnik (PM)\, 4. letnik (PM)\nIzvajalci: Bojan Magaj
 na\nProstor: 2.03
LOCATION:2.03
ORGANIZER:Bojan Magajna
RELATED-TO:fmf-AFLABS-URNIK:srecanje:5878
X-WR-TIMEZONE:Europe/Ljubljana
END:VEVENT
BEGIN:VEVENT
SUMMARY:SEM (MAT-2\, PM-3\, PM-4)\, Seminar (S)\, [2]
DTSTART;TZID=Europe/Ljubljana:20210416T140000
DTEND;TZID=Europe/Ljubljana:20210416T160000
DTSTAMP:20260424T133726Z
UID:fmf-AFLABS-URNIK:premaknjeno-srecanje:99400
ATTENDEE:2. letnik (M)
ATTENDEE:3. letnik (PM)
ATTENDEE:4. letnik (PM)
CATEGORIES:Entry,Standard
COLOR:darkgreen
DESCRIPTION:Predmet: SEM (MAT-2\, PM-3\, PM-4)\, Seminar (S)\, [2]\nLetnik
 i: 2. letnik (M)\, 3. letnik (PM)\, 4. letnik (PM)\nIzvajalci: Bojan Magaj
 na\nProstor: 2.03
LOCATION:2.03
ORGANIZER:Bojan Magajna
RELATED-TO:fmf-AFLABS-URNIK:srecanje:5878
X-WR-TIMEZONE:Europe/Ljubljana
END:VEVENT
BEGIN:VEVENT
SUMMARY:SEM (MAT-2\, PM-3\, PM-4)\, Seminar (S)\, [2]
DTSTART;TZID=Europe/Ljubljana:20210423T140000
DTEND;TZID=Europe/Ljubljana:20210423T160000
DTSTAMP:20260424T133726Z
UID:fmf-AFLABS-URNIK:premaknjeno-srecanje:99401
ATTENDEE:2. letnik (M)
ATTENDEE:3. letnik (PM)
ATTENDEE:4. letnik (PM)
CATEGORIES:Entry,Standard
COLOR:darkgreen
DESCRIPTION:Predmet: SEM (MAT-2\, PM-3\, PM-4)\, Seminar (S)\, [2]\nLetnik
 i: 2. letnik (M)\, 3. letnik (PM)\, 4. letnik (PM)\nIzvajalci: Bojan Magaj
 na\nProstor: 2.03
LOCATION:2.03
ORGANIZER:Bojan Magajna
RELATED-TO:fmf-AFLABS-URNIK:srecanje:5878
X-WR-TIMEZONE:Europe/Ljubljana
END:VEVENT
BEGIN:VEVENT
SUMMARY:SEM (MAT-2\, PM-3\, PM-4)\, Seminar (S)\, [2]
DTSTART;TZID=Europe/Ljubljana:20210430T140000
DTEND;TZID=Europe/Ljubljana:20210430T160000
DTSTAMP:20260424T133726Z
UID:fmf-AFLABS-URNIK:premaknjeno-srecanje:99402
ATTENDEE:2. letnik (M)
ATTENDEE:3. letnik (PM)
ATTENDEE:4. letnik (PM)
CATEGORIES:Entry,Standard
COLOR:darkgreen
DESCRIPTION:Predmet: SEM (MAT-2\, PM-3\, PM-4)\, Seminar (S)\, [2]\nLetnik
 i: 2. letnik (M)\, 3. letnik (PM)\, 4. letnik (PM)\nIzvajalci: Bojan Magaj
 na\nProstor: 2.03
LOCATION:2.03
ORGANIZER:Bojan Magajna
RELATED-TO:fmf-AFLABS-URNIK:srecanje:5878
X-WR-TIMEZONE:Europe/Ljubljana
END:VEVENT
BEGIN:VEVENT
SUMMARY:SEM (MAT-2\, PM-3\, PM-4)\, Seminar (S)\, [2]
DTSTART;TZID=Europe/Ljubljana:20210507T140000
DTEND;TZID=Europe/Ljubljana:20210507T160000
DTSTAMP:20260424T133726Z
UID:fmf-AFLABS-URNIK:premaknjeno-srecanje:99403
ATTENDEE:2. letnik (M)
ATTENDEE:3. letnik (PM)
ATTENDEE:4. letnik (PM)
CATEGORIES:Entry,Standard
COLOR:darkgreen
DESCRIPTION:Predmet: SEM (MAT-2\, PM-3\, PM-4)\, Seminar (S)\, [2]\nLetnik
 i: 2. letnik (M)\, 3. letnik (PM)\, 4. letnik (PM)\nIzvajalci: Bojan Magaj
 na\nProstor: 2.03
LOCATION:2.03
ORGANIZER:Bojan Magajna
RELATED-TO:fmf-AFLABS-URNIK:srecanje:5878
X-WR-TIMEZONE:Europe/Ljubljana
END:VEVENT
BEGIN:VEVENT
SUMMARY:SEM (MAT-2\, PM-3\, PM-4)\, Seminar (S)\, [2]
DTSTART;TZID=Europe/Ljubljana:20210514T140000
DTEND;TZID=Europe/Ljubljana:20210514T160000
DTSTAMP:20260424T133726Z
UID:fmf-AFLABS-URNIK:premaknjeno-srecanje:99404
ATTENDEE:2. letnik (M)
ATTENDEE:3. letnik (PM)
ATTENDEE:4. letnik (PM)
CATEGORIES:Entry,Standard
COLOR:darkgreen
DESCRIPTION:Predmet: SEM (MAT-2\, PM-3\, PM-4)\, Seminar (S)\, [2]\nLetnik
 i: 2. letnik (M)\, 3. letnik (PM)\, 4. letnik (PM)\nIzvajalci: Bojan Magaj
 na\nProstor: 2.03
LOCATION:2.03
ORGANIZER:Bojan Magajna
RELATED-TO:fmf-AFLABS-URNIK:srecanje:5878
X-WR-TIMEZONE:Europe/Ljubljana
END:VEVENT
BEGIN:VEVENT
SUMMARY:SEM (MAT-2\, PM-3\, PM-4)\, Seminar (S)\, [2]
DTSTART;TZID=Europe/Ljubljana:20210521T140000
DTEND;TZID=Europe/Ljubljana:20210521T160000
DTSTAMP:20260424T133726Z
UID:fmf-AFLABS-URNIK:premaknjeno-srecanje:99405
ATTENDEE:2. letnik (M)
ATTENDEE:3. letnik (PM)
ATTENDEE:4. letnik (PM)
CATEGORIES:Entry,Standard
COLOR:darkgreen
DESCRIPTION:Predmet: SEM (MAT-2\, PM-3\, PM-4)\, Seminar (S)\, [2]\nLetnik
 i: 2. letnik (M)\, 3. letnik (PM)\, 4. letnik (PM)\nIzvajalci: Bojan Magaj
 na\nProstor: 2.03
LOCATION:2.03
ORGANIZER:Bojan Magajna
RELATED-TO:fmf-AFLABS-URNIK:srecanje:5878
X-WR-TIMEZONE:Europe/Ljubljana
END:VEVENT
BEGIN:VEVENT
SUMMARY:SEM (MAT-2\, PM-3\, PM-4)\, Seminar (S)\, [2]
DTSTART;TZID=Europe/Ljubljana:20210528T140000
DTEND;TZID=Europe/Ljubljana:20210528T160000
DTSTAMP:20260424T133726Z
UID:fmf-AFLABS-URNIK:premaknjeno-srecanje:99406
ATTENDEE:2. letnik (M)
ATTENDEE:3. letnik (PM)
ATTENDEE:4. letnik (PM)
CATEGORIES:Entry,Standard
COLOR:darkgreen
DESCRIPTION:Predmet: SEM (MAT-2\, PM-3\, PM-4)\, Seminar (S)\, [2]\nLetnik
 i: 2. letnik (M)\, 3. letnik (PM)\, 4. letnik (PM)\nIzvajalci: Bojan Magaj
 na\nProstor: 2.03
LOCATION:2.03
ORGANIZER:Bojan Magajna
RELATED-TO:fmf-AFLABS-URNIK:srecanje:5878
X-WR-TIMEZONE:Europe/Ljubljana
END:VEVENT
END:VCALENDAR
