BEGIN:VCALENDAR
VERSION:2.0
PRODID:-//AFLabs urnik izvoz - fmf//aflabs.si//SI
DTSTAMP:20260423T213135Z
NAME:UL FMF urnik
REFRESH-INTERVAL:PT1H
SOURCE:https://urnik.fmf.uni-lj.si/teacher/35?day=2020-02-10&export=1
URL:https://urnik.fmf.uni-lj.si/teacher/35?day=2020-02-10&export=1
X-PUBLISHED-TTL:PT1H
X-WR-CALNAME:UL FMF urnik
X-WR-TIMEZONE:Europe/Ljubljana
BEGIN:VTIMEZONE
TZID:Europe/Ljubljana
BEGIN:DAYLIGHT
DTSTART:20260329T020000
RDATE:20260329T020000
RDATE:20270328T020000
TZNAME:CEST
TZOFFSETFROM:+0100
TZOFFSETTO:+0200
END:DAYLIGHT
BEGIN:STANDARD
DTSTART:20261025T030000
RDATE:20261025T030000
RDATE:20271031T030000
TZNAME:CET
TZOFFSETFROM:+0200
TZOFFSETTO:+0100
END:STANDARD
END:VTIMEZONE
BEGIN:VEVENT
SUMMARY:Analiza 2a (MAT-2\, PM-2)\, Predavanja (P)
DTSTART;TZID=Europe/Ljubljana:20200108T080000
DTEND;TZID=Europe/Ljubljana:20200108T100000
DTSTAMP:20260423T213135Z
UID:fmf-AFLABS-URNIK:premaknjeno-srecanje:7222
ATTENDEE:2. letnik (M)
ATTENDEE:2. letnik (PM)
CATEGORIES:Entry,Standard
COLOR:darkgreen
DESCRIPTION:Predmet: Analiza 2a (MAT-2\, PM-2)\, Predavanja (P)\nLetniki: 
 2. letnik (M)\, 2. letnik (PM)\nIzvajalci: Miran Černe\nProstor: 2.02
LOCATION:2.02
ORGANIZER:Miran Černe
RELATED-TO:fmf-AFLABS-URNIK:srecanje:3246
X-WR-TIMEZONE:Europe/Ljubljana
END:VEVENT
BEGIN:VEVENT
SUMMARY:Analiza 2a (MAT-2\, PM-2)\, Predavanja (P)
DTSTART;TZID=Europe/Ljubljana:20200115T080000
DTEND;TZID=Europe/Ljubljana:20200115T100000
DTSTAMP:20260423T213135Z
UID:fmf-AFLABS-URNIK:premaknjeno-srecanje:7223
ATTENDEE:2. letnik (M)
ATTENDEE:2. letnik (PM)
CATEGORIES:Entry,Standard
COLOR:darkgreen
DESCRIPTION:Predmet: Analiza 2a (MAT-2\, PM-2)\, Predavanja (P)\nLetniki: 
 2. letnik (M)\, 2. letnik (PM)\nIzvajalci: Miran Černe\nProstor: 2.02
LOCATION:2.02
ORGANIZER:Miran Černe
RELATED-TO:fmf-AFLABS-URNIK:srecanje:3246
X-WR-TIMEZONE:Europe/Ljubljana
END:VEVENT
BEGIN:VEVENT
SUMMARY:ZPS\, UO ()\, Ostalo (O)
DTSTART;TZID=Europe/Ljubljana:20200108T120000
DTEND;TZID=Europe/Ljubljana:20200108T150000
DTSTAMP:20260423T213135Z
UID:fmf-AFLABS-URNIK:premaknjeno-srecanje:120782
CATEGORIES:Entry,Standard
COLOR:darkgreen
DESCRIPTION:Predmet: ZPS\, UO ()\, Ostalo (O)\nLetniki: \nIzvajalci: \nPro
 stor: P.02
LOCATION:P.02
RELATED-TO:fmf-AFLABS-URNIK:srecanje:3834
X-WR-TIMEZONE:Europe/Ljubljana
END:VEVENT
BEGIN:VEVENT
SUMMARY:ZPS\, UO ()\, Ostalo (O)
DTSTART;TZID=Europe/Ljubljana:20200115T120000
DTEND;TZID=Europe/Ljubljana:20200115T150000
DTSTAMP:20260423T213135Z
UID:fmf-AFLABS-URNIK:premaknjeno-srecanje:120783
CATEGORIES:Entry,Standard
COLOR:darkgreen
DESCRIPTION:Predmet: ZPS\, UO ()\, Ostalo (O)\nLetniki: \nIzvajalci: \nPro
 stor: P.02
LOCATION:P.02
RELATED-TO:fmf-AFLABS-URNIK:srecanje:3834
X-WR-TIMEZONE:Europe/Ljubljana
END:VEVENT
BEGIN:VEVENT
SUMMARY:Analiza 2a (MAT-2\, PM-2)\, Predavanja (P)
DTSTART;TZID=Europe/Ljubljana:20200109T070000
DTEND;TZID=Europe/Ljubljana:20200109T100000
DTSTAMP:20260423T213135Z
UID:fmf-AFLABS-URNIK:premaknjeno-srecanje:7283
ATTENDEE:2. letnik (M)
ATTENDEE:2. letnik (PM)
CATEGORIES:Entry,Standard
COLOR:darkgreen
DESCRIPTION:Predmet: Analiza 2a (MAT-2\, PM-2)\, Predavanja (P)\nLetniki: 
 2. letnik (M)\, 2. letnik (PM)\nIzvajalci: Miran Černe\nProstor: 2.02
LOCATION:2.02
ORGANIZER:Miran Černe
RELATED-TO:fmf-AFLABS-URNIK:srecanje:3247
X-WR-TIMEZONE:Europe/Ljubljana
END:VEVENT
BEGIN:VEVENT
SUMMARY:Analiza 2a (MAT-2\, PM-2)\, Predavanja (P)
DTSTART;TZID=Europe/Ljubljana:20200116T070000
DTEND;TZID=Europe/Ljubljana:20200116T100000
DTSTAMP:20260423T213135Z
UID:fmf-AFLABS-URNIK:premaknjeno-srecanje:7284
ATTENDEE:2. letnik (M)
ATTENDEE:2. letnik (PM)
CATEGORIES:Entry,Standard
COLOR:darkgreen
DESCRIPTION:Predmet: Analiza 2a (MAT-2\, PM-2)\, Predavanja (P)\nLetniki: 
 2. letnik (M)\, 2. letnik (PM)\nIzvajalci: Miran Černe\nProstor: 2.02
LOCATION:2.02
ORGANIZER:Miran Černe
RELATED-TO:fmf-AFLABS-URNIK:srecanje:3247
X-WR-TIMEZONE:Europe/Ljubljana
END:VEVENT
BEGIN:VEVENT
SUMMARY:Govorilna ura ()\, Ostalo (O)
DTSTART;TZID=Europe/Ljubljana:20200109T100000
DTEND;TZID=Europe/Ljubljana:20200109T110000
DTSTAMP:20260423T213135Z
UID:fmf-AFLABS-URNIK:premaknjeno-srecanje:39849
CATEGORIES:Entry,Standard
COLOR:darkgreen
DESCRIPTION:Predmet: Govorilna ura ()\, Ostalo (O)\nLetniki: \nIzvajalci: 
 Miran Černe\nProstor: 4.29
LOCATION:4.29
ORGANIZER:Miran Černe
RELATED-TO:fmf-AFLABS-URNIK:srecanje:3423
X-WR-TIMEZONE:Europe/Ljubljana
END:VEVENT
BEGIN:VEVENT
SUMMARY:Govorilna ura ()\, Ostalo (O)
DTSTART;TZID=Europe/Ljubljana:20200116T100000
DTEND;TZID=Europe/Ljubljana:20200116T110000
DTSTAMP:20260423T213135Z
UID:fmf-AFLABS-URNIK:premaknjeno-srecanje:39850
CATEGORIES:Entry,Standard
COLOR:darkgreen
DESCRIPTION:Predmet: Govorilna ura ()\, Ostalo (O)\nLetniki: \nIzvajalci: 
 Miran Černe\nProstor: 4.29
LOCATION:4.29
ORGANIZER:Miran Černe
RELATED-TO:fmf-AFLABS-URNIK:srecanje:3423
X-WR-TIMEZONE:Europe/Ljubljana
END:VEVENT
BEGIN:VEVENT
SUMMARY:Analiza 2b (MAT-2\, PM-2)\, Predavanja (P)
DTSTART;TZID=Europe/Ljubljana:20200217T100000
DTEND;TZID=Europe/Ljubljana:20200217T120000
DTSTAMP:20260423T213135Z
UID:fmf-AFLABS-URNIK:premaknjeno-srecanje:7566
ATTENDEE:2. letnik (M)
ATTENDEE:2. letnik (PM)
CATEGORIES:Entry,Standard
COLOR:darkgreen
DESCRIPTION:Predmet: Analiza 2b (MAT-2\, PM-2)\, Predavanja (P)\nLetniki: 
 2. letnik (M)\, 2. letnik (PM)\nIzvajalci: Miran Černe\nProstor: 2.02
LOCATION:2.02
ORGANIZER:Miran Černe
RELATED-TO:fmf-AFLABS-URNIK:srecanje:4009
X-WR-TIMEZONE:Europe/Ljubljana
END:VEVENT
BEGIN:VEVENT
SUMMARY:Analiza 2b (MAT-2\, PM-2)\, Predavanja (P)
DTSTART;TZID=Europe/Ljubljana:20200224T100000
DTEND;TZID=Europe/Ljubljana:20200224T120000
DTSTAMP:20260423T213135Z
UID:fmf-AFLABS-URNIK:premaknjeno-srecanje:7567
ATTENDEE:2. letnik (M)
ATTENDEE:2. letnik (PM)
CATEGORIES:Entry,Standard
COLOR:darkgreen
DESCRIPTION:Predmet: Analiza 2b (MAT-2\, PM-2)\, Predavanja (P)\nLetniki: 
 2. letnik (M)\, 2. letnik (PM)\nIzvajalci: Miran Černe\nProstor: 2.02
LOCATION:2.02
ORGANIZER:Miran Černe
RELATED-TO:fmf-AFLABS-URNIK:srecanje:4009
X-WR-TIMEZONE:Europe/Ljubljana
END:VEVENT
BEGIN:VEVENT
SUMMARY:Analiza 2b (MAT-2\, PM-2)\, Predavanja (P)
DTSTART;TZID=Europe/Ljubljana:20200302T100000
DTEND;TZID=Europe/Ljubljana:20200302T120000
DTSTAMP:20260423T213135Z
UID:fmf-AFLABS-URNIK:premaknjeno-srecanje:7568
ATTENDEE:2. letnik (M)
ATTENDEE:2. letnik (PM)
CATEGORIES:Entry,Standard
COLOR:darkgreen
DESCRIPTION:Predmet: Analiza 2b (MAT-2\, PM-2)\, Predavanja (P)\nLetniki: 
 2. letnik (M)\, 2. letnik (PM)\nIzvajalci: Miran Černe\nProstor: 2.02
LOCATION:2.02
ORGANIZER:Miran Černe
RELATED-TO:fmf-AFLABS-URNIK:srecanje:4009
X-WR-TIMEZONE:Europe/Ljubljana
END:VEVENT
BEGIN:VEVENT
SUMMARY:Analiza 2b (MAT-2\, PM-2)\, Predavanja (P)
DTSTART;TZID=Europe/Ljubljana:20200309T100000
DTEND;TZID=Europe/Ljubljana:20200309T120000
DTSTAMP:20260423T213135Z
UID:fmf-AFLABS-URNIK:premaknjeno-srecanje:7569
ATTENDEE:2. letnik (M)
ATTENDEE:2. letnik (PM)
CATEGORIES:Entry,Standard
COLOR:darkgreen
DESCRIPTION:Predmet: Analiza 2b (MAT-2\, PM-2)\, Predavanja (P)\nLetniki: 
 2. letnik (M)\, 2. letnik (PM)\nIzvajalci: Miran Černe\nProstor: 2.02
LOCATION:2.02
ORGANIZER:Miran Černe
RELATED-TO:fmf-AFLABS-URNIK:srecanje:4009
X-WR-TIMEZONE:Europe/Ljubljana
END:VEVENT
BEGIN:VEVENT
SUMMARY:Analiza 2b (MAT-2\, PM-2)\, Predavanja (P)
DTSTART;TZID=Europe/Ljubljana:20200316T100000
DTEND;TZID=Europe/Ljubljana:20200316T120000
DTSTAMP:20260423T213135Z
UID:fmf-AFLABS-URNIK:premaknjeno-srecanje:7570
ATTENDEE:2. letnik (M)
ATTENDEE:2. letnik (PM)
CATEGORIES:Entry,Standard
COLOR:darkgreen
DESCRIPTION:Predmet: Analiza 2b (MAT-2\, PM-2)\, Predavanja (P)\nLetniki: 
 2. letnik (M)\, 2. letnik (PM)\nIzvajalci: Miran Černe\nProstor: 2.02
LOCATION:2.02
ORGANIZER:Miran Černe
RELATED-TO:fmf-AFLABS-URNIK:srecanje:4009
X-WR-TIMEZONE:Europe/Ljubljana
END:VEVENT
BEGIN:VEVENT
SUMMARY:Govorilna ura ()\, Predavanja (P)
DTSTART;TZID=Europe/Ljubljana:20200217T120000
DTEND;TZID=Europe/Ljubljana:20200217T130000
DTSTAMP:20260423T213135Z
UID:fmf-AFLABS-URNIK:premaknjeno-srecanje:40277
CATEGORIES:Entry,Standard
COLOR:darkgreen
DESCRIPTION:Predmet: Govorilna ura ()\, Predavanja (P)\nLetniki: \nIzvajal
 ci: Miran Černe\nProstor: 4.29
LOCATION:4.29
ORGANIZER:Miran Černe
RELATED-TO:fmf-AFLABS-URNIK:srecanje:4144
X-WR-TIMEZONE:Europe/Ljubljana
END:VEVENT
BEGIN:VEVENT
SUMMARY:Govorilna ura ()\, Predavanja (P)
DTSTART;TZID=Europe/Ljubljana:20200224T120000
DTEND;TZID=Europe/Ljubljana:20200224T130000
DTSTAMP:20260423T213135Z
UID:fmf-AFLABS-URNIK:premaknjeno-srecanje:40278
CATEGORIES:Entry,Standard
COLOR:darkgreen
DESCRIPTION:Predmet: Govorilna ura ()\, Predavanja (P)\nLetniki: \nIzvajal
 ci: Miran Černe\nProstor: 4.29
LOCATION:4.29
ORGANIZER:Miran Černe
RELATED-TO:fmf-AFLABS-URNIK:srecanje:4144
X-WR-TIMEZONE:Europe/Ljubljana
END:VEVENT
BEGIN:VEVENT
SUMMARY:Govorilna ura ()\, Predavanja (P)
DTSTART;TZID=Europe/Ljubljana:20200302T120000
DTEND;TZID=Europe/Ljubljana:20200302T130000
DTSTAMP:20260423T213135Z
UID:fmf-AFLABS-URNIK:premaknjeno-srecanje:40279
CATEGORIES:Entry,Standard
COLOR:darkgreen
DESCRIPTION:Predmet: Govorilna ura ()\, Predavanja (P)\nLetniki: \nIzvajal
 ci: Miran Černe\nProstor: 4.29
LOCATION:4.29
ORGANIZER:Miran Černe
RELATED-TO:fmf-AFLABS-URNIK:srecanje:4144
X-WR-TIMEZONE:Europe/Ljubljana
END:VEVENT
BEGIN:VEVENT
SUMMARY:Govorilna ura ()\, Predavanja (P)
DTSTART;TZID=Europe/Ljubljana:20200309T120000
DTEND;TZID=Europe/Ljubljana:20200309T130000
DTSTAMP:20260423T213135Z
UID:fmf-AFLABS-URNIK:premaknjeno-srecanje:40280
CATEGORIES:Entry,Standard
COLOR:darkgreen
DESCRIPTION:Predmet: Govorilna ura ()\, Predavanja (P)\nLetniki: \nIzvajal
 ci: Miran Černe\nProstor: 4.29
LOCATION:4.29
ORGANIZER:Miran Černe
RELATED-TO:fmf-AFLABS-URNIK:srecanje:4144
X-WR-TIMEZONE:Europe/Ljubljana
END:VEVENT
BEGIN:VEVENT
SUMMARY:Govorilna ura ()\, Predavanja (P)
DTSTART;TZID=Europe/Ljubljana:20200316T120000
DTEND;TZID=Europe/Ljubljana:20200316T130000
DTSTAMP:20260423T213135Z
UID:fmf-AFLABS-URNIK:premaknjeno-srecanje:40281
CATEGORIES:Entry,Standard
COLOR:darkgreen
DESCRIPTION:Predmet: Govorilna ura ()\, Predavanja (P)\nLetniki: \nIzvajal
 ci: Miran Černe\nProstor: 4.29
LOCATION:4.29
ORGANIZER:Miran Černe
RELATED-TO:fmf-AFLABS-URNIK:srecanje:4144
X-WR-TIMEZONE:Europe/Ljubljana
END:VEVENT
BEGIN:VEVENT
SUMMARY:Seminar za kompleksno analizo (MAT-D)\, Seminar (S)
DTSTART;TZID=Europe/Ljubljana:20200218T120000
DTEND;TZID=Europe/Ljubljana:20200218T140000
DTSTAMP:20260423T213135Z
UID:fmf-AFLABS-URNIK:premaknjeno-srecanje:102667
ATTENDEE:doktorski študij (M)
CATEGORIES:Entry,Standard
COLOR:darkgreen
DESCRIPTION:Predmet: Seminar za kompleksno analizo (MAT-D)\, Seminar (S)\n
 Letniki: doktorski študij (M)\nIzvajalci: Barbara Drinovec Drnovšek\, Fr
 anc Forstnerič\nProstor: 3.06
LOCATION:3.06
ORGANIZER:Barbara Drinovec Drnovšek, Franc Forstnerič
RELATED-TO:fmf-AFLABS-URNIK:srecanje:4446
X-WR-TIMEZONE:Europe/Ljubljana
END:VEVENT
BEGIN:VEVENT
SUMMARY:Seminar za kompleksno analizo (MAT-D)\, Seminar (S)
DTSTART;TZID=Europe/Ljubljana:20200225T120000
DTEND;TZID=Europe/Ljubljana:20200225T140000
DTSTAMP:20260423T213135Z
UID:fmf-AFLABS-URNIK:premaknjeno-srecanje:102668
ATTENDEE:doktorski študij (M)
CATEGORIES:Entry,Standard
COLOR:darkgreen
DESCRIPTION:Predmet: Seminar za kompleksno analizo (MAT-D)\, Seminar (S)\n
 Letniki: doktorski študij (M)\nIzvajalci: Barbara Drinovec Drnovšek\, Fr
 anc Forstnerič\nProstor: 3.06
LOCATION:3.06
ORGANIZER:Barbara Drinovec Drnovšek, Franc Forstnerič
RELATED-TO:fmf-AFLABS-URNIK:srecanje:4446
X-WR-TIMEZONE:Europe/Ljubljana
END:VEVENT
BEGIN:VEVENT
SUMMARY:Seminar za kompleksno analizo (MAT-D)\, Seminar (S)
DTSTART;TZID=Europe/Ljubljana:20200303T120000
DTEND;TZID=Europe/Ljubljana:20200303T140000
DTSTAMP:20260423T213135Z
UID:fmf-AFLABS-URNIK:premaknjeno-srecanje:102669
ATTENDEE:doktorski študij (M)
CATEGORIES:Entry,Standard
COLOR:darkgreen
DESCRIPTION:Predmet: Seminar za kompleksno analizo (MAT-D)\, Seminar (S)\n
 Letniki: doktorski študij (M)\nIzvajalci: Barbara Drinovec Drnovšek\, Fr
 anc Forstnerič\nProstor: 3.06
LOCATION:3.06
ORGANIZER:Barbara Drinovec Drnovšek, Franc Forstnerič
RELATED-TO:fmf-AFLABS-URNIK:srecanje:4446
X-WR-TIMEZONE:Europe/Ljubljana
END:VEVENT
BEGIN:VEVENT
SUMMARY:Seminar za kompleksno analizo (MAT-D)\, Seminar (S)
DTSTART;TZID=Europe/Ljubljana:20200310T120000
DTEND;TZID=Europe/Ljubljana:20200310T140000
DTSTAMP:20260423T213135Z
UID:fmf-AFLABS-URNIK:premaknjeno-srecanje:102670
ATTENDEE:doktorski študij (M)
CATEGORIES:Entry,Standard
COLOR:darkgreen
DESCRIPTION:Predmet: Seminar za kompleksno analizo (MAT-D)\, Seminar (S)\n
 Letniki: doktorski študij (M)\nIzvajalci: Barbara Drinovec Drnovšek\, Fr
 anc Forstnerič\nProstor: 3.06
LOCATION:3.06
ORGANIZER:Barbara Drinovec Drnovšek, Franc Forstnerič
RELATED-TO:fmf-AFLABS-URNIK:srecanje:4446
X-WR-TIMEZONE:Europe/Ljubljana
END:VEVENT
BEGIN:VEVENT
SUMMARY:Analiza 2b (MAT-2\, PM-2)\, Predavanja (P)
DTSTART;TZID=Europe/Ljubljana:20200219T100000
DTEND;TZID=Europe/Ljubljana:20200219T120000
DTSTAMP:20260423T213135Z
UID:fmf-AFLABS-URNIK:premaknjeno-srecanje:7660
ATTENDEE:2. letnik (M)
ATTENDEE:2. letnik (PM)
CATEGORIES:Entry,Standard
COLOR:darkgreen
DESCRIPTION:Predmet: Analiza 2b (MAT-2\, PM-2)\, Predavanja (P)\nLetniki: 
 2. letnik (M)\, 2. letnik (PM)\nIzvajalci: Miran Černe\nProstor: 2.02
LOCATION:2.02
ORGANIZER:Miran Černe
RELATED-TO:fmf-AFLABS-URNIK:srecanje:4010
X-WR-TIMEZONE:Europe/Ljubljana
END:VEVENT
BEGIN:VEVENT
SUMMARY:Analiza 2b (MAT-2\, PM-2)\, Predavanja (P)
DTSTART;TZID=Europe/Ljubljana:20200226T100000
DTEND;TZID=Europe/Ljubljana:20200226T120000
DTSTAMP:20260423T213135Z
UID:fmf-AFLABS-URNIK:premaknjeno-srecanje:7661
ATTENDEE:2. letnik (M)
ATTENDEE:2. letnik (PM)
CATEGORIES:Entry,Standard
COLOR:darkgreen
DESCRIPTION:Predmet: Analiza 2b (MAT-2\, PM-2)\, Predavanja (P)\nLetniki: 
 2. letnik (M)\, 2. letnik (PM)\nIzvajalci: Miran Černe\nProstor: 2.02
LOCATION:2.02
ORGANIZER:Miran Černe
RELATED-TO:fmf-AFLABS-URNIK:srecanje:4010
X-WR-TIMEZONE:Europe/Ljubljana
END:VEVENT
BEGIN:VEVENT
SUMMARY:Analiza 2b (MAT-2\, PM-2)\, Predavanja (P)
DTSTART;TZID=Europe/Ljubljana:20200304T100000
DTEND;TZID=Europe/Ljubljana:20200304T120000
DTSTAMP:20260423T213135Z
UID:fmf-AFLABS-URNIK:premaknjeno-srecanje:7662
ATTENDEE:2. letnik (M)
ATTENDEE:2. letnik (PM)
CATEGORIES:Entry,Standard
COLOR:darkgreen
DESCRIPTION:Predmet: Analiza 2b (MAT-2\, PM-2)\, Predavanja (P)\nLetniki: 
 2. letnik (M)\, 2. letnik (PM)\nIzvajalci: Miran Černe\nProstor: 2.02
LOCATION:2.02
ORGANIZER:Miran Černe
RELATED-TO:fmf-AFLABS-URNIK:srecanje:4010
X-WR-TIMEZONE:Europe/Ljubljana
END:VEVENT
BEGIN:VEVENT
SUMMARY:Analiza 2b (MAT-2\, PM-2)\, Predavanja (P)
DTSTART;TZID=Europe/Ljubljana:20200311T100000
DTEND;TZID=Europe/Ljubljana:20200311T120000
DTSTAMP:20260423T213135Z
UID:fmf-AFLABS-URNIK:premaknjeno-srecanje:7663
ATTENDEE:2. letnik (M)
ATTENDEE:2. letnik (PM)
CATEGORIES:Entry,Standard
COLOR:darkgreen
DESCRIPTION:Predmet: Analiza 2b (MAT-2\, PM-2)\, Predavanja (P)\nLetniki: 
 2. letnik (M)\, 2. letnik (PM)\nIzvajalci: Miran Černe\nProstor: 2.02
LOCATION:2.02
ORGANIZER:Miran Černe
RELATED-TO:fmf-AFLABS-URNIK:srecanje:4010
X-WR-TIMEZONE:Europe/Ljubljana
END:VEVENT
BEGIN:VEVENT
SUMMARY:ZPS\, UO ()\, Predavanja (P)
DTSTART;TZID=Europe/Ljubljana:20200219T120000
DTEND;TZID=Europe/Ljubljana:20200219T150000
DTSTAMP:20260423T213135Z
UID:fmf-AFLABS-URNIK:premaknjeno-srecanje:120891
CATEGORIES:Entry,Standard
COLOR:darkgreen
DESCRIPTION:Predmet: ZPS\, UO ()\, Predavanja (P)\nLetniki: \nIzvajalci:  
 X\nProstor: P.02
LOCATION:P.02
ORGANIZER: X
RELATED-TO:fmf-AFLABS-URNIK:srecanje:4528
X-WR-TIMEZONE:Europe/Ljubljana
END:VEVENT
BEGIN:VEVENT
SUMMARY:ZPS\, UO ()\, Predavanja (P)
DTSTART;TZID=Europe/Ljubljana:20200226T120000
DTEND;TZID=Europe/Ljubljana:20200226T150000
DTSTAMP:20260423T213135Z
UID:fmf-AFLABS-URNIK:premaknjeno-srecanje:120892
CATEGORIES:Entry,Standard
COLOR:darkgreen
DESCRIPTION:Predmet: ZPS\, UO ()\, Predavanja (P)\nLetniki: \nIzvajalci:  
 X\nProstor: P.02
LOCATION:P.02
ORGANIZER: X
RELATED-TO:fmf-AFLABS-URNIK:srecanje:4528
X-WR-TIMEZONE:Europe/Ljubljana
END:VEVENT
BEGIN:VEVENT
SUMMARY:ZPS\, UO ()\, Predavanja (P)
DTSTART;TZID=Europe/Ljubljana:20200304T120000
DTEND;TZID=Europe/Ljubljana:20200304T150000
DTSTAMP:20260423T213135Z
UID:fmf-AFLABS-URNIK:premaknjeno-srecanje:120893
CATEGORIES:Entry,Standard
COLOR:darkgreen
DESCRIPTION:Predmet: ZPS\, UO ()\, Predavanja (P)\nLetniki: \nIzvajalci:  
 X\nProstor: P.02
LOCATION:P.02
ORGANIZER: X
RELATED-TO:fmf-AFLABS-URNIK:srecanje:4528
X-WR-TIMEZONE:Europe/Ljubljana
END:VEVENT
BEGIN:VEVENT
SUMMARY:ZPS\, UO ()\, Predavanja (P)
DTSTART;TZID=Europe/Ljubljana:20200311T120000
DTEND;TZID=Europe/Ljubljana:20200311T150000
DTSTAMP:20260423T213135Z
UID:fmf-AFLABS-URNIK:premaknjeno-srecanje:120894
CATEGORIES:Entry,Standard
COLOR:darkgreen
DESCRIPTION:Predmet: ZPS\, UO ()\, Predavanja (P)\nLetniki: \nIzvajalci:  
 X\nProstor: P.02
LOCATION:P.02
ORGANIZER: X
RELATED-TO:fmf-AFLABS-URNIK:srecanje:4528
X-WR-TIMEZONE:Europe/Ljubljana
END:VEVENT
BEGIN:VEVENT
SUMMARY:Rezervacija
DTSTART;TZID=Europe/Ljubljana:20200210T080000
DTEND;TZID=Europe/Ljubljana:20200210T100000
DTSTAMP:20260423T213135Z
UID:fmf-AFLABS-URNIK:rezervacija:5082
CATEGORIES:Reservation
COLOR:royalblue
DESCRIPTION:Predmeti: \nLetniki: \nIzvajalci: Miran Černe\nProstori: 2.05
LOCATION:2.05
ORGANIZER:Miran Černe
X-WR-TIMEZONE:Europe/Ljubljana
END:VEVENT
BEGIN:VEVENT
SUMMARY:Rezervacija
DTSTART;TZID=Europe/Ljubljana:20200214T080000
DTEND;TZID=Europe/Ljubljana:20200214T200000
DTSTAMP:20260423T213135Z
UID:fmf-AFLABS-URNIK:rezervacija:5143
CATEGORIES:Reservation
COLOR:royalblue
DESCRIPTION:Predmeti: \nLetniki: \nIzvajalci: Miran Černe\nProstori: 2.05
LOCATION:2.05
ORGANIZER:Miran Černe
X-WR-TIMEZONE:Europe/Ljubljana
END:VEVENT
BEGIN:VEVENT
SUMMARY:Rezervacija
DTSTART;TZID=Europe/Ljubljana:20200214T080000
DTEND;TZID=Europe/Ljubljana:20200214T200000
DTSTAMP:20260423T213135Z
UID:fmf-AFLABS-URNIK:rezervacija:5144
CATEGORIES:Reservation
COLOR:royalblue
DESCRIPTION:Predmeti: \nLetniki: \nIzvajalci: Miran Černe\nProstori: 2.01
LOCATION:2.01
ORGANIZER:Miran Černe
X-WR-TIMEZONE:Europe/Ljubljana
END:VEVENT
BEGIN:VEVENT
SUMMARY:Rezervacija
DTSTART;TZID=Europe/Ljubljana:20200215T080000
DTEND;TZID=Europe/Ljubljana:20200215T130000
DTSTAMP:20260423T213135Z
UID:fmf-AFLABS-URNIK:rezervacija:5158
CATEGORIES:Reservation
COLOR:royalblue
DESCRIPTION:Predmeti: \nLetniki: \nIzvajalci: Miran Černe\nProstori: 2.05
LOCATION:2.05
ORGANIZER:Miran Černe
X-WR-TIMEZONE:Europe/Ljubljana
END:VEVENT
BEGIN:VEVENT
SUMMARY:Rezervacija
DTSTART;TZID=Europe/Ljubljana:20200215T080000
DTEND;TZID=Europe/Ljubljana:20200215T130000
DTSTAMP:20260423T213135Z
UID:fmf-AFLABS-URNIK:rezervacija:5159
CATEGORIES:Reservation
COLOR:royalblue
DESCRIPTION:Predmeti: \nLetniki: \nIzvajalci: Miran Černe\nProstori: 2.01
LOCATION:2.01
ORGANIZER:Miran Černe
X-WR-TIMEZONE:Europe/Ljubljana
END:VEVENT
BEGIN:VEVENT
SUMMARY:Rezervacija
DTSTART;TZID=Europe/Ljubljana:20200227T180000
DTEND;TZID=Europe/Ljubljana:20200227T200000
DTSTAMP:20260423T213135Z
UID:fmf-AFLABS-URNIK:rezervacija:5210
CATEGORIES:Reservation
COLOR:royalblue
DESCRIPTION:Predmeti: \nLetniki: \nIzvajalci: Miran Černe\nProstori: 2.02
LOCATION:2.02
ORGANIZER:Miran Černe
X-WR-TIMEZONE:Europe/Ljubljana
END:VEVENT
END:VCALENDAR
