BEGIN:VCALENDAR
VERSION:2.0
PRODID:-//AFLabs urnik izvoz - fmf//aflabs.si//SI
DTSTAMP:20260420T220312Z
NAME:UL FMF urnik
REFRESH-INTERVAL:PT1H
SOURCE:https://urnik.fmf.uni-lj.si/teacher/35?day=2022-01-24&export=1
URL:https://urnik.fmf.uni-lj.si/teacher/35?day=2022-01-24&export=1
X-PUBLISHED-TTL:PT1H
X-WR-CALNAME:UL FMF urnik
X-WR-TIMEZONE:Europe/Ljubljana
BEGIN:VTIMEZONE
TZID:Europe/Ljubljana
BEGIN:DAYLIGHT
DTSTART:20260329T020000
RDATE:20260329T020000
RDATE:20270328T020000
TZNAME:CEST
TZOFFSETFROM:+0100
TZOFFSETTO:+0200
END:DAYLIGHT
BEGIN:STANDARD
DTSTART:20261025T030000
RDATE:20261025T030000
RDATE:20271031T030000
TZNAME:CET
TZOFFSETFROM:+0200
TZOFFSETTO:+0100
END:STANDARD
END:VTIMEZONE
BEGIN:VEVENT
SUMMARY:Analiza 2a (MAT-2\, PM-2)\, Predavanja (P)
DTSTART;TZID=Europe/Ljubljana:20211221T100000
DTEND;TZID=Europe/Ljubljana:20211221T120000
DTSTAMP:20260420T220312Z
UID:fmf-AFLABS-URNIK:premaknjeno-srecanje:7171
ATTENDEE:2. letnik (M)
ATTENDEE:2. letnik (PM)
CATEGORIES:Entry,Standard
COLOR:darkgreen
DESCRIPTION:Predmet: Analiza 2a (MAT-2\, PM-2)\, Predavanja (P)\nLetniki: 
 2. letnik (M)\, 2. letnik (PM)\nIzvajalci: Miran Černe\nProstor: 2.02
LOCATION:2.02
ORGANIZER:Miran Černe
RELATED-TO:fmf-AFLABS-URNIK:srecanje:6120
X-WR-TIMEZONE:Europe/Ljubljana
END:VEVENT
BEGIN:VEVENT
SUMMARY:Analiza 2a (MAT-2\, PM-2)\, Predavanja (P)
DTSTART;TZID=Europe/Ljubljana:20211228T100000
DTEND;TZID=Europe/Ljubljana:20211228T120000
DTSTAMP:20260420T220312Z
UID:fmf-AFLABS-URNIK:premaknjeno-srecanje:7172
ATTENDEE:2. letnik (M)
ATTENDEE:2. letnik (PM)
CATEGORIES:Entry,Standard
COLOR:darkgreen
DESCRIPTION:Predmet: Analiza 2a (MAT-2\, PM-2)\, Predavanja (P)\nLetniki: 
 2. letnik (M)\, 2. letnik (PM)\nIzvajalci: Miran Černe\nProstor: 2.02
LOCATION:2.02
ORGANIZER:Miran Černe
RELATED-TO:fmf-AFLABS-URNIK:srecanje:6120
X-WR-TIMEZONE:Europe/Ljubljana
END:VEVENT
BEGIN:VEVENT
SUMMARY:Analiza 2a (MAT-2\, PM-2)\, Predavanja (P)
DTSTART;TZID=Europe/Ljubljana:20220104T100000
DTEND;TZID=Europe/Ljubljana:20220104T120000
DTSTAMP:20260420T220312Z
UID:fmf-AFLABS-URNIK:premaknjeno-srecanje:7173
ATTENDEE:2. letnik (M)
ATTENDEE:2. letnik (PM)
CATEGORIES:Entry,Standard
COLOR:darkgreen
DESCRIPTION:Predmet: Analiza 2a (MAT-2\, PM-2)\, Predavanja (P)\nLetniki: 
 2. letnik (M)\, 2. letnik (PM)\nIzvajalci: Miran Černe\nProstor: 2.02
LOCATION:2.02
ORGANIZER:Miran Černe
RELATED-TO:fmf-AFLABS-URNIK:srecanje:6120
X-WR-TIMEZONE:Europe/Ljubljana
END:VEVENT
BEGIN:VEVENT
SUMMARY:Analiza 2a (MAT-2\, PM-2)\, Predavanja (P)
DTSTART;TZID=Europe/Ljubljana:20220111T100000
DTEND;TZID=Europe/Ljubljana:20220111T120000
DTSTAMP:20260420T220312Z
UID:fmf-AFLABS-URNIK:premaknjeno-srecanje:7174
ATTENDEE:2. letnik (M)
ATTENDEE:2. letnik (PM)
CATEGORIES:Entry,Standard
COLOR:darkgreen
DESCRIPTION:Predmet: Analiza 2a (MAT-2\, PM-2)\, Predavanja (P)\nLetniki: 
 2. letnik (M)\, 2. letnik (PM)\nIzvajalci: Miran Černe\nProstor: 2.02
LOCATION:2.02
ORGANIZER:Miran Černe
RELATED-TO:fmf-AFLABS-URNIK:srecanje:6120
X-WR-TIMEZONE:Europe/Ljubljana
END:VEVENT
BEGIN:VEVENT
SUMMARY:Analiza 2a (MAT-2\, PM-2)\, Predavanja (P)
DTSTART;TZID=Europe/Ljubljana:20211222T080000
DTEND;TZID=Europe/Ljubljana:20211222T100000
DTSTAMP:20260420T220312Z
UID:fmf-AFLABS-URNIK:premaknjeno-srecanje:7250
ATTENDEE:2. letnik (M)
ATTENDEE:2. letnik (PM)
CATEGORIES:Entry,Standard
COLOR:darkgreen
DESCRIPTION:Predmet: Analiza 2a (MAT-2\, PM-2)\, Predavanja (P)\nLetniki: 
 2. letnik (M)\, 2. letnik (PM)\nIzvajalci: Miran Černe\nProstor: 2.02
LOCATION:2.02
ORGANIZER:Miran Černe
RELATED-TO:fmf-AFLABS-URNIK:srecanje:6119
X-WR-TIMEZONE:Europe/Ljubljana
END:VEVENT
BEGIN:VEVENT
SUMMARY:Analiza 2a (MAT-2\, PM-2)\, Predavanja (P)
DTSTART;TZID=Europe/Ljubljana:20211229T080000
DTEND;TZID=Europe/Ljubljana:20211229T100000
DTSTAMP:20260420T220312Z
UID:fmf-AFLABS-URNIK:premaknjeno-srecanje:7251
ATTENDEE:2. letnik (M)
ATTENDEE:2. letnik (PM)
CATEGORIES:Entry,Standard
COLOR:darkgreen
DESCRIPTION:Predmet: Analiza 2a (MAT-2\, PM-2)\, Predavanja (P)\nLetniki: 
 2. letnik (M)\, 2. letnik (PM)\nIzvajalci: Miran Černe\nProstor: 2.02
LOCATION:2.02
ORGANIZER:Miran Černe
RELATED-TO:fmf-AFLABS-URNIK:srecanje:6119
X-WR-TIMEZONE:Europe/Ljubljana
END:VEVENT
BEGIN:VEVENT
SUMMARY:Analiza 2a (MAT-2\, PM-2)\, Predavanja (P)
DTSTART;TZID=Europe/Ljubljana:20220105T080000
DTEND;TZID=Europe/Ljubljana:20220105T100000
DTSTAMP:20260420T220312Z
UID:fmf-AFLABS-URNIK:premaknjeno-srecanje:7252
ATTENDEE:2. letnik (M)
ATTENDEE:2. letnik (PM)
CATEGORIES:Entry,Standard
COLOR:darkgreen
DESCRIPTION:Predmet: Analiza 2a (MAT-2\, PM-2)\, Predavanja (P)\nLetniki: 
 2. letnik (M)\, 2. letnik (PM)\nIzvajalci: Miran Černe\nProstor: 2.02
LOCATION:2.02
ORGANIZER:Miran Černe
RELATED-TO:fmf-AFLABS-URNIK:srecanje:6119
X-WR-TIMEZONE:Europe/Ljubljana
END:VEVENT
BEGIN:VEVENT
SUMMARY:Analiza 2a (MAT-2\, PM-2)\, Predavanja (P)
DTSTART;TZID=Europe/Ljubljana:20220112T080000
DTEND;TZID=Europe/Ljubljana:20220112T100000
DTSTAMP:20260420T220312Z
UID:fmf-AFLABS-URNIK:premaknjeno-srecanje:7253
ATTENDEE:2. letnik (M)
ATTENDEE:2. letnik (PM)
CATEGORIES:Entry,Standard
COLOR:darkgreen
DESCRIPTION:Predmet: Analiza 2a (MAT-2\, PM-2)\, Predavanja (P)\nLetniki: 
 2. letnik (M)\, 2. letnik (PM)\nIzvajalci: Miran Černe\nProstor: 2.02
LOCATION:2.02
ORGANIZER:Miran Černe
RELATED-TO:fmf-AFLABS-URNIK:srecanje:6119
X-WR-TIMEZONE:Europe/Ljubljana
END:VEVENT
BEGIN:VEVENT
SUMMARY:Analiza 3 (FM-2)\, Predavanja (P)
DTSTART;TZID=Europe/Ljubljana:20211222T100000
DTEND;TZID=Europe/Ljubljana:20211222T120000
DTSTAMP:20260420T220312Z
UID:fmf-AFLABS-URNIK:premaknjeno-srecanje:8122
ATTENDEE:2. letnik (FM)
CATEGORIES:Entry,Standard
COLOR:darkgreen
DESCRIPTION:Predmet: Analiza 3 (FM-2)\, Predavanja (P)\nLetniki: 2. letnik
  (FM)\nIzvajalci: Miran Černe\nProstor: 2.03
LOCATION:2.03
ORGANIZER:Miran Černe
RELATED-TO:fmf-AFLABS-URNIK:srecanje:6125
X-WR-TIMEZONE:Europe/Ljubljana
END:VEVENT
BEGIN:VEVENT
SUMMARY:Analiza 3 (FM-2)\, Predavanja (P)
DTSTART;TZID=Europe/Ljubljana:20211229T100000
DTEND;TZID=Europe/Ljubljana:20211229T120000
DTSTAMP:20260420T220312Z
UID:fmf-AFLABS-URNIK:premaknjeno-srecanje:8123
ATTENDEE:2. letnik (FM)
CATEGORIES:Entry,Standard
COLOR:darkgreen
DESCRIPTION:Predmet: Analiza 3 (FM-2)\, Predavanja (P)\nLetniki: 2. letnik
  (FM)\nIzvajalci: Miran Černe\nProstor: 2.03
LOCATION:2.03
ORGANIZER:Miran Černe
RELATED-TO:fmf-AFLABS-URNIK:srecanje:6125
X-WR-TIMEZONE:Europe/Ljubljana
END:VEVENT
BEGIN:VEVENT
SUMMARY:Analiza 3 (FM-2)\, Predavanja (P)
DTSTART;TZID=Europe/Ljubljana:20220105T100000
DTEND;TZID=Europe/Ljubljana:20220105T120000
DTSTAMP:20260420T220312Z
UID:fmf-AFLABS-URNIK:premaknjeno-srecanje:8124
ATTENDEE:2. letnik (FM)
CATEGORIES:Entry,Standard
COLOR:darkgreen
DESCRIPTION:Predmet: Analiza 3 (FM-2)\, Predavanja (P)\nLetniki: 2. letnik
  (FM)\nIzvajalci: Miran Černe\nProstor: 2.03
LOCATION:2.03
ORGANIZER:Miran Černe
RELATED-TO:fmf-AFLABS-URNIK:srecanje:6125
X-WR-TIMEZONE:Europe/Ljubljana
END:VEVENT
BEGIN:VEVENT
SUMMARY:Analiza 3 (FM-2)\, Predavanja (P)
DTSTART;TZID=Europe/Ljubljana:20220112T100000
DTEND;TZID=Europe/Ljubljana:20220112T120000
DTSTAMP:20260420T220312Z
UID:fmf-AFLABS-URNIK:premaknjeno-srecanje:8125
ATTENDEE:2. letnik (FM)
CATEGORIES:Entry,Standard
COLOR:darkgreen
DESCRIPTION:Predmet: Analiza 3 (FM-2)\, Predavanja (P)\nLetniki: 2. letnik
  (FM)\nIzvajalci: Miran Černe\nProstor: 2.03
LOCATION:2.03
ORGANIZER:Miran Černe
RELATED-TO:fmf-AFLABS-URNIK:srecanje:6125
X-WR-TIMEZONE:Europe/Ljubljana
END:VEVENT
BEGIN:VEVENT
SUMMARY:ZPS\, UO ()\, Ostalo (O)
DTSTART;TZID=Europe/Ljubljana:20211222T120000
DTEND;TZID=Europe/Ljubljana:20211222T150000
DTSTAMP:20260420T220312Z
UID:fmf-AFLABS-URNIK:premaknjeno-srecanje:120825
CATEGORIES:Entry,Standard
COLOR:darkgreen
DESCRIPTION:Predmet: ZPS\, UO ()\, Ostalo (O)\nLetniki: \nIzvajalci: \nPro
 stor: P.02
LOCATION:P.02
RELATED-TO:fmf-AFLABS-URNIK:srecanje:6691
X-WR-TIMEZONE:Europe/Ljubljana
END:VEVENT
BEGIN:VEVENT
SUMMARY:ZPS\, UO ()\, Ostalo (O)
DTSTART;TZID=Europe/Ljubljana:20211229T120000
DTEND;TZID=Europe/Ljubljana:20211229T150000
DTSTAMP:20260420T220312Z
UID:fmf-AFLABS-URNIK:premaknjeno-srecanje:120826
CATEGORIES:Entry,Standard
COLOR:darkgreen
DESCRIPTION:Predmet: ZPS\, UO ()\, Ostalo (O)\nLetniki: \nIzvajalci: \nPro
 stor: P.02
LOCATION:P.02
RELATED-TO:fmf-AFLABS-URNIK:srecanje:6691
X-WR-TIMEZONE:Europe/Ljubljana
END:VEVENT
BEGIN:VEVENT
SUMMARY:ZPS\, UO ()\, Ostalo (O)
DTSTART;TZID=Europe/Ljubljana:20220105T120000
DTEND;TZID=Europe/Ljubljana:20220105T150000
DTSTAMP:20260420T220312Z
UID:fmf-AFLABS-URNIK:premaknjeno-srecanje:120827
CATEGORIES:Entry,Standard
COLOR:darkgreen
DESCRIPTION:Predmet: ZPS\, UO ()\, Ostalo (O)\nLetniki: \nIzvajalci: \nPro
 stor: P.02
LOCATION:P.02
RELATED-TO:fmf-AFLABS-URNIK:srecanje:6691
X-WR-TIMEZONE:Europe/Ljubljana
END:VEVENT
BEGIN:VEVENT
SUMMARY:ZPS\, UO ()\, Ostalo (O)
DTSTART;TZID=Europe/Ljubljana:20220112T120000
DTEND;TZID=Europe/Ljubljana:20220112T150000
DTSTAMP:20260420T220312Z
UID:fmf-AFLABS-URNIK:premaknjeno-srecanje:120828
CATEGORIES:Entry,Standard
COLOR:darkgreen
DESCRIPTION:Predmet: ZPS\, UO ()\, Ostalo (O)\nLetniki: \nIzvajalci: \nPro
 stor: P.02
LOCATION:P.02
RELATED-TO:fmf-AFLABS-URNIK:srecanje:6691
X-WR-TIMEZONE:Europe/Ljubljana
END:VEVENT
BEGIN:VEVENT
SUMMARY:Analiza 3 (FM-2)\, Predavanja (P)
DTSTART;TZID=Europe/Ljubljana:20211223T100000
DTEND;TZID=Europe/Ljubljana:20211223T120000
DTSTAMP:20260420T220312Z
UID:fmf-AFLABS-URNIK:premaknjeno-srecanje:8279
ATTENDEE:2. letnik (FM)
CATEGORIES:Entry,Standard
COLOR:darkgreen
DESCRIPTION:Predmet: Analiza 3 (FM-2)\, Predavanja (P)\nLetniki: 2. letnik
  (FM)\nIzvajalci: Miran Černe\nProstor: 2.02
LOCATION:2.02
ORGANIZER:Miran Černe
RELATED-TO:fmf-AFLABS-URNIK:srecanje:6126
X-WR-TIMEZONE:Europe/Ljubljana
END:VEVENT
BEGIN:VEVENT
SUMMARY:Analiza 3 (FM-2)\, Predavanja (P)
DTSTART;TZID=Europe/Ljubljana:20211230T100000
DTEND;TZID=Europe/Ljubljana:20211230T120000
DTSTAMP:20260420T220312Z
UID:fmf-AFLABS-URNIK:premaknjeno-srecanje:8280
ATTENDEE:2. letnik (FM)
CATEGORIES:Entry,Standard
COLOR:darkgreen
DESCRIPTION:Predmet: Analiza 3 (FM-2)\, Predavanja (P)\nLetniki: 2. letnik
  (FM)\nIzvajalci: Miran Černe\nProstor: 2.02
LOCATION:2.02
ORGANIZER:Miran Černe
RELATED-TO:fmf-AFLABS-URNIK:srecanje:6126
X-WR-TIMEZONE:Europe/Ljubljana
END:VEVENT
BEGIN:VEVENT
SUMMARY:Analiza 3 (FM-2)\, Predavanja (P)
DTSTART;TZID=Europe/Ljubljana:20220106T100000
DTEND;TZID=Europe/Ljubljana:20220106T120000
DTSTAMP:20260420T220312Z
UID:fmf-AFLABS-URNIK:premaknjeno-srecanje:8281
ATTENDEE:2. letnik (FM)
CATEGORIES:Entry,Standard
COLOR:darkgreen
DESCRIPTION:Predmet: Analiza 3 (FM-2)\, Predavanja (P)\nLetniki: 2. letnik
  (FM)\nIzvajalci: Miran Černe\nProstor: 2.02
LOCATION:2.02
ORGANIZER:Miran Černe
RELATED-TO:fmf-AFLABS-URNIK:srecanje:6126
X-WR-TIMEZONE:Europe/Ljubljana
END:VEVENT
BEGIN:VEVENT
SUMMARY:Analiza 3 (FM-2)\, Predavanja (P)
DTSTART;TZID=Europe/Ljubljana:20220113T100000
DTEND;TZID=Europe/Ljubljana:20220113T120000
DTSTAMP:20260420T220312Z
UID:fmf-AFLABS-URNIK:premaknjeno-srecanje:8282
ATTENDEE:2. letnik (FM)
CATEGORIES:Entry,Standard
COLOR:darkgreen
DESCRIPTION:Predmet: Analiza 3 (FM-2)\, Predavanja (P)\nLetniki: 2. letnik
  (FM)\nIzvajalci: Miran Černe\nProstor: 2.02
LOCATION:2.02
ORGANIZER:Miran Černe
RELATED-TO:fmf-AFLABS-URNIK:srecanje:6126
X-WR-TIMEZONE:Europe/Ljubljana
END:VEVENT
BEGIN:VEVENT
SUMMARY:Analiza 2b (MAT-2\, PM-2)\, Predavanja (P)
DTSTART;TZID=Europe/Ljubljana:20220214T100000
DTEND;TZID=Europe/Ljubljana:20220214T120000
DTSTAMP:20260420T220312Z
UID:fmf-AFLABS-URNIK:premaknjeno-srecanje:7597
ATTENDEE:2. letnik (M)
ATTENDEE:2. letnik (PM)
CATEGORIES:Entry,Standard
COLOR:darkgreen
DESCRIPTION:Predmet: Analiza 2b (MAT-2\, PM-2)\, Predavanja (P)\nLetniki: 
 2. letnik (M)\, 2. letnik (PM)\nIzvajalci: Miran Černe\nProstor: 2.02
LOCATION:2.02
ORGANIZER:Miran Černe
RELATED-TO:fmf-AFLABS-URNIK:srecanje:6849
X-WR-TIMEZONE:Europe/Ljubljana
END:VEVENT
BEGIN:VEVENT
SUMMARY:Analiza 2b (MAT-2\, PM-2)\, Predavanja (P)
DTSTART;TZID=Europe/Ljubljana:20220221T100000
DTEND;TZID=Europe/Ljubljana:20220221T120000
DTSTAMP:20260420T220312Z
UID:fmf-AFLABS-URNIK:premaknjeno-srecanje:7598
ATTENDEE:2. letnik (M)
ATTENDEE:2. letnik (PM)
CATEGORIES:Entry,Standard
COLOR:darkgreen
DESCRIPTION:Predmet: Analiza 2b (MAT-2\, PM-2)\, Predavanja (P)\nLetniki: 
 2. letnik (M)\, 2. letnik (PM)\nIzvajalci: Miran Černe\nProstor: 2.02
LOCATION:2.02
ORGANIZER:Miran Černe
RELATED-TO:fmf-AFLABS-URNIK:srecanje:6849
X-WR-TIMEZONE:Europe/Ljubljana
END:VEVENT
BEGIN:VEVENT
SUMMARY:Analiza 2b (MAT-2\, PM-2)\, Predavanja (P)
DTSTART;TZID=Europe/Ljubljana:20220228T100000
DTEND;TZID=Europe/Ljubljana:20220228T120000
DTSTAMP:20260420T220312Z
UID:fmf-AFLABS-URNIK:premaknjeno-srecanje:7599
ATTENDEE:2. letnik (M)
ATTENDEE:2. letnik (PM)
CATEGORIES:Entry,Standard
COLOR:darkgreen
DESCRIPTION:Predmet: Analiza 2b (MAT-2\, PM-2)\, Predavanja (P)\nLetniki: 
 2. letnik (M)\, 2. letnik (PM)\nIzvajalci: Miran Černe\nProstor: 2.02
LOCATION:2.02
ORGANIZER:Miran Černe
RELATED-TO:fmf-AFLABS-URNIK:srecanje:6849
X-WR-TIMEZONE:Europe/Ljubljana
END:VEVENT
BEGIN:VEVENT
SUMMARY:Govorilna ura ()\, Predavanja (P)
DTSTART;TZID=Europe/Ljubljana:20220214T120000
DTEND;TZID=Europe/Ljubljana:20220214T130000
DTSTAMP:20260420T220312Z
UID:fmf-AFLABS-URNIK:premaknjeno-srecanje:40308
CATEGORIES:Entry,Standard
COLOR:darkgreen
DESCRIPTION:Predmet: Govorilna ura ()\, Predavanja (P)\nLetniki: \nIzvajal
 ci: Miran Černe\nProstor: 4.29
LOCATION:4.29
ORGANIZER:Miran Černe
RELATED-TO:fmf-AFLABS-URNIK:srecanje:6985
X-WR-TIMEZONE:Europe/Ljubljana
END:VEVENT
BEGIN:VEVENT
SUMMARY:Govorilna ura ()\, Predavanja (P)
DTSTART;TZID=Europe/Ljubljana:20220221T120000
DTEND;TZID=Europe/Ljubljana:20220221T130000
DTSTAMP:20260420T220312Z
UID:fmf-AFLABS-URNIK:premaknjeno-srecanje:40309
CATEGORIES:Entry,Standard
COLOR:darkgreen
DESCRIPTION:Predmet: Govorilna ura ()\, Predavanja (P)\nLetniki: \nIzvajal
 ci: Miran Černe\nProstor: 4.29
LOCATION:4.29
ORGANIZER:Miran Černe
RELATED-TO:fmf-AFLABS-URNIK:srecanje:6985
X-WR-TIMEZONE:Europe/Ljubljana
END:VEVENT
BEGIN:VEVENT
SUMMARY:Govorilna ura ()\, Predavanja (P)
DTSTART;TZID=Europe/Ljubljana:20220228T120000
DTEND;TZID=Europe/Ljubljana:20220228T130000
DTSTAMP:20260420T220312Z
UID:fmf-AFLABS-URNIK:premaknjeno-srecanje:40310
CATEGORIES:Entry,Standard
COLOR:darkgreen
DESCRIPTION:Predmet: Govorilna ura ()\, Predavanja (P)\nLetniki: \nIzvajal
 ci: Miran Černe\nProstor: 4.29
LOCATION:4.29
ORGANIZER:Miran Černe
RELATED-TO:fmf-AFLABS-URNIK:srecanje:6985
X-WR-TIMEZONE:Europe/Ljubljana
END:VEVENT
BEGIN:VEVENT
SUMMARY:Seminar za kompleksno analizo (MAT-D)\, Seminar (S)
DTSTART;TZID=Europe/Ljubljana:20220215T120000
DTEND;TZID=Europe/Ljubljana:20220215T140000
DTSTAMP:20260420T220312Z
UID:fmf-AFLABS-URNIK:premaknjeno-srecanje:102697
ATTENDEE:doktorski študij (M)
CATEGORIES:Entry,Standard
COLOR:darkgreen
DESCRIPTION:Predmet: Seminar za kompleksno analizo (MAT-D)\, Seminar (S)\n
 Letniki: doktorski študij (M)\nIzvajalci: Barbara Drinovec Drnovšek\, Fr
 anc Forstnerič\nProstor: 3.06
LOCATION:3.06
ORGANIZER:Barbara Drinovec Drnovšek, Franc Forstnerič
RELATED-TO:fmf-AFLABS-URNIK:srecanje:7280
X-WR-TIMEZONE:Europe/Ljubljana
END:VEVENT
BEGIN:VEVENT
SUMMARY:Seminar za kompleksno analizo (MAT-D)\, Seminar (S)
DTSTART;TZID=Europe/Ljubljana:20220222T120000
DTEND;TZID=Europe/Ljubljana:20220222T140000
DTSTAMP:20260420T220312Z
UID:fmf-AFLABS-URNIK:premaknjeno-srecanje:102698
ATTENDEE:doktorski študij (M)
CATEGORIES:Entry,Standard
COLOR:darkgreen
DESCRIPTION:Predmet: Seminar za kompleksno analizo (MAT-D)\, Seminar (S)\n
 Letniki: doktorski študij (M)\nIzvajalci: Barbara Drinovec Drnovšek\, Fr
 anc Forstnerič\nProstor: 3.06
LOCATION:3.06
ORGANIZER:Barbara Drinovec Drnovšek, Franc Forstnerič
RELATED-TO:fmf-AFLABS-URNIK:srecanje:7280
X-WR-TIMEZONE:Europe/Ljubljana
END:VEVENT
BEGIN:VEVENT
SUMMARY:Analiza 2b (MAT-2\, PM-2)\, Predavanja (P)
DTSTART;TZID=Europe/Ljubljana:20220216T100000
DTEND;TZID=Europe/Ljubljana:20220216T120000
DTSTAMP:20260420T220312Z
UID:fmf-AFLABS-URNIK:premaknjeno-srecanje:7690
ATTENDEE:2. letnik (M)
ATTENDEE:2. letnik (PM)
CATEGORIES:Entry,Standard
COLOR:darkgreen
DESCRIPTION:Predmet: Analiza 2b (MAT-2\, PM-2)\, Predavanja (P)\nLetniki: 
 2. letnik (M)\, 2. letnik (PM)\nIzvajalci: Miran Černe\nProstor: 2.02
LOCATION:2.02
ORGANIZER:Miran Černe
RELATED-TO:fmf-AFLABS-URNIK:srecanje:6850
X-WR-TIMEZONE:Europe/Ljubljana
END:VEVENT
BEGIN:VEVENT
SUMMARY:Analiza 2b (MAT-2\, PM-2)\, Predavanja (P)
DTSTART;TZID=Europe/Ljubljana:20220223T100000
DTEND;TZID=Europe/Ljubljana:20220223T120000
DTSTAMP:20260420T220312Z
UID:fmf-AFLABS-URNIK:premaknjeno-srecanje:7691
ATTENDEE:2. letnik (M)
ATTENDEE:2. letnik (PM)
CATEGORIES:Entry,Standard
COLOR:darkgreen
DESCRIPTION:Predmet: Analiza 2b (MAT-2\, PM-2)\, Predavanja (P)\nLetniki: 
 2. letnik (M)\, 2. letnik (PM)\nIzvajalci: Miran Černe\nProstor: 2.02
LOCATION:2.02
ORGANIZER:Miran Černe
RELATED-TO:fmf-AFLABS-URNIK:srecanje:6850
X-WR-TIMEZONE:Europe/Ljubljana
END:VEVENT
BEGIN:VEVENT
SUMMARY:ZPS\, UO ()\, Predavanja (P)
DTSTART;TZID=Europe/Ljubljana:20220216T120000
DTEND;TZID=Europe/Ljubljana:20220216T150000
DTSTAMP:20260420T220312Z
UID:fmf-AFLABS-URNIK:premaknjeno-srecanje:120921
CATEGORIES:Entry,Standard
COLOR:darkgreen
DESCRIPTION:Predmet: ZPS\, UO ()\, Predavanja (P)\nLetniki: \nIzvajalci:  
 X\nProstor: P.02
LOCATION:P.02
ORGANIZER: X
RELATED-TO:fmf-AFLABS-URNIK:srecanje:7356
X-WR-TIMEZONE:Europe/Ljubljana
END:VEVENT
BEGIN:VEVENT
SUMMARY:ZPS\, UO ()\, Predavanja (P)
DTSTART;TZID=Europe/Ljubljana:20220223T120000
DTEND;TZID=Europe/Ljubljana:20220223T150000
DTSTAMP:20260420T220312Z
UID:fmf-AFLABS-URNIK:premaknjeno-srecanje:120922
CATEGORIES:Entry,Standard
COLOR:darkgreen
DESCRIPTION:Predmet: ZPS\, UO ()\, Predavanja (P)\nLetniki: \nIzvajalci:  
 X\nProstor: P.02
LOCATION:P.02
ORGANIZER: X
RELATED-TO:fmf-AFLABS-URNIK:srecanje:7356
X-WR-TIMEZONE:Europe/Ljubljana
END:VEVENT
BEGIN:VEVENT
SUMMARY:Rezervacija
DTSTART;TZID=Europe/Ljubljana:20211222T070000
DTEND;TZID=Europe/Ljubljana:20211222T080000
DTSTAMP:20260420T220312Z
UID:fmf-AFLABS-URNIK:rezervacija:8152
ATTENDEE:2. letnik (M)
ATTENDEE:2. letnik (PM)
CATEGORIES:Reservation
COLOR:royalblue
DESCRIPTION:Predmeti: Analiza 2a (MAT-2\, PM-2)\nLetniki: 2. letnik (M)\, 
 2. letnik (PM)\nIzvajalci: Miran Černe\nProstori: 2.02
LOCATION:2.02
ORGANIZER:Miran Černe
X-WR-TIMEZONE:Europe/Ljubljana
END:VEVENT
BEGIN:VEVENT
SUMMARY:Rezervacija
DTSTART;TZID=Europe/Ljubljana:20220112T120000
DTEND;TZID=Europe/Ljubljana:20220112T130000
DTSTAMP:20260420T220312Z
UID:fmf-AFLABS-URNIK:rezervacija:8222
ATTENDEE:2. letnik (FM)
CATEGORIES:Reservation
COLOR:royalblue
DESCRIPTION:Predmeti: Analiza 3 (FM-2)\nLetniki: 2. letnik (FM)\nIzvajalci
 : Miran Černe\nProstori: 2.04
LOCATION:2.04
ORGANIZER:Miran Černe
X-WR-TIMEZONE:Europe/Ljubljana
END:VEVENT
BEGIN:VEVENT
SUMMARY:Rezervacija
DTSTART;TZID=Europe/Ljubljana:20220117T140000
DTEND;TZID=Europe/Ljubljana:20220117T170000
DTSTAMP:20260420T220312Z
UID:fmf-AFLABS-URNIK:rezervacija:8277
ATTENDEE:2. letnik (M)
ATTENDEE:2. letnik (PM)
CATEGORIES:Reservation
COLOR:royalblue
DESCRIPTION:Predmeti: Analiza 2a (MAT-2\, PM-2)\nLetniki: 2. letnik (M)\, 
 2. letnik (PM)\nIzvajalci: Miran Černe\nProstori: 3.06
LOCATION:3.06
ORGANIZER:Miran Černe
X-WR-TIMEZONE:Europe/Ljubljana
END:VEVENT
BEGIN:VEVENT
SUMMARY:Rezervacija
DTSTART;TZID=Europe/Ljubljana:20220209T080000
DTEND;TZID=Europe/Ljubljana:20220209T110000
DTSTAMP:20260420T220312Z
UID:fmf-AFLABS-URNIK:rezervacija:8514
ATTENDEE:2. letnik (M)
ATTENDEE:2. letnik (PM)
CATEGORIES:Reservation
COLOR:royalblue
DESCRIPTION:Predmeti: Analiza 2a (MAT-2\, PM-2)\nLetniki: 2. letnik (M)\, 
 2. letnik (PM)\nIzvajalci: Miran Černe\nProstori: 2.05
LOCATION:2.05
ORGANIZER:Miran Černe
X-WR-TIMEZONE:Europe/Ljubljana
END:VEVENT
BEGIN:VEVENT
SUMMARY:Rezervacija
DTSTART;TZID=Europe/Ljubljana:20220209T110000
DTEND;TZID=Europe/Ljubljana:20220209T130000
DTSTAMP:20260420T220312Z
UID:fmf-AFLABS-URNIK:rezervacija:8526
ATTENDEE:2. letnik (FM)
CATEGORIES:Reservation
COLOR:royalblue
DESCRIPTION:Predmeti: Analiza 3 (FM-2)\nLetniki: 2. letnik (FM)\nIzvajalci
 : Miran Černe\nProstori: 2.05
LOCATION:2.05
ORGANIZER:Miran Černe
X-WR-TIMEZONE:Europe/Ljubljana
END:VEVENT
BEGIN:VEVENT
SUMMARY:Rezervacija
DTSTART;TZID=Europe/Ljubljana:20220211T080000
DTEND;TZID=Europe/Ljubljana:20220211T140000
DTSTAMP:20260420T220312Z
UID:fmf-AFLABS-URNIK:rezervacija:8552
ATTENDEE:2. letnik (M)
ATTENDEE:2. letnik (PM)
CATEGORIES:Reservation
COLOR:royalblue
DESCRIPTION:Predmeti: Analiza 2a (MAT-2\, PM-2)\nLetniki: 2. letnik (M)\, 
 2. letnik (PM)\nIzvajalci: Miran Černe\nProstori: 3.04
LOCATION:3.04
ORGANIZER:Miran Černe
X-WR-TIMEZONE:Europe/Ljubljana
END:VEVENT
BEGIN:VEVENT
SUMMARY:Rezervacija
DTSTART;TZID=Europe/Ljubljana:20220211T140000
DTEND;TZID=Europe/Ljubljana:20220211T180000
DTSTAMP:20260420T220312Z
UID:fmf-AFLABS-URNIK:rezervacija:8574
ATTENDEE:2. letnik (FM)
CATEGORIES:Reservation
COLOR:royalblue
DESCRIPTION:Predmeti: Analiza 3 (FM-2)\nLetniki: 2. letnik (FM)\nIzvajalci
 : Miran Černe\nProstori: 3.04
LOCATION:3.04
ORGANIZER:Miran Černe
X-WR-TIMEZONE:Europe/Ljubljana
END:VEVENT
END:VCALENDAR
