BEGIN:VCALENDAR
VERSION:2.0
PRODID:-//AFLabs urnik izvoz - fmf//aflabs.si//SI
DTSTAMP:20260425T133745Z
NAME:UL FMF urnik
REFRESH-INTERVAL:PT1H
SOURCE:https://urnik.fmf.uni-lj.si/teacher/373?day=2019-09-02&export=1
URL:https://urnik.fmf.uni-lj.si/teacher/373?day=2019-09-02&export=1
X-PUBLISHED-TTL:PT1H
X-WR-CALNAME:UL FMF urnik
X-WR-TIMEZONE:Europe/Ljubljana
BEGIN:VTIMEZONE
TZID:Europe/Ljubljana
BEGIN:DAYLIGHT
DTSTART:20260329T020000
RDATE:20260329T020000
RDATE:20270328T020000
TZNAME:CEST
TZOFFSETFROM:+0100
TZOFFSETTO:+0200
END:DAYLIGHT
BEGIN:STANDARD
DTSTART:20261025T030000
RDATE:20261025T030000
RDATE:20271031T030000
TZNAME:CET
TZOFFSETFROM:+0200
TZOFFSETTO:+0100
END:STANDARD
END:VTIMEZONE
BEGIN:VEVENT
SUMMARY:Kompleksna analiza (FM-M\, MAT-M\, PM-5)\, Vaje (V)
DTSTART;TZID=Europe/Ljubljana:20191002T130000
DTEND;TZID=Europe/Ljubljana:20191002T150000
DTSTAMP:20260425T133745Z
UID:fmf-AFLABS-URNIK:premaknjeno-srecanje:54823
ATTENDEE:5. letnik (PM)
ATTENDEE:magistrski študij (FM)
ATTENDEE:magistrski študij (M)
CATEGORIES:Entry,Standard
COLOR:darkgreen
DESCRIPTION:Predmet: Kompleksna analiza (FM-M\, MAT-M\, PM-5)\, Vaje (V)\n
 Letniki: magistrski študij (FM)\, magistrski študij (M)\, 5. letnik (PM)
 \nIzvajalci: Riccardo Ugolini\nProstor: 2.04
LOCATION:2.04
ORGANIZER:Riccardo Ugolini
RELATED-TO:fmf-AFLABS-URNIK:srecanje:3434
X-WR-TIMEZONE:Europe/Ljubljana
END:VEVENT
BEGIN:VEVENT
SUMMARY:Analiza 3 (FM-3\, MAT-3\, PM-3)\, Vaje (V)
DTSTART;TZID=Europe/Ljubljana:20191003T120000
DTEND;TZID=Europe/Ljubljana:20191003T130000
DTSTAMP:20260425T133745Z
UID:fmf-AFLABS-URNIK:premaknjeno-srecanje:8675
ATTENDEE:3. letnik (FM)
ATTENDEE:3. letnik (M)
ATTENDEE:3. letnik (PM)
CATEGORIES:Entry,Standard
COLOR:darkgreen
DESCRIPTION:Predmet: Analiza 3 (FM-3\, MAT-3\, PM-3)\, Vaje (V)\nLetniki: 
 3. letnik (FM)\, 3. letnik (M)\, 3. letnik (PM)\nIzvajalci: Riccardo Ugoli
 ni\nProstor: 2.04
LOCATION:2.04
ORGANIZER:Riccardo Ugolini
RELATED-TO:fmf-AFLABS-URNIK:srecanje:3866
X-WR-TIMEZONE:Europe/Ljubljana
END:VEVENT
BEGIN:VEVENT
SUMMARY:Analiza 4 (FM-3)\, Vaje (V)
DTSTART;TZID=Europe/Ljubljana:20191003T130000
DTEND;TZID=Europe/Ljubljana:20191003T140000
DTSTAMP:20260425T133745Z
UID:fmf-AFLABS-URNIK:premaknjeno-srecanje:9500
ATTENDEE:3. letnik (FM)
CATEGORIES:Entry,Standard
COLOR:darkgreen
DESCRIPTION:Predmet: Analiza 4 (FM-3)\, Vaje (V)\nLetniki: 3. letnik (FM)\
 nIzvajalci: Riccardo Ugolini\nProstor: Kuščerjev seminar
LOCATION:Kuščerjev seminar
ORGANIZER:Riccardo Ugolini
RELATED-TO:fmf-AFLABS-URNIK:srecanje:3856
X-WR-TIMEZONE:Europe/Ljubljana
END:VEVENT
BEGIN:VEVENT
SUMMARY:Analiza na mnogoterostih (FM-M\, MAT-M\, PM-5)\, Vaje (V)
DTSTART;TZID=Europe/Ljubljana:20191004T130000
DTEND;TZID=Europe/Ljubljana:20191004T150000
DTSTAMP:20260425T133745Z
UID:fmf-AFLABS-URNIK:premaknjeno-srecanje:9798
ATTENDEE:5. letnik (PM)
ATTENDEE:magistrski študij (FM)
ATTENDEE:magistrski študij (M)
CATEGORIES:Entry,Standard
COLOR:darkgreen
DESCRIPTION:Predmet: Analiza na mnogoterostih (FM-M\, MAT-M\, PM-5)\, Vaje
  (V)\nLetniki: magistrski študij (FM)\, magistrski študij (M)\, 5. letni
 k (PM)\nIzvajalci: Riccardo Ugolini\nProstor: 3.07
LOCATION:3.07
ORGANIZER:Riccardo Ugolini
RELATED-TO:fmf-AFLABS-URNIK:srecanje:3488
X-WR-TIMEZONE:Europe/Ljubljana
END:VEVENT
BEGIN:VEVENT
SUMMARY:Analiza 3 (FM-3\, MAT-3\, PM-3)\, Vaje (V)
DTSTART;TZID=Europe/Ljubljana:20191007T100000
DTEND;TZID=Europe/Ljubljana:20191007T120000
DTSTAMP:20260425T133745Z
UID:fmf-AFLABS-URNIK:premaknjeno-srecanje:8393
ATTENDEE:3. letnik (FM)
ATTENDEE:3. letnik (M)
ATTENDEE:3. letnik (PM)
CATEGORIES:Entry,Standard
COLOR:darkgreen
DESCRIPTION:Predmet: Analiza 3 (FM-3\, MAT-3\, PM-3)\, Vaje (V)\nLetniki: 
 3. letnik (FM)\, 3. letnik (M)\, 3. letnik (PM)\nIzvajalci: Riccardo Ugoli
 ni\nProstor: 3.04
LOCATION:3.04
ORGANIZER:Riccardo Ugolini
RELATED-TO:fmf-AFLABS-URNIK:srecanje:3255
X-WR-TIMEZONE:Europe/Ljubljana
END:VEVENT
BEGIN:VEVENT
SUMMARY:Analiza 4 (FM-3)\, Vaje (V)
DTSTART;TZID=Europe/Ljubljana:20191007T080000
DTEND;TZID=Europe/Ljubljana:20191007T100000
DTSTAMP:20260425T133745Z
UID:fmf-AFLABS-URNIK:premaknjeno-srecanje:9265
ATTENDEE:3. letnik (FM)
CATEGORIES:Entry,Standard
COLOR:darkgreen
DESCRIPTION:Predmet: Analiza 4 (FM-3)\, Vaje (V)\nLetniki: 3. letnik (FM)\
 nIzvajalci: Riccardo Ugolini\nProstor: 3.05
LOCATION:3.05
ORGANIZER:Riccardo Ugolini
RELATED-TO:fmf-AFLABS-URNIK:srecanje:3855
X-WR-TIMEZONE:Europe/Ljubljana
END:VEVENT
END:VCALENDAR
