BEGIN:VCALENDAR
VERSION:2.0
PRODID:-//AFLabs urnik izvoz - fmf//aflabs.si//SI
DTSTAMP:20260421T073002Z
NAME:UL FMF urnik
REFRESH-INTERVAL:PT1H
SOURCE:https://urnik.fmf.uni-lj.si/teacher/373?day=2024-04-29&export=1
URL:https://urnik.fmf.uni-lj.si/teacher/373?day=2024-04-29&export=1
X-PUBLISHED-TTL:PT1H
X-WR-CALNAME:UL FMF urnik
X-WR-TIMEZONE:Europe/Ljubljana
BEGIN:VTIMEZONE
TZID:Europe/Ljubljana
BEGIN:DAYLIGHT
DTSTART:20260329T020000
RDATE:20260329T020000
RDATE:20270328T020000
TZNAME:CEST
TZOFFSETFROM:+0100
TZOFFSETTO:+0200
END:DAYLIGHT
BEGIN:STANDARD
DTSTART:20261025T030000
RDATE:20261025T030000
RDATE:20271031T030000
TZNAME:CET
TZOFFSETFROM:+0200
TZOFFSETTO:+0100
END:STANDARD
END:VTIMEZONE
BEGIN:VEVENT
SUMMARY:Analiza 4 (MAT-3)\, Vaje (V)
DTSTART;TZID=Europe/Ljubljana:20240223T070000
DTEND;TZID=Europe/Ljubljana:20240223T100000
DTSTAMP:20260421T073002Z
UID:fmf-AFLABS-URNIK:premaknjeno-srecanje:133709
ATTENDEE:3. letnik (M)
CATEGORIES:Entry,Standard
COLOR:darkgreen
DESCRIPTION:Predmet: Analiza 4 (MAT-3)\, Vaje (V)\nLetniki: 3. letnik (M)\
 nIzvajalci: Riccardo Ugolini\nProstor: 2.03
LOCATION:2.03
ORGANIZER:Riccardo Ugolini
RELATED-TO:fmf-AFLABS-URNIK:srecanje:10744
X-WR-TIMEZONE:Europe/Ljubljana
END:VEVENT
BEGIN:VEVENT
SUMMARY:Analiza 4 (MAT-3)\, Vaje (V)
DTSTART;TZID=Europe/Ljubljana:20240301T070000
DTEND;TZID=Europe/Ljubljana:20240301T100000
DTSTAMP:20260421T073002Z
UID:fmf-AFLABS-URNIK:premaknjeno-srecanje:133710
ATTENDEE:3. letnik (M)
CATEGORIES:Entry,Standard
COLOR:darkgreen
DESCRIPTION:Predmet: Analiza 4 (MAT-3)\, Vaje (V)\nLetniki: 3. letnik (M)\
 nIzvajalci: Riccardo Ugolini\nProstor: 2.03
LOCATION:2.03
ORGANIZER:Riccardo Ugolini
RELATED-TO:fmf-AFLABS-URNIK:srecanje:10744
X-WR-TIMEZONE:Europe/Ljubljana
END:VEVENT
BEGIN:VEVENT
SUMMARY:Analiza 4 (MAT-3)\, Vaje (V)
DTSTART;TZID=Europe/Ljubljana:20240308T070000
DTEND;TZID=Europe/Ljubljana:20240308T100000
DTSTAMP:20260421T073002Z
UID:fmf-AFLABS-URNIK:premaknjeno-srecanje:133711
ATTENDEE:3. letnik (M)
CATEGORIES:Entry,Standard
COLOR:darkgreen
DESCRIPTION:Predmet: Analiza 4 (MAT-3)\, Vaje (V)\nLetniki: 3. letnik (M)\
 nIzvajalci: Riccardo Ugolini\nProstor: 2.03
LOCATION:2.03
ORGANIZER:Riccardo Ugolini
RELATED-TO:fmf-AFLABS-URNIK:srecanje:10744
X-WR-TIMEZONE:Europe/Ljubljana
END:VEVENT
BEGIN:VEVENT
SUMMARY:Analiza 4 (MAT-3)\, Vaje (V)
DTSTART;TZID=Europe/Ljubljana:20240315T070000
DTEND;TZID=Europe/Ljubljana:20240315T100000
DTSTAMP:20260421T073002Z
UID:fmf-AFLABS-URNIK:premaknjeno-srecanje:133712
ATTENDEE:3. letnik (M)
CATEGORIES:Entry,Standard
COLOR:darkgreen
DESCRIPTION:Predmet: Analiza 4 (MAT-3)\, Vaje (V)\nLetniki: 3. letnik (M)\
 nIzvajalci: Riccardo Ugolini\nProstor: 2.03
LOCATION:2.03
ORGANIZER:Riccardo Ugolini
RELATED-TO:fmf-AFLABS-URNIK:srecanje:10744
X-WR-TIMEZONE:Europe/Ljubljana
END:VEVENT
BEGIN:VEVENT
SUMMARY:Analiza 4 (MAT-3)\, Vaje (V)
DTSTART;TZID=Europe/Ljubljana:20240322T070000
DTEND;TZID=Europe/Ljubljana:20240322T100000
DTSTAMP:20260421T073002Z
UID:fmf-AFLABS-URNIK:premaknjeno-srecanje:133713
ATTENDEE:3. letnik (M)
CATEGORIES:Entry,Standard
COLOR:darkgreen
DESCRIPTION:Predmet: Analiza 4 (MAT-3)\, Vaje (V)\nLetniki: 3. letnik (M)\
 nIzvajalci: Riccardo Ugolini\nProstor: 2.03
LOCATION:2.03
ORGANIZER:Riccardo Ugolini
RELATED-TO:fmf-AFLABS-URNIK:srecanje:10744
X-WR-TIMEZONE:Europe/Ljubljana
END:VEVENT
BEGIN:VEVENT
SUMMARY:Analiza 4 (MAT-3)\, Vaje (V)
DTSTART;TZID=Europe/Ljubljana:20240329T070000
DTEND;TZID=Europe/Ljubljana:20240329T100000
DTSTAMP:20260421T073002Z
UID:fmf-AFLABS-URNIK:premaknjeno-srecanje:133714
ATTENDEE:3. letnik (M)
CATEGORIES:Entry,Standard
COLOR:darkgreen
DESCRIPTION:Predmet: Analiza 4 (MAT-3)\, Vaje (V)\nLetniki: 3. letnik (M)\
 nIzvajalci: Riccardo Ugolini\nProstor: 2.03
LOCATION:2.03
ORGANIZER:Riccardo Ugolini
RELATED-TO:fmf-AFLABS-URNIK:srecanje:10744
X-WR-TIMEZONE:Europe/Ljubljana
END:VEVENT
BEGIN:VEVENT
SUMMARY:Analiza 4 (MAT-3)\, Vaje (V)
DTSTART;TZID=Europe/Ljubljana:20240405T070000
DTEND;TZID=Europe/Ljubljana:20240405T100000
DTSTAMP:20260421T073002Z
UID:fmf-AFLABS-URNIK:premaknjeno-srecanje:133715
ATTENDEE:3. letnik (M)
CATEGORIES:Entry,Standard
COLOR:darkgreen
DESCRIPTION:Predmet: Analiza 4 (MAT-3)\, Vaje (V)\nLetniki: 3. letnik (M)\
 nIzvajalci: Riccardo Ugolini\nProstor: 2.03
LOCATION:2.03
ORGANIZER:Riccardo Ugolini
RELATED-TO:fmf-AFLABS-URNIK:srecanje:10744
X-WR-TIMEZONE:Europe/Ljubljana
END:VEVENT
BEGIN:VEVENT
SUMMARY:Analiza 4 (MAT-3)\, Vaje (V)
DTSTART;TZID=Europe/Ljubljana:20240412T070000
DTEND;TZID=Europe/Ljubljana:20240412T100000
DTSTAMP:20260421T073002Z
UID:fmf-AFLABS-URNIK:premaknjeno-srecanje:133716
ATTENDEE:3. letnik (M)
CATEGORIES:Entry,Standard
COLOR:darkgreen
DESCRIPTION:Predmet: Analiza 4 (MAT-3)\, Vaje (V)\nLetniki: 3. letnik (M)\
 nIzvajalci: Riccardo Ugolini\nProstor: 2.03
LOCATION:2.03
ORGANIZER:Riccardo Ugolini
RELATED-TO:fmf-AFLABS-URNIK:srecanje:10744
X-WR-TIMEZONE:Europe/Ljubljana
END:VEVENT
BEGIN:VEVENT
SUMMARY:Analiza 4 (MAT-3)\, Vaje (V)
DTSTART;TZID=Europe/Ljubljana:20240419T070000
DTEND;TZID=Europe/Ljubljana:20240419T100000
DTSTAMP:20260421T073002Z
UID:fmf-AFLABS-URNIK:premaknjeno-srecanje:133717
ATTENDEE:3. letnik (M)
CATEGORIES:Entry,Standard
COLOR:darkgreen
DESCRIPTION:Predmet: Analiza 4 (MAT-3)\, Vaje (V)\nLetniki: 3. letnik (M)\
 nIzvajalci: Riccardo Ugolini\nProstor: 2.03
LOCATION:2.03
ORGANIZER:Riccardo Ugolini
RELATED-TO:fmf-AFLABS-URNIK:srecanje:10744
X-WR-TIMEZONE:Europe/Ljubljana
END:VEVENT
BEGIN:VEVENT
SUMMARY:Analiza 4 (MAT-3)\, Vaje (V)
DTSTART;TZID=Europe/Ljubljana:20240426T070000
DTEND;TZID=Europe/Ljubljana:20240426T100000
DTSTAMP:20260421T073002Z
UID:fmf-AFLABS-URNIK:premaknjeno-srecanje:133718
ATTENDEE:3. letnik (M)
CATEGORIES:Entry,Standard
COLOR:darkgreen
DESCRIPTION:Predmet: Analiza 4 (MAT-3)\, Vaje (V)\nLetniki: 3. letnik (M)\
 nIzvajalci: Riccardo Ugolini\nProstor: 2.03
LOCATION:2.03
ORGANIZER:Riccardo Ugolini
RELATED-TO:fmf-AFLABS-URNIK:srecanje:10744
X-WR-TIMEZONE:Europe/Ljubljana
END:VEVENT
BEGIN:VEVENT
SUMMARY:Analiza 4 (MAT-3)\, Vaje (V)
DTSTART;TZID=Europe/Ljubljana:20240503T070000
DTEND;TZID=Europe/Ljubljana:20240503T100000
DTSTAMP:20260421T073002Z
UID:fmf-AFLABS-URNIK:premaknjeno-srecanje:133719
ATTENDEE:3. letnik (M)
CATEGORIES:Entry,Standard
COLOR:darkgreen
DESCRIPTION:Predmet: Analiza 4 (MAT-3)\, Vaje (V)\nLetniki: 3. letnik (M)\
 nIzvajalci: Riccardo Ugolini\nProstor: 2.03
LOCATION:2.03
ORGANIZER:Riccardo Ugolini
RELATED-TO:fmf-AFLABS-URNIK:srecanje:10744
X-WR-TIMEZONE:Europe/Ljubljana
END:VEVENT
BEGIN:VEVENT
SUMMARY:Analiza 4 (MAT-3)\, Vaje (V)
DTSTART;TZID=Europe/Ljubljana:20240510T070000
DTEND;TZID=Europe/Ljubljana:20240510T100000
DTSTAMP:20260421T073002Z
UID:fmf-AFLABS-URNIK:premaknjeno-srecanje:133720
ATTENDEE:3. letnik (M)
CATEGORIES:Entry,Standard
COLOR:darkgreen
DESCRIPTION:Predmet: Analiza 4 (MAT-3)\, Vaje (V)\nLetniki: 3. letnik (M)\
 nIzvajalci: Riccardo Ugolini\nProstor: 2.03
LOCATION:2.03
ORGANIZER:Riccardo Ugolini
RELATED-TO:fmf-AFLABS-URNIK:srecanje:10744
X-WR-TIMEZONE:Europe/Ljubljana
END:VEVENT
BEGIN:VEVENT
SUMMARY:Analiza 4 (MAT-3)\, Vaje (V)
DTSTART;TZID=Europe/Ljubljana:20240517T070000
DTEND;TZID=Europe/Ljubljana:20240517T100000
DTSTAMP:20260421T073002Z
UID:fmf-AFLABS-URNIK:premaknjeno-srecanje:133721
ATTENDEE:3. letnik (M)
CATEGORIES:Entry,Standard
COLOR:darkgreen
DESCRIPTION:Predmet: Analiza 4 (MAT-3)\, Vaje (V)\nLetniki: 3. letnik (M)\
 nIzvajalci: Riccardo Ugolini\nProstor: 2.03
LOCATION:2.03
ORGANIZER:Riccardo Ugolini
RELATED-TO:fmf-AFLABS-URNIK:srecanje:10744
X-WR-TIMEZONE:Europe/Ljubljana
END:VEVENT
BEGIN:VEVENT
SUMMARY:Analiza 4 (MAT-3)\, Vaje (V)
DTSTART;TZID=Europe/Ljubljana:20240524T070000
DTEND;TZID=Europe/Ljubljana:20240524T100000
DTSTAMP:20260421T073002Z
UID:fmf-AFLABS-URNIK:premaknjeno-srecanje:133722
ATTENDEE:3. letnik (M)
CATEGORIES:Entry,Standard
COLOR:darkgreen
DESCRIPTION:Predmet: Analiza 4 (MAT-3)\, Vaje (V)\nLetniki: 3. letnik (M)\
 nIzvajalci: Riccardo Ugolini\nProstor: 2.03
LOCATION:2.03
ORGANIZER:Riccardo Ugolini
RELATED-TO:fmf-AFLABS-URNIK:srecanje:10744
X-WR-TIMEZONE:Europe/Ljubljana
END:VEVENT
BEGIN:VEVENT
SUMMARY:Analiza 4 (MAT-3)\, Vaje (V)
DTSTART;TZID=Europe/Ljubljana:20240531T070000
DTEND;TZID=Europe/Ljubljana:20240531T100000
DTSTAMP:20260421T073002Z
UID:fmf-AFLABS-URNIK:premaknjeno-srecanje:133723
ATTENDEE:3. letnik (M)
CATEGORIES:Entry,Standard
COLOR:darkgreen
DESCRIPTION:Predmet: Analiza 4 (MAT-3)\, Vaje (V)\nLetniki: 3. letnik (M)\
 nIzvajalci: Riccardo Ugolini\nProstor: 2.03
LOCATION:2.03
ORGANIZER:Riccardo Ugolini
RELATED-TO:fmf-AFLABS-URNIK:srecanje:10744
X-WR-TIMEZONE:Europe/Ljubljana
END:VEVENT
BEGIN:VEVENT
SUMMARY:Izbrana poglavja iz analize (MAT-D)\, Vaje (V)
DTSTART;TZID=Europe/Ljubljana:20240223T110000
DTEND;TZID=Europe/Ljubljana:20240223T130000
DTSTAMP:20260421T073002Z
UID:fmf-AFLABS-URNIK:premaknjeno-srecanje:135426
ATTENDEE:doktorski študij (M)
CATEGORIES:Entry,Standard
COLOR:darkgreen
DESCRIPTION:Predmet: Izbrana poglavja iz analize (MAT-D)\, Vaje (V)\nLetni
 ki: doktorski študij (M)\nIzvajalci: Riccardo Ugolini\nProstor: F4
LOCATION:F4
ORGANIZER:Riccardo Ugolini
RELATED-TO:fmf-AFLABS-URNIK:srecanje:10727
X-WR-TIMEZONE:Europe/Ljubljana
END:VEVENT
BEGIN:VEVENT
SUMMARY:Izbrana poglavja iz analize (MAT-D)\, Vaje (V)
DTSTART;TZID=Europe/Ljubljana:20240301T110000
DTEND;TZID=Europe/Ljubljana:20240301T130000
DTSTAMP:20260421T073002Z
UID:fmf-AFLABS-URNIK:premaknjeno-srecanje:135427
ATTENDEE:doktorski študij (M)
CATEGORIES:Entry,Standard
COLOR:darkgreen
DESCRIPTION:Predmet: Izbrana poglavja iz analize (MAT-D)\, Vaje (V)\nLetni
 ki: doktorski študij (M)\nIzvajalci: Riccardo Ugolini\nProstor: F4
LOCATION:F4
ORGANIZER:Riccardo Ugolini
RELATED-TO:fmf-AFLABS-URNIK:srecanje:10727
X-WR-TIMEZONE:Europe/Ljubljana
END:VEVENT
BEGIN:VEVENT
SUMMARY:Izbrana poglavja iz analize (MAT-D)\, Vaje (V)
DTSTART;TZID=Europe/Ljubljana:20240308T110000
DTEND;TZID=Europe/Ljubljana:20240308T130000
DTSTAMP:20260421T073002Z
UID:fmf-AFLABS-URNIK:premaknjeno-srecanje:135428
ATTENDEE:doktorski študij (M)
CATEGORIES:Entry,Standard
COLOR:darkgreen
DESCRIPTION:Predmet: Izbrana poglavja iz analize (MAT-D)\, Vaje (V)\nLetni
 ki: doktorski študij (M)\nIzvajalci: Riccardo Ugolini\nProstor: F4
LOCATION:F4
ORGANIZER:Riccardo Ugolini
RELATED-TO:fmf-AFLABS-URNIK:srecanje:10727
X-WR-TIMEZONE:Europe/Ljubljana
END:VEVENT
BEGIN:VEVENT
SUMMARY:Izbrana poglavja iz analize (MAT-D)\, Vaje (V)
DTSTART;TZID=Europe/Ljubljana:20240315T110000
DTEND;TZID=Europe/Ljubljana:20240315T130000
DTSTAMP:20260421T073002Z
UID:fmf-AFLABS-URNIK:premaknjeno-srecanje:135429
ATTENDEE:doktorski študij (M)
CATEGORIES:Entry,Standard
COLOR:darkgreen
DESCRIPTION:Predmet: Izbrana poglavja iz analize (MAT-D)\, Vaje (V)\nLetni
 ki: doktorski študij (M)\nIzvajalci: Riccardo Ugolini\nProstor: F4
LOCATION:F4
ORGANIZER:Riccardo Ugolini
RELATED-TO:fmf-AFLABS-URNIK:srecanje:10727
X-WR-TIMEZONE:Europe/Ljubljana
END:VEVENT
BEGIN:VEVENT
SUMMARY:Izbrana poglavja iz analize (MAT-D)\, Vaje (V)
DTSTART;TZID=Europe/Ljubljana:20240322T110000
DTEND;TZID=Europe/Ljubljana:20240322T130000
DTSTAMP:20260421T073002Z
UID:fmf-AFLABS-URNIK:premaknjeno-srecanje:135430
ATTENDEE:doktorski študij (M)
CATEGORIES:Entry,Standard
COLOR:darkgreen
DESCRIPTION:Predmet: Izbrana poglavja iz analize (MAT-D)\, Vaje (V)\nLetni
 ki: doktorski študij (M)\nIzvajalci: Riccardo Ugolini\nProstor: F4
LOCATION:F4
ORGANIZER:Riccardo Ugolini
RELATED-TO:fmf-AFLABS-URNIK:srecanje:10727
X-WR-TIMEZONE:Europe/Ljubljana
END:VEVENT
BEGIN:VEVENT
SUMMARY:Izbrana poglavja iz analize (MAT-D)\, Vaje (V)
DTSTART;TZID=Europe/Ljubljana:20240329T110000
DTEND;TZID=Europe/Ljubljana:20240329T130000
DTSTAMP:20260421T073002Z
UID:fmf-AFLABS-URNIK:premaknjeno-srecanje:135431
ATTENDEE:doktorski študij (M)
CATEGORIES:Entry,Standard
COLOR:darkgreen
DESCRIPTION:Predmet: Izbrana poglavja iz analize (MAT-D)\, Vaje (V)\nLetni
 ki: doktorski študij (M)\nIzvajalci: Riccardo Ugolini\nProstor: F4
LOCATION:F4
ORGANIZER:Riccardo Ugolini
RELATED-TO:fmf-AFLABS-URNIK:srecanje:10727
X-WR-TIMEZONE:Europe/Ljubljana
END:VEVENT
BEGIN:VEVENT
SUMMARY:Izbrana poglavja iz analize (MAT-D)\, Vaje (V)
DTSTART;TZID=Europe/Ljubljana:20240405T110000
DTEND;TZID=Europe/Ljubljana:20240405T130000
DTSTAMP:20260421T073002Z
UID:fmf-AFLABS-URNIK:premaknjeno-srecanje:135432
ATTENDEE:doktorski študij (M)
CATEGORIES:Entry,Standard
COLOR:darkgreen
DESCRIPTION:Predmet: Izbrana poglavja iz analize (MAT-D)\, Vaje (V)\nLetni
 ki: doktorski študij (M)\nIzvajalci: Riccardo Ugolini\nProstor: F4
LOCATION:F4
ORGANIZER:Riccardo Ugolini
RELATED-TO:fmf-AFLABS-URNIK:srecanje:10727
X-WR-TIMEZONE:Europe/Ljubljana
END:VEVENT
BEGIN:VEVENT
SUMMARY:Izbrana poglavja iz analize (MAT-D)\, Vaje (V)
DTSTART;TZID=Europe/Ljubljana:20240412T110000
DTEND;TZID=Europe/Ljubljana:20240412T130000
DTSTAMP:20260421T073002Z
UID:fmf-AFLABS-URNIK:premaknjeno-srecanje:135433
ATTENDEE:doktorski študij (M)
CATEGORIES:Entry,Standard
COLOR:darkgreen
DESCRIPTION:Predmet: Izbrana poglavja iz analize (MAT-D)\, Vaje (V)\nLetni
 ki: doktorski študij (M)\nIzvajalci: Riccardo Ugolini\nProstor: F4
LOCATION:F4
ORGANIZER:Riccardo Ugolini
RELATED-TO:fmf-AFLABS-URNIK:srecanje:10727
X-WR-TIMEZONE:Europe/Ljubljana
END:VEVENT
BEGIN:VEVENT
SUMMARY:Izbrana poglavja iz analize (MAT-D)\, Vaje (V)
DTSTART;TZID=Europe/Ljubljana:20240419T110000
DTEND;TZID=Europe/Ljubljana:20240419T130000
DTSTAMP:20260421T073002Z
UID:fmf-AFLABS-URNIK:premaknjeno-srecanje:135434
ATTENDEE:doktorski študij (M)
CATEGORIES:Entry,Standard
COLOR:darkgreen
DESCRIPTION:Predmet: Izbrana poglavja iz analize (MAT-D)\, Vaje (V)\nLetni
 ki: doktorski študij (M)\nIzvajalci: Riccardo Ugolini\nProstor: F4
LOCATION:F4
ORGANIZER:Riccardo Ugolini
RELATED-TO:fmf-AFLABS-URNIK:srecanje:10727
X-WR-TIMEZONE:Europe/Ljubljana
END:VEVENT
BEGIN:VEVENT
SUMMARY:Izbrana poglavja iz analize (MAT-D)\, Vaje (V)
DTSTART;TZID=Europe/Ljubljana:20240426T110000
DTEND;TZID=Europe/Ljubljana:20240426T130000
DTSTAMP:20260421T073002Z
UID:fmf-AFLABS-URNIK:premaknjeno-srecanje:135435
ATTENDEE:doktorski študij (M)
CATEGORIES:Entry,Standard
COLOR:darkgreen
DESCRIPTION:Predmet: Izbrana poglavja iz analize (MAT-D)\, Vaje (V)\nLetni
 ki: doktorski študij (M)\nIzvajalci: Riccardo Ugolini\nProstor: F4
LOCATION:F4
ORGANIZER:Riccardo Ugolini
RELATED-TO:fmf-AFLABS-URNIK:srecanje:10727
X-WR-TIMEZONE:Europe/Ljubljana
END:VEVENT
BEGIN:VEVENT
SUMMARY:Izbrana poglavja iz analize (MAT-D)\, Vaje (V)
DTSTART;TZID=Europe/Ljubljana:20240503T110000
DTEND;TZID=Europe/Ljubljana:20240503T130000
DTSTAMP:20260421T073002Z
UID:fmf-AFLABS-URNIK:premaknjeno-srecanje:135436
ATTENDEE:doktorski študij (M)
CATEGORIES:Entry,Standard
COLOR:darkgreen
DESCRIPTION:Predmet: Izbrana poglavja iz analize (MAT-D)\, Vaje (V)\nLetni
 ki: doktorski študij (M)\nIzvajalci: Riccardo Ugolini\nProstor: F4
LOCATION:F4
ORGANIZER:Riccardo Ugolini
RELATED-TO:fmf-AFLABS-URNIK:srecanje:10727
X-WR-TIMEZONE:Europe/Ljubljana
END:VEVENT
BEGIN:VEVENT
SUMMARY:Izbrana poglavja iz analize (MAT-D)\, Vaje (V)
DTSTART;TZID=Europe/Ljubljana:20240510T110000
DTEND;TZID=Europe/Ljubljana:20240510T130000
DTSTAMP:20260421T073002Z
UID:fmf-AFLABS-URNIK:premaknjeno-srecanje:135437
ATTENDEE:doktorski študij (M)
CATEGORIES:Entry,Standard
COLOR:darkgreen
DESCRIPTION:Predmet: Izbrana poglavja iz analize (MAT-D)\, Vaje (V)\nLetni
 ki: doktorski študij (M)\nIzvajalci: Riccardo Ugolini\nProstor: F4
LOCATION:F4
ORGANIZER:Riccardo Ugolini
RELATED-TO:fmf-AFLABS-URNIK:srecanje:10727
X-WR-TIMEZONE:Europe/Ljubljana
END:VEVENT
BEGIN:VEVENT
SUMMARY:Izbrana poglavja iz analize (MAT-D)\, Vaje (V)
DTSTART;TZID=Europe/Ljubljana:20240517T110000
DTEND;TZID=Europe/Ljubljana:20240517T130000
DTSTAMP:20260421T073002Z
UID:fmf-AFLABS-URNIK:premaknjeno-srecanje:135438
ATTENDEE:doktorski študij (M)
CATEGORIES:Entry,Standard
COLOR:darkgreen
DESCRIPTION:Predmet: Izbrana poglavja iz analize (MAT-D)\, Vaje (V)\nLetni
 ki: doktorski študij (M)\nIzvajalci: Riccardo Ugolini\nProstor: F4
LOCATION:F4
ORGANIZER:Riccardo Ugolini
RELATED-TO:fmf-AFLABS-URNIK:srecanje:10727
X-WR-TIMEZONE:Europe/Ljubljana
END:VEVENT
BEGIN:VEVENT
SUMMARY:Izbrana poglavja iz analize (MAT-D)\, Vaje (V)
DTSTART;TZID=Europe/Ljubljana:20240524T110000
DTEND;TZID=Europe/Ljubljana:20240524T130000
DTSTAMP:20260421T073002Z
UID:fmf-AFLABS-URNIK:premaknjeno-srecanje:135439
ATTENDEE:doktorski študij (M)
CATEGORIES:Entry,Standard
COLOR:darkgreen
DESCRIPTION:Predmet: Izbrana poglavja iz analize (MAT-D)\, Vaje (V)\nLetni
 ki: doktorski študij (M)\nIzvajalci: Riccardo Ugolini\nProstor: F4
LOCATION:F4
ORGANIZER:Riccardo Ugolini
RELATED-TO:fmf-AFLABS-URNIK:srecanje:10727
X-WR-TIMEZONE:Europe/Ljubljana
END:VEVENT
BEGIN:VEVENT
SUMMARY:Izbrana poglavja iz analize (MAT-D)\, Vaje (V)
DTSTART;TZID=Europe/Ljubljana:20240531T110000
DTEND;TZID=Europe/Ljubljana:20240531T130000
DTSTAMP:20260421T073002Z
UID:fmf-AFLABS-URNIK:premaknjeno-srecanje:135440
ATTENDEE:doktorski študij (M)
CATEGORIES:Entry,Standard
COLOR:darkgreen
DESCRIPTION:Predmet: Izbrana poglavja iz analize (MAT-D)\, Vaje (V)\nLetni
 ki: doktorski študij (M)\nIzvajalci: Riccardo Ugolini\nProstor: F4
LOCATION:F4
ORGANIZER:Riccardo Ugolini
RELATED-TO:fmf-AFLABS-URNIK:srecanje:10727
X-WR-TIMEZONE:Europe/Ljubljana
END:VEVENT
END:VCALENDAR
