BEGIN:VCALENDAR
VERSION:2.0
PRODID:-//AFLabs urnik izvoz - fmf//aflabs.si//SI
DTSTAMP:20260424T074533Z
NAME:UL FMF urnik
REFRESH-INTERVAL:PT1H
SOURCE:https://urnik.fmf.uni-lj.si/teacher/374?day=2018-05-14&export=1
URL:https://urnik.fmf.uni-lj.si/teacher/374?day=2018-05-14&export=1
X-PUBLISHED-TTL:PT1H
X-WR-CALNAME:UL FMF urnik
X-WR-TIMEZONE:Europe/Ljubljana
BEGIN:VTIMEZONE
TZID:Europe/Ljubljana
BEGIN:DAYLIGHT
DTSTART:20260329T020000
RDATE:20260329T020000
RDATE:20270328T020000
TZNAME:CEST
TZOFFSETFROM:+0100
TZOFFSETTO:+0200
END:DAYLIGHT
BEGIN:STANDARD
DTSTART:20261025T030000
RDATE:20261025T030000
RDATE:20271031T030000
TZNAME:CET
TZOFFSETFROM:+0200
TZOFFSETTO:+0100
END:STANDARD
END:VTIMEZONE
BEGIN:VEVENT
SUMMARY:Ekonometrija 1 (FM-3)\, Predavanja (P)
DTSTART;TZID=Europe/Ljubljana:20180220T140000
DTEND;TZID=Europe/Ljubljana:20180220T160000
DTSTAMP:20260424T074533Z
UID:fmf-AFLABS-URNIK:premaknjeno-srecanje:17422
ATTENDEE:3. letnik (FM)
CATEGORIES:Entry,Standard
COLOR:darkgreen
DESCRIPTION:Predmet: Ekonometrija 1 (FM-3)\, Predavanja (P)\nLetniki: 3. l
 etnik (FM)\nIzvajalci: Miroslav Verbič\nProstor: 2.04
LOCATION:2.04
ORGANIZER:Miroslav Verbič
RELATED-TO:fmf-AFLABS-URNIK:srecanje:984
X-WR-TIMEZONE:Europe/Ljubljana
END:VEVENT
BEGIN:VEVENT
SUMMARY:Ekonometrija 1 (FM-3)\, Predavanja (P)
DTSTART;TZID=Europe/Ljubljana:20180227T140000
DTEND;TZID=Europe/Ljubljana:20180227T160000
DTSTAMP:20260424T074533Z
UID:fmf-AFLABS-URNIK:premaknjeno-srecanje:17423
ATTENDEE:3. letnik (FM)
CATEGORIES:Entry,Standard
COLOR:darkgreen
DESCRIPTION:Predmet: Ekonometrija 1 (FM-3)\, Predavanja (P)\nLetniki: 3. l
 etnik (FM)\nIzvajalci: Miroslav Verbič\nProstor: 2.04
LOCATION:2.04
ORGANIZER:Miroslav Verbič
RELATED-TO:fmf-AFLABS-URNIK:srecanje:984
X-WR-TIMEZONE:Europe/Ljubljana
END:VEVENT
BEGIN:VEVENT
SUMMARY:Ekonometrija 1 (FM-3)\, Predavanja (P)
DTSTART;TZID=Europe/Ljubljana:20180306T140000
DTEND;TZID=Europe/Ljubljana:20180306T160000
DTSTAMP:20260424T074533Z
UID:fmf-AFLABS-URNIK:premaknjeno-srecanje:17424
ATTENDEE:3. letnik (FM)
CATEGORIES:Entry,Standard
COLOR:darkgreen
DESCRIPTION:Predmet: Ekonometrija 1 (FM-3)\, Predavanja (P)\nLetniki: 3. l
 etnik (FM)\nIzvajalci: Miroslav Verbič\nProstor: 2.04
LOCATION:2.04
ORGANIZER:Miroslav Verbič
RELATED-TO:fmf-AFLABS-URNIK:srecanje:984
X-WR-TIMEZONE:Europe/Ljubljana
END:VEVENT
BEGIN:VEVENT
SUMMARY:Ekonometrija 1 (FM-3)\, Predavanja (P)
DTSTART;TZID=Europe/Ljubljana:20180313T140000
DTEND;TZID=Europe/Ljubljana:20180313T160000
DTSTAMP:20260424T074533Z
UID:fmf-AFLABS-URNIK:premaknjeno-srecanje:17425
ATTENDEE:3. letnik (FM)
CATEGORIES:Entry,Standard
COLOR:darkgreen
DESCRIPTION:Predmet: Ekonometrija 1 (FM-3)\, Predavanja (P)\nLetniki: 3. l
 etnik (FM)\nIzvajalci: Miroslav Verbič\nProstor: 2.04
LOCATION:2.04
ORGANIZER:Miroslav Verbič
RELATED-TO:fmf-AFLABS-URNIK:srecanje:984
X-WR-TIMEZONE:Europe/Ljubljana
END:VEVENT
BEGIN:VEVENT
SUMMARY:Ekonometrija 1 (FM-3)\, Predavanja (P)
DTSTART;TZID=Europe/Ljubljana:20180320T140000
DTEND;TZID=Europe/Ljubljana:20180320T160000
DTSTAMP:20260424T074533Z
UID:fmf-AFLABS-URNIK:premaknjeno-srecanje:17426
ATTENDEE:3. letnik (FM)
CATEGORIES:Entry,Standard
COLOR:darkgreen
DESCRIPTION:Predmet: Ekonometrija 1 (FM-3)\, Predavanja (P)\nLetniki: 3. l
 etnik (FM)\nIzvajalci: Miroslav Verbič\nProstor: 2.04
LOCATION:2.04
ORGANIZER:Miroslav Verbič
RELATED-TO:fmf-AFLABS-URNIK:srecanje:984
X-WR-TIMEZONE:Europe/Ljubljana
END:VEVENT
BEGIN:VEVENT
SUMMARY:Ekonometrija 1 (FM-3)\, Predavanja (P)
DTSTART;TZID=Europe/Ljubljana:20180327T140000
DTEND;TZID=Europe/Ljubljana:20180327T160000
DTSTAMP:20260424T074533Z
UID:fmf-AFLABS-URNIK:premaknjeno-srecanje:17427
ATTENDEE:3. letnik (FM)
CATEGORIES:Entry,Standard
COLOR:darkgreen
DESCRIPTION:Predmet: Ekonometrija 1 (FM-3)\, Predavanja (P)\nLetniki: 3. l
 etnik (FM)\nIzvajalci: Miroslav Verbič\nProstor: 2.04
LOCATION:2.04
ORGANIZER:Miroslav Verbič
RELATED-TO:fmf-AFLABS-URNIK:srecanje:984
X-WR-TIMEZONE:Europe/Ljubljana
END:VEVENT
BEGIN:VEVENT
SUMMARY:Ekonometrija 1 (FM-3)\, Predavanja (P)
DTSTART;TZID=Europe/Ljubljana:20180403T140000
DTEND;TZID=Europe/Ljubljana:20180403T160000
DTSTAMP:20260424T074533Z
UID:fmf-AFLABS-URNIK:premaknjeno-srecanje:17428
ATTENDEE:3. letnik (FM)
CATEGORIES:Entry,Standard
COLOR:darkgreen
DESCRIPTION:Predmet: Ekonometrija 1 (FM-3)\, Predavanja (P)\nLetniki: 3. l
 etnik (FM)\nIzvajalci: Miroslav Verbič\nProstor: 2.04
LOCATION:2.04
ORGANIZER:Miroslav Verbič
RELATED-TO:fmf-AFLABS-URNIK:srecanje:984
X-WR-TIMEZONE:Europe/Ljubljana
END:VEVENT
BEGIN:VEVENT
SUMMARY:Ekonometrija 1 (FM-3)\, Predavanja (P)
DTSTART;TZID=Europe/Ljubljana:20180410T140000
DTEND;TZID=Europe/Ljubljana:20180410T160000
DTSTAMP:20260424T074533Z
UID:fmf-AFLABS-URNIK:premaknjeno-srecanje:17429
ATTENDEE:3. letnik (FM)
CATEGORIES:Entry,Standard
COLOR:darkgreen
DESCRIPTION:Predmet: Ekonometrija 1 (FM-3)\, Predavanja (P)\nLetniki: 3. l
 etnik (FM)\nIzvajalci: Miroslav Verbič\nProstor: 2.04
LOCATION:2.04
ORGANIZER:Miroslav Verbič
RELATED-TO:fmf-AFLABS-URNIK:srecanje:984
X-WR-TIMEZONE:Europe/Ljubljana
END:VEVENT
BEGIN:VEVENT
SUMMARY:Ekonometrija 1 (FM-3)\, Predavanja (P)
DTSTART;TZID=Europe/Ljubljana:20180417T140000
DTEND;TZID=Europe/Ljubljana:20180417T160000
DTSTAMP:20260424T074533Z
UID:fmf-AFLABS-URNIK:premaknjeno-srecanje:17430
ATTENDEE:3. letnik (FM)
CATEGORIES:Entry,Standard
COLOR:darkgreen
DESCRIPTION:Predmet: Ekonometrija 1 (FM-3)\, Predavanja (P)\nLetniki: 3. l
 etnik (FM)\nIzvajalci: Miroslav Verbič\nProstor: 2.04
LOCATION:2.04
ORGANIZER:Miroslav Verbič
RELATED-TO:fmf-AFLABS-URNIK:srecanje:984
X-WR-TIMEZONE:Europe/Ljubljana
END:VEVENT
BEGIN:VEVENT
SUMMARY:Ekonometrija 1 (FM-3)\, Predavanja (P)
DTSTART;TZID=Europe/Ljubljana:20180424T140000
DTEND;TZID=Europe/Ljubljana:20180424T160000
DTSTAMP:20260424T074533Z
UID:fmf-AFLABS-URNIK:premaknjeno-srecanje:17431
ATTENDEE:3. letnik (FM)
CATEGORIES:Entry,Standard
COLOR:darkgreen
DESCRIPTION:Predmet: Ekonometrija 1 (FM-3)\, Predavanja (P)\nLetniki: 3. l
 etnik (FM)\nIzvajalci: Miroslav Verbič\nProstor: 2.04
LOCATION:2.04
ORGANIZER:Miroslav Verbič
RELATED-TO:fmf-AFLABS-URNIK:srecanje:984
X-WR-TIMEZONE:Europe/Ljubljana
END:VEVENT
BEGIN:VEVENT
SUMMARY:Ekonometrija 1 (FM-3)\, Predavanja (P)
DTSTART;TZID=Europe/Ljubljana:20180501T140000
DTEND;TZID=Europe/Ljubljana:20180501T160000
DTSTAMP:20260424T074533Z
UID:fmf-AFLABS-URNIK:premaknjeno-srecanje:17432
ATTENDEE:3. letnik (FM)
CATEGORIES:Entry,Standard
COLOR:darkgreen
DESCRIPTION:Predmet: Ekonometrija 1 (FM-3)\, Predavanja (P)\nLetniki: 3. l
 etnik (FM)\nIzvajalci: Miroslav Verbič\nProstor: 2.04
LOCATION:2.04
ORGANIZER:Miroslav Verbič
RELATED-TO:fmf-AFLABS-URNIK:srecanje:984
X-WR-TIMEZONE:Europe/Ljubljana
END:VEVENT
BEGIN:VEVENT
SUMMARY:Ekonometrija 1 (FM-3)\, Predavanja (P)
DTSTART;TZID=Europe/Ljubljana:20180508T140000
DTEND;TZID=Europe/Ljubljana:20180508T160000
DTSTAMP:20260424T074533Z
UID:fmf-AFLABS-URNIK:premaknjeno-srecanje:17433
ATTENDEE:3. letnik (FM)
CATEGORIES:Entry,Standard
COLOR:darkgreen
DESCRIPTION:Predmet: Ekonometrija 1 (FM-3)\, Predavanja (P)\nLetniki: 3. l
 etnik (FM)\nIzvajalci: Miroslav Verbič\nProstor: 2.04
LOCATION:2.04
ORGANIZER:Miroslav Verbič
RELATED-TO:fmf-AFLABS-URNIK:srecanje:984
X-WR-TIMEZONE:Europe/Ljubljana
END:VEVENT
BEGIN:VEVENT
SUMMARY:Ekonometrija 1 (FM-3)\, Predavanja (P)
DTSTART;TZID=Europe/Ljubljana:20180515T140000
DTEND;TZID=Europe/Ljubljana:20180515T160000
DTSTAMP:20260424T074533Z
UID:fmf-AFLABS-URNIK:premaknjeno-srecanje:17434
ATTENDEE:3. letnik (FM)
CATEGORIES:Entry,Standard
COLOR:darkgreen
DESCRIPTION:Predmet: Ekonometrija 1 (FM-3)\, Predavanja (P)\nLetniki: 3. l
 etnik (FM)\nIzvajalci: Miroslav Verbič\nProstor: 2.04
LOCATION:2.04
ORGANIZER:Miroslav Verbič
RELATED-TO:fmf-AFLABS-URNIK:srecanje:984
X-WR-TIMEZONE:Europe/Ljubljana
END:VEVENT
BEGIN:VEVENT
SUMMARY:Ekonometrija 1 (FM-3)\, Predavanja (P)
DTSTART;TZID=Europe/Ljubljana:20180522T140000
DTEND;TZID=Europe/Ljubljana:20180522T160000
DTSTAMP:20260424T074533Z
UID:fmf-AFLABS-URNIK:premaknjeno-srecanje:17435
ATTENDEE:3. letnik (FM)
CATEGORIES:Entry,Standard
COLOR:darkgreen
DESCRIPTION:Predmet: Ekonometrija 1 (FM-3)\, Predavanja (P)\nLetniki: 3. l
 etnik (FM)\nIzvajalci: Miroslav Verbič\nProstor: 2.04
LOCATION:2.04
ORGANIZER:Miroslav Verbič
RELATED-TO:fmf-AFLABS-URNIK:srecanje:984
X-WR-TIMEZONE:Europe/Ljubljana
END:VEVENT
BEGIN:VEVENT
SUMMARY:Ekonometrija 1 (FM-3)\, Predavanja (P)
DTSTART;TZID=Europe/Ljubljana:20180529T140000
DTEND;TZID=Europe/Ljubljana:20180529T160000
DTSTAMP:20260424T074533Z
UID:fmf-AFLABS-URNIK:premaknjeno-srecanje:17436
ATTENDEE:3. letnik (FM)
CATEGORIES:Entry,Standard
COLOR:darkgreen
DESCRIPTION:Predmet: Ekonometrija 1 (FM-3)\, Predavanja (P)\nLetniki: 3. l
 etnik (FM)\nIzvajalci: Miroslav Verbič\nProstor: 2.04
LOCATION:2.04
ORGANIZER:Miroslav Verbič
RELATED-TO:fmf-AFLABS-URNIK:srecanje:984
X-WR-TIMEZONE:Europe/Ljubljana
END:VEVENT
BEGIN:VEVENT
SUMMARY:Ekonometrija 1 (FM-3)\, Predavanja (P)
DTSTART;TZID=Europe/Ljubljana:20180605T140000
DTEND;TZID=Europe/Ljubljana:20180605T160000
DTSTAMP:20260424T074533Z
UID:fmf-AFLABS-URNIK:premaknjeno-srecanje:17437
ATTENDEE:3. letnik (FM)
CATEGORIES:Entry,Standard
COLOR:darkgreen
DESCRIPTION:Predmet: Ekonometrija 1 (FM-3)\, Predavanja (P)\nLetniki: 3. l
 etnik (FM)\nIzvajalci: Miroslav Verbič\nProstor: 2.04
LOCATION:2.04
ORGANIZER:Miroslav Verbič
RELATED-TO:fmf-AFLABS-URNIK:srecanje:984
X-WR-TIMEZONE:Europe/Ljubljana
END:VEVENT
BEGIN:VEVENT
SUMMARY:Ekonometrija 1 (FM-3)\, Vaje (V)
DTSTART;TZID=Europe/Ljubljana:20180222T140000
DTEND;TZID=Europe/Ljubljana:20180222T170000
DTSTAMP:20260424T074533Z
UID:fmf-AFLABS-URNIK:premaknjeno-srecanje:17515
ATTENDEE:3. letnik (FM)
CATEGORIES:Entry,Standard
COLOR:darkgreen
DESCRIPTION:Predmet: Ekonometrija 1 (FM-3)\, Vaje (V)\nLetniki: 3. letnik 
 (FM)\nIzvajalci: Miroslav Verbič\nProstor: 3.11
LOCATION:3.11
ORGANIZER:Miroslav Verbič
RELATED-TO:fmf-AFLABS-URNIK:srecanje:1146
X-WR-TIMEZONE:Europe/Ljubljana
END:VEVENT
BEGIN:VEVENT
SUMMARY:Ekonometrija 1 (FM-3)\, Vaje (V)
DTSTART;TZID=Europe/Ljubljana:20180301T140000
DTEND;TZID=Europe/Ljubljana:20180301T170000
DTSTAMP:20260424T074533Z
UID:fmf-AFLABS-URNIK:premaknjeno-srecanje:17516
ATTENDEE:3. letnik (FM)
CATEGORIES:Entry,Standard
COLOR:darkgreen
DESCRIPTION:Predmet: Ekonometrija 1 (FM-3)\, Vaje (V)\nLetniki: 3. letnik 
 (FM)\nIzvajalci: Miroslav Verbič\nProstor: 3.11
LOCATION:3.11
ORGANIZER:Miroslav Verbič
RELATED-TO:fmf-AFLABS-URNIK:srecanje:1146
X-WR-TIMEZONE:Europe/Ljubljana
END:VEVENT
BEGIN:VEVENT
SUMMARY:Ekonometrija 1 (FM-3)\, Vaje (V)
DTSTART;TZID=Europe/Ljubljana:20180308T140000
DTEND;TZID=Europe/Ljubljana:20180308T170000
DTSTAMP:20260424T074533Z
UID:fmf-AFLABS-URNIK:premaknjeno-srecanje:17517
ATTENDEE:3. letnik (FM)
CATEGORIES:Entry,Standard
COLOR:darkgreen
DESCRIPTION:Predmet: Ekonometrija 1 (FM-3)\, Vaje (V)\nLetniki: 3. letnik 
 (FM)\nIzvajalci: Miroslav Verbič\nProstor: 3.11
LOCATION:3.11
ORGANIZER:Miroslav Verbič
RELATED-TO:fmf-AFLABS-URNIK:srecanje:1146
X-WR-TIMEZONE:Europe/Ljubljana
END:VEVENT
BEGIN:VEVENT
SUMMARY:Ekonometrija 1 (FM-3)\, Vaje (V)
DTSTART;TZID=Europe/Ljubljana:20180315T140000
DTEND;TZID=Europe/Ljubljana:20180315T170000
DTSTAMP:20260424T074533Z
UID:fmf-AFLABS-URNIK:premaknjeno-srecanje:17518
ATTENDEE:3. letnik (FM)
CATEGORIES:Entry,Standard
COLOR:darkgreen
DESCRIPTION:Predmet: Ekonometrija 1 (FM-3)\, Vaje (V)\nLetniki: 3. letnik 
 (FM)\nIzvajalci: Miroslav Verbič\nProstor: 3.11
LOCATION:3.11
ORGANIZER:Miroslav Verbič
RELATED-TO:fmf-AFLABS-URNIK:srecanje:1146
X-WR-TIMEZONE:Europe/Ljubljana
END:VEVENT
BEGIN:VEVENT
SUMMARY:Ekonometrija 1 (FM-3)\, Vaje (V)
DTSTART;TZID=Europe/Ljubljana:20180322T140000
DTEND;TZID=Europe/Ljubljana:20180322T170000
DTSTAMP:20260424T074533Z
UID:fmf-AFLABS-URNIK:premaknjeno-srecanje:17519
ATTENDEE:3. letnik (FM)
CATEGORIES:Entry,Standard
COLOR:darkgreen
DESCRIPTION:Predmet: Ekonometrija 1 (FM-3)\, Vaje (V)\nLetniki: 3. letnik 
 (FM)\nIzvajalci: Miroslav Verbič\nProstor: 3.11
LOCATION:3.11
ORGANIZER:Miroslav Verbič
RELATED-TO:fmf-AFLABS-URNIK:srecanje:1146
X-WR-TIMEZONE:Europe/Ljubljana
END:VEVENT
BEGIN:VEVENT
SUMMARY:Ekonometrija 1 (FM-3)\, Vaje (V)
DTSTART;TZID=Europe/Ljubljana:20180329T140000
DTEND;TZID=Europe/Ljubljana:20180329T170000
DTSTAMP:20260424T074533Z
UID:fmf-AFLABS-URNIK:premaknjeno-srecanje:17520
ATTENDEE:3. letnik (FM)
CATEGORIES:Entry,Standard
COLOR:darkgreen
DESCRIPTION:Predmet: Ekonometrija 1 (FM-3)\, Vaje (V)\nLetniki: 3. letnik 
 (FM)\nIzvajalci: Miroslav Verbič\nProstor: 3.11
LOCATION:3.11
ORGANIZER:Miroslav Verbič
RELATED-TO:fmf-AFLABS-URNIK:srecanje:1146
X-WR-TIMEZONE:Europe/Ljubljana
END:VEVENT
BEGIN:VEVENT
SUMMARY:Ekonometrija 1 (FM-3)\, Vaje (V)
DTSTART;TZID=Europe/Ljubljana:20180405T140000
DTEND;TZID=Europe/Ljubljana:20180405T170000
DTSTAMP:20260424T074533Z
UID:fmf-AFLABS-URNIK:premaknjeno-srecanje:17521
ATTENDEE:3. letnik (FM)
CATEGORIES:Entry,Standard
COLOR:darkgreen
DESCRIPTION:Predmet: Ekonometrija 1 (FM-3)\, Vaje (V)\nLetniki: 3. letnik 
 (FM)\nIzvajalci: Miroslav Verbič\nProstor: 3.11
LOCATION:3.11
ORGANIZER:Miroslav Verbič
RELATED-TO:fmf-AFLABS-URNIK:srecanje:1146
X-WR-TIMEZONE:Europe/Ljubljana
END:VEVENT
BEGIN:VEVENT
SUMMARY:Ekonometrija 1 (FM-3)\, Vaje (V)
DTSTART;TZID=Europe/Ljubljana:20180412T140000
DTEND;TZID=Europe/Ljubljana:20180412T170000
DTSTAMP:20260424T074533Z
UID:fmf-AFLABS-URNIK:premaknjeno-srecanje:17522
ATTENDEE:3. letnik (FM)
CATEGORIES:Entry,Standard
COLOR:darkgreen
DESCRIPTION:Predmet: Ekonometrija 1 (FM-3)\, Vaje (V)\nLetniki: 3. letnik 
 (FM)\nIzvajalci: Miroslav Verbič\nProstor: 3.11
LOCATION:3.11
ORGANIZER:Miroslav Verbič
RELATED-TO:fmf-AFLABS-URNIK:srecanje:1146
X-WR-TIMEZONE:Europe/Ljubljana
END:VEVENT
BEGIN:VEVENT
SUMMARY:Ekonometrija 1 (FM-3)\, Vaje (V)
DTSTART;TZID=Europe/Ljubljana:20180419T140000
DTEND;TZID=Europe/Ljubljana:20180419T170000
DTSTAMP:20260424T074533Z
UID:fmf-AFLABS-URNIK:premaknjeno-srecanje:17523
ATTENDEE:3. letnik (FM)
CATEGORIES:Entry,Standard
COLOR:darkgreen
DESCRIPTION:Predmet: Ekonometrija 1 (FM-3)\, Vaje (V)\nLetniki: 3. letnik 
 (FM)\nIzvajalci: Miroslav Verbič\nProstor: 3.11
LOCATION:3.11
ORGANIZER:Miroslav Verbič
RELATED-TO:fmf-AFLABS-URNIK:srecanje:1146
X-WR-TIMEZONE:Europe/Ljubljana
END:VEVENT
BEGIN:VEVENT
SUMMARY:Ekonometrija 1 (FM-3)\, Vaje (V)
DTSTART;TZID=Europe/Ljubljana:20180426T140000
DTEND;TZID=Europe/Ljubljana:20180426T170000
DTSTAMP:20260424T074533Z
UID:fmf-AFLABS-URNIK:premaknjeno-srecanje:17524
ATTENDEE:3. letnik (FM)
CATEGORIES:Entry,Standard
COLOR:darkgreen
DESCRIPTION:Predmet: Ekonometrija 1 (FM-3)\, Vaje (V)\nLetniki: 3. letnik 
 (FM)\nIzvajalci: Miroslav Verbič\nProstor: 3.11
LOCATION:3.11
ORGANIZER:Miroslav Verbič
RELATED-TO:fmf-AFLABS-URNIK:srecanje:1146
X-WR-TIMEZONE:Europe/Ljubljana
END:VEVENT
BEGIN:VEVENT
SUMMARY:Ekonometrija 1 (FM-3)\, Vaje (V)
DTSTART;TZID=Europe/Ljubljana:20180503T140000
DTEND;TZID=Europe/Ljubljana:20180503T170000
DTSTAMP:20260424T074533Z
UID:fmf-AFLABS-URNIK:premaknjeno-srecanje:17525
ATTENDEE:3. letnik (FM)
CATEGORIES:Entry,Standard
COLOR:darkgreen
DESCRIPTION:Predmet: Ekonometrija 1 (FM-3)\, Vaje (V)\nLetniki: 3. letnik 
 (FM)\nIzvajalci: Miroslav Verbič\nProstor: 3.11
LOCATION:3.11
ORGANIZER:Miroslav Verbič
RELATED-TO:fmf-AFLABS-URNIK:srecanje:1146
X-WR-TIMEZONE:Europe/Ljubljana
END:VEVENT
BEGIN:VEVENT
SUMMARY:Ekonometrija 1 (FM-3)\, Vaje (V)
DTSTART;TZID=Europe/Ljubljana:20180510T140000
DTEND;TZID=Europe/Ljubljana:20180510T170000
DTSTAMP:20260424T074533Z
UID:fmf-AFLABS-URNIK:premaknjeno-srecanje:17526
ATTENDEE:3. letnik (FM)
CATEGORIES:Entry,Standard
COLOR:darkgreen
DESCRIPTION:Predmet: Ekonometrija 1 (FM-3)\, Vaje (V)\nLetniki: 3. letnik 
 (FM)\nIzvajalci: Miroslav Verbič\nProstor: 3.11
LOCATION:3.11
ORGANIZER:Miroslav Verbič
RELATED-TO:fmf-AFLABS-URNIK:srecanje:1146
X-WR-TIMEZONE:Europe/Ljubljana
END:VEVENT
BEGIN:VEVENT
SUMMARY:Ekonometrija 1 (FM-3)\, Vaje (V)
DTSTART;TZID=Europe/Ljubljana:20180517T140000
DTEND;TZID=Europe/Ljubljana:20180517T170000
DTSTAMP:20260424T074533Z
UID:fmf-AFLABS-URNIK:premaknjeno-srecanje:17527
ATTENDEE:3. letnik (FM)
CATEGORIES:Entry,Standard
COLOR:darkgreen
DESCRIPTION:Predmet: Ekonometrija 1 (FM-3)\, Vaje (V)\nLetniki: 3. letnik 
 (FM)\nIzvajalci: Miroslav Verbič\nProstor: 3.11
LOCATION:3.11
ORGANIZER:Miroslav Verbič
RELATED-TO:fmf-AFLABS-URNIK:srecanje:1146
X-WR-TIMEZONE:Europe/Ljubljana
END:VEVENT
BEGIN:VEVENT
SUMMARY:Ekonometrija 1 (FM-3)\, Vaje (V)
DTSTART;TZID=Europe/Ljubljana:20180524T140000
DTEND;TZID=Europe/Ljubljana:20180524T170000
DTSTAMP:20260424T074533Z
UID:fmf-AFLABS-URNIK:premaknjeno-srecanje:17528
ATTENDEE:3. letnik (FM)
CATEGORIES:Entry,Standard
COLOR:darkgreen
DESCRIPTION:Predmet: Ekonometrija 1 (FM-3)\, Vaje (V)\nLetniki: 3. letnik 
 (FM)\nIzvajalci: Miroslav Verbič\nProstor: 3.11
LOCATION:3.11
ORGANIZER:Miroslav Verbič
RELATED-TO:fmf-AFLABS-URNIK:srecanje:1146
X-WR-TIMEZONE:Europe/Ljubljana
END:VEVENT
BEGIN:VEVENT
SUMMARY:Ekonometrija 1 (FM-3)\, Vaje (V)
DTSTART;TZID=Europe/Ljubljana:20180531T140000
DTEND;TZID=Europe/Ljubljana:20180531T170000
DTSTAMP:20260424T074533Z
UID:fmf-AFLABS-URNIK:premaknjeno-srecanje:17529
ATTENDEE:3. letnik (FM)
CATEGORIES:Entry,Standard
COLOR:darkgreen
DESCRIPTION:Predmet: Ekonometrija 1 (FM-3)\, Vaje (V)\nLetniki: 3. letnik 
 (FM)\nIzvajalci: Miroslav Verbič\nProstor: 3.11
LOCATION:3.11
ORGANIZER:Miroslav Verbič
RELATED-TO:fmf-AFLABS-URNIK:srecanje:1146
X-WR-TIMEZONE:Europe/Ljubljana
END:VEVENT
BEGIN:VEVENT
SUMMARY:Ekonometrija 1 (FM-3)\, Vaje (V)
DTSTART;TZID=Europe/Ljubljana:20180607T140000
DTEND;TZID=Europe/Ljubljana:20180607T170000
DTSTAMP:20260424T074533Z
UID:fmf-AFLABS-URNIK:premaknjeno-srecanje:17530
ATTENDEE:3. letnik (FM)
CATEGORIES:Entry,Standard
COLOR:darkgreen
DESCRIPTION:Predmet: Ekonometrija 1 (FM-3)\, Vaje (V)\nLetniki: 3. letnik 
 (FM)\nIzvajalci: Miroslav Verbič\nProstor: 3.11
LOCATION:3.11
ORGANIZER:Miroslav Verbič
RELATED-TO:fmf-AFLABS-URNIK:srecanje:1146
X-WR-TIMEZONE:Europe/Ljubljana
END:VEVENT
BEGIN:VEVENT
SUMMARY:Rezervacija
DTSTART;TZID=Europe/Ljubljana:20180418T140000
DTEND;TZID=Europe/Ljubljana:20180418T160000
DTSTAMP:20260424T074533Z
UID:fmf-AFLABS-URNIK:rezervacija:827
CATEGORIES:Reservation
COLOR:royalblue
DESCRIPTION:Predmeti: \nLetniki: \nIzvajalci: Miroslav Verbič\nProstori: 
 3.05
LOCATION:3.05
ORGANIZER:Miroslav Verbič
X-WR-TIMEZONE:Europe/Ljubljana
END:VEVENT
BEGIN:VEVENT
SUMMARY:Rezervacija
DTSTART;TZID=Europe/Ljubljana:20180424T180000
DTEND;TZID=Europe/Ljubljana:20180424T200000
DTSTAMP:20260424T074533Z
UID:fmf-AFLABS-URNIK:rezervacija:865
CATEGORIES:Reservation
COLOR:royalblue
DESCRIPTION:Predmeti: \nLetniki: \nIzvajalci: Miroslav Verbič\nProstori: 
 2.01
LOCATION:2.01
ORGANIZER:Miroslav Verbič
X-WR-TIMEZONE:Europe/Ljubljana
END:VEVENT
END:VCALENDAR
