BEGIN:VCALENDAR
VERSION:2.0
PRODID:-//AFLabs urnik izvoz - fmf//aflabs.si//SI
DTSTAMP:20260420T175208Z
NAME:UL FMF urnik
REFRESH-INTERVAL:PT1H
SOURCE:https://urnik.fmf.uni-lj.si/teacher/374?day=2020-04-06&export=1
URL:https://urnik.fmf.uni-lj.si/teacher/374?day=2020-04-06&export=1
X-PUBLISHED-TTL:PT1H
X-WR-CALNAME:UL FMF urnik
X-WR-TIMEZONE:Europe/Ljubljana
BEGIN:VTIMEZONE
TZID:Europe/Ljubljana
BEGIN:DAYLIGHT
DTSTART:20260329T020000
RDATE:20260329T020000
RDATE:20270328T020000
TZNAME:CEST
TZOFFSETFROM:+0100
TZOFFSETTO:+0200
END:DAYLIGHT
BEGIN:STANDARD
DTSTART:20261025T030000
RDATE:20261025T030000
RDATE:20271031T030000
TZNAME:CET
TZOFFSETFROM:+0200
TZOFFSETTO:+0100
END:STANDARD
END:VTIMEZONE
BEGIN:VEVENT
SUMMARY:Ekonometrija 1 (FM-3)\, Predavanja (P)
DTSTART;TZID=Europe/Ljubljana:20200218T140000
DTEND;TZID=Europe/Ljubljana:20200218T160000
DTSTAMP:20260420T175208Z
UID:fmf-AFLABS-URNIK:premaknjeno-srecanje:17453
ATTENDEE:3. letnik (FM)
CATEGORIES:Entry,Standard
COLOR:darkgreen
DESCRIPTION:Predmet: Ekonometrija 1 (FM-3)\, Predavanja (P)\nLetniki: 3. l
 etnik (FM)\nIzvajalci: Miroslav Verbič\nProstor: 2.04
LOCATION:2.04
ORGANIZER:Miroslav Verbič
RELATED-TO:fmf-AFLABS-URNIK:srecanje:4051
X-WR-TIMEZONE:Europe/Ljubljana
END:VEVENT
BEGIN:VEVENT
SUMMARY:Ekonometrija 1 (FM-3)\, Predavanja (P)
DTSTART;TZID=Europe/Ljubljana:20200225T140000
DTEND;TZID=Europe/Ljubljana:20200225T160000
DTSTAMP:20260420T175208Z
UID:fmf-AFLABS-URNIK:premaknjeno-srecanje:17454
ATTENDEE:3. letnik (FM)
CATEGORIES:Entry,Standard
COLOR:darkgreen
DESCRIPTION:Predmet: Ekonometrija 1 (FM-3)\, Predavanja (P)\nLetniki: 3. l
 etnik (FM)\nIzvajalci: Miroslav Verbič\nProstor: 2.04
LOCATION:2.04
ORGANIZER:Miroslav Verbič
RELATED-TO:fmf-AFLABS-URNIK:srecanje:4051
X-WR-TIMEZONE:Europe/Ljubljana
END:VEVENT
BEGIN:VEVENT
SUMMARY:Ekonometrija 1 (FM-3)\, Predavanja (P)
DTSTART;TZID=Europe/Ljubljana:20200303T140000
DTEND;TZID=Europe/Ljubljana:20200303T160000
DTSTAMP:20260420T175208Z
UID:fmf-AFLABS-URNIK:premaknjeno-srecanje:17455
ATTENDEE:3. letnik (FM)
CATEGORIES:Entry,Standard
COLOR:darkgreen
DESCRIPTION:Predmet: Ekonometrija 1 (FM-3)\, Predavanja (P)\nLetniki: 3. l
 etnik (FM)\nIzvajalci: Miroslav Verbič\nProstor: 2.04
LOCATION:2.04
ORGANIZER:Miroslav Verbič
RELATED-TO:fmf-AFLABS-URNIK:srecanje:4051
X-WR-TIMEZONE:Europe/Ljubljana
END:VEVENT
BEGIN:VEVENT
SUMMARY:Ekonometrija 1 (FM-3)\, Predavanja (P)
DTSTART;TZID=Europe/Ljubljana:20200310T140000
DTEND;TZID=Europe/Ljubljana:20200310T160000
DTSTAMP:20260420T175208Z
UID:fmf-AFLABS-URNIK:premaknjeno-srecanje:17456
ATTENDEE:3. letnik (FM)
CATEGORIES:Entry,Standard
COLOR:darkgreen
DESCRIPTION:Predmet: Ekonometrija 1 (FM-3)\, Predavanja (P)\nLetniki: 3. l
 etnik (FM)\nIzvajalci: Miroslav Verbič\nProstor: 2.04
LOCATION:2.04
ORGANIZER:Miroslav Verbič
RELATED-TO:fmf-AFLABS-URNIK:srecanje:4051
X-WR-TIMEZONE:Europe/Ljubljana
END:VEVENT
BEGIN:VEVENT
SUMMARY:Ekonometrija 1 (FM-3)\, Predavanja (P)
DTSTART;TZID=Europe/Ljubljana:20200317T140000
DTEND;TZID=Europe/Ljubljana:20200317T160000
DTSTAMP:20260420T175208Z
UID:fmf-AFLABS-URNIK:premaknjeno-srecanje:17457
ATTENDEE:3. letnik (FM)
CATEGORIES:Entry,Standard
COLOR:darkgreen
DESCRIPTION:Predmet: Ekonometrija 1 (FM-3)\, Predavanja (P)\nLetniki: 3. l
 etnik (FM)\nIzvajalci: Miroslav Verbič\nProstor: 2.04
LOCATION:2.04
ORGANIZER:Miroslav Verbič
RELATED-TO:fmf-AFLABS-URNIK:srecanje:4051
X-WR-TIMEZONE:Europe/Ljubljana
END:VEVENT
BEGIN:VEVENT
SUMMARY:Ekonometrija 1 (FM-3)\, Predavanja (P)
DTSTART;TZID=Europe/Ljubljana:20200324T140000
DTEND;TZID=Europe/Ljubljana:20200324T160000
DTSTAMP:20260420T175208Z
UID:fmf-AFLABS-URNIK:premaknjeno-srecanje:17458
ATTENDEE:3. letnik (FM)
CATEGORIES:Entry,Standard
COLOR:darkgreen
DESCRIPTION:Predmet: Ekonometrija 1 (FM-3)\, Predavanja (P)\nLetniki: 3. l
 etnik (FM)\nIzvajalci: Miroslav Verbič\nProstor: 2.04
LOCATION:2.04
ORGANIZER:Miroslav Verbič
RELATED-TO:fmf-AFLABS-URNIK:srecanje:4051
X-WR-TIMEZONE:Europe/Ljubljana
END:VEVENT
BEGIN:VEVENT
SUMMARY:Ekonometrija 1 (FM-3)\, Predavanja (P)
DTSTART;TZID=Europe/Ljubljana:20200331T140000
DTEND;TZID=Europe/Ljubljana:20200331T160000
DTSTAMP:20260420T175208Z
UID:fmf-AFLABS-URNIK:premaknjeno-srecanje:17459
ATTENDEE:3. letnik (FM)
CATEGORIES:Entry,Standard
COLOR:darkgreen
DESCRIPTION:Predmet: Ekonometrija 1 (FM-3)\, Predavanja (P)\nLetniki: 3. l
 etnik (FM)\nIzvajalci: Miroslav Verbič\nProstor: 2.04
LOCATION:2.04
ORGANIZER:Miroslav Verbič
RELATED-TO:fmf-AFLABS-URNIK:srecanje:4051
X-WR-TIMEZONE:Europe/Ljubljana
END:VEVENT
BEGIN:VEVENT
SUMMARY:Ekonometrija 1 (FM-3)\, Predavanja (P)
DTSTART;TZID=Europe/Ljubljana:20200407T140000
DTEND;TZID=Europe/Ljubljana:20200407T160000
DTSTAMP:20260420T175208Z
UID:fmf-AFLABS-URNIK:premaknjeno-srecanje:17460
ATTENDEE:3. letnik (FM)
CATEGORIES:Entry,Standard
COLOR:darkgreen
DESCRIPTION:Predmet: Ekonometrija 1 (FM-3)\, Predavanja (P)\nLetniki: 3. l
 etnik (FM)\nIzvajalci: Miroslav Verbič\nProstor: 2.04
LOCATION:2.04
ORGANIZER:Miroslav Verbič
RELATED-TO:fmf-AFLABS-URNIK:srecanje:4051
X-WR-TIMEZONE:Europe/Ljubljana
END:VEVENT
BEGIN:VEVENT
SUMMARY:Ekonometrija 1 (FM-3)\, Predavanja (P)
DTSTART;TZID=Europe/Ljubljana:20200414T140000
DTEND;TZID=Europe/Ljubljana:20200414T160000
DTSTAMP:20260420T175208Z
UID:fmf-AFLABS-URNIK:premaknjeno-srecanje:17461
ATTENDEE:3. letnik (FM)
CATEGORIES:Entry,Standard
COLOR:darkgreen
DESCRIPTION:Predmet: Ekonometrija 1 (FM-3)\, Predavanja (P)\nLetniki: 3. l
 etnik (FM)\nIzvajalci: Miroslav Verbič\nProstor: 2.04
LOCATION:2.04
ORGANIZER:Miroslav Verbič
RELATED-TO:fmf-AFLABS-URNIK:srecanje:4051
X-WR-TIMEZONE:Europe/Ljubljana
END:VEVENT
BEGIN:VEVENT
SUMMARY:Ekonometrija 1 (FM-3)\, Predavanja (P)
DTSTART;TZID=Europe/Ljubljana:20200421T140000
DTEND;TZID=Europe/Ljubljana:20200421T160000
DTSTAMP:20260420T175208Z
UID:fmf-AFLABS-URNIK:premaknjeno-srecanje:17462
ATTENDEE:3. letnik (FM)
CATEGORIES:Entry,Standard
COLOR:darkgreen
DESCRIPTION:Predmet: Ekonometrija 1 (FM-3)\, Predavanja (P)\nLetniki: 3. l
 etnik (FM)\nIzvajalci: Miroslav Verbič\nProstor: 2.04
LOCATION:2.04
ORGANIZER:Miroslav Verbič
RELATED-TO:fmf-AFLABS-URNIK:srecanje:4051
X-WR-TIMEZONE:Europe/Ljubljana
END:VEVENT
BEGIN:VEVENT
SUMMARY:Ekonometrija 1 (FM-3)\, Predavanja (P)
DTSTART;TZID=Europe/Ljubljana:20200428T140000
DTEND;TZID=Europe/Ljubljana:20200428T160000
DTSTAMP:20260420T175208Z
UID:fmf-AFLABS-URNIK:premaknjeno-srecanje:17463
ATTENDEE:3. letnik (FM)
CATEGORIES:Entry,Standard
COLOR:darkgreen
DESCRIPTION:Predmet: Ekonometrija 1 (FM-3)\, Predavanja (P)\nLetniki: 3. l
 etnik (FM)\nIzvajalci: Miroslav Verbič\nProstor: 2.04
LOCATION:2.04
ORGANIZER:Miroslav Verbič
RELATED-TO:fmf-AFLABS-URNIK:srecanje:4051
X-WR-TIMEZONE:Europe/Ljubljana
END:VEVENT
BEGIN:VEVENT
SUMMARY:Ekonometrija 1 (FM-3)\, Predavanja (P)
DTSTART;TZID=Europe/Ljubljana:20200505T140000
DTEND;TZID=Europe/Ljubljana:20200505T160000
DTSTAMP:20260420T175208Z
UID:fmf-AFLABS-URNIK:premaknjeno-srecanje:17464
ATTENDEE:3. letnik (FM)
CATEGORIES:Entry,Standard
COLOR:darkgreen
DESCRIPTION:Predmet: Ekonometrija 1 (FM-3)\, Predavanja (P)\nLetniki: 3. l
 etnik (FM)\nIzvajalci: Miroslav Verbič\nProstor: 2.04
LOCATION:2.04
ORGANIZER:Miroslav Verbič
RELATED-TO:fmf-AFLABS-URNIK:srecanje:4051
X-WR-TIMEZONE:Europe/Ljubljana
END:VEVENT
BEGIN:VEVENT
SUMMARY:Ekonometrija 1 (FM-3)\, Predavanja (P)
DTSTART;TZID=Europe/Ljubljana:20200512T140000
DTEND;TZID=Europe/Ljubljana:20200512T160000
DTSTAMP:20260420T175208Z
UID:fmf-AFLABS-URNIK:premaknjeno-srecanje:17465
ATTENDEE:3. letnik (FM)
CATEGORIES:Entry,Standard
COLOR:darkgreen
DESCRIPTION:Predmet: Ekonometrija 1 (FM-3)\, Predavanja (P)\nLetniki: 3. l
 etnik (FM)\nIzvajalci: Miroslav Verbič\nProstor: 2.04
LOCATION:2.04
ORGANIZER:Miroslav Verbič
RELATED-TO:fmf-AFLABS-URNIK:srecanje:4051
X-WR-TIMEZONE:Europe/Ljubljana
END:VEVENT
BEGIN:VEVENT
SUMMARY:Ekonometrija 1 (FM-3)\, Predavanja (P)
DTSTART;TZID=Europe/Ljubljana:20200519T140000
DTEND;TZID=Europe/Ljubljana:20200519T160000
DTSTAMP:20260420T175208Z
UID:fmf-AFLABS-URNIK:premaknjeno-srecanje:17466
ATTENDEE:3. letnik (FM)
CATEGORIES:Entry,Standard
COLOR:darkgreen
DESCRIPTION:Predmet: Ekonometrija 1 (FM-3)\, Predavanja (P)\nLetniki: 3. l
 etnik (FM)\nIzvajalci: Miroslav Verbič\nProstor: 2.04
LOCATION:2.04
ORGANIZER:Miroslav Verbič
RELATED-TO:fmf-AFLABS-URNIK:srecanje:4051
X-WR-TIMEZONE:Europe/Ljubljana
END:VEVENT
BEGIN:VEVENT
SUMMARY:Ekonometrija 1 (FM-3)\, Predavanja (P)
DTSTART;TZID=Europe/Ljubljana:20200526T140000
DTEND;TZID=Europe/Ljubljana:20200526T160000
DTSTAMP:20260420T175208Z
UID:fmf-AFLABS-URNIK:premaknjeno-srecanje:17467
ATTENDEE:3. letnik (FM)
CATEGORIES:Entry,Standard
COLOR:darkgreen
DESCRIPTION:Predmet: Ekonometrija 1 (FM-3)\, Predavanja (P)\nLetniki: 3. l
 etnik (FM)\nIzvajalci: Miroslav Verbič\nProstor: 2.04
LOCATION:2.04
ORGANIZER:Miroslav Verbič
RELATED-TO:fmf-AFLABS-URNIK:srecanje:4051
X-WR-TIMEZONE:Europe/Ljubljana
END:VEVENT
BEGIN:VEVENT
SUMMARY:Ekonometrija 1 (FM-3)\, Vaje (V)
DTSTART;TZID=Europe/Ljubljana:20200220T140000
DTEND;TZID=Europe/Ljubljana:20200220T170000
DTSTAMP:20260420T175208Z
UID:fmf-AFLABS-URNIK:premaknjeno-srecanje:17546
ATTENDEE:3. letnik (FM)
CATEGORIES:Entry,Standard
COLOR:darkgreen
DESCRIPTION:Predmet: Ekonometrija 1 (FM-3)\, Vaje (V)\nLetniki: 3. letnik 
 (FM)\nIzvajalci: Miroslav Verbič\nProstor: 3.11
LOCATION:3.11
ORGANIZER:Miroslav Verbič
RELATED-TO:fmf-AFLABS-URNIK:srecanje:4052
X-WR-TIMEZONE:Europe/Ljubljana
END:VEVENT
BEGIN:VEVENT
SUMMARY:Ekonometrija 1 (FM-3)\, Vaje (V)
DTSTART;TZID=Europe/Ljubljana:20200227T140000
DTEND;TZID=Europe/Ljubljana:20200227T170000
DTSTAMP:20260420T175208Z
UID:fmf-AFLABS-URNIK:premaknjeno-srecanje:17547
ATTENDEE:3. letnik (FM)
CATEGORIES:Entry,Standard
COLOR:darkgreen
DESCRIPTION:Predmet: Ekonometrija 1 (FM-3)\, Vaje (V)\nLetniki: 3. letnik 
 (FM)\nIzvajalci: Miroslav Verbič\nProstor: 3.11
LOCATION:3.11
ORGANIZER:Miroslav Verbič
RELATED-TO:fmf-AFLABS-URNIK:srecanje:4052
X-WR-TIMEZONE:Europe/Ljubljana
END:VEVENT
BEGIN:VEVENT
SUMMARY:Ekonometrija 1 (FM-3)\, Vaje (V)
DTSTART;TZID=Europe/Ljubljana:20200305T140000
DTEND;TZID=Europe/Ljubljana:20200305T170000
DTSTAMP:20260420T175208Z
UID:fmf-AFLABS-URNIK:premaknjeno-srecanje:17548
ATTENDEE:3. letnik (FM)
CATEGORIES:Entry,Standard
COLOR:darkgreen
DESCRIPTION:Predmet: Ekonometrija 1 (FM-3)\, Vaje (V)\nLetniki: 3. letnik 
 (FM)\nIzvajalci: Miroslav Verbič\nProstor: 3.11
LOCATION:3.11
ORGANIZER:Miroslav Verbič
RELATED-TO:fmf-AFLABS-URNIK:srecanje:4052
X-WR-TIMEZONE:Europe/Ljubljana
END:VEVENT
BEGIN:VEVENT
SUMMARY:Ekonometrija 1 (FM-3)\, Vaje (V)
DTSTART;TZID=Europe/Ljubljana:20200312T140000
DTEND;TZID=Europe/Ljubljana:20200312T170000
DTSTAMP:20260420T175208Z
UID:fmf-AFLABS-URNIK:premaknjeno-srecanje:17549
ATTENDEE:3. letnik (FM)
CATEGORIES:Entry,Standard
COLOR:darkgreen
DESCRIPTION:Predmet: Ekonometrija 1 (FM-3)\, Vaje (V)\nLetniki: 3. letnik 
 (FM)\nIzvajalci: Miroslav Verbič\nProstor: 3.11
LOCATION:3.11
ORGANIZER:Miroslav Verbič
RELATED-TO:fmf-AFLABS-URNIK:srecanje:4052
X-WR-TIMEZONE:Europe/Ljubljana
END:VEVENT
BEGIN:VEVENT
SUMMARY:Ekonometrija 1 (FM-3)\, Vaje (V)
DTSTART;TZID=Europe/Ljubljana:20200319T140000
DTEND;TZID=Europe/Ljubljana:20200319T170000
DTSTAMP:20260420T175208Z
UID:fmf-AFLABS-URNIK:premaknjeno-srecanje:17550
ATTENDEE:3. letnik (FM)
CATEGORIES:Entry,Standard
COLOR:darkgreen
DESCRIPTION:Predmet: Ekonometrija 1 (FM-3)\, Vaje (V)\nLetniki: 3. letnik 
 (FM)\nIzvajalci: Miroslav Verbič\nProstor: 3.11
LOCATION:3.11
ORGANIZER:Miroslav Verbič
RELATED-TO:fmf-AFLABS-URNIK:srecanje:4052
X-WR-TIMEZONE:Europe/Ljubljana
END:VEVENT
BEGIN:VEVENT
SUMMARY:Ekonometrija 1 (FM-3)\, Vaje (V)
DTSTART;TZID=Europe/Ljubljana:20200326T140000
DTEND;TZID=Europe/Ljubljana:20200326T170000
DTSTAMP:20260420T175208Z
UID:fmf-AFLABS-URNIK:premaknjeno-srecanje:17551
ATTENDEE:3. letnik (FM)
CATEGORIES:Entry,Standard
COLOR:darkgreen
DESCRIPTION:Predmet: Ekonometrija 1 (FM-3)\, Vaje (V)\nLetniki: 3. letnik 
 (FM)\nIzvajalci: Miroslav Verbič\nProstor: 3.11
LOCATION:3.11
ORGANIZER:Miroslav Verbič
RELATED-TO:fmf-AFLABS-URNIK:srecanje:4052
X-WR-TIMEZONE:Europe/Ljubljana
END:VEVENT
BEGIN:VEVENT
SUMMARY:Ekonometrija 1 (FM-3)\, Vaje (V)
DTSTART;TZID=Europe/Ljubljana:20200402T140000
DTEND;TZID=Europe/Ljubljana:20200402T170000
DTSTAMP:20260420T175208Z
UID:fmf-AFLABS-URNIK:premaknjeno-srecanje:17552
ATTENDEE:3. letnik (FM)
CATEGORIES:Entry,Standard
COLOR:darkgreen
DESCRIPTION:Predmet: Ekonometrija 1 (FM-3)\, Vaje (V)\nLetniki: 3. letnik 
 (FM)\nIzvajalci: Miroslav Verbič\nProstor: 3.11
LOCATION:3.11
ORGANIZER:Miroslav Verbič
RELATED-TO:fmf-AFLABS-URNIK:srecanje:4052
X-WR-TIMEZONE:Europe/Ljubljana
END:VEVENT
BEGIN:VEVENT
SUMMARY:Ekonometrija 1 (FM-3)\, Vaje (V)
DTSTART;TZID=Europe/Ljubljana:20200409T140000
DTEND;TZID=Europe/Ljubljana:20200409T170000
DTSTAMP:20260420T175208Z
UID:fmf-AFLABS-URNIK:premaknjeno-srecanje:17553
ATTENDEE:3. letnik (FM)
CATEGORIES:Entry,Standard
COLOR:darkgreen
DESCRIPTION:Predmet: Ekonometrija 1 (FM-3)\, Vaje (V)\nLetniki: 3. letnik 
 (FM)\nIzvajalci: Miroslav Verbič\nProstor: 3.11
LOCATION:3.11
ORGANIZER:Miroslav Verbič
RELATED-TO:fmf-AFLABS-URNIK:srecanje:4052
X-WR-TIMEZONE:Europe/Ljubljana
END:VEVENT
BEGIN:VEVENT
SUMMARY:Ekonometrija 1 (FM-3)\, Vaje (V)
DTSTART;TZID=Europe/Ljubljana:20200416T140000
DTEND;TZID=Europe/Ljubljana:20200416T170000
DTSTAMP:20260420T175208Z
UID:fmf-AFLABS-URNIK:premaknjeno-srecanje:17554
ATTENDEE:3. letnik (FM)
CATEGORIES:Entry,Standard
COLOR:darkgreen
DESCRIPTION:Predmet: Ekonometrija 1 (FM-3)\, Vaje (V)\nLetniki: 3. letnik 
 (FM)\nIzvajalci: Miroslav Verbič\nProstor: 3.11
LOCATION:3.11
ORGANIZER:Miroslav Verbič
RELATED-TO:fmf-AFLABS-URNIK:srecanje:4052
X-WR-TIMEZONE:Europe/Ljubljana
END:VEVENT
BEGIN:VEVENT
SUMMARY:Ekonometrija 1 (FM-3)\, Vaje (V)
DTSTART;TZID=Europe/Ljubljana:20200423T140000
DTEND;TZID=Europe/Ljubljana:20200423T170000
DTSTAMP:20260420T175208Z
UID:fmf-AFLABS-URNIK:premaknjeno-srecanje:17555
ATTENDEE:3. letnik (FM)
CATEGORIES:Entry,Standard
COLOR:darkgreen
DESCRIPTION:Predmet: Ekonometrija 1 (FM-3)\, Vaje (V)\nLetniki: 3. letnik 
 (FM)\nIzvajalci: Miroslav Verbič\nProstor: 3.11
LOCATION:3.11
ORGANIZER:Miroslav Verbič
RELATED-TO:fmf-AFLABS-URNIK:srecanje:4052
X-WR-TIMEZONE:Europe/Ljubljana
END:VEVENT
BEGIN:VEVENT
SUMMARY:Ekonometrija 1 (FM-3)\, Vaje (V)
DTSTART;TZID=Europe/Ljubljana:20200430T140000
DTEND;TZID=Europe/Ljubljana:20200430T170000
DTSTAMP:20260420T175208Z
UID:fmf-AFLABS-URNIK:premaknjeno-srecanje:17556
ATTENDEE:3. letnik (FM)
CATEGORIES:Entry,Standard
COLOR:darkgreen
DESCRIPTION:Predmet: Ekonometrija 1 (FM-3)\, Vaje (V)\nLetniki: 3. letnik 
 (FM)\nIzvajalci: Miroslav Verbič\nProstor: 3.11
LOCATION:3.11
ORGANIZER:Miroslav Verbič
RELATED-TO:fmf-AFLABS-URNIK:srecanje:4052
X-WR-TIMEZONE:Europe/Ljubljana
END:VEVENT
BEGIN:VEVENT
SUMMARY:Ekonometrija 1 (FM-3)\, Vaje (V)
DTSTART;TZID=Europe/Ljubljana:20200507T140000
DTEND;TZID=Europe/Ljubljana:20200507T170000
DTSTAMP:20260420T175208Z
UID:fmf-AFLABS-URNIK:premaknjeno-srecanje:17557
ATTENDEE:3. letnik (FM)
CATEGORIES:Entry,Standard
COLOR:darkgreen
DESCRIPTION:Predmet: Ekonometrija 1 (FM-3)\, Vaje (V)\nLetniki: 3. letnik 
 (FM)\nIzvajalci: Miroslav Verbič\nProstor: 3.11
LOCATION:3.11
ORGANIZER:Miroslav Verbič
RELATED-TO:fmf-AFLABS-URNIK:srecanje:4052
X-WR-TIMEZONE:Europe/Ljubljana
END:VEVENT
BEGIN:VEVENT
SUMMARY:Ekonometrija 1 (FM-3)\, Vaje (V)
DTSTART;TZID=Europe/Ljubljana:20200514T140000
DTEND;TZID=Europe/Ljubljana:20200514T170000
DTSTAMP:20260420T175208Z
UID:fmf-AFLABS-URNIK:premaknjeno-srecanje:17558
ATTENDEE:3. letnik (FM)
CATEGORIES:Entry,Standard
COLOR:darkgreen
DESCRIPTION:Predmet: Ekonometrija 1 (FM-3)\, Vaje (V)\nLetniki: 3. letnik 
 (FM)\nIzvajalci: Miroslav Verbič\nProstor: 3.11
LOCATION:3.11
ORGANIZER:Miroslav Verbič
RELATED-TO:fmf-AFLABS-URNIK:srecanje:4052
X-WR-TIMEZONE:Europe/Ljubljana
END:VEVENT
BEGIN:VEVENT
SUMMARY:Ekonometrija 1 (FM-3)\, Vaje (V)
DTSTART;TZID=Europe/Ljubljana:20200521T140000
DTEND;TZID=Europe/Ljubljana:20200521T170000
DTSTAMP:20260420T175208Z
UID:fmf-AFLABS-URNIK:premaknjeno-srecanje:17559
ATTENDEE:3. letnik (FM)
CATEGORIES:Entry,Standard
COLOR:darkgreen
DESCRIPTION:Predmet: Ekonometrija 1 (FM-3)\, Vaje (V)\nLetniki: 3. letnik 
 (FM)\nIzvajalci: Miroslav Verbič\nProstor: 3.11
LOCATION:3.11
ORGANIZER:Miroslav Verbič
RELATED-TO:fmf-AFLABS-URNIK:srecanje:4052
X-WR-TIMEZONE:Europe/Ljubljana
END:VEVENT
BEGIN:VEVENT
SUMMARY:Ekonometrija 1 (FM-3)\, Vaje (V)
DTSTART;TZID=Europe/Ljubljana:20200528T140000
DTEND;TZID=Europe/Ljubljana:20200528T170000
DTSTAMP:20260420T175208Z
UID:fmf-AFLABS-URNIK:premaknjeno-srecanje:17560
ATTENDEE:3. letnik (FM)
CATEGORIES:Entry,Standard
COLOR:darkgreen
DESCRIPTION:Predmet: Ekonometrija 1 (FM-3)\, Vaje (V)\nLetniki: 3. letnik 
 (FM)\nIzvajalci: Miroslav Verbič\nProstor: 3.11
LOCATION:3.11
ORGANIZER:Miroslav Verbič
RELATED-TO:fmf-AFLABS-URNIK:srecanje:4052
X-WR-TIMEZONE:Europe/Ljubljana
END:VEVENT
BEGIN:VEVENT
SUMMARY:Rezervacija
DTSTART;TZID=Europe/Ljubljana:20200421T160000
DTEND;TZID=Europe/Ljubljana:20200421T190000
DTSTAMP:20260420T175208Z
UID:fmf-AFLABS-URNIK:rezervacija:5342
CATEGORIES:Reservation
COLOR:royalblue
DESCRIPTION:Predmeti: \nLetniki: \nIzvajalci: Miroslav Verbič\nProstori: 
 2.01
LOCATION:2.01
ORGANIZER:Miroslav Verbič
X-WR-TIMEZONE:Europe/Ljubljana
END:VEVENT
END:VCALENDAR
