BEGIN:VCALENDAR
VERSION:2.0
PRODID:-//AFLabs urnik izvoz - fmf//aflabs.si//SI
DTSTAMP:20260426T011450Z
NAME:UL FMF urnik
REFRESH-INTERVAL:PT1H
SOURCE:https://urnik.fmf.uni-lj.si/teacher/37?day=2020-07-06&export=1
URL:https://urnik.fmf.uni-lj.si/teacher/37?day=2020-07-06&export=1
X-PUBLISHED-TTL:PT1H
X-WR-CALNAME:UL FMF urnik
X-WR-TIMEZONE:Europe/Ljubljana
BEGIN:VTIMEZONE
TZID:Europe/Ljubljana
BEGIN:DAYLIGHT
DTSTART:20260329T020000
RDATE:20260329T020000
RDATE:20270328T020000
TZNAME:CEST
TZOFFSETFROM:+0100
TZOFFSETTO:+0200
END:DAYLIGHT
BEGIN:STANDARD
DTSTART:20261025T030000
RDATE:20261025T030000
RDATE:20271031T030000
TZNAME:CET
TZOFFSETFROM:+0200
TZOFFSETTO:+0100
END:STANDARD
END:VTIMEZONE
BEGIN:VEVENT
SUMMARY:Rezervacija
DTSTART;TZID=Europe/Ljubljana:20200612T090000
DTEND;TZID=Europe/Ljubljana:20200612T100000
DTSTAMP:20260426T011450Z
UID:fmf-AFLABS-URNIK:rezervacija:5485
CATEGORIES:Reservation
COLOR:royalblue
DESCRIPTION:Predmeti: \nLetniki: \nIzvajalci: Bor Plestenjak\nProstori: 3.
 07
LOCATION:3.07
ORGANIZER:Bor Plestenjak
X-WR-TIMEZONE:Europe/Ljubljana
END:VEVENT
BEGIN:VEVENT
SUMMARY:Rezervacija
DTSTART;TZID=Europe/Ljubljana:20200612T100000
DTEND;TZID=Europe/Ljubljana:20200612T120000
DTSTAMP:20260426T011450Z
UID:fmf-AFLABS-URNIK:rezervacija:5490
CATEGORIES:Reservation
COLOR:royalblue
DESCRIPTION:Predmeti: \nLetniki: \nIzvajalci: Bor Plestenjak\nProstori: P.
 02
LOCATION:P.02
ORGANIZER:Bor Plestenjak
X-WR-TIMEZONE:Europe/Ljubljana
END:VEVENT
BEGIN:VEVENT
SUMMARY:Rezervacija
DTSTART;TZID=Europe/Ljubljana:20200615T120000
DTEND;TZID=Europe/Ljubljana:20200615T140000
DTSTAMP:20260426T011450Z
UID:fmf-AFLABS-URNIK:rezervacija:5518
CATEGORIES:Reservation
COLOR:royalblue
DESCRIPTION:Predmeti: \nLetniki: \nIzvajalci: Tadej Kanduč\, Bor Plestenj
 ak\nProstori: 2.03
LOCATION:2.03
ORGANIZER:Tadej Kanduč, Bor Plestenjak
X-WR-TIMEZONE:Europe/Ljubljana
END:VEVENT
BEGIN:VEVENT
SUMMARY:Rezervacija
DTSTART;TZID=Europe/Ljubljana:20200618T100000
DTEND;TZID=Europe/Ljubljana:20200618T120000
DTSTAMP:20260426T011450Z
UID:fmf-AFLABS-URNIK:rezervacija:5572
CATEGORIES:Reservation
COLOR:royalblue
DESCRIPTION:Predmeti: \nLetniki: \nIzvajalci: Jan Grošelj\, Bor Plestenja
 k\nProstori: 2.04\, 3.05
LOCATION:2.04\, 3.05
ORGANIZER:Jan Grošelj, Bor Plestenjak
X-WR-TIMEZONE:Europe/Ljubljana
END:VEVENT
BEGIN:VEVENT
SUMMARY:Rezervacija
DTSTART;TZID=Europe/Ljubljana:20200623T100000
DTEND;TZID=Europe/Ljubljana:20200623T110000
DTSTAMP:20260426T011450Z
UID:fmf-AFLABS-URNIK:rezervacija:5632
CATEGORIES:Reservation
COLOR:royalblue
DESCRIPTION:Predmeti: \nLetniki: \nIzvajalci: Bor Plestenjak\nProstori: 3.
 06
LOCATION:3.06
ORGANIZER:Bor Plestenjak
X-WR-TIMEZONE:Europe/Ljubljana
END:VEVENT
BEGIN:VEVENT
SUMMARY:Rezervacija
DTSTART;TZID=Europe/Ljubljana:20200623T110000
DTEND;TZID=Europe/Ljubljana:20200623T120000
DTSTAMP:20260426T011450Z
UID:fmf-AFLABS-URNIK:rezervacija:5635
CATEGORIES:Reservation
COLOR:royalblue
DESCRIPTION:Predmeti: \nLetniki: \nIzvajalci: Bor Plestenjak\nProstori: 3.
 06
LOCATION:3.06
ORGANIZER:Bor Plestenjak
X-WR-TIMEZONE:Europe/Ljubljana
END:VEVENT
BEGIN:VEVENT
SUMMARY:Rezervacija
DTSTART;TZID=Europe/Ljubljana:20200624T080000
DTEND;TZID=Europe/Ljubljana:20200624T090000
DTSTAMP:20260426T011450Z
UID:fmf-AFLABS-URNIK:rezervacija:5643
CATEGORIES:Reservation
COLOR:royalblue
DESCRIPTION:Predmeti: \nLetniki: \nIzvajalci: Bor Plestenjak\nProstori: 3.
 05
LOCATION:3.05
ORGANIZER:Bor Plestenjak
X-WR-TIMEZONE:Europe/Ljubljana
END:VEVENT
BEGIN:VEVENT
SUMMARY:Rezervacija
DTSTART;TZID=Europe/Ljubljana:20200626T110000
DTEND;TZID=Europe/Ljubljana:20200626T120000
DTSTAMP:20260426T011450Z
UID:fmf-AFLABS-URNIK:rezervacija:5673
CATEGORIES:Reservation
COLOR:royalblue
DESCRIPTION:Predmeti: \nLetniki: \nIzvajalci: Bor Plestenjak\nProstori: 3.
 07
LOCATION:3.07
ORGANIZER:Bor Plestenjak
X-WR-TIMEZONE:Europe/Ljubljana
END:VEVENT
BEGIN:VEVENT
SUMMARY:Rezervacija
DTSTART;TZID=Europe/Ljubljana:20200626T120000
DTEND;TZID=Europe/Ljubljana:20200626T130000
DTSTAMP:20260426T011450Z
UID:fmf-AFLABS-URNIK:rezervacija:5675
CATEGORIES:Reservation
COLOR:royalblue
DESCRIPTION:Predmeti: \nLetniki: \nIzvajalci: Bor Plestenjak\nProstori: 3.
 07
LOCATION:3.07
ORGANIZER:Bor Plestenjak
X-WR-TIMEZONE:Europe/Ljubljana
END:VEVENT
BEGIN:VEVENT
SUMMARY:Rezervacija
DTSTART;TZID=Europe/Ljubljana:20200629T100000
DTEND;TZID=Europe/Ljubljana:20200629T120000
DTSTAMP:20260426T011450Z
UID:fmf-AFLABS-URNIK:rezervacija:5694
CATEGORIES:Reservation
COLOR:royalblue
DESCRIPTION:Predmeti: \nLetniki: \nIzvajalci: Bor Plestenjak\nProstori: 2.
 02
LOCATION:2.02
ORGANIZER:Bor Plestenjak
X-WR-TIMEZONE:Europe/Ljubljana
END:VEVENT
BEGIN:VEVENT
SUMMARY:Rezervacija
DTSTART;TZID=Europe/Ljubljana:20200629T130000
DTEND;TZID=Europe/Ljubljana:20200629T140000
DTSTAMP:20260426T011450Z
UID:fmf-AFLABS-URNIK:rezervacija:5701
CATEGORIES:Reservation
COLOR:royalblue
DESCRIPTION:Predmeti: \nLetniki: \nIzvajalci: Bor Plestenjak\nProstori: 3.
 07
LOCATION:3.07
ORGANIZER:Bor Plestenjak
X-WR-TIMEZONE:Europe/Ljubljana
END:VEVENT
BEGIN:VEVENT
SUMMARY:Rezervacija
DTSTART;TZID=Europe/Ljubljana:20200629T140000
DTEND;TZID=Europe/Ljubljana:20200629T150000
DTSTAMP:20260426T011450Z
UID:fmf-AFLABS-URNIK:rezervacija:5705
CATEGORIES:Reservation
COLOR:royalblue
DESCRIPTION:Predmeti: \nLetniki: \nIzvajalci: Bor Plestenjak\nProstori: 3.
 07
LOCATION:3.07
ORGANIZER:Bor Plestenjak
X-WR-TIMEZONE:Europe/Ljubljana
END:VEVENT
BEGIN:VEVENT
SUMMARY:Rezervacija
DTSTART;TZID=Europe/Ljubljana:20200701T100000
DTEND;TZID=Europe/Ljubljana:20200701T110000
DTSTAMP:20260426T011450Z
UID:fmf-AFLABS-URNIK:rezervacija:5731
CATEGORIES:Reservation
COLOR:royalblue
DESCRIPTION:Predmeti: \nLetniki: \nIzvajalci: Bor Plestenjak\nProstori: 3.
 07
LOCATION:3.07
ORGANIZER:Bor Plestenjak
X-WR-TIMEZONE:Europe/Ljubljana
END:VEVENT
BEGIN:VEVENT
SUMMARY:Rezervacija
DTSTART;TZID=Europe/Ljubljana:20200701T110000
DTEND;TZID=Europe/Ljubljana:20200701T120000
DTSTAMP:20260426T011450Z
UID:fmf-AFLABS-URNIK:rezervacija:5737
CATEGORIES:Reservation
COLOR:royalblue
DESCRIPTION:Predmeti: \nLetniki: \nIzvajalci: Bor Plestenjak\nProstori: 3.
 07
LOCATION:3.07
ORGANIZER:Bor Plestenjak
X-WR-TIMEZONE:Europe/Ljubljana
END:VEVENT
BEGIN:VEVENT
SUMMARY:Rezervacija
DTSTART;TZID=Europe/Ljubljana:20200703T110000
DTEND;TZID=Europe/Ljubljana:20200703T120000
DTSTAMP:20260426T011450Z
UID:fmf-AFLABS-URNIK:rezervacija:5773
CATEGORIES:Reservation
COLOR:royalblue
DESCRIPTION:Predmeti: \nLetniki: \nIzvajalci: Bor Plestenjak\nProstori: 3.
 07
LOCATION:3.07
ORGANIZER:Bor Plestenjak
X-WR-TIMEZONE:Europe/Ljubljana
END:VEVENT
BEGIN:VEVENT
SUMMARY:Rezervacija
DTSTART;TZID=Europe/Ljubljana:20200707T100000
DTEND;TZID=Europe/Ljubljana:20200707T110000
DTSTAMP:20260426T011450Z
UID:fmf-AFLABS-URNIK:rezervacija:5803
CATEGORIES:Reservation
COLOR:royalblue
DESCRIPTION:Predmeti: \nLetniki: \nIzvajalci: Bor Plestenjak\nProstori: 3.
 07
LOCATION:3.07
ORGANIZER:Bor Plestenjak
X-WR-TIMEZONE:Europe/Ljubljana
END:VEVENT
BEGIN:VEVENT
SUMMARY:Rezervacija
DTSTART;TZID=Europe/Ljubljana:20200707T110000
DTEND;TZID=Europe/Ljubljana:20200707T120000
DTSTAMP:20260426T011450Z
UID:fmf-AFLABS-URNIK:rezervacija:5811
CATEGORIES:Reservation
COLOR:royalblue
DESCRIPTION:Predmeti: \nLetniki: \nIzvajalci: Bor Plestenjak\nProstori: 3.
 07
LOCATION:3.07
ORGANIZER:Bor Plestenjak
X-WR-TIMEZONE:Europe/Ljubljana
END:VEVENT
BEGIN:VEVENT
SUMMARY:Rezervacija
DTSTART;TZID=Europe/Ljubljana:20200707T120000
DTEND;TZID=Europe/Ljubljana:20200707T130000
DTSTAMP:20260426T011450Z
UID:fmf-AFLABS-URNIK:rezervacija:5813
CATEGORIES:Reservation
COLOR:royalblue
DESCRIPTION:Predmeti: \nLetniki: \nIzvajalci: Bor Plestenjak\nProstori: 3.
 07
LOCATION:3.07
ORGANIZER:Bor Plestenjak
X-WR-TIMEZONE:Europe/Ljubljana
END:VEVENT
BEGIN:VEVENT
SUMMARY:Rezervacija
DTSTART;TZID=Europe/Ljubljana:20200708T090000
DTEND;TZID=Europe/Ljubljana:20200708T100000
DTSTAMP:20260426T011450Z
UID:fmf-AFLABS-URNIK:rezervacija:5816
CATEGORIES:Reservation
COLOR:royalblue
DESCRIPTION:Predmeti: \nLetniki: \nIzvajalci: Bor Plestenjak\nProstori: 3.
 07
LOCATION:3.07
ORGANIZER:Bor Plestenjak
X-WR-TIMEZONE:Europe/Ljubljana
END:VEVENT
BEGIN:VEVENT
SUMMARY:Rezervacija
DTSTART;TZID=Europe/Ljubljana:20200708T100000
DTEND;TZID=Europe/Ljubljana:20200708T120000
DTSTAMP:20260426T011450Z
UID:fmf-AFLABS-URNIK:rezervacija:5822
CATEGORIES:Reservation
COLOR:royalblue
DESCRIPTION:Predmeti: \nLetniki: \nIzvajalci: Bor Plestenjak\nProstori: 3.
 07
LOCATION:3.07
ORGANIZER:Bor Plestenjak
X-WR-TIMEZONE:Europe/Ljubljana
END:VEVENT
BEGIN:VEVENT
SUMMARY:Rezervacija
DTSTART;TZID=Europe/Ljubljana:20200709T080000
DTEND;TZID=Europe/Ljubljana:20200709T100000
DTSTAMP:20260426T011450Z
UID:fmf-AFLABS-URNIK:rezervacija:5826
CATEGORIES:Reservation
COLOR:royalblue
DESCRIPTION:Predmeti: \nLetniki: \nIzvajalci: Bor Plestenjak\nProstori: 3.
 07
LOCATION:3.07
ORGANIZER:Bor Plestenjak
X-WR-TIMEZONE:Europe/Ljubljana
END:VEVENT
BEGIN:VEVENT
SUMMARY:Rezervacija
DTSTART;TZID=Europe/Ljubljana:20200710T080000
DTEND;TZID=Europe/Ljubljana:20200710T100000
DTSTAMP:20260426T011450Z
UID:fmf-AFLABS-URNIK:rezervacija:5839
CATEGORIES:Reservation
COLOR:royalblue
DESCRIPTION:Predmeti: \nLetniki: \nIzvajalci: Bor Plestenjak\nProstori: 3.
 07
LOCATION:3.07
ORGANIZER:Bor Plestenjak
X-WR-TIMEZONE:Europe/Ljubljana
END:VEVENT
END:VCALENDAR
