BEGIN:VCALENDAR
VERSION:2.0
PRODID:-//AFLabs urnik izvoz - fmf//aflabs.si//SI
DTSTAMP:20260426T025315Z
NAME:UL FMF urnik
REFRESH-INTERVAL:PT1H
SOURCE:https://urnik.fmf.uni-lj.si/teacher/37?day=2020-08-24&export=1
URL:https://urnik.fmf.uni-lj.si/teacher/37?day=2020-08-24&export=1
X-PUBLISHED-TTL:PT1H
X-WR-CALNAME:UL FMF urnik
X-WR-TIMEZONE:Europe/Ljubljana
BEGIN:VTIMEZONE
TZID:Europe/Ljubljana
BEGIN:DAYLIGHT
DTSTART:20260329T020000
RDATE:20260329T020000
RDATE:20270328T020000
TZNAME:CEST
TZOFFSETFROM:+0100
TZOFFSETTO:+0200
END:DAYLIGHT
BEGIN:STANDARD
DTSTART:20261025T030000
RDATE:20261025T030000
RDATE:20271031T030000
TZNAME:CET
TZOFFSETFROM:+0200
TZOFFSETTO:+0100
END:STANDARD
END:VTIMEZONE
BEGIN:VEVENT
SUMMARY:Rezervacija
DTSTART;TZID=Europe/Ljubljana:20200817T080000
DTEND;TZID=Europe/Ljubljana:20200817T100000
DTSTAMP:20260426T025315Z
UID:fmf-AFLABS-URNIK:rezervacija:5918
CATEGORIES:Reservation
COLOR:royalblue
DESCRIPTION:Predmeti: \nLetniki: \nIzvajalci: Bor Plestenjak\nProstori: 3.
 06
LOCATION:3.06
ORGANIZER:Bor Plestenjak
X-WR-TIMEZONE:Europe/Ljubljana
END:VEVENT
BEGIN:VEVENT
SUMMARY:Rezervacija
DTSTART;TZID=Europe/Ljubljana:20200818T080000
DTEND;TZID=Europe/Ljubljana:20200818T100000
DTSTAMP:20260426T025315Z
UID:fmf-AFLABS-URNIK:rezervacija:5937
CATEGORIES:Reservation
COLOR:royalblue
DESCRIPTION:Predmeti: \nLetniki: \nIzvajalci: Bor Plestenjak\nProstori: 3.
 06
LOCATION:3.06
ORGANIZER:Bor Plestenjak
X-WR-TIMEZONE:Europe/Ljubljana
END:VEVENT
BEGIN:VEVENT
SUMMARY:Rezervacija
DTSTART;TZID=Europe/Ljubljana:20200821T090000
DTEND;TZID=Europe/Ljubljana:20200821T100000
DTSTAMP:20260426T025315Z
UID:fmf-AFLABS-URNIK:rezervacija:5995
CATEGORIES:Reservation
COLOR:royalblue
DESCRIPTION:Predmeti: \nLetniki: \nIzvajalci: Bor Plestenjak\nProstori: 3.
 06
LOCATION:3.06
ORGANIZER:Bor Plestenjak
X-WR-TIMEZONE:Europe/Ljubljana
END:VEVENT
BEGIN:VEVENT
SUMMARY:Rezervacija
DTSTART;TZID=Europe/Ljubljana:20200821T100000
DTEND;TZID=Europe/Ljubljana:20200821T110000
DTSTAMP:20260426T025315Z
UID:fmf-AFLABS-URNIK:rezervacija:5999
CATEGORIES:Reservation
COLOR:royalblue
DESCRIPTION:Predmeti: \nLetniki: \nIzvajalci: Bor Plestenjak\nProstori: 3.
 06
LOCATION:3.06
ORGANIZER:Bor Plestenjak
X-WR-TIMEZONE:Europe/Ljubljana
END:VEVENT
BEGIN:VEVENT
SUMMARY:Rezervacija
DTSTART;TZID=Europe/Ljubljana:20200821T110000
DTEND;TZID=Europe/Ljubljana:20200821T120000
DTSTAMP:20260426T025315Z
UID:fmf-AFLABS-URNIK:rezervacija:6003
CATEGORIES:Reservation
COLOR:royalblue
DESCRIPTION:Predmeti: \nLetniki: \nIzvajalci: Bor Plestenjak\nProstori: 3.
 06
LOCATION:3.06
ORGANIZER:Bor Plestenjak
X-WR-TIMEZONE:Europe/Ljubljana
END:VEVENT
BEGIN:VEVENT
SUMMARY:Rezervacija
DTSTART;TZID=Europe/Ljubljana:20200825T130000
DTEND;TZID=Europe/Ljubljana:20200825T150000
DTSTAMP:20260426T025315Z
UID:fmf-AFLABS-URNIK:rezervacija:6051
CATEGORIES:Reservation
COLOR:royalblue
DESCRIPTION:Predmeti: \nLetniki: \nIzvajalci: Bor Plestenjak\nProstori: 2.
 03
LOCATION:2.03
ORGANIZER:Bor Plestenjak
X-WR-TIMEZONE:Europe/Ljubljana
END:VEVENT
BEGIN:VEVENT
SUMMARY:Rezervacija
DTSTART;TZID=Europe/Ljubljana:20200828T090000
DTEND;TZID=Europe/Ljubljana:20200828T110000
DTSTAMP:20260426T025315Z
UID:fmf-AFLABS-URNIK:rezervacija:6102
CATEGORIES:Reservation
COLOR:royalblue
DESCRIPTION:Predmeti: \nLetniki: \nIzvajalci: Bor Plestenjak\nProstori: 3.
 10
LOCATION:3.10
ORGANIZER:Bor Plestenjak
X-WR-TIMEZONE:Europe/Ljubljana
END:VEVENT
BEGIN:VEVENT
SUMMARY:Rezervacija
DTSTART;TZID=Europe/Ljubljana:20200831T080000
DTEND;TZID=Europe/Ljubljana:20200831T090000
DTSTAMP:20260426T025315Z
UID:fmf-AFLABS-URNIK:rezervacija:6120
CATEGORIES:Reservation
COLOR:royalblue
DESCRIPTION:Predmeti: \nLetniki: \nIzvajalci: Bor Plestenjak\nProstori: 3.
 07
LOCATION:3.07
ORGANIZER:Bor Plestenjak
X-WR-TIMEZONE:Europe/Ljubljana
END:VEVENT
BEGIN:VEVENT
SUMMARY:Rezervacija
DTSTART;TZID=Europe/Ljubljana:20200901T090000
DTEND;TZID=Europe/Ljubljana:20200901T100000
DTSTAMP:20260426T025315Z
UID:fmf-AFLABS-URNIK:rezervacija:6144
CATEGORIES:Reservation
COLOR:royalblue
DESCRIPTION:Predmeti: \nLetniki: \nIzvajalci: Bor Plestenjak\nProstori: 3.
 06
LOCATION:3.06
ORGANIZER:Bor Plestenjak
X-WR-TIMEZONE:Europe/Ljubljana
END:VEVENT
BEGIN:VEVENT
SUMMARY:Rezervacija
DTSTART;TZID=Europe/Ljubljana:20200901T100000
DTEND;TZID=Europe/Ljubljana:20200901T110000
DTSTAMP:20260426T025315Z
UID:fmf-AFLABS-URNIK:rezervacija:6153
CATEGORIES:Reservation
COLOR:royalblue
DESCRIPTION:Predmeti: \nLetniki: \nIzvajalci: Bor Plestenjak\nProstori: 3.
 06
LOCATION:3.06
ORGANIZER:Bor Plestenjak
X-WR-TIMEZONE:Europe/Ljubljana
END:VEVENT
BEGIN:VEVENT
SUMMARY:Rezervacija
DTSTART;TZID=Europe/Ljubljana:20200901T110000
DTEND;TZID=Europe/Ljubljana:20200901T120000
DTSTAMP:20260426T025315Z
UID:fmf-AFLABS-URNIK:rezervacija:6165
CATEGORIES:Reservation
COLOR:royalblue
DESCRIPTION:Predmeti: \nLetniki: \nIzvajalci: Bor Plestenjak\nProstori: 3.
 06
LOCATION:3.06
ORGANIZER:Bor Plestenjak
X-WR-TIMEZONE:Europe/Ljubljana
END:VEVENT
BEGIN:VEVENT
SUMMARY:Rezervacija
DTSTART;TZID=Europe/Ljubljana:20200901T120000
DTEND;TZID=Europe/Ljubljana:20200901T130000
DTSTAMP:20260426T025315Z
UID:fmf-AFLABS-URNIK:rezervacija:6167
CATEGORIES:Reservation
COLOR:royalblue
DESCRIPTION:Predmeti: \nLetniki: \nIzvajalci: Bor Plestenjak\nProstori: 3.
 06
LOCATION:3.06
ORGANIZER:Bor Plestenjak
X-WR-TIMEZONE:Europe/Ljubljana
END:VEVENT
BEGIN:VEVENT
SUMMARY:Rezervacija
DTSTART;TZID=Europe/Ljubljana:20200903T090000
DTEND;TZID=Europe/Ljubljana:20200903T100000
DTSTAMP:20260426T025315Z
UID:fmf-AFLABS-URNIK:rezervacija:6203
CATEGORIES:Reservation
COLOR:royalblue
DESCRIPTION:Predmeti: \nLetniki: \nIzvajalci: Bor Plestenjak\nProstori: 3.
 06
LOCATION:3.06
ORGANIZER:Bor Plestenjak
X-WR-TIMEZONE:Europe/Ljubljana
END:VEVENT
BEGIN:VEVENT
SUMMARY:Rezervacija
DTSTART;TZID=Europe/Ljubljana:20200903T100000
DTEND;TZID=Europe/Ljubljana:20200903T110000
DTSTAMP:20260426T025315Z
UID:fmf-AFLABS-URNIK:rezervacija:6212
CATEGORIES:Reservation
COLOR:royalblue
DESCRIPTION:Predmeti: \nLetniki: \nIzvajalci: Bor Plestenjak\nProstori: 3.
 06
LOCATION:3.06
ORGANIZER:Bor Plestenjak
X-WR-TIMEZONE:Europe/Ljubljana
END:VEVENT
BEGIN:VEVENT
SUMMARY:Rezervacija
DTSTART;TZID=Europe/Ljubljana:20200903T120000
DTEND;TZID=Europe/Ljubljana:20200903T140000
DTSTAMP:20260426T025315Z
UID:fmf-AFLABS-URNIK:rezervacija:6228
CATEGORIES:Reservation
COLOR:royalblue
DESCRIPTION:Predmeti: \nLetniki: \nIzvajalci: Bor Plestenjak\nProstori: P.
 01
LOCATION:P.01
ORGANIZER:Bor Plestenjak
X-WR-TIMEZONE:Europe/Ljubljana
END:VEVENT
BEGIN:VEVENT
SUMMARY:Rezervacija
DTSTART;TZID=Europe/Ljubljana:20200904T090000
DTEND;TZID=Europe/Ljubljana:20200904T110000
DTSTAMP:20260426T025315Z
UID:fmf-AFLABS-URNIK:rezervacija:6242
CATEGORIES:Reservation
COLOR:royalblue
DESCRIPTION:Predmeti: \nLetniki: \nIzvajalci: Bor Plestenjak\nProstori: 3.
 07
LOCATION:3.07
ORGANIZER:Bor Plestenjak
X-WR-TIMEZONE:Europe/Ljubljana
END:VEVENT
BEGIN:VEVENT
SUMMARY:Rezervacija
DTSTART;TZID=Europe/Ljubljana:20200908T090000
DTEND;TZID=Europe/Ljubljana:20200908T110000
DTSTAMP:20260426T025315Z
UID:fmf-AFLABS-URNIK:rezervacija:6294
CATEGORIES:Reservation
COLOR:royalblue
DESCRIPTION:Predmeti: \nLetniki: \nIzvajalci: Bor Plestenjak\nProstori: 3.
 05
LOCATION:3.05
ORGANIZER:Bor Plestenjak
X-WR-TIMEZONE:Europe/Ljubljana
END:VEVENT
BEGIN:VEVENT
SUMMARY:Rezervacija
DTSTART;TZID=Europe/Ljubljana:20200910T090000
DTEND;TZID=Europe/Ljubljana:20200910T110000
DTSTAMP:20260426T025315Z
UID:fmf-AFLABS-URNIK:rezervacija:6344
CATEGORIES:Reservation
COLOR:royalblue
DESCRIPTION:Predmeti: \nLetniki: \nIzvajalci: Bor Plestenjak\nProstori: 3.
 06
LOCATION:3.06
ORGANIZER:Bor Plestenjak
X-WR-TIMEZONE:Europe/Ljubljana
END:VEVENT
BEGIN:VEVENT
SUMMARY:Rezervacija
DTSTART;TZID=Europe/Ljubljana:20200910T110000
DTEND;TZID=Europe/Ljubljana:20200910T130000
DTSTAMP:20260426T025315Z
UID:fmf-AFLABS-URNIK:rezervacija:6355
CATEGORIES:Reservation
COLOR:royalblue
DESCRIPTION:Predmeti: \nLetniki: \nIzvajalci: Bor Plestenjak\nProstori: 3.
 06
LOCATION:3.06
ORGANIZER:Bor Plestenjak
X-WR-TIMEZONE:Europe/Ljubljana
END:VEVENT
BEGIN:VEVENT
SUMMARY:Rezervacija
DTSTART;TZID=Europe/Ljubljana:20200911T090000
DTEND;TZID=Europe/Ljubljana:20200911T110000
DTSTAMP:20260426T025315Z
UID:fmf-AFLABS-URNIK:rezervacija:6377
CATEGORIES:Reservation
COLOR:royalblue
DESCRIPTION:Predmeti: \nLetniki: \nIzvajalci: Bor Plestenjak\nProstori: 3.
 06
LOCATION:3.06
ORGANIZER:Bor Plestenjak
X-WR-TIMEZONE:Europe/Ljubljana
END:VEVENT
BEGIN:VEVENT
SUMMARY:Rezervacija
DTSTART;TZID=Europe/Ljubljana:20200911T110000
DTEND;TZID=Europe/Ljubljana:20200911T130000
DTSTAMP:20260426T025315Z
UID:fmf-AFLABS-URNIK:rezervacija:6388
CATEGORIES:Reservation
COLOR:royalblue
DESCRIPTION:Predmeti: \nLetniki: \nIzvajalci: Bor Plestenjak\nProstori: 3.
 06
LOCATION:3.06
ORGANIZER:Bor Plestenjak
X-WR-TIMEZONE:Europe/Ljubljana
END:VEVENT
END:VCALENDAR
