BEGIN:VCALENDAR
VERSION:2.0
PRODID:-//AFLabs urnik izvoz - fmf//aflabs.si//SI
DTSTAMP:20260424T173156Z
NAME:UL FMF urnik
REFRESH-INTERVAL:PT1H
SOURCE:https://urnik.fmf.uni-lj.si/teacher/37?day=2021-01-25&export=1
URL:https://urnik.fmf.uni-lj.si/teacher/37?day=2021-01-25&export=1
X-PUBLISHED-TTL:PT1H
X-WR-CALNAME:UL FMF urnik
X-WR-TIMEZONE:Europe/Ljubljana
BEGIN:VTIMEZONE
TZID:Europe/Ljubljana
BEGIN:DAYLIGHT
DTSTART:20260329T020000
RDATE:20260329T020000
RDATE:20270328T020000
TZNAME:CEST
TZOFFSETFROM:+0100
TZOFFSETTO:+0200
END:DAYLIGHT
BEGIN:STANDARD
DTSTART:20261025T030000
RDATE:20261025T030000
RDATE:20271031T030000
TZNAME:CET
TZOFFSETFROM:+0200
TZOFFSETTO:+0100
END:STANDARD
END:VTIMEZONE
BEGIN:VEVENT
SUMMARY:Uvod v numerične metode (MAT-3\, PM-3)\, Predavanja (P)
DTSTART;TZID=Europe/Ljubljana:20201221T120000
DTEND;TZID=Europe/Ljubljana:20201221T130000
DTSTAMP:20260424T173156Z
UID:fmf-AFLABS-URNIK:premaknjeno-srecanje:116610
ATTENDEE:3. letnik (M)
ATTENDEE:3. letnik (PM)
CATEGORIES:Entry,Standard
COLOR:darkgreen
DESCRIPTION:Predmet: Uvod v numerične metode (MAT-3\, PM-3)\, Predavanja 
 (P)\nLetniki: 3. letnik (M)\, 3. letnik (PM)\nIzvajalci: Bor Plestenjak\nP
 rostor: 2.04
LOCATION:2.04
ORGANIZER:Bor Plestenjak
RELATED-TO:fmf-AFLABS-URNIK:srecanje:5265
X-WR-TIMEZONE:Europe/Ljubljana
END:VEVENT
BEGIN:VEVENT
SUMMARY:Uvod v numerične metode (MAT-3\, PM-3)\, Predavanja (P)
DTSTART;TZID=Europe/Ljubljana:20201228T120000
DTEND;TZID=Europe/Ljubljana:20201228T130000
DTSTAMP:20260424T173156Z
UID:fmf-AFLABS-URNIK:premaknjeno-srecanje:116611
ATTENDEE:3. letnik (M)
ATTENDEE:3. letnik (PM)
CATEGORIES:Entry,Standard
COLOR:darkgreen
DESCRIPTION:Predmet: Uvod v numerične metode (MAT-3\, PM-3)\, Predavanja 
 (P)\nLetniki: 3. letnik (M)\, 3. letnik (PM)\nIzvajalci: Bor Plestenjak\nP
 rostor: 2.04
LOCATION:2.04
ORGANIZER:Bor Plestenjak
RELATED-TO:fmf-AFLABS-URNIK:srecanje:5265
X-WR-TIMEZONE:Europe/Ljubljana
END:VEVENT
BEGIN:VEVENT
SUMMARY:Uvod v numerične metode (MAT-3\, PM-3)\, Predavanja (P)
DTSTART;TZID=Europe/Ljubljana:20210104T120000
DTEND;TZID=Europe/Ljubljana:20210104T130000
DTSTAMP:20260424T173156Z
UID:fmf-AFLABS-URNIK:premaknjeno-srecanje:116612
ATTENDEE:3. letnik (M)
ATTENDEE:3. letnik (PM)
CATEGORIES:Entry,Standard
COLOR:darkgreen
DESCRIPTION:Predmet: Uvod v numerične metode (MAT-3\, PM-3)\, Predavanja 
 (P)\nLetniki: 3. letnik (M)\, 3. letnik (PM)\nIzvajalci: Bor Plestenjak\nP
 rostor: 2.04
LOCATION:2.04
ORGANIZER:Bor Plestenjak
RELATED-TO:fmf-AFLABS-URNIK:srecanje:5265
X-WR-TIMEZONE:Europe/Ljubljana
END:VEVENT
BEGIN:VEVENT
SUMMARY:Uvod v numerične metode (MAT-3\, PM-3)\, Predavanja (P)
DTSTART;TZID=Europe/Ljubljana:20210111T120000
DTEND;TZID=Europe/Ljubljana:20210111T130000
DTSTAMP:20260424T173156Z
UID:fmf-AFLABS-URNIK:premaknjeno-srecanje:116613
ATTENDEE:3. letnik (M)
ATTENDEE:3. letnik (PM)
CATEGORIES:Entry,Standard
COLOR:darkgreen
DESCRIPTION:Predmet: Uvod v numerične metode (MAT-3\, PM-3)\, Predavanja 
 (P)\nLetniki: 3. letnik (M)\, 3. letnik (PM)\nIzvajalci: Bor Plestenjak\nP
 rostor: 2.04
LOCATION:2.04
ORGANIZER:Bor Plestenjak
RELATED-TO:fmf-AFLABS-URNIK:srecanje:5265
X-WR-TIMEZONE:Europe/Ljubljana
END:VEVENT
BEGIN:VEVENT
SUMMARY:NA SEM (MAT-D)\, Seminar (S)
DTSTART;TZID=Europe/Ljubljana:20201223T100000
DTEND;TZID=Europe/Ljubljana:20201223T120000
DTSTAMP:20260424T173156Z
UID:fmf-AFLABS-URNIK:premaknjeno-srecanje:75295
ATTENDEE:doktorski študij (M)
CATEGORIES:Entry,Standard
COLOR:darkgreen
DESCRIPTION:Predmet: NA SEM (MAT-D)\, Seminar (S)\nLetniki: doktorski štu
 dij (M)\nIzvajalci: Bor Plestenjak\nProstor: 3.06
LOCATION:3.06
ORGANIZER:Bor Plestenjak
RELATED-TO:fmf-AFLABS-URNIK:srecanje:5030
X-WR-TIMEZONE:Europe/Ljubljana
END:VEVENT
BEGIN:VEVENT
SUMMARY:NA SEM (MAT-D)\, Seminar (S)
DTSTART;TZID=Europe/Ljubljana:20201230T100000
DTEND;TZID=Europe/Ljubljana:20201230T120000
DTSTAMP:20260424T173156Z
UID:fmf-AFLABS-URNIK:premaknjeno-srecanje:75296
ATTENDEE:doktorski študij (M)
CATEGORIES:Entry,Standard
COLOR:darkgreen
DESCRIPTION:Predmet: NA SEM (MAT-D)\, Seminar (S)\nLetniki: doktorski štu
 dij (M)\nIzvajalci: Bor Plestenjak\nProstor: 3.06
LOCATION:3.06
ORGANIZER:Bor Plestenjak
RELATED-TO:fmf-AFLABS-URNIK:srecanje:5030
X-WR-TIMEZONE:Europe/Ljubljana
END:VEVENT
BEGIN:VEVENT
SUMMARY:NA SEM (MAT-D)\, Seminar (S)
DTSTART;TZID=Europe/Ljubljana:20210106T100000
DTEND;TZID=Europe/Ljubljana:20210106T120000
DTSTAMP:20260424T173156Z
UID:fmf-AFLABS-URNIK:premaknjeno-srecanje:75297
ATTENDEE:doktorski študij (M)
CATEGORIES:Entry,Standard
COLOR:darkgreen
DESCRIPTION:Predmet: NA SEM (MAT-D)\, Seminar (S)\nLetniki: doktorski štu
 dij (M)\nIzvajalci: Bor Plestenjak\nProstor: 3.06
LOCATION:3.06
ORGANIZER:Bor Plestenjak
RELATED-TO:fmf-AFLABS-URNIK:srecanje:5030
X-WR-TIMEZONE:Europe/Ljubljana
END:VEVENT
BEGIN:VEVENT
SUMMARY:NA SEM (MAT-D)\, Seminar (S)
DTSTART;TZID=Europe/Ljubljana:20210113T100000
DTEND;TZID=Europe/Ljubljana:20210113T120000
DTSTAMP:20260424T173156Z
UID:fmf-AFLABS-URNIK:premaknjeno-srecanje:75298
ATTENDEE:doktorski študij (M)
CATEGORIES:Entry,Standard
COLOR:darkgreen
DESCRIPTION:Predmet: NA SEM (MAT-D)\, Seminar (S)\nLetniki: doktorski štu
 dij (M)\nIzvajalci: Bor Plestenjak\nProstor: 3.06
LOCATION:3.06
ORGANIZER:Bor Plestenjak
RELATED-TO:fmf-AFLABS-URNIK:srecanje:5030
X-WR-TIMEZONE:Europe/Ljubljana
END:VEVENT
BEGIN:VEVENT
SUMMARY:Numerične metode 1 (FM-2)\, Predavanja (P)
DTSTART;TZID=Europe/Ljubljana:20201223T080000
DTEND;TZID=Europe/Ljubljana:20201223T100000
DTSTAMP:20260424T173156Z
UID:fmf-AFLABS-URNIK:premaknjeno-srecanje:77655
ATTENDEE:2. letnik (FM)
CATEGORIES:Entry,Standard
COLOR:darkgreen
DESCRIPTION:Predmet: Numerične metode 1 (FM-2)\, Predavanja (P)\nLetniki:
  2. letnik (FM)\nIzvajalci: Bor Plestenjak\nProstor: 3.04
LOCATION:3.04
ORGANIZER:Bor Plestenjak
RELATED-TO:fmf-AFLABS-URNIK:srecanje:5045
X-WR-TIMEZONE:Europe/Ljubljana
END:VEVENT
BEGIN:VEVENT
SUMMARY:Numerične metode 1 (FM-2)\, Predavanja (P)
DTSTART;TZID=Europe/Ljubljana:20201230T080000
DTEND;TZID=Europe/Ljubljana:20201230T100000
DTSTAMP:20260424T173156Z
UID:fmf-AFLABS-URNIK:premaknjeno-srecanje:77656
ATTENDEE:2. letnik (FM)
CATEGORIES:Entry,Standard
COLOR:darkgreen
DESCRIPTION:Predmet: Numerične metode 1 (FM-2)\, Predavanja (P)\nLetniki:
  2. letnik (FM)\nIzvajalci: Bor Plestenjak\nProstor: 3.04
LOCATION:3.04
ORGANIZER:Bor Plestenjak
RELATED-TO:fmf-AFLABS-URNIK:srecanje:5045
X-WR-TIMEZONE:Europe/Ljubljana
END:VEVENT
BEGIN:VEVENT
SUMMARY:Numerične metode 1 (FM-2)\, Predavanja (P)
DTSTART;TZID=Europe/Ljubljana:20210106T080000
DTEND;TZID=Europe/Ljubljana:20210106T100000
DTSTAMP:20260424T173156Z
UID:fmf-AFLABS-URNIK:premaknjeno-srecanje:77657
ATTENDEE:2. letnik (FM)
CATEGORIES:Entry,Standard
COLOR:darkgreen
DESCRIPTION:Predmet: Numerične metode 1 (FM-2)\, Predavanja (P)\nLetniki:
  2. letnik (FM)\nIzvajalci: Bor Plestenjak\nProstor: 3.04
LOCATION:3.04
ORGANIZER:Bor Plestenjak
RELATED-TO:fmf-AFLABS-URNIK:srecanje:5045
X-WR-TIMEZONE:Europe/Ljubljana
END:VEVENT
BEGIN:VEVENT
SUMMARY:Numerične metode 1 (FM-2)\, Predavanja (P)
DTSTART;TZID=Europe/Ljubljana:20210113T080000
DTEND;TZID=Europe/Ljubljana:20210113T100000
DTSTAMP:20260424T173156Z
UID:fmf-AFLABS-URNIK:premaknjeno-srecanje:77658
ATTENDEE:2. letnik (FM)
CATEGORIES:Entry,Standard
COLOR:darkgreen
DESCRIPTION:Predmet: Numerične metode 1 (FM-2)\, Predavanja (P)\nLetniki:
  2. letnik (FM)\nIzvajalci: Bor Plestenjak\nProstor: 3.04
LOCATION:3.04
ORGANIZER:Bor Plestenjak
RELATED-TO:fmf-AFLABS-URNIK:srecanje:5045
X-WR-TIMEZONE:Europe/Ljubljana
END:VEVENT
BEGIN:VEVENT
SUMMARY:Uvod v numerične metode (MAT-3\, PM-3)\, Predavanja (P)
DTSTART;TZID=Europe/Ljubljana:20201225T080000
DTEND;TZID=Europe/Ljubljana:20201225T100000
DTSTAMP:20260424T173156Z
UID:fmf-AFLABS-URNIK:premaknjeno-srecanje:116753
ATTENDEE:3. letnik (M)
ATTENDEE:3. letnik (PM)
CATEGORIES:Entry,Standard
COLOR:darkgreen
DESCRIPTION:Predmet: Uvod v numerične metode (MAT-3\, PM-3)\, Predavanja 
 (P)\nLetniki: 3. letnik (M)\, 3. letnik (PM)\nIzvajalci: Bor Plestenjak\nP
 rostor: 2.02
LOCATION:2.02
ORGANIZER:Bor Plestenjak
RELATED-TO:fmf-AFLABS-URNIK:srecanje:5264
X-WR-TIMEZONE:Europe/Ljubljana
END:VEVENT
BEGIN:VEVENT
SUMMARY:Uvod v numerične metode (MAT-3\, PM-3)\, Predavanja (P)
DTSTART;TZID=Europe/Ljubljana:20210101T080000
DTEND;TZID=Europe/Ljubljana:20210101T100000
DTSTAMP:20260424T173156Z
UID:fmf-AFLABS-URNIK:premaknjeno-srecanje:116754
ATTENDEE:3. letnik (M)
ATTENDEE:3. letnik (PM)
CATEGORIES:Entry,Standard
COLOR:darkgreen
DESCRIPTION:Predmet: Uvod v numerične metode (MAT-3\, PM-3)\, Predavanja 
 (P)\nLetniki: 3. letnik (M)\, 3. letnik (PM)\nIzvajalci: Bor Plestenjak\nP
 rostor: 2.02
LOCATION:2.02
ORGANIZER:Bor Plestenjak
RELATED-TO:fmf-AFLABS-URNIK:srecanje:5264
X-WR-TIMEZONE:Europe/Ljubljana
END:VEVENT
BEGIN:VEVENT
SUMMARY:Uvod v numerične metode (MAT-3\, PM-3)\, Predavanja (P)
DTSTART;TZID=Europe/Ljubljana:20210108T080000
DTEND;TZID=Europe/Ljubljana:20210108T100000
DTSTAMP:20260424T173156Z
UID:fmf-AFLABS-URNIK:premaknjeno-srecanje:116755
ATTENDEE:3. letnik (M)
ATTENDEE:3. letnik (PM)
CATEGORIES:Entry,Standard
COLOR:darkgreen
DESCRIPTION:Predmet: Uvod v numerične metode (MAT-3\, PM-3)\, Predavanja 
 (P)\nLetniki: 3. letnik (M)\, 3. letnik (PM)\nIzvajalci: Bor Plestenjak\nP
 rostor: 2.02
LOCATION:2.02
ORGANIZER:Bor Plestenjak
RELATED-TO:fmf-AFLABS-URNIK:srecanje:5264
X-WR-TIMEZONE:Europe/Ljubljana
END:VEVENT
BEGIN:VEVENT
SUMMARY:Uvod v numerične metode (MAT-3\, PM-3)\, Predavanja (P)
DTSTART;TZID=Europe/Ljubljana:20210115T080000
DTEND;TZID=Europe/Ljubljana:20210115T100000
DTSTAMP:20260424T173156Z
UID:fmf-AFLABS-URNIK:premaknjeno-srecanje:116756
ATTENDEE:3. letnik (M)
ATTENDEE:3. letnik (PM)
CATEGORIES:Entry,Standard
COLOR:darkgreen
DESCRIPTION:Predmet: Uvod v numerične metode (MAT-3\, PM-3)\, Predavanja 
 (P)\nLetniki: 3. letnik (M)\, 3. letnik (PM)\nIzvajalci: Bor Plestenjak\nP
 rostor: 2.02
LOCATION:2.02
ORGANIZER:Bor Plestenjak
RELATED-TO:fmf-AFLABS-URNIK:srecanje:5264
X-WR-TIMEZONE:Europe/Ljubljana
END:VEVENT
BEGIN:VEVENT
SUMMARY:Iterativne numerične metode v linearni algebri / Izbrana poglavja
  iz numerične matematike (FM-M\, IŠRM-M\, MAT-M\, PM-5)\, Predavanja (P)
DTSTART;TZID=Europe/Ljubljana:20210216T120000
DTEND;TZID=Europe/Ljubljana:20210216T150000
DTSTAMP:20260424T173156Z
UID:fmf-AFLABS-URNIK:premaknjeno-srecanje:42410
ATTENDEE:5. letnik (PM)
ATTENDEE:magistrski študij (FM)
ATTENDEE:magistrski študij (IŠRM)
ATTENDEE:magistrski študij (M)
CATEGORIES:Entry,Standard
COLOR:darkgreen
DESCRIPTION:Predmet: Iterativne numerične metode v linearni algebri / Izb
 rana poglavja iz numerične matematike (FM-M\, IŠRM-M\, MAT-M\, PM-5)\, P
 redavanja (P)\nLetniki: magistrski študij (FM)\, magistrski študij (IŠR
 M)\, magistrski študij (M)\, 5. letnik (PM)\nIzvajalci: Bor Plestenjak\nP
 rostor: 2.02
LOCATION:2.02
ORGANIZER:Bor Plestenjak
RELATED-TO:fmf-AFLABS-URNIK:srecanje:5729
X-WR-TIMEZONE:Europe/Ljubljana
END:VEVENT
BEGIN:VEVENT
SUMMARY:Iterativne numerične metode v linearni algebri / Izbrana poglavja
  iz numerične matematike (FM-M\, IŠRM-M\, MAT-M\, PM-5)\, Predavanja (P)
DTSTART;TZID=Europe/Ljubljana:20210223T120000
DTEND;TZID=Europe/Ljubljana:20210223T150000
DTSTAMP:20260424T173156Z
UID:fmf-AFLABS-URNIK:premaknjeno-srecanje:42411
ATTENDEE:5. letnik (PM)
ATTENDEE:magistrski študij (FM)
ATTENDEE:magistrski študij (IŠRM)
ATTENDEE:magistrski študij (M)
CATEGORIES:Entry,Standard
COLOR:darkgreen
DESCRIPTION:Predmet: Iterativne numerične metode v linearni algebri / Izb
 rana poglavja iz numerične matematike (FM-M\, IŠRM-M\, MAT-M\, PM-5)\, P
 redavanja (P)\nLetniki: magistrski študij (FM)\, magistrski študij (IŠR
 M)\, magistrski študij (M)\, 5. letnik (PM)\nIzvajalci: Bor Plestenjak\nP
 rostor: 2.02
LOCATION:2.02
ORGANIZER:Bor Plestenjak
RELATED-TO:fmf-AFLABS-URNIK:srecanje:5729
X-WR-TIMEZONE:Europe/Ljubljana
END:VEVENT
BEGIN:VEVENT
SUMMARY:Numerična linearna algebra (MAT-3\, PM-4)\, Predavanja (P)
DTSTART;TZID=Europe/Ljubljana:20210217T080000
DTEND;TZID=Europe/Ljubljana:20210217T100000
DTSTAMP:20260424T173156Z
UID:fmf-AFLABS-URNIK:premaknjeno-srecanje:76565
ATTENDEE:3. letnik (M)
ATTENDEE:4. letnik (PM)
CATEGORIES:Entry,Standard
COLOR:darkgreen
DESCRIPTION:Predmet: Numerična linearna algebra (MAT-3\, PM-4)\, Predavan
 ja (P)\nLetniki: 3. letnik (M)\, 4. letnik (PM)\nIzvajalci: Bor Plestenjak
 \nProstor: 2.02
LOCATION:2.02
ORGANIZER:Bor Plestenjak
RELATED-TO:fmf-AFLABS-URNIK:srecanje:5774
X-WR-TIMEZONE:Europe/Ljubljana
END:VEVENT
BEGIN:VEVENT
SUMMARY:Numerična linearna algebra (MAT-3\, PM-4)\, Predavanja (P)
DTSTART;TZID=Europe/Ljubljana:20210224T080000
DTEND;TZID=Europe/Ljubljana:20210224T100000
DTSTAMP:20260424T173156Z
UID:fmf-AFLABS-URNIK:premaknjeno-srecanje:76566
ATTENDEE:3. letnik (M)
ATTENDEE:4. letnik (PM)
CATEGORIES:Entry,Standard
COLOR:darkgreen
DESCRIPTION:Predmet: Numerična linearna algebra (MAT-3\, PM-4)\, Predavan
 ja (P)\nLetniki: 3. letnik (M)\, 4. letnik (PM)\nIzvajalci: Bor Plestenjak
 \nProstor: 2.02
LOCATION:2.02
ORGANIZER:Bor Plestenjak
RELATED-TO:fmf-AFLABS-URNIK:srecanje:5774
X-WR-TIMEZONE:Europe/Ljubljana
END:VEVENT
BEGIN:VEVENT
SUMMARY:Seminar za numerično analizo (MAT-D)\, Seminar (S)
DTSTART;TZID=Europe/Ljubljana:20210217T100000
DTEND;TZID=Europe/Ljubljana:20210217T120000
DTSTAMP:20260424T173156Z
UID:fmf-AFLABS-URNIK:premaknjeno-srecanje:103135
ATTENDEE:doktorski študij (M)
CATEGORIES:Entry,Standard
COLOR:darkgreen
DESCRIPTION:Predmet: Seminar za numerično analizo (MAT-D)\, Seminar (S)\n
 Letniki: doktorski študij (M)\nIzvajalci: Bor Plestenjak\nProstor: 3.06
LOCATION:3.06
ORGANIZER:Bor Plestenjak
RELATED-TO:fmf-AFLABS-URNIK:srecanje:5904
X-WR-TIMEZONE:Europe/Ljubljana
END:VEVENT
BEGIN:VEVENT
SUMMARY:Seminar za numerično analizo (MAT-D)\, Seminar (S)
DTSTART;TZID=Europe/Ljubljana:20210224T100000
DTEND;TZID=Europe/Ljubljana:20210224T120000
DTSTAMP:20260424T173156Z
UID:fmf-AFLABS-URNIK:premaknjeno-srecanje:103136
ATTENDEE:doktorski študij (M)
CATEGORIES:Entry,Standard
COLOR:darkgreen
DESCRIPTION:Predmet: Seminar za numerično analizo (MAT-D)\, Seminar (S)\n
 Letniki: doktorski študij (M)\nIzvajalci: Bor Plestenjak\nProstor: 3.06
LOCATION:3.06
ORGANIZER:Bor Plestenjak
RELATED-TO:fmf-AFLABS-URNIK:srecanje:5904
X-WR-TIMEZONE:Europe/Ljubljana
END:VEVENT
END:VCALENDAR
