BEGIN:VCALENDAR
VERSION:2.0
PRODID:-//AFLabs urnik izvoz - fmf//aflabs.si//SI
DTSTAMP:20260425T114047Z
NAME:UL FMF urnik
REFRESH-INTERVAL:PT1H
SOURCE:https://urnik.fmf.uni-lj.si/teacher/380?day=2019-12-30&export=1
URL:https://urnik.fmf.uni-lj.si/teacher/380?day=2019-12-30&export=1
X-PUBLISHED-TTL:PT1H
X-WR-CALNAME:UL FMF urnik
X-WR-TIMEZONE:Europe/Ljubljana
BEGIN:VTIMEZONE
TZID:Europe/Ljubljana
BEGIN:DAYLIGHT
DTSTART:20260329T020000
RDATE:20260329T020000
RDATE:20270328T020000
TZNAME:CEST
TZOFFSETFROM:+0100
TZOFFSETTO:+0200
END:DAYLIGHT
BEGIN:STANDARD
DTSTART:20261025T030000
RDATE:20261025T030000
RDATE:20271031T030000
TZNAME:CET
TZOFFSETFROM:+0200
TZOFFSETTO:+0100
END:STANDARD
END:VTIMEZONE
BEGIN:VEVENT
SUMMARY:Izbrana poglavja iz računalniške matematike  / Verjetnostne meto
 de v računalništvu (FM-M\, IŠRM-M\, MAT-M\, PM-5)\, Vaje (V)
DTSTART;TZID=Europe/Ljubljana:20191002T160000
DTEND;TZID=Europe/Ljubljana:20191002T180000
DTSTAMP:20260425T114047Z
UID:fmf-AFLABS-URNIK:premaknjeno-srecanje:44297
ATTENDEE:5. letnik (PM)
ATTENDEE:magistrski študij (FM)
ATTENDEE:magistrski študij (IŠRM)
ATTENDEE:magistrski študij (M)
CATEGORIES:Entry,Standard
COLOR:darkgreen
DESCRIPTION:Predmet: Izbrana poglavja iz računalniške matematike  / Verj
 etnostne metode v računalništvu (FM-M\, IŠRM-M\, MAT-M\, PM-5)\, Vaje (
 V)\nLetniki: magistrski študij (FM)\, magistrski študij (IŠRM)\, magist
 rski študij (M)\, 5. letnik (PM)\nIzvajalci: Tilen Marc\nProstor: 3.04
LOCATION:3.04
ORGANIZER:Tilen Marc
RELATED-TO:fmf-AFLABS-URNIK:srecanje:3511
X-WR-TIMEZONE:Europe/Ljubljana
END:VEVENT
BEGIN:VEVENT
SUMMARY:Izbrana poglavja iz računalniške matematike  / Verjetnostne meto
 de v računalništvu (FM-M\, IŠRM-M\, MAT-M\, PM-5)\, Vaje (V)
DTSTART;TZID=Europe/Ljubljana:20191009T160000
DTEND;TZID=Europe/Ljubljana:20191009T180000
DTSTAMP:20260425T114047Z
UID:fmf-AFLABS-URNIK:premaknjeno-srecanje:44298
ATTENDEE:5. letnik (PM)
ATTENDEE:magistrski študij (FM)
ATTENDEE:magistrski študij (IŠRM)
ATTENDEE:magistrski študij (M)
CATEGORIES:Entry,Standard
COLOR:darkgreen
DESCRIPTION:Predmet: Izbrana poglavja iz računalniške matematike  / Verj
 etnostne metode v računalništvu (FM-M\, IŠRM-M\, MAT-M\, PM-5)\, Vaje (
 V)\nLetniki: magistrski študij (FM)\, magistrski študij (IŠRM)\, magist
 rski študij (M)\, 5. letnik (PM)\nIzvajalci: Tilen Marc\nProstor: 3.04
LOCATION:3.04
ORGANIZER:Tilen Marc
RELATED-TO:fmf-AFLABS-URNIK:srecanje:3511
X-WR-TIMEZONE:Europe/Ljubljana
END:VEVENT
BEGIN:VEVENT
SUMMARY:Izbrana poglavja iz računalniške matematike  / Verjetnostne meto
 de v računalništvu (FM-M\, IŠRM-M\, MAT-M\, PM-5)\, Vaje (V)
DTSTART;TZID=Europe/Ljubljana:20191016T160000
DTEND;TZID=Europe/Ljubljana:20191016T180000
DTSTAMP:20260425T114047Z
UID:fmf-AFLABS-URNIK:premaknjeno-srecanje:44299
ATTENDEE:5. letnik (PM)
ATTENDEE:magistrski študij (FM)
ATTENDEE:magistrski študij (IŠRM)
ATTENDEE:magistrski študij (M)
CATEGORIES:Entry,Standard
COLOR:darkgreen
DESCRIPTION:Predmet: Izbrana poglavja iz računalniške matematike  / Verj
 etnostne metode v računalništvu (FM-M\, IŠRM-M\, MAT-M\, PM-5)\, Vaje (
 V)\nLetniki: magistrski študij (FM)\, magistrski študij (IŠRM)\, magist
 rski študij (M)\, 5. letnik (PM)\nIzvajalci: Tilen Marc\nProstor: 3.04
LOCATION:3.04
ORGANIZER:Tilen Marc
RELATED-TO:fmf-AFLABS-URNIK:srecanje:3511
X-WR-TIMEZONE:Europe/Ljubljana
END:VEVENT
BEGIN:VEVENT
SUMMARY:Izbrana poglavja iz računalniške matematike  / Verjetnostne meto
 de v računalništvu (FM-M\, IŠRM-M\, MAT-M\, PM-5)\, Vaje (V)
DTSTART;TZID=Europe/Ljubljana:20191023T160000
DTEND;TZID=Europe/Ljubljana:20191023T180000
DTSTAMP:20260425T114047Z
UID:fmf-AFLABS-URNIK:premaknjeno-srecanje:44300
ATTENDEE:5. letnik (PM)
ATTENDEE:magistrski študij (FM)
ATTENDEE:magistrski študij (IŠRM)
ATTENDEE:magistrski študij (M)
CATEGORIES:Entry,Standard
COLOR:darkgreen
DESCRIPTION:Predmet: Izbrana poglavja iz računalniške matematike  / Verj
 etnostne metode v računalništvu (FM-M\, IŠRM-M\, MAT-M\, PM-5)\, Vaje (
 V)\nLetniki: magistrski študij (FM)\, magistrski študij (IŠRM)\, magist
 rski študij (M)\, 5. letnik (PM)\nIzvajalci: Tilen Marc\nProstor: 3.04
LOCATION:3.04
ORGANIZER:Tilen Marc
RELATED-TO:fmf-AFLABS-URNIK:srecanje:3511
X-WR-TIMEZONE:Europe/Ljubljana
END:VEVENT
BEGIN:VEVENT
SUMMARY:Izbrana poglavja iz računalniške matematike  / Verjetnostne meto
 de v računalništvu (FM-M\, IŠRM-M\, MAT-M\, PM-5)\, Vaje (V)
DTSTART;TZID=Europe/Ljubljana:20191030T160000
DTEND;TZID=Europe/Ljubljana:20191030T180000
DTSTAMP:20260425T114047Z
UID:fmf-AFLABS-URNIK:premaknjeno-srecanje:44301
ATTENDEE:5. letnik (PM)
ATTENDEE:magistrski študij (FM)
ATTENDEE:magistrski študij (IŠRM)
ATTENDEE:magistrski študij (M)
CATEGORIES:Entry,Standard
COLOR:darkgreen
DESCRIPTION:Predmet: Izbrana poglavja iz računalniške matematike  / Verj
 etnostne metode v računalništvu (FM-M\, IŠRM-M\, MAT-M\, PM-5)\, Vaje (
 V)\nLetniki: magistrski študij (FM)\, magistrski študij (IŠRM)\, magist
 rski študij (M)\, 5. letnik (PM)\nIzvajalci: Tilen Marc\nProstor: 3.04
LOCATION:3.04
ORGANIZER:Tilen Marc
RELATED-TO:fmf-AFLABS-URNIK:srecanje:3511
X-WR-TIMEZONE:Europe/Ljubljana
END:VEVENT
BEGIN:VEVENT
SUMMARY:Izbrana poglavja iz računalniške matematike  / Verjetnostne meto
 de v računalništvu (FM-M\, IŠRM-M\, MAT-M\, PM-5)\, Vaje (V)
DTSTART;TZID=Europe/Ljubljana:20191106T160000
DTEND;TZID=Europe/Ljubljana:20191106T180000
DTSTAMP:20260425T114047Z
UID:fmf-AFLABS-URNIK:premaknjeno-srecanje:44302
ATTENDEE:5. letnik (PM)
ATTENDEE:magistrski študij (FM)
ATTENDEE:magistrski študij (IŠRM)
ATTENDEE:magistrski študij (M)
CATEGORIES:Entry,Standard
COLOR:darkgreen
DESCRIPTION:Predmet: Izbrana poglavja iz računalniške matematike  / Verj
 etnostne metode v računalništvu (FM-M\, IŠRM-M\, MAT-M\, PM-5)\, Vaje (
 V)\nLetniki: magistrski študij (FM)\, magistrski študij (IŠRM)\, magist
 rski študij (M)\, 5. letnik (PM)\nIzvajalci: Tilen Marc\nProstor: 3.04
LOCATION:3.04
ORGANIZER:Tilen Marc
RELATED-TO:fmf-AFLABS-URNIK:srecanje:3511
X-WR-TIMEZONE:Europe/Ljubljana
END:VEVENT
BEGIN:VEVENT
SUMMARY:Izbrana poglavja iz računalniške matematike  / Verjetnostne meto
 de v računalništvu (FM-M\, IŠRM-M\, MAT-M\, PM-5)\, Vaje (V)
DTSTART;TZID=Europe/Ljubljana:20191113T160000
DTEND;TZID=Europe/Ljubljana:20191113T180000
DTSTAMP:20260425T114047Z
UID:fmf-AFLABS-URNIK:premaknjeno-srecanje:44303
ATTENDEE:5. letnik (PM)
ATTENDEE:magistrski študij (FM)
ATTENDEE:magistrski študij (IŠRM)
ATTENDEE:magistrski študij (M)
CATEGORIES:Entry,Standard
COLOR:darkgreen
DESCRIPTION:Predmet: Izbrana poglavja iz računalniške matematike  / Verj
 etnostne metode v računalništvu (FM-M\, IŠRM-M\, MAT-M\, PM-5)\, Vaje (
 V)\nLetniki: magistrski študij (FM)\, magistrski študij (IŠRM)\, magist
 rski študij (M)\, 5. letnik (PM)\nIzvajalci: Tilen Marc\nProstor: 3.04
LOCATION:3.04
ORGANIZER:Tilen Marc
RELATED-TO:fmf-AFLABS-URNIK:srecanje:3511
X-WR-TIMEZONE:Europe/Ljubljana
END:VEVENT
BEGIN:VEVENT
SUMMARY:Izbrana poglavja iz računalniške matematike  / Verjetnostne meto
 de v računalništvu (FM-M\, IŠRM-M\, MAT-M\, PM-5)\, Vaje (V)
DTSTART;TZID=Europe/Ljubljana:20191120T160000
DTEND;TZID=Europe/Ljubljana:20191120T180000
DTSTAMP:20260425T114047Z
UID:fmf-AFLABS-URNIK:premaknjeno-srecanje:44304
ATTENDEE:5. letnik (PM)
ATTENDEE:magistrski študij (FM)
ATTENDEE:magistrski študij (IŠRM)
ATTENDEE:magistrski študij (M)
CATEGORIES:Entry,Standard
COLOR:darkgreen
DESCRIPTION:Predmet: Izbrana poglavja iz računalniške matematike  / Verj
 etnostne metode v računalništvu (FM-M\, IŠRM-M\, MAT-M\, PM-5)\, Vaje (
 V)\nLetniki: magistrski študij (FM)\, magistrski študij (IŠRM)\, magist
 rski študij (M)\, 5. letnik (PM)\nIzvajalci: Tilen Marc\nProstor: 3.04
LOCATION:3.04
ORGANIZER:Tilen Marc
RELATED-TO:fmf-AFLABS-URNIK:srecanje:3511
X-WR-TIMEZONE:Europe/Ljubljana
END:VEVENT
BEGIN:VEVENT
SUMMARY:Izbrana poglavja iz računalniške matematike  / Verjetnostne meto
 de v računalništvu (FM-M\, IŠRM-M\, MAT-M\, PM-5)\, Vaje (V)
DTSTART;TZID=Europe/Ljubljana:20191127T160000
DTEND;TZID=Europe/Ljubljana:20191127T180000
DTSTAMP:20260425T114047Z
UID:fmf-AFLABS-URNIK:premaknjeno-srecanje:44305
ATTENDEE:5. letnik (PM)
ATTENDEE:magistrski študij (FM)
ATTENDEE:magistrski študij (IŠRM)
ATTENDEE:magistrski študij (M)
CATEGORIES:Entry,Standard
COLOR:darkgreen
DESCRIPTION:Predmet: Izbrana poglavja iz računalniške matematike  / Verj
 etnostne metode v računalništvu (FM-M\, IŠRM-M\, MAT-M\, PM-5)\, Vaje (
 V)\nLetniki: magistrski študij (FM)\, magistrski študij (IŠRM)\, magist
 rski študij (M)\, 5. letnik (PM)\nIzvajalci: Tilen Marc\nProstor: 3.04
LOCATION:3.04
ORGANIZER:Tilen Marc
RELATED-TO:fmf-AFLABS-URNIK:srecanje:3511
X-WR-TIMEZONE:Europe/Ljubljana
END:VEVENT
BEGIN:VEVENT
SUMMARY:Izbrana poglavja iz računalniške matematike  / Verjetnostne meto
 de v računalništvu (FM-M\, IŠRM-M\, MAT-M\, PM-5)\, Vaje (V)
DTSTART;TZID=Europe/Ljubljana:20191204T160000
DTEND;TZID=Europe/Ljubljana:20191204T180000
DTSTAMP:20260425T114047Z
UID:fmf-AFLABS-URNIK:premaknjeno-srecanje:44306
ATTENDEE:5. letnik (PM)
ATTENDEE:magistrski študij (FM)
ATTENDEE:magistrski študij (IŠRM)
ATTENDEE:magistrski študij (M)
CATEGORIES:Entry,Standard
COLOR:darkgreen
DESCRIPTION:Predmet: Izbrana poglavja iz računalniške matematike  / Verj
 etnostne metode v računalništvu (FM-M\, IŠRM-M\, MAT-M\, PM-5)\, Vaje (
 V)\nLetniki: magistrski študij (FM)\, magistrski študij (IŠRM)\, magist
 rski študij (M)\, 5. letnik (PM)\nIzvajalci: Tilen Marc\nProstor: 3.04
LOCATION:3.04
ORGANIZER:Tilen Marc
RELATED-TO:fmf-AFLABS-URNIK:srecanje:3511
X-WR-TIMEZONE:Europe/Ljubljana
END:VEVENT
BEGIN:VEVENT
SUMMARY:Izbrana poglavja iz računalniške matematike  / Verjetnostne meto
 de v računalništvu (FM-M\, IŠRM-M\, MAT-M\, PM-5)\, Vaje (V)
DTSTART;TZID=Europe/Ljubljana:20191211T160000
DTEND;TZID=Europe/Ljubljana:20191211T180000
DTSTAMP:20260425T114047Z
UID:fmf-AFLABS-URNIK:premaknjeno-srecanje:44307
ATTENDEE:5. letnik (PM)
ATTENDEE:magistrski študij (FM)
ATTENDEE:magistrski študij (IŠRM)
ATTENDEE:magistrski študij (M)
CATEGORIES:Entry,Standard
COLOR:darkgreen
DESCRIPTION:Predmet: Izbrana poglavja iz računalniške matematike  / Verj
 etnostne metode v računalništvu (FM-M\, IŠRM-M\, MAT-M\, PM-5)\, Vaje (
 V)\nLetniki: magistrski študij (FM)\, magistrski študij (IŠRM)\, magist
 rski študij (M)\, 5. letnik (PM)\nIzvajalci: Tilen Marc\nProstor: 3.04
LOCATION:3.04
ORGANIZER:Tilen Marc
RELATED-TO:fmf-AFLABS-URNIK:srecanje:3511
X-WR-TIMEZONE:Europe/Ljubljana
END:VEVENT
BEGIN:VEVENT
SUMMARY:Izbrana poglavja iz računalniške matematike  / Verjetnostne meto
 de v računalništvu (FM-M\, IŠRM-M\, MAT-M\, PM-5)\, Vaje (V)
DTSTART;TZID=Europe/Ljubljana:20191218T160000
DTEND;TZID=Europe/Ljubljana:20191218T180000
DTSTAMP:20260425T114047Z
UID:fmf-AFLABS-URNIK:premaknjeno-srecanje:44308
ATTENDEE:5. letnik (PM)
ATTENDEE:magistrski študij (FM)
ATTENDEE:magistrski študij (IŠRM)
ATTENDEE:magistrski študij (M)
CATEGORIES:Entry,Standard
COLOR:darkgreen
DESCRIPTION:Predmet: Izbrana poglavja iz računalniške matematike  / Verj
 etnostne metode v računalništvu (FM-M\, IŠRM-M\, MAT-M\, PM-5)\, Vaje (
 V)\nLetniki: magistrski študij (FM)\, magistrski študij (IŠRM)\, magist
 rski študij (M)\, 5. letnik (PM)\nIzvajalci: Tilen Marc\nProstor: 3.04
LOCATION:3.04
ORGANIZER:Tilen Marc
RELATED-TO:fmf-AFLABS-URNIK:srecanje:3511
X-WR-TIMEZONE:Europe/Ljubljana
END:VEVENT
BEGIN:VEVENT
SUMMARY:Izbrana poglavja iz računalniške matematike  / Verjetnostne meto
 de v računalništvu (FM-M\, IŠRM-M\, MAT-M\, PM-5)\, Vaje (V)
DTSTART;TZID=Europe/Ljubljana:20191225T160000
DTEND;TZID=Europe/Ljubljana:20191225T180000
DTSTAMP:20260425T114047Z
UID:fmf-AFLABS-URNIK:premaknjeno-srecanje:44309
ATTENDEE:5. letnik (PM)
ATTENDEE:magistrski študij (FM)
ATTENDEE:magistrski študij (IŠRM)
ATTENDEE:magistrski študij (M)
CATEGORIES:Entry,Standard
COLOR:darkgreen
DESCRIPTION:Predmet: Izbrana poglavja iz računalniške matematike  / Verj
 etnostne metode v računalništvu (FM-M\, IŠRM-M\, MAT-M\, PM-5)\, Vaje (
 V)\nLetniki: magistrski študij (FM)\, magistrski študij (IŠRM)\, magist
 rski študij (M)\, 5. letnik (PM)\nIzvajalci: Tilen Marc\nProstor: 3.04
LOCATION:3.04
ORGANIZER:Tilen Marc
RELATED-TO:fmf-AFLABS-URNIK:srecanje:3511
X-WR-TIMEZONE:Europe/Ljubljana
END:VEVENT
BEGIN:VEVENT
SUMMARY:Izbrana poglavja iz računalniške matematike  / Verjetnostne meto
 de v računalništvu (FM-M\, IŠRM-M\, MAT-M\, PM-5)\, Vaje (V)
DTSTART;TZID=Europe/Ljubljana:20200101T160000
DTEND;TZID=Europe/Ljubljana:20200101T180000
DTSTAMP:20260425T114047Z
UID:fmf-AFLABS-URNIK:premaknjeno-srecanje:44310
ATTENDEE:5. letnik (PM)
ATTENDEE:magistrski študij (FM)
ATTENDEE:magistrski študij (IŠRM)
ATTENDEE:magistrski študij (M)
CATEGORIES:Entry,Standard
COLOR:darkgreen
DESCRIPTION:Predmet: Izbrana poglavja iz računalniške matematike  / Verj
 etnostne metode v računalništvu (FM-M\, IŠRM-M\, MAT-M\, PM-5)\, Vaje (
 V)\nLetniki: magistrski študij (FM)\, magistrski študij (IŠRM)\, magist
 rski študij (M)\, 5. letnik (PM)\nIzvajalci: Tilen Marc\nProstor: 3.04
LOCATION:3.04
ORGANIZER:Tilen Marc
RELATED-TO:fmf-AFLABS-URNIK:srecanje:3511
X-WR-TIMEZONE:Europe/Ljubljana
END:VEVENT
BEGIN:VEVENT
SUMMARY:Izbrana poglavja iz računalniške matematike  / Verjetnostne meto
 de v računalništvu (FM-M\, IŠRM-M\, MAT-M\, PM-5)\, Vaje (V)
DTSTART;TZID=Europe/Ljubljana:20200108T160000
DTEND;TZID=Europe/Ljubljana:20200108T180000
DTSTAMP:20260425T114047Z
UID:fmf-AFLABS-URNIK:premaknjeno-srecanje:44311
ATTENDEE:5. letnik (PM)
ATTENDEE:magistrski študij (FM)
ATTENDEE:magistrski študij (IŠRM)
ATTENDEE:magistrski študij (M)
CATEGORIES:Entry,Standard
COLOR:darkgreen
DESCRIPTION:Predmet: Izbrana poglavja iz računalniške matematike  / Verj
 etnostne metode v računalništvu (FM-M\, IŠRM-M\, MAT-M\, PM-5)\, Vaje (
 V)\nLetniki: magistrski študij (FM)\, magistrski študij (IŠRM)\, magist
 rski študij (M)\, 5. letnik (PM)\nIzvajalci: Tilen Marc\nProstor: 3.04
LOCATION:3.04
ORGANIZER:Tilen Marc
RELATED-TO:fmf-AFLABS-URNIK:srecanje:3511
X-WR-TIMEZONE:Europe/Ljubljana
END:VEVENT
BEGIN:VEVENT
SUMMARY:Izbrana poglavja iz računalniške matematike  / Verjetnostne meto
 de v računalništvu (FM-M\, IŠRM-M\, MAT-M\, PM-5)\, Vaje (V)
DTSTART;TZID=Europe/Ljubljana:20200115T160000
DTEND;TZID=Europe/Ljubljana:20200115T180000
DTSTAMP:20260425T114047Z
UID:fmf-AFLABS-URNIK:premaknjeno-srecanje:44312
ATTENDEE:5. letnik (PM)
ATTENDEE:magistrski študij (FM)
ATTENDEE:magistrski študij (IŠRM)
ATTENDEE:magistrski študij (M)
CATEGORIES:Entry,Standard
COLOR:darkgreen
DESCRIPTION:Predmet: Izbrana poglavja iz računalniške matematike  / Verj
 etnostne metode v računalništvu (FM-M\, IŠRM-M\, MAT-M\, PM-5)\, Vaje (
 V)\nLetniki: magistrski študij (FM)\, magistrski študij (IŠRM)\, magist
 rski študij (M)\, 5. letnik (PM)\nIzvajalci: Tilen Marc\nProstor: 3.04
LOCATION:3.04
ORGANIZER:Tilen Marc
RELATED-TO:fmf-AFLABS-URNIK:srecanje:3511
X-WR-TIMEZONE:Europe/Ljubljana
END:VEVENT
BEGIN:VEVENT
SUMMARY:Algebra in diskretna matematika (APM-2)\, Vaje (V)
DTSTART;TZID=Europe/Ljubljana:20191004T120000
DTEND;TZID=Europe/Ljubljana:20191004T150000
DTSTAMP:20260425T114047Z
UID:fmf-AFLABS-URNIK:premaknjeno-srecanje:3636
ATTENDEE:2. letnik (APM)
CATEGORIES:Entry,Standard
COLOR:darkgreen
DESCRIPTION:Predmet: Algebra in diskretna matematika (APM-2)\, Vaje (V)\nL
 etniki: 2. letnik (APM)\nIzvajalci: Tilen Marc\nProstor: 3.05
LOCATION:3.05
ORGANIZER:Tilen Marc
RELATED-TO:fmf-AFLABS-URNIK:srecanje:3229
X-WR-TIMEZONE:Europe/Ljubljana
END:VEVENT
BEGIN:VEVENT
SUMMARY:Algebra in diskretna matematika (APM-2)\, Vaje (V)
DTSTART;TZID=Europe/Ljubljana:20191011T120000
DTEND;TZID=Europe/Ljubljana:20191011T150000
DTSTAMP:20260425T114047Z
UID:fmf-AFLABS-URNIK:premaknjeno-srecanje:3637
ATTENDEE:2. letnik (APM)
CATEGORIES:Entry,Standard
COLOR:darkgreen
DESCRIPTION:Predmet: Algebra in diskretna matematika (APM-2)\, Vaje (V)\nL
 etniki: 2. letnik (APM)\nIzvajalci: Tilen Marc\nProstor: 3.05
LOCATION:3.05
ORGANIZER:Tilen Marc
RELATED-TO:fmf-AFLABS-URNIK:srecanje:3229
X-WR-TIMEZONE:Europe/Ljubljana
END:VEVENT
BEGIN:VEVENT
SUMMARY:Algebra in diskretna matematika (APM-2)\, Vaje (V)
DTSTART;TZID=Europe/Ljubljana:20191018T120000
DTEND;TZID=Europe/Ljubljana:20191018T150000
DTSTAMP:20260425T114047Z
UID:fmf-AFLABS-URNIK:premaknjeno-srecanje:3638
ATTENDEE:2. letnik (APM)
CATEGORIES:Entry,Standard
COLOR:darkgreen
DESCRIPTION:Predmet: Algebra in diskretna matematika (APM-2)\, Vaje (V)\nL
 etniki: 2. letnik (APM)\nIzvajalci: Tilen Marc\nProstor: 3.05
LOCATION:3.05
ORGANIZER:Tilen Marc
RELATED-TO:fmf-AFLABS-URNIK:srecanje:3229
X-WR-TIMEZONE:Europe/Ljubljana
END:VEVENT
BEGIN:VEVENT
SUMMARY:Algebra in diskretna matematika (APM-2)\, Vaje (V)
DTSTART;TZID=Europe/Ljubljana:20191025T120000
DTEND;TZID=Europe/Ljubljana:20191025T150000
DTSTAMP:20260425T114047Z
UID:fmf-AFLABS-URNIK:premaknjeno-srecanje:3639
ATTENDEE:2. letnik (APM)
CATEGORIES:Entry,Standard
COLOR:darkgreen
DESCRIPTION:Predmet: Algebra in diskretna matematika (APM-2)\, Vaje (V)\nL
 etniki: 2. letnik (APM)\nIzvajalci: Tilen Marc\nProstor: 3.05
LOCATION:3.05
ORGANIZER:Tilen Marc
RELATED-TO:fmf-AFLABS-URNIK:srecanje:3229
X-WR-TIMEZONE:Europe/Ljubljana
END:VEVENT
BEGIN:VEVENT
SUMMARY:Algebra in diskretna matematika (APM-2)\, Vaje (V)
DTSTART;TZID=Europe/Ljubljana:20191101T120000
DTEND;TZID=Europe/Ljubljana:20191101T150000
DTSTAMP:20260425T114047Z
UID:fmf-AFLABS-URNIK:premaknjeno-srecanje:3640
ATTENDEE:2. letnik (APM)
CATEGORIES:Entry,Standard
COLOR:darkgreen
DESCRIPTION:Predmet: Algebra in diskretna matematika (APM-2)\, Vaje (V)\nL
 etniki: 2. letnik (APM)\nIzvajalci: Tilen Marc\nProstor: 3.05
LOCATION:3.05
ORGANIZER:Tilen Marc
RELATED-TO:fmf-AFLABS-URNIK:srecanje:3229
X-WR-TIMEZONE:Europe/Ljubljana
END:VEVENT
BEGIN:VEVENT
SUMMARY:Algebra in diskretna matematika (APM-2)\, Vaje (V)
DTSTART;TZID=Europe/Ljubljana:20191108T120000
DTEND;TZID=Europe/Ljubljana:20191108T150000
DTSTAMP:20260425T114047Z
UID:fmf-AFLABS-URNIK:premaknjeno-srecanje:3641
ATTENDEE:2. letnik (APM)
CATEGORIES:Entry,Standard
COLOR:darkgreen
DESCRIPTION:Predmet: Algebra in diskretna matematika (APM-2)\, Vaje (V)\nL
 etniki: 2. letnik (APM)\nIzvajalci: Tilen Marc\nProstor: 3.05
LOCATION:3.05
ORGANIZER:Tilen Marc
RELATED-TO:fmf-AFLABS-URNIK:srecanje:3229
X-WR-TIMEZONE:Europe/Ljubljana
END:VEVENT
BEGIN:VEVENT
SUMMARY:Algebra in diskretna matematika (APM-2)\, Vaje (V)
DTSTART;TZID=Europe/Ljubljana:20191115T120000
DTEND;TZID=Europe/Ljubljana:20191115T150000
DTSTAMP:20260425T114047Z
UID:fmf-AFLABS-URNIK:premaknjeno-srecanje:3642
ATTENDEE:2. letnik (APM)
CATEGORIES:Entry,Standard
COLOR:darkgreen
DESCRIPTION:Predmet: Algebra in diskretna matematika (APM-2)\, Vaje (V)\nL
 etniki: 2. letnik (APM)\nIzvajalci: Tilen Marc\nProstor: 3.05
LOCATION:3.05
ORGANIZER:Tilen Marc
RELATED-TO:fmf-AFLABS-URNIK:srecanje:3229
X-WR-TIMEZONE:Europe/Ljubljana
END:VEVENT
BEGIN:VEVENT
SUMMARY:Algebra in diskretna matematika (APM-2)\, Vaje (V)
DTSTART;TZID=Europe/Ljubljana:20191122T120000
DTEND;TZID=Europe/Ljubljana:20191122T150000
DTSTAMP:20260425T114047Z
UID:fmf-AFLABS-URNIK:premaknjeno-srecanje:3643
ATTENDEE:2. letnik (APM)
CATEGORIES:Entry,Standard
COLOR:darkgreen
DESCRIPTION:Predmet: Algebra in diskretna matematika (APM-2)\, Vaje (V)\nL
 etniki: 2. letnik (APM)\nIzvajalci: Tilen Marc\nProstor: 3.05
LOCATION:3.05
ORGANIZER:Tilen Marc
RELATED-TO:fmf-AFLABS-URNIK:srecanje:3229
X-WR-TIMEZONE:Europe/Ljubljana
END:VEVENT
BEGIN:VEVENT
SUMMARY:Algebra in diskretna matematika (APM-2)\, Vaje (V)
DTSTART;TZID=Europe/Ljubljana:20191129T120000
DTEND;TZID=Europe/Ljubljana:20191129T150000
DTSTAMP:20260425T114047Z
UID:fmf-AFLABS-URNIK:premaknjeno-srecanje:3644
ATTENDEE:2. letnik (APM)
CATEGORIES:Entry,Standard
COLOR:darkgreen
DESCRIPTION:Predmet: Algebra in diskretna matematika (APM-2)\, Vaje (V)\nL
 etniki: 2. letnik (APM)\nIzvajalci: Tilen Marc\nProstor: 3.05
LOCATION:3.05
ORGANIZER:Tilen Marc
RELATED-TO:fmf-AFLABS-URNIK:srecanje:3229
X-WR-TIMEZONE:Europe/Ljubljana
END:VEVENT
BEGIN:VEVENT
SUMMARY:Algebra in diskretna matematika (APM-2)\, Vaje (V)
DTSTART;TZID=Europe/Ljubljana:20191206T120000
DTEND;TZID=Europe/Ljubljana:20191206T150000
DTSTAMP:20260425T114047Z
UID:fmf-AFLABS-URNIK:premaknjeno-srecanje:3645
ATTENDEE:2. letnik (APM)
CATEGORIES:Entry,Standard
COLOR:darkgreen
DESCRIPTION:Predmet: Algebra in diskretna matematika (APM-2)\, Vaje (V)\nL
 etniki: 2. letnik (APM)\nIzvajalci: Tilen Marc\nProstor: 3.05
LOCATION:3.05
ORGANIZER:Tilen Marc
RELATED-TO:fmf-AFLABS-URNIK:srecanje:3229
X-WR-TIMEZONE:Europe/Ljubljana
END:VEVENT
BEGIN:VEVENT
SUMMARY:Algebra in diskretna matematika (APM-2)\, Vaje (V)
DTSTART;TZID=Europe/Ljubljana:20191213T120000
DTEND;TZID=Europe/Ljubljana:20191213T150000
DTSTAMP:20260425T114047Z
UID:fmf-AFLABS-URNIK:premaknjeno-srecanje:3646
ATTENDEE:2. letnik (APM)
CATEGORIES:Entry,Standard
COLOR:darkgreen
DESCRIPTION:Predmet: Algebra in diskretna matematika (APM-2)\, Vaje (V)\nL
 etniki: 2. letnik (APM)\nIzvajalci: Tilen Marc\nProstor: 3.05
LOCATION:3.05
ORGANIZER:Tilen Marc
RELATED-TO:fmf-AFLABS-URNIK:srecanje:3229
X-WR-TIMEZONE:Europe/Ljubljana
END:VEVENT
BEGIN:VEVENT
SUMMARY:Algebra in diskretna matematika (APM-2)\, Vaje (V)
DTSTART;TZID=Europe/Ljubljana:20191220T120000
DTEND;TZID=Europe/Ljubljana:20191220T150000
DTSTAMP:20260425T114047Z
UID:fmf-AFLABS-URNIK:premaknjeno-srecanje:3647
ATTENDEE:2. letnik (APM)
CATEGORIES:Entry,Standard
COLOR:darkgreen
DESCRIPTION:Predmet: Algebra in diskretna matematika (APM-2)\, Vaje (V)\nL
 etniki: 2. letnik (APM)\nIzvajalci: Tilen Marc\nProstor: 3.05
LOCATION:3.05
ORGANIZER:Tilen Marc
RELATED-TO:fmf-AFLABS-URNIK:srecanje:3229
X-WR-TIMEZONE:Europe/Ljubljana
END:VEVENT
BEGIN:VEVENT
SUMMARY:Algebra in diskretna matematika (APM-2)\, Vaje (V)
DTSTART;TZID=Europe/Ljubljana:20191227T120000
DTEND;TZID=Europe/Ljubljana:20191227T150000
DTSTAMP:20260425T114047Z
UID:fmf-AFLABS-URNIK:premaknjeno-srecanje:3648
ATTENDEE:2. letnik (APM)
CATEGORIES:Entry,Standard
COLOR:darkgreen
DESCRIPTION:Predmet: Algebra in diskretna matematika (APM-2)\, Vaje (V)\nL
 etniki: 2. letnik (APM)\nIzvajalci: Tilen Marc\nProstor: 3.05
LOCATION:3.05
ORGANIZER:Tilen Marc
RELATED-TO:fmf-AFLABS-URNIK:srecanje:3229
X-WR-TIMEZONE:Europe/Ljubljana
END:VEVENT
BEGIN:VEVENT
SUMMARY:Algebra in diskretna matematika (APM-2)\, Vaje (V)
DTSTART;TZID=Europe/Ljubljana:20200103T120000
DTEND;TZID=Europe/Ljubljana:20200103T150000
DTSTAMP:20260425T114047Z
UID:fmf-AFLABS-URNIK:premaknjeno-srecanje:3649
ATTENDEE:2. letnik (APM)
CATEGORIES:Entry,Standard
COLOR:darkgreen
DESCRIPTION:Predmet: Algebra in diskretna matematika (APM-2)\, Vaje (V)\nL
 etniki: 2. letnik (APM)\nIzvajalci: Tilen Marc\nProstor: 3.05
LOCATION:3.05
ORGANIZER:Tilen Marc
RELATED-TO:fmf-AFLABS-URNIK:srecanje:3229
X-WR-TIMEZONE:Europe/Ljubljana
END:VEVENT
BEGIN:VEVENT
SUMMARY:Algebra in diskretna matematika (APM-2)\, Vaje (V)
DTSTART;TZID=Europe/Ljubljana:20200110T120000
DTEND;TZID=Europe/Ljubljana:20200110T150000
DTSTAMP:20260425T114047Z
UID:fmf-AFLABS-URNIK:premaknjeno-srecanje:3650
ATTENDEE:2. letnik (APM)
CATEGORIES:Entry,Standard
COLOR:darkgreen
DESCRIPTION:Predmet: Algebra in diskretna matematika (APM-2)\, Vaje (V)\nL
 etniki: 2. letnik (APM)\nIzvajalci: Tilen Marc\nProstor: 3.05
LOCATION:3.05
ORGANIZER:Tilen Marc
RELATED-TO:fmf-AFLABS-URNIK:srecanje:3229
X-WR-TIMEZONE:Europe/Ljubljana
END:VEVENT
BEGIN:VEVENT
SUMMARY:Algebra in diskretna matematika (APM-2)\, Vaje (V)
DTSTART;TZID=Europe/Ljubljana:20200117T120000
DTEND;TZID=Europe/Ljubljana:20200117T150000
DTSTAMP:20260425T114047Z
UID:fmf-AFLABS-URNIK:premaknjeno-srecanje:3651
ATTENDEE:2. letnik (APM)
CATEGORIES:Entry,Standard
COLOR:darkgreen
DESCRIPTION:Predmet: Algebra in diskretna matematika (APM-2)\, Vaje (V)\nL
 etniki: 2. letnik (APM)\nIzvajalci: Tilen Marc\nProstor: 3.05
LOCATION:3.05
ORGANIZER:Tilen Marc
RELATED-TO:fmf-AFLABS-URNIK:srecanje:3229
X-WR-TIMEZONE:Europe/Ljubljana
END:VEVENT
BEGIN:VEVENT
SUMMARY:Rezervacija
DTSTART;TZID=Europe/Ljubljana:20191209T170000
DTEND;TZID=Europe/Ljubljana:20191209T200000
DTSTAMP:20260425T114047Z
UID:fmf-AFLABS-URNIK:rezervacija:4673
CATEGORIES:Reservation
COLOR:royalblue
DESCRIPTION:Predmeti: \nLetniki: \nIzvajalci: Tilen Marc\nProstori: 2.01
LOCATION:2.01
ORGANIZER:Tilen Marc
X-WR-TIMEZONE:Europe/Ljubljana
END:VEVENT
BEGIN:VEVENT
SUMMARY:Rezervacija
DTSTART;TZID=Europe/Ljubljana:20200121T100000
DTEND;TZID=Europe/Ljubljana:20200121T130000
DTSTAMP:20260425T114047Z
UID:fmf-AFLABS-URNIK:rezervacija:4863
CATEGORIES:Reservation
COLOR:royalblue
DESCRIPTION:Predmeti: \nLetniki: \nIzvajalci: Tilen Marc\nProstori: 3.06
LOCATION:3.06
ORGANIZER:Tilen Marc
X-WR-TIMEZONE:Europe/Ljubljana
END:VEVENT
BEGIN:VEVENT
SUMMARY:Rezervacija
DTSTART;TZID=Europe/Ljubljana:20200127T100000
DTEND;TZID=Europe/Ljubljana:20200127T130000
DTSTAMP:20260425T114047Z
UID:fmf-AFLABS-URNIK:rezervacija:4950
CATEGORIES:Reservation
COLOR:royalblue
DESCRIPTION:Predmeti: \nLetniki: \nIzvajalci: Tilen Marc\nProstori: 2.01
LOCATION:2.01
ORGANIZER:Tilen Marc
X-WR-TIMEZONE:Europe/Ljubljana
END:VEVENT
BEGIN:VEVENT
SUMMARY:Rezervacija
DTSTART;TZID=Europe/Ljubljana:20200131T120000
DTEND;TZID=Europe/Ljubljana:20200131T160000
DTSTAMP:20260425T114047Z
UID:fmf-AFLABS-URNIK:rezervacija:5008
CATEGORIES:Reservation
COLOR:royalblue
DESCRIPTION:Predmeti: \nLetniki: \nIzvajalci: Tilen Marc\nProstori: 2.02
LOCATION:2.02
ORGANIZER:Tilen Marc
X-WR-TIMEZONE:Europe/Ljubljana
END:VEVENT
END:VCALENDAR
