BEGIN:VCALENDAR
VERSION:2.0
PRODID:-//AFLabs urnik izvoz - fmf//aflabs.si//SI
DTSTAMP:20260425T163703Z
NAME:UL FMF urnik
REFRESH-INTERVAL:PT1H
SOURCE:https://urnik.fmf.uni-lj.si/teacher/380?day=2020-09-21&export=1
URL:https://urnik.fmf.uni-lj.si/teacher/380?day=2020-09-21&export=1
X-PUBLISHED-TTL:PT1H
X-WR-CALNAME:UL FMF urnik
X-WR-TIMEZONE:Europe/Ljubljana
BEGIN:VTIMEZONE
TZID:Europe/Ljubljana
BEGIN:DAYLIGHT
DTSTART:20260329T020000
RDATE:20260329T020000
RDATE:20270328T020000
TZNAME:CEST
TZOFFSETFROM:+0100
TZOFFSETTO:+0200
END:DAYLIGHT
BEGIN:STANDARD
DTSTART:20261025T030000
RDATE:20261025T030000
RDATE:20271031T030000
TZNAME:CET
TZOFFSETFROM:+0200
TZOFFSETTO:+0100
END:STANDARD
END:VTIMEZONE
BEGIN:VEVENT
SUMMARY:Algebra in diskretna matematika (APM-2)\, Vaje (V)
DTSTART;TZID=Europe/Ljubljana:20201001T120000
DTEND;TZID=Europe/Ljubljana:20201001T150000
DTSTAMP:20260425T163703Z
UID:fmf-AFLABS-URNIK:premaknjeno-srecanje:3573
ATTENDEE:2. letnik (APM)
CATEGORIES:Entry,Standard
COLOR:darkgreen
DESCRIPTION:Predmet: Algebra in diskretna matematika (APM-2)\, Vaje (V)\nL
 etniki: 2. letnik (APM)\nIzvajalci: Tilen Marc\nProstor: P.02
LOCATION:P.02
ORGANIZER:Tilen Marc
RELATED-TO:fmf-AFLABS-URNIK:srecanje:5303
X-WR-TIMEZONE:Europe/Ljubljana
END:VEVENT
BEGIN:VEVENT
SUMMARY:Algebra in diskretna matematika (APM-2)\, Vaje (V)
DTSTART;TZID=Europe/Ljubljana:20201008T120000
DTEND;TZID=Europe/Ljubljana:20201008T150000
DTSTAMP:20260425T163703Z
UID:fmf-AFLABS-URNIK:premaknjeno-srecanje:3574
ATTENDEE:2. letnik (APM)
CATEGORIES:Entry,Standard
COLOR:darkgreen
DESCRIPTION:Predmet: Algebra in diskretna matematika (APM-2)\, Vaje (V)\nL
 etniki: 2. letnik (APM)\nIzvajalci: Tilen Marc\nProstor: P.02
LOCATION:P.02
ORGANIZER:Tilen Marc
RELATED-TO:fmf-AFLABS-URNIK:srecanje:5303
X-WR-TIMEZONE:Europe/Ljubljana
END:VEVENT
BEGIN:VEVENT
SUMMARY:Algebra in diskretna matematika (APM-2)\, Vaje (V)
DTSTART;TZID=Europe/Ljubljana:20201015T120000
DTEND;TZID=Europe/Ljubljana:20201015T150000
DTSTAMP:20260425T163703Z
UID:fmf-AFLABS-URNIK:premaknjeno-srecanje:3575
ATTENDEE:2. letnik (APM)
CATEGORIES:Entry,Standard
COLOR:darkgreen
DESCRIPTION:Predmet: Algebra in diskretna matematika (APM-2)\, Vaje (V)\nL
 etniki: 2. letnik (APM)\nIzvajalci: Tilen Marc\nProstor: P.02
LOCATION:P.02
ORGANIZER:Tilen Marc
RELATED-TO:fmf-AFLABS-URNIK:srecanje:5303
X-WR-TIMEZONE:Europe/Ljubljana
END:VEVENT
BEGIN:VEVENT
SUMMARY:Algebra in diskretna matematika (APM-2)\, Vaje (V)
DTSTART;TZID=Europe/Ljubljana:20201022T120000
DTEND;TZID=Europe/Ljubljana:20201022T150000
DTSTAMP:20260425T163703Z
UID:fmf-AFLABS-URNIK:premaknjeno-srecanje:3576
ATTENDEE:2. letnik (APM)
CATEGORIES:Entry,Standard
COLOR:darkgreen
DESCRIPTION:Predmet: Algebra in diskretna matematika (APM-2)\, Vaje (V)\nL
 etniki: 2. letnik (APM)\nIzvajalci: Tilen Marc\nProstor: P.02
LOCATION:P.02
ORGANIZER:Tilen Marc
RELATED-TO:fmf-AFLABS-URNIK:srecanje:5303
X-WR-TIMEZONE:Europe/Ljubljana
END:VEVENT
BEGIN:VEVENT
SUMMARY:Proseminar (FM-1)\, Vaje (V)\, [1]
DTSTART;TZID=Europe/Ljubljana:20201006T140000
DTEND;TZID=Europe/Ljubljana:20201006T160000
DTSTAMP:20260425T163703Z
UID:fmf-AFLABS-URNIK:premaknjeno-srecanje:88383
ATTENDEE:1. letnik (FM)
CATEGORIES:Entry,Standard
COLOR:darkgreen
DESCRIPTION:Predmet: Proseminar (FM-1)\, Vaje (V)\, [1]\nLetniki: 1. letni
 k (FM)\nIzvajalci: Peter Goričan\, Tilen Marc\nProstor: 2.05
LOCATION:2.05
ORGANIZER:Peter Goričan, Tilen Marc
RELATED-TO:fmf-AFLABS-URNIK:srecanje:5104
X-WR-TIMEZONE:Europe/Ljubljana
END:VEVENT
BEGIN:VEVENT
SUMMARY:Proseminar (FM-1)\, Vaje (V)\, [1]
DTSTART;TZID=Europe/Ljubljana:20201013T140000
DTEND;TZID=Europe/Ljubljana:20201013T160000
DTSTAMP:20260425T163703Z
UID:fmf-AFLABS-URNIK:premaknjeno-srecanje:88384
ATTENDEE:1. letnik (FM)
CATEGORIES:Entry,Standard
COLOR:darkgreen
DESCRIPTION:Predmet: Proseminar (FM-1)\, Vaje (V)\, [1]\nLetniki: 1. letni
 k (FM)\nIzvajalci: Peter Goričan\, Tilen Marc\nProstor: 2.05
LOCATION:2.05
ORGANIZER:Peter Goričan, Tilen Marc
RELATED-TO:fmf-AFLABS-URNIK:srecanje:5104
X-WR-TIMEZONE:Europe/Ljubljana
END:VEVENT
BEGIN:VEVENT
SUMMARY:Proseminar (FM-1)\, Vaje (V)\, [1]
DTSTART;TZID=Europe/Ljubljana:20201020T140000
DTEND;TZID=Europe/Ljubljana:20201020T160000
DTSTAMP:20260425T163703Z
UID:fmf-AFLABS-URNIK:premaknjeno-srecanje:88385
ATTENDEE:1. letnik (FM)
CATEGORIES:Entry,Standard
COLOR:darkgreen
DESCRIPTION:Predmet: Proseminar (FM-1)\, Vaje (V)\, [1]\nLetniki: 1. letni
 k (FM)\nIzvajalci: Peter Goričan\, Tilen Marc\nProstor: 2.05
LOCATION:2.05
ORGANIZER:Peter Goričan, Tilen Marc
RELATED-TO:fmf-AFLABS-URNIK:srecanje:5104
X-WR-TIMEZONE:Europe/Ljubljana
END:VEVENT
BEGIN:VEVENT
SUMMARY:Proseminar (FM-1)\, Vaje (V)\, [2]
DTSTART;TZID=Europe/Ljubljana:20201006T140000
DTEND;TZID=Europe/Ljubljana:20201006T160000
DTSTAMP:20260425T163703Z
UID:fmf-AFLABS-URNIK:premaknjeno-srecanje:88477
ATTENDEE:1. letnik (FM)
CATEGORIES:Entry,Standard
COLOR:darkgreen
DESCRIPTION:Predmet: Proseminar (FM-1)\, Vaje (V)\, [2]\nLetniki: 1. letni
 k (FM)\nIzvajalci: Peter Goričan\, Tilen Marc\nProstor: Na daljavo
LOCATION:Na daljavo
ORGANIZER:Peter Goričan, Tilen Marc
RELATED-TO:fmf-AFLABS-URNIK:srecanje:5105
X-WR-TIMEZONE:Europe/Ljubljana
END:VEVENT
BEGIN:VEVENT
SUMMARY:Proseminar (FM-1)\, Vaje (V)\, [2]
DTSTART;TZID=Europe/Ljubljana:20201013T140000
DTEND;TZID=Europe/Ljubljana:20201013T160000
DTSTAMP:20260425T163703Z
UID:fmf-AFLABS-URNIK:premaknjeno-srecanje:88478
ATTENDEE:1. letnik (FM)
CATEGORIES:Entry,Standard
COLOR:darkgreen
DESCRIPTION:Predmet: Proseminar (FM-1)\, Vaje (V)\, [2]\nLetniki: 1. letni
 k (FM)\nIzvajalci: Peter Goričan\, Tilen Marc\nProstor: Na daljavo
LOCATION:Na daljavo
ORGANIZER:Peter Goričan, Tilen Marc
RELATED-TO:fmf-AFLABS-URNIK:srecanje:5105
X-WR-TIMEZONE:Europe/Ljubljana
END:VEVENT
BEGIN:VEVENT
SUMMARY:Proseminar (FM-1)\, Vaje (V)\, [2]
DTSTART;TZID=Europe/Ljubljana:20201020T140000
DTEND;TZID=Europe/Ljubljana:20201020T160000
DTSTAMP:20260425T163703Z
UID:fmf-AFLABS-URNIK:premaknjeno-srecanje:88479
ATTENDEE:1. letnik (FM)
CATEGORIES:Entry,Standard
COLOR:darkgreen
DESCRIPTION:Predmet: Proseminar (FM-1)\, Vaje (V)\, [2]\nLetniki: 1. letni
 k (FM)\nIzvajalci: Peter Goričan\, Tilen Marc\nProstor: Na daljavo
LOCATION:Na daljavo
ORGANIZER:Peter Goričan, Tilen Marc
RELATED-TO:fmf-AFLABS-URNIK:srecanje:5105
X-WR-TIMEZONE:Europe/Ljubljana
END:VEVENT
BEGIN:VEVENT
SUMMARY:Rezervacija
DTSTART;TZID=Europe/Ljubljana:20200819T100000
DTEND;TZID=Europe/Ljubljana:20200819T130000
DTSTAMP:20260425T163703Z
UID:fmf-AFLABS-URNIK:rezervacija:5969
ATTENDEE:5. letnik (PM)
ATTENDEE:magistrski študij (FM)
ATTENDEE:magistrski študij (IŠRM)
ATTENDEE:magistrski študij (M)
CATEGORIES:Reservation
COLOR:royalblue
DESCRIPTION:Predmeti: Izbrana poglavja iz računalniške matematike  / Ver
 jetnostne metode v računalništvu (FM-M\, IŠRM-M\, MAT-M\, PM-5)\nLetnik
 i: magistrski študij (FM)\, magistrski študij (IŠRM)\, magistrski štud
 ij (M)\, 5. letnik (PM)\nIzvajalci: Sergio Cabello Justo\, Tilen Marc\nPro
 stori: 3.04
LOCATION:3.04
ORGANIZER:Sergio Cabello Justo, Tilen Marc
X-WR-TIMEZONE:Europe/Ljubljana
END:VEVENT
BEGIN:VEVENT
SUMMARY:Rezervacija
DTSTART;TZID=Europe/Ljubljana:20200827T100000
DTEND;TZID=Europe/Ljubljana:20200827T140000
DTSTAMP:20260425T163703Z
UID:fmf-AFLABS-URNIK:rezervacija:6088
CATEGORIES:Reservation
COLOR:royalblue
DESCRIPTION:Predmeti: \nLetniki: \nIzvajalci: Tilen Marc\nProstori: 2.03
LOCATION:2.03
ORGANIZER:Tilen Marc
X-WR-TIMEZONE:Europe/Ljubljana
END:VEVENT
BEGIN:VEVENT
SUMMARY:Rezervacija
DTSTART;TZID=Europe/Ljubljana:20200827T150000
DTEND;TZID=Europe/Ljubljana:20200827T170000
DTSTAMP:20260425T163703Z
UID:fmf-AFLABS-URNIK:rezervacija:6096
CATEGORIES:Reservation
COLOR:royalblue
DESCRIPTION:Predmeti: \nLetniki: \nIzvajalci: Tilen Marc\nProstori: 2.04
LOCATION:2.04
ORGANIZER:Tilen Marc
X-WR-TIMEZONE:Europe/Ljubljana
END:VEVENT
BEGIN:VEVENT
SUMMARY:Rezervacija
DTSTART;TZID=Europe/Ljubljana:20200901T100000
DTEND;TZID=Europe/Ljubljana:20200901T130000
DTSTAMP:20260425T163703Z
UID:fmf-AFLABS-URNIK:rezervacija:6161
ATTENDEE:3. letnik (FM)
ATTENDEE:3. letnik (IŠRM)
ATTENDEE:3. letnik (M)
ATTENDEE:4. letnik (PM)
CATEGORIES:Reservation
COLOR:royalblue
DESCRIPTION:Predmeti: Teorija kodiranja in kriptografija (FM-3\, IŠRM-3\,
  MAT-3\, PM-4)\nLetniki: 3. letnik (FM)\, 3. letnik (IŠRM)\, 3. letnik (M
 )\, 4. letnik (PM)\nIzvajalci: Tilen Marc\nProstori: 2.04
LOCATION:2.04
ORGANIZER:Tilen Marc
X-WR-TIMEZONE:Europe/Ljubljana
END:VEVENT
BEGIN:VEVENT
SUMMARY:Rezervacija
DTSTART;TZID=Europe/Ljubljana:20200903T100000
DTEND;TZID=Europe/Ljubljana:20200903T120000
DTSTAMP:20260425T163703Z
UID:fmf-AFLABS-URNIK:rezervacija:6218
ATTENDEE:1. letnik (IŠRM)
CATEGORIES:Reservation
COLOR:royalblue
DESCRIPTION:Predmeti: Diskretne strukture 2 (IŠRM-1)\nLetniki: 1. letnik 
 (IŠRM)\nIzvajalci: Tilen Marc\nProstori: 2.04
LOCATION:2.04
ORGANIZER:Tilen Marc
X-WR-TIMEZONE:Europe/Ljubljana
END:VEVENT
BEGIN:VEVENT
SUMMARY:Rezervacija
DTSTART;TZID=Europe/Ljubljana:20200908T120000
DTEND;TZID=Europe/Ljubljana:20200908T140000
DTSTAMP:20260425T163703Z
UID:fmf-AFLABS-URNIK:rezervacija:6310
CATEGORIES:Reservation
COLOR:royalblue
DESCRIPTION:Predmeti: \nLetniki: \nIzvajalci: Tilen Marc\nProstori: 2.04
LOCATION:2.04
ORGANIZER:Tilen Marc
X-WR-TIMEZONE:Europe/Ljubljana
END:VEVENT
END:VCALENDAR
