BEGIN:VCALENDAR
VERSION:2.0
PRODID:-//AFLabs urnik izvoz - fmf//aflabs.si//SI
DTSTAMP:20260424T175429Z
NAME:UL FMF urnik
REFRESH-INTERVAL:PT1H
SOURCE:https://urnik.fmf.uni-lj.si/teacher/380?day=2021-09-06&export=1
URL:https://urnik.fmf.uni-lj.si/teacher/380?day=2021-09-06&export=1
X-PUBLISHED-TTL:PT1H
X-WR-CALNAME:UL FMF urnik
X-WR-TIMEZONE:Europe/Ljubljana
BEGIN:VTIMEZONE
TZID:Europe/Ljubljana
BEGIN:DAYLIGHT
DTSTART:20260329T020000
RDATE:20260329T020000
RDATE:20270328T020000
TZNAME:CEST
TZOFFSETFROM:+0100
TZOFFSETTO:+0200
END:DAYLIGHT
BEGIN:STANDARD
DTSTART:20261025T030000
RDATE:20261025T030000
RDATE:20271031T030000
TZNAME:CET
TZOFFSETFROM:+0200
TZOFFSETTO:+0100
END:STANDARD
END:VTIMEZONE
BEGIN:VEVENT
SUMMARY:Algebra in diskretna matematika (APM-2)\, Vaje (V)
DTSTART;TZID=Europe/Ljubljana:20211001T120000
DTEND;TZID=Europe/Ljubljana:20211001T150000
DTSTAMP:20260424T175429Z
UID:fmf-AFLABS-URNIK:premaknjeno-srecanje:3652
ATTENDEE:2. letnik (APM)
CATEGORIES:Entry,Standard
COLOR:darkgreen
DESCRIPTION:Predmet: Algebra in diskretna matematika (APM-2)\, Vaje (V)\nL
 etniki: 2. letnik (APM)\nIzvajalci: Tilen Marc\nProstor: 3.05
LOCATION:3.05
ORGANIZER:Tilen Marc
RELATED-TO:fmf-AFLABS-URNIK:srecanje:6102
X-WR-TIMEZONE:Europe/Ljubljana
END:VEVENT
BEGIN:VEVENT
SUMMARY:Algebra in diskretna matematika (APM-2)\, Vaje (V)
DTSTART;TZID=Europe/Ljubljana:20211008T120000
DTEND;TZID=Europe/Ljubljana:20211008T150000
DTSTAMP:20260424T175429Z
UID:fmf-AFLABS-URNIK:premaknjeno-srecanje:3653
ATTENDEE:2. letnik (APM)
CATEGORIES:Entry,Standard
COLOR:darkgreen
DESCRIPTION:Predmet: Algebra in diskretna matematika (APM-2)\, Vaje (V)\nL
 etniki: 2. letnik (APM)\nIzvajalci: Tilen Marc\nProstor: 3.05
LOCATION:3.05
ORGANIZER:Tilen Marc
RELATED-TO:fmf-AFLABS-URNIK:srecanje:6102
X-WR-TIMEZONE:Europe/Ljubljana
END:VEVENT
BEGIN:VEVENT
SUMMARY:Izbrana poglavja iz računalniške matematike  / Verjetnostne meto
 de v računalništvu (FM-M\, IŠRM-M\, MAT-M\, PM-5)\, Predavanja (P)
DTSTART;TZID=Europe/Ljubljana:20211007T140000
DTEND;TZID=Europe/Ljubljana:20211007T170000
DTSTAMP:20260424T175429Z
UID:fmf-AFLABS-URNIK:premaknjeno-srecanje:44234
ATTENDEE:5. letnik (PM)
ATTENDEE:magistrski študij (FM)
ATTENDEE:magistrski študij (IŠRM)
ATTENDEE:magistrski študij (M)
CATEGORIES:Entry,Standard
COLOR:darkgreen
DESCRIPTION:Predmet: Izbrana poglavja iz računalniške matematike  / Verj
 etnostne metode v računalništvu (FM-M\, IŠRM-M\, MAT-M\, PM-5)\, Predav
 anja (P)\nLetniki: magistrski študij (FM)\, magistrski študij (IŠRM)\, 
 magistrski študij (M)\, 5. letnik (PM)\nIzvajalci: Tilen Marc\nProstor: 2
 .02
LOCATION:2.02
ORGANIZER:Tilen Marc
RELATED-TO:fmf-AFLABS-URNIK:srecanje:6312
X-WR-TIMEZONE:Europe/Ljubljana
END:VEVENT
END:VCALENDAR
