BEGIN:VCALENDAR
VERSION:2.0
PRODID:-//AFLabs urnik izvoz - fmf//aflabs.si//SI
DTSTAMP:20260425T142520Z
NAME:UL FMF urnik
REFRESH-INTERVAL:PT1H
SOURCE:https://urnik.fmf.uni-lj.si/teacher/380?day=2022-03-28&export=1
URL:https://urnik.fmf.uni-lj.si/teacher/380?day=2022-03-28&export=1
X-PUBLISHED-TTL:PT1H
X-WR-CALNAME:UL FMF urnik
X-WR-TIMEZONE:Europe/Ljubljana
BEGIN:VTIMEZONE
TZID:Europe/Ljubljana
BEGIN:DAYLIGHT
DTSTART:20260329T020000
RDATE:20260329T020000
RDATE:20270328T020000
TZNAME:CEST
TZOFFSETFROM:+0100
TZOFFSETTO:+0200
END:DAYLIGHT
BEGIN:STANDARD
DTSTART:20261025T030000
RDATE:20261025T030000
RDATE:20271031T030000
TZNAME:CET
TZOFFSETFROM:+0200
TZOFFSETTO:+0100
END:STANDARD
END:VTIMEZONE
BEGIN:VEVENT
SUMMARY:Diskretne strukture 2 (IŠRM-1)\, Vaje (V)
DTSTART;TZID=Europe/Ljubljana:20220216T120000
DTEND;TZID=Europe/Ljubljana:20220216T150000
DTSTAMP:20260425T142520Z
UID:fmf-AFLABS-URNIK:premaknjeno-srecanje:17059
ATTENDEE:1. letnik (IŠRM)
CATEGORIES:Entry,Standard
COLOR:darkgreen
DESCRIPTION:Predmet: Diskretne strukture 2 (IŠRM-1)\, Vaje (V)\nLetniki: 
 1. letnik (IŠRM)\nIzvajalci: Tilen Marc\nProstor: 2.04
LOCATION:2.04
ORGANIZER:Tilen Marc
RELATED-TO:fmf-AFLABS-URNIK:srecanje:6895
X-WR-TIMEZONE:Europe/Ljubljana
END:VEVENT
BEGIN:VEVENT
SUMMARY:Diskretne strukture 2 (IŠRM-1)\, Vaje (V)
DTSTART;TZID=Europe/Ljubljana:20220223T120000
DTEND;TZID=Europe/Ljubljana:20220223T150000
DTSTAMP:20260425T142520Z
UID:fmf-AFLABS-URNIK:premaknjeno-srecanje:17060
ATTENDEE:1. letnik (IŠRM)
CATEGORIES:Entry,Standard
COLOR:darkgreen
DESCRIPTION:Predmet: Diskretne strukture 2 (IŠRM-1)\, Vaje (V)\nLetniki: 
 1. letnik (IŠRM)\nIzvajalci: Tilen Marc\nProstor: 2.04
LOCATION:2.04
ORGANIZER:Tilen Marc
RELATED-TO:fmf-AFLABS-URNIK:srecanje:6895
X-WR-TIMEZONE:Europe/Ljubljana
END:VEVENT
BEGIN:VEVENT
SUMMARY:Diskretne strukture 2 (IŠRM-1)\, Vaje (V)
DTSTART;TZID=Europe/Ljubljana:20220302T120000
DTEND;TZID=Europe/Ljubljana:20220302T150000
DTSTAMP:20260425T142520Z
UID:fmf-AFLABS-URNIK:premaknjeno-srecanje:17061
ATTENDEE:1. letnik (IŠRM)
CATEGORIES:Entry,Standard
COLOR:darkgreen
DESCRIPTION:Predmet: Diskretne strukture 2 (IŠRM-1)\, Vaje (V)\nLetniki: 
 1. letnik (IŠRM)\nIzvajalci: Tilen Marc\nProstor: 2.04
LOCATION:2.04
ORGANIZER:Tilen Marc
RELATED-TO:fmf-AFLABS-URNIK:srecanje:6895
X-WR-TIMEZONE:Europe/Ljubljana
END:VEVENT
BEGIN:VEVENT
SUMMARY:Diskretne strukture 2 (IŠRM-1)\, Vaje (V)
DTSTART;TZID=Europe/Ljubljana:20220309T120000
DTEND;TZID=Europe/Ljubljana:20220309T150000
DTSTAMP:20260425T142520Z
UID:fmf-AFLABS-URNIK:premaknjeno-srecanje:17062
ATTENDEE:1. letnik (IŠRM)
CATEGORIES:Entry,Standard
COLOR:darkgreen
DESCRIPTION:Predmet: Diskretne strukture 2 (IŠRM-1)\, Vaje (V)\nLetniki: 
 1. letnik (IŠRM)\nIzvajalci: Tilen Marc\nProstor: 2.04
LOCATION:2.04
ORGANIZER:Tilen Marc
RELATED-TO:fmf-AFLABS-URNIK:srecanje:6895
X-WR-TIMEZONE:Europe/Ljubljana
END:VEVENT
BEGIN:VEVENT
SUMMARY:Diskretne strukture 2 (IŠRM-1)\, Vaje (V)
DTSTART;TZID=Europe/Ljubljana:20220316T120000
DTEND;TZID=Europe/Ljubljana:20220316T150000
DTSTAMP:20260425T142520Z
UID:fmf-AFLABS-URNIK:premaknjeno-srecanje:17063
ATTENDEE:1. letnik (IŠRM)
CATEGORIES:Entry,Standard
COLOR:darkgreen
DESCRIPTION:Predmet: Diskretne strukture 2 (IŠRM-1)\, Vaje (V)\nLetniki: 
 1. letnik (IŠRM)\nIzvajalci: Tilen Marc\nProstor: 2.04
LOCATION:2.04
ORGANIZER:Tilen Marc
RELATED-TO:fmf-AFLABS-URNIK:srecanje:6895
X-WR-TIMEZONE:Europe/Ljubljana
END:VEVENT
BEGIN:VEVENT
SUMMARY:Diskretne strukture 2 (IŠRM-1)\, Vaje (V)
DTSTART;TZID=Europe/Ljubljana:20220323T120000
DTEND;TZID=Europe/Ljubljana:20220323T150000
DTSTAMP:20260425T142520Z
UID:fmf-AFLABS-URNIK:premaknjeno-srecanje:17064
ATTENDEE:1. letnik (IŠRM)
CATEGORIES:Entry,Standard
COLOR:darkgreen
DESCRIPTION:Predmet: Diskretne strukture 2 (IŠRM-1)\, Vaje (V)\nLetniki: 
 1. letnik (IŠRM)\nIzvajalci: Tilen Marc\nProstor: 2.04
LOCATION:2.04
ORGANIZER:Tilen Marc
RELATED-TO:fmf-AFLABS-URNIK:srecanje:6895
X-WR-TIMEZONE:Europe/Ljubljana
END:VEVENT
BEGIN:VEVENT
SUMMARY:Diskretne strukture 2 (IŠRM-1)\, Vaje (V)
DTSTART;TZID=Europe/Ljubljana:20220330T120000
DTEND;TZID=Europe/Ljubljana:20220330T150000
DTSTAMP:20260425T142520Z
UID:fmf-AFLABS-URNIK:premaknjeno-srecanje:17065
ATTENDEE:1. letnik (IŠRM)
CATEGORIES:Entry,Standard
COLOR:darkgreen
DESCRIPTION:Predmet: Diskretne strukture 2 (IŠRM-1)\, Vaje (V)\nLetniki: 
 1. letnik (IŠRM)\nIzvajalci: Tilen Marc\nProstor: 2.04
LOCATION:2.04
ORGANIZER:Tilen Marc
RELATED-TO:fmf-AFLABS-URNIK:srecanje:6895
X-WR-TIMEZONE:Europe/Ljubljana
END:VEVENT
BEGIN:VEVENT
SUMMARY:Diskretne strukture 2 (IŠRM-1)\, Vaje (V)
DTSTART;TZID=Europe/Ljubljana:20220406T120000
DTEND;TZID=Europe/Ljubljana:20220406T150000
DTSTAMP:20260425T142520Z
UID:fmf-AFLABS-URNIK:premaknjeno-srecanje:17066
ATTENDEE:1. letnik (IŠRM)
CATEGORIES:Entry,Standard
COLOR:darkgreen
DESCRIPTION:Predmet: Diskretne strukture 2 (IŠRM-1)\, Vaje (V)\nLetniki: 
 1. letnik (IŠRM)\nIzvajalci: Tilen Marc\nProstor: 2.04
LOCATION:2.04
ORGANIZER:Tilen Marc
RELATED-TO:fmf-AFLABS-URNIK:srecanje:6895
X-WR-TIMEZONE:Europe/Ljubljana
END:VEVENT
BEGIN:VEVENT
SUMMARY:Diskretne strukture 2 (IŠRM-1)\, Vaje (V)
DTSTART;TZID=Europe/Ljubljana:20220413T120000
DTEND;TZID=Europe/Ljubljana:20220413T150000
DTSTAMP:20260425T142520Z
UID:fmf-AFLABS-URNIK:premaknjeno-srecanje:17067
ATTENDEE:1. letnik (IŠRM)
CATEGORIES:Entry,Standard
COLOR:darkgreen
DESCRIPTION:Predmet: Diskretne strukture 2 (IŠRM-1)\, Vaje (V)\nLetniki: 
 1. letnik (IŠRM)\nIzvajalci: Tilen Marc\nProstor: 2.04
LOCATION:2.04
ORGANIZER:Tilen Marc
RELATED-TO:fmf-AFLABS-URNIK:srecanje:6895
X-WR-TIMEZONE:Europe/Ljubljana
END:VEVENT
BEGIN:VEVENT
SUMMARY:Diskretne strukture 2 (IŠRM-1)\, Vaje (V)
DTSTART;TZID=Europe/Ljubljana:20220420T120000
DTEND;TZID=Europe/Ljubljana:20220420T150000
DTSTAMP:20260425T142520Z
UID:fmf-AFLABS-URNIK:premaknjeno-srecanje:17068
ATTENDEE:1. letnik (IŠRM)
CATEGORIES:Entry,Standard
COLOR:darkgreen
DESCRIPTION:Predmet: Diskretne strukture 2 (IŠRM-1)\, Vaje (V)\nLetniki: 
 1. letnik (IŠRM)\nIzvajalci: Tilen Marc\nProstor: 2.04
LOCATION:2.04
ORGANIZER:Tilen Marc
RELATED-TO:fmf-AFLABS-URNIK:srecanje:6895
X-WR-TIMEZONE:Europe/Ljubljana
END:VEVENT
BEGIN:VEVENT
SUMMARY:Diskretne strukture 2 (IŠRM-1)\, Vaje (V)
DTSTART;TZID=Europe/Ljubljana:20220427T120000
DTEND;TZID=Europe/Ljubljana:20220427T150000
DTSTAMP:20260425T142520Z
UID:fmf-AFLABS-URNIK:premaknjeno-srecanje:17069
ATTENDEE:1. letnik (IŠRM)
CATEGORIES:Entry,Standard
COLOR:darkgreen
DESCRIPTION:Predmet: Diskretne strukture 2 (IŠRM-1)\, Vaje (V)\nLetniki: 
 1. letnik (IŠRM)\nIzvajalci: Tilen Marc\nProstor: 2.04
LOCATION:2.04
ORGANIZER:Tilen Marc
RELATED-TO:fmf-AFLABS-URNIK:srecanje:6895
X-WR-TIMEZONE:Europe/Ljubljana
END:VEVENT
BEGIN:VEVENT
SUMMARY:Diskretne strukture 2 (IŠRM-1)\, Vaje (V)
DTSTART;TZID=Europe/Ljubljana:20220504T120000
DTEND;TZID=Europe/Ljubljana:20220504T150000
DTSTAMP:20260425T142520Z
UID:fmf-AFLABS-URNIK:premaknjeno-srecanje:17070
ATTENDEE:1. letnik (IŠRM)
CATEGORIES:Entry,Standard
COLOR:darkgreen
DESCRIPTION:Predmet: Diskretne strukture 2 (IŠRM-1)\, Vaje (V)\nLetniki: 
 1. letnik (IŠRM)\nIzvajalci: Tilen Marc\nProstor: 2.04
LOCATION:2.04
ORGANIZER:Tilen Marc
RELATED-TO:fmf-AFLABS-URNIK:srecanje:6895
X-WR-TIMEZONE:Europe/Ljubljana
END:VEVENT
BEGIN:VEVENT
SUMMARY:Diskretne strukture 2 (IŠRM-1)\, Vaje (V)
DTSTART;TZID=Europe/Ljubljana:20220511T120000
DTEND;TZID=Europe/Ljubljana:20220511T150000
DTSTAMP:20260425T142520Z
UID:fmf-AFLABS-URNIK:premaknjeno-srecanje:17071
ATTENDEE:1. letnik (IŠRM)
CATEGORIES:Entry,Standard
COLOR:darkgreen
DESCRIPTION:Predmet: Diskretne strukture 2 (IŠRM-1)\, Vaje (V)\nLetniki: 
 1. letnik (IŠRM)\nIzvajalci: Tilen Marc\nProstor: 2.04
LOCATION:2.04
ORGANIZER:Tilen Marc
RELATED-TO:fmf-AFLABS-URNIK:srecanje:6895
X-WR-TIMEZONE:Europe/Ljubljana
END:VEVENT
BEGIN:VEVENT
SUMMARY:Diskretne strukture 2 (IŠRM-1)\, Vaje (V)
DTSTART;TZID=Europe/Ljubljana:20220518T120000
DTEND;TZID=Europe/Ljubljana:20220518T150000
DTSTAMP:20260425T142520Z
UID:fmf-AFLABS-URNIK:premaknjeno-srecanje:17072
ATTENDEE:1. letnik (IŠRM)
CATEGORIES:Entry,Standard
COLOR:darkgreen
DESCRIPTION:Predmet: Diskretne strukture 2 (IŠRM-1)\, Vaje (V)\nLetniki: 
 1. letnik (IŠRM)\nIzvajalci: Tilen Marc\nProstor: 2.04
LOCATION:2.04
ORGANIZER:Tilen Marc
RELATED-TO:fmf-AFLABS-URNIK:srecanje:6895
X-WR-TIMEZONE:Europe/Ljubljana
END:VEVENT
BEGIN:VEVENT
SUMMARY:Diskretne strukture 2 (IŠRM-1)\, Vaje (V)
DTSTART;TZID=Europe/Ljubljana:20220525T120000
DTEND;TZID=Europe/Ljubljana:20220525T150000
DTSTAMP:20260425T142520Z
UID:fmf-AFLABS-URNIK:premaknjeno-srecanje:17073
ATTENDEE:1. letnik (IŠRM)
CATEGORIES:Entry,Standard
COLOR:darkgreen
DESCRIPTION:Predmet: Diskretne strukture 2 (IŠRM-1)\, Vaje (V)\nLetniki: 
 1. letnik (IŠRM)\nIzvajalci: Tilen Marc\nProstor: 2.04
LOCATION:2.04
ORGANIZER:Tilen Marc
RELATED-TO:fmf-AFLABS-URNIK:srecanje:6895
X-WR-TIMEZONE:Europe/Ljubljana
END:VEVENT
END:VCALENDAR
