BEGIN:VCALENDAR
VERSION:2.0
PRODID:-//AFLabs urnik izvoz - fmf//aflabs.si//SI
DTSTAMP:20260423T235404Z
NAME:UL FMF urnik
REFRESH-INTERVAL:PT1H
SOURCE:https://urnik.fmf.uni-lj.si/teacher/381?day=2021-05-17&export=1
URL:https://urnik.fmf.uni-lj.si/teacher/381?day=2021-05-17&export=1
X-PUBLISHED-TTL:PT1H
X-WR-CALNAME:UL FMF urnik
X-WR-TIMEZONE:Europe/Ljubljana
BEGIN:VTIMEZONE
TZID:Europe/Ljubljana
BEGIN:DAYLIGHT
DTSTART:20260329T020000
RDATE:20260329T020000
RDATE:20270328T020000
TZNAME:CEST
TZOFFSETFROM:+0100
TZOFFSETTO:+0200
END:DAYLIGHT
BEGIN:STANDARD
DTSTART:20261025T030000
RDATE:20261025T030000
RDATE:20271031T030000
TZNAME:CET
TZOFFSETFROM:+0200
TZOFFSETTO:+0100
END:STANDARD
END:VTIMEZONE
BEGIN:VEVENT
SUMMARY:Napredno strojno učenje (FM-M\, MAT-M\, PM-5)\, Predavanja (P)
DTSTART;TZID=Europe/Ljubljana:20210218T160000
DTEND;TZID=Europe/Ljubljana:20210218T190000
DTSTAMP:20260423T235404Z
UID:fmf-AFLABS-URNIK:premaknjeno-srecanje:75752
ATTENDEE:5. letnik (PM)
ATTENDEE:magistrski študij (FM)
ATTENDEE:magistrski študij (M)
CATEGORIES:Entry,Standard
COLOR:darkgreen
DESCRIPTION:Predmet: Napredno strojno učenje (FM-M\, MAT-M\, PM-5)\, Pred
 avanja (P)\nLetniki: magistrski študij (FM)\, magistrski študij (M)\, 5.
  letnik (PM)\nIzvajalci: Ljupčo Todorovski\nProstor: 3.07
LOCATION:3.07
ORGANIZER:Ljupčo Todorovski
RELATED-TO:fmf-AFLABS-URNIK:srecanje:5623
X-WR-TIMEZONE:Europe/Ljubljana
END:VEVENT
BEGIN:VEVENT
SUMMARY:Napredno strojno učenje (FM-M\, MAT-M\, PM-5)\, Predavanja (P)
DTSTART;TZID=Europe/Ljubljana:20210225T160000
DTEND;TZID=Europe/Ljubljana:20210225T190000
DTSTAMP:20260423T235404Z
UID:fmf-AFLABS-URNIK:premaknjeno-srecanje:75753
ATTENDEE:5. letnik (PM)
ATTENDEE:magistrski študij (FM)
ATTENDEE:magistrski študij (M)
CATEGORIES:Entry,Standard
COLOR:darkgreen
DESCRIPTION:Predmet: Napredno strojno učenje (FM-M\, MAT-M\, PM-5)\, Pred
 avanja (P)\nLetniki: magistrski študij (FM)\, magistrski študij (M)\, 5.
  letnik (PM)\nIzvajalci: Ljupčo Todorovski\nProstor: 3.07
LOCATION:3.07
ORGANIZER:Ljupčo Todorovski
RELATED-TO:fmf-AFLABS-URNIK:srecanje:5623
X-WR-TIMEZONE:Europe/Ljubljana
END:VEVENT
BEGIN:VEVENT
SUMMARY:Napredno strojno učenje (FM-M\, MAT-M\, PM-5)\, Predavanja (P)
DTSTART;TZID=Europe/Ljubljana:20210304T160000
DTEND;TZID=Europe/Ljubljana:20210304T190000
DTSTAMP:20260423T235404Z
UID:fmf-AFLABS-URNIK:premaknjeno-srecanje:75754
ATTENDEE:5. letnik (PM)
ATTENDEE:magistrski študij (FM)
ATTENDEE:magistrski študij (M)
CATEGORIES:Entry,Standard
COLOR:darkgreen
DESCRIPTION:Predmet: Napredno strojno učenje (FM-M\, MAT-M\, PM-5)\, Pred
 avanja (P)\nLetniki: magistrski študij (FM)\, magistrski študij (M)\, 5.
  letnik (PM)\nIzvajalci: Ljupčo Todorovski\nProstor: 3.07
LOCATION:3.07
ORGANIZER:Ljupčo Todorovski
RELATED-TO:fmf-AFLABS-URNIK:srecanje:5623
X-WR-TIMEZONE:Europe/Ljubljana
END:VEVENT
BEGIN:VEVENT
SUMMARY:Napredno strojno učenje (FM-M\, MAT-M\, PM-5)\, Predavanja (P)
DTSTART;TZID=Europe/Ljubljana:20210311T160000
DTEND;TZID=Europe/Ljubljana:20210311T190000
DTSTAMP:20260423T235404Z
UID:fmf-AFLABS-URNIK:premaknjeno-srecanje:75755
ATTENDEE:5. letnik (PM)
ATTENDEE:magistrski študij (FM)
ATTENDEE:magistrski študij (M)
CATEGORIES:Entry,Standard
COLOR:darkgreen
DESCRIPTION:Predmet: Napredno strojno učenje (FM-M\, MAT-M\, PM-5)\, Pred
 avanja (P)\nLetniki: magistrski študij (FM)\, magistrski študij (M)\, 5.
  letnik (PM)\nIzvajalci: Ljupčo Todorovski\nProstor: 3.07
LOCATION:3.07
ORGANIZER:Ljupčo Todorovski
RELATED-TO:fmf-AFLABS-URNIK:srecanje:5623
X-WR-TIMEZONE:Europe/Ljubljana
END:VEVENT
BEGIN:VEVENT
SUMMARY:Napredno strojno učenje (FM-M\, MAT-M\, PM-5)\, Predavanja (P)
DTSTART;TZID=Europe/Ljubljana:20210318T160000
DTEND;TZID=Europe/Ljubljana:20210318T190000
DTSTAMP:20260423T235404Z
UID:fmf-AFLABS-URNIK:premaknjeno-srecanje:75756
ATTENDEE:5. letnik (PM)
ATTENDEE:magistrski študij (FM)
ATTENDEE:magistrski študij (M)
CATEGORIES:Entry,Standard
COLOR:darkgreen
DESCRIPTION:Predmet: Napredno strojno učenje (FM-M\, MAT-M\, PM-5)\, Pred
 avanja (P)\nLetniki: magistrski študij (FM)\, magistrski študij (M)\, 5.
  letnik (PM)\nIzvajalci: Ljupčo Todorovski\nProstor: 3.07
LOCATION:3.07
ORGANIZER:Ljupčo Todorovski
RELATED-TO:fmf-AFLABS-URNIK:srecanje:5623
X-WR-TIMEZONE:Europe/Ljubljana
END:VEVENT
BEGIN:VEVENT
SUMMARY:Napredno strojno učenje (FM-M\, MAT-M\, PM-5)\, Predavanja (P)
DTSTART;TZID=Europe/Ljubljana:20210325T160000
DTEND;TZID=Europe/Ljubljana:20210325T190000
DTSTAMP:20260423T235404Z
UID:fmf-AFLABS-URNIK:premaknjeno-srecanje:75757
ATTENDEE:5. letnik (PM)
ATTENDEE:magistrski študij (FM)
ATTENDEE:magistrski študij (M)
CATEGORIES:Entry,Standard
COLOR:darkgreen
DESCRIPTION:Predmet: Napredno strojno učenje (FM-M\, MAT-M\, PM-5)\, Pred
 avanja (P)\nLetniki: magistrski študij (FM)\, magistrski študij (M)\, 5.
  letnik (PM)\nIzvajalci: Ljupčo Todorovski\nProstor: 3.07
LOCATION:3.07
ORGANIZER:Ljupčo Todorovski
RELATED-TO:fmf-AFLABS-URNIK:srecanje:5623
X-WR-TIMEZONE:Europe/Ljubljana
END:VEVENT
BEGIN:VEVENT
SUMMARY:Napredno strojno učenje (FM-M\, MAT-M\, PM-5)\, Predavanja (P)
DTSTART;TZID=Europe/Ljubljana:20210401T160000
DTEND;TZID=Europe/Ljubljana:20210401T190000
DTSTAMP:20260423T235404Z
UID:fmf-AFLABS-URNIK:premaknjeno-srecanje:75758
ATTENDEE:5. letnik (PM)
ATTENDEE:magistrski študij (FM)
ATTENDEE:magistrski študij (M)
CATEGORIES:Entry,Standard
COLOR:darkgreen
DESCRIPTION:Predmet: Napredno strojno učenje (FM-M\, MAT-M\, PM-5)\, Pred
 avanja (P)\nLetniki: magistrski študij (FM)\, magistrski študij (M)\, 5.
  letnik (PM)\nIzvajalci: Ljupčo Todorovski\nProstor: 3.07
LOCATION:3.07
ORGANIZER:Ljupčo Todorovski
RELATED-TO:fmf-AFLABS-URNIK:srecanje:5623
X-WR-TIMEZONE:Europe/Ljubljana
END:VEVENT
BEGIN:VEVENT
SUMMARY:Napredno strojno učenje (FM-M\, MAT-M\, PM-5)\, Predavanja (P)
DTSTART;TZID=Europe/Ljubljana:20210408T160000
DTEND;TZID=Europe/Ljubljana:20210408T190000
DTSTAMP:20260423T235404Z
UID:fmf-AFLABS-URNIK:premaknjeno-srecanje:75759
ATTENDEE:5. letnik (PM)
ATTENDEE:magistrski študij (FM)
ATTENDEE:magistrski študij (M)
CATEGORIES:Entry,Standard
COLOR:darkgreen
DESCRIPTION:Predmet: Napredno strojno učenje (FM-M\, MAT-M\, PM-5)\, Pred
 avanja (P)\nLetniki: magistrski študij (FM)\, magistrski študij (M)\, 5.
  letnik (PM)\nIzvajalci: Ljupčo Todorovski\nProstor: 3.07
LOCATION:3.07
ORGANIZER:Ljupčo Todorovski
RELATED-TO:fmf-AFLABS-URNIK:srecanje:5623
X-WR-TIMEZONE:Europe/Ljubljana
END:VEVENT
BEGIN:VEVENT
SUMMARY:Napredno strojno učenje (FM-M\, MAT-M\, PM-5)\, Predavanja (P)
DTSTART;TZID=Europe/Ljubljana:20210415T160000
DTEND;TZID=Europe/Ljubljana:20210415T190000
DTSTAMP:20260423T235404Z
UID:fmf-AFLABS-URNIK:premaknjeno-srecanje:75760
ATTENDEE:5. letnik (PM)
ATTENDEE:magistrski študij (FM)
ATTENDEE:magistrski študij (M)
CATEGORIES:Entry,Standard
COLOR:darkgreen
DESCRIPTION:Predmet: Napredno strojno učenje (FM-M\, MAT-M\, PM-5)\, Pred
 avanja (P)\nLetniki: magistrski študij (FM)\, magistrski študij (M)\, 5.
  letnik (PM)\nIzvajalci: Ljupčo Todorovski\nProstor: 3.07
LOCATION:3.07
ORGANIZER:Ljupčo Todorovski
RELATED-TO:fmf-AFLABS-URNIK:srecanje:5623
X-WR-TIMEZONE:Europe/Ljubljana
END:VEVENT
BEGIN:VEVENT
SUMMARY:Napredno strojno učenje (FM-M\, MAT-M\, PM-5)\, Predavanja (P)
DTSTART;TZID=Europe/Ljubljana:20210422T160000
DTEND;TZID=Europe/Ljubljana:20210422T190000
DTSTAMP:20260423T235404Z
UID:fmf-AFLABS-URNIK:premaknjeno-srecanje:75761
ATTENDEE:5. letnik (PM)
ATTENDEE:magistrski študij (FM)
ATTENDEE:magistrski študij (M)
CATEGORIES:Entry,Standard
COLOR:darkgreen
DESCRIPTION:Predmet: Napredno strojno učenje (FM-M\, MAT-M\, PM-5)\, Pred
 avanja (P)\nLetniki: magistrski študij (FM)\, magistrski študij (M)\, 5.
  letnik (PM)\nIzvajalci: Ljupčo Todorovski\nProstor: 3.07
LOCATION:3.07
ORGANIZER:Ljupčo Todorovski
RELATED-TO:fmf-AFLABS-URNIK:srecanje:5623
X-WR-TIMEZONE:Europe/Ljubljana
END:VEVENT
BEGIN:VEVENT
SUMMARY:Napredno strojno učenje (FM-M\, MAT-M\, PM-5)\, Predavanja (P)
DTSTART;TZID=Europe/Ljubljana:20210429T160000
DTEND;TZID=Europe/Ljubljana:20210429T190000
DTSTAMP:20260423T235404Z
UID:fmf-AFLABS-URNIK:premaknjeno-srecanje:75762
ATTENDEE:5. letnik (PM)
ATTENDEE:magistrski študij (FM)
ATTENDEE:magistrski študij (M)
CATEGORIES:Entry,Standard
COLOR:darkgreen
DESCRIPTION:Predmet: Napredno strojno učenje (FM-M\, MAT-M\, PM-5)\, Pred
 avanja (P)\nLetniki: magistrski študij (FM)\, magistrski študij (M)\, 5.
  letnik (PM)\nIzvajalci: Ljupčo Todorovski\nProstor: 3.07
LOCATION:3.07
ORGANIZER:Ljupčo Todorovski
RELATED-TO:fmf-AFLABS-URNIK:srecanje:5623
X-WR-TIMEZONE:Europe/Ljubljana
END:VEVENT
BEGIN:VEVENT
SUMMARY:Napredno strojno učenje (FM-M\, MAT-M\, PM-5)\, Predavanja (P)
DTSTART;TZID=Europe/Ljubljana:20210506T160000
DTEND;TZID=Europe/Ljubljana:20210506T190000
DTSTAMP:20260423T235404Z
UID:fmf-AFLABS-URNIK:premaknjeno-srecanje:75763
ATTENDEE:5. letnik (PM)
ATTENDEE:magistrski študij (FM)
ATTENDEE:magistrski študij (M)
CATEGORIES:Entry,Standard
COLOR:darkgreen
DESCRIPTION:Predmet: Napredno strojno učenje (FM-M\, MAT-M\, PM-5)\, Pred
 avanja (P)\nLetniki: magistrski študij (FM)\, magistrski študij (M)\, 5.
  letnik (PM)\nIzvajalci: Ljupčo Todorovski\nProstor: 3.07
LOCATION:3.07
ORGANIZER:Ljupčo Todorovski
RELATED-TO:fmf-AFLABS-URNIK:srecanje:5623
X-WR-TIMEZONE:Europe/Ljubljana
END:VEVENT
BEGIN:VEVENT
SUMMARY:Napredno strojno učenje (FM-M\, MAT-M\, PM-5)\, Predavanja (P)
DTSTART;TZID=Europe/Ljubljana:20210513T160000
DTEND;TZID=Europe/Ljubljana:20210513T190000
DTSTAMP:20260423T235404Z
UID:fmf-AFLABS-URNIK:premaknjeno-srecanje:75764
ATTENDEE:5. letnik (PM)
ATTENDEE:magistrski študij (FM)
ATTENDEE:magistrski študij (M)
CATEGORIES:Entry,Standard
COLOR:darkgreen
DESCRIPTION:Predmet: Napredno strojno učenje (FM-M\, MAT-M\, PM-5)\, Pred
 avanja (P)\nLetniki: magistrski študij (FM)\, magistrski študij (M)\, 5.
  letnik (PM)\nIzvajalci: Ljupčo Todorovski\nProstor: 3.07
LOCATION:3.07
ORGANIZER:Ljupčo Todorovski
RELATED-TO:fmf-AFLABS-URNIK:srecanje:5623
X-WR-TIMEZONE:Europe/Ljubljana
END:VEVENT
BEGIN:VEVENT
SUMMARY:Napredno strojno učenje (FM-M\, MAT-M\, PM-5)\, Predavanja (P)
DTSTART;TZID=Europe/Ljubljana:20210520T160000
DTEND;TZID=Europe/Ljubljana:20210520T190000
DTSTAMP:20260423T235404Z
UID:fmf-AFLABS-URNIK:premaknjeno-srecanje:75765
ATTENDEE:5. letnik (PM)
ATTENDEE:magistrski študij (FM)
ATTENDEE:magistrski študij (M)
CATEGORIES:Entry,Standard
COLOR:darkgreen
DESCRIPTION:Predmet: Napredno strojno učenje (FM-M\, MAT-M\, PM-5)\, Pred
 avanja (P)\nLetniki: magistrski študij (FM)\, magistrski študij (M)\, 5.
  letnik (PM)\nIzvajalci: Ljupčo Todorovski\nProstor: 3.07
LOCATION:3.07
ORGANIZER:Ljupčo Todorovski
RELATED-TO:fmf-AFLABS-URNIK:srecanje:5623
X-WR-TIMEZONE:Europe/Ljubljana
END:VEVENT
BEGIN:VEVENT
SUMMARY:Napredno strojno učenje (FM-M\, MAT-M\, PM-5)\, Predavanja (P)
DTSTART;TZID=Europe/Ljubljana:20210527T160000
DTEND;TZID=Europe/Ljubljana:20210527T190000
DTSTAMP:20260423T235404Z
UID:fmf-AFLABS-URNIK:premaknjeno-srecanje:75766
ATTENDEE:5. letnik (PM)
ATTENDEE:magistrski študij (FM)
ATTENDEE:magistrski študij (M)
CATEGORIES:Entry,Standard
COLOR:darkgreen
DESCRIPTION:Predmet: Napredno strojno učenje (FM-M\, MAT-M\, PM-5)\, Pred
 avanja (P)\nLetniki: magistrski študij (FM)\, magistrski študij (M)\, 5.
  letnik (PM)\nIzvajalci: Ljupčo Todorovski\nProstor: 3.07
LOCATION:3.07
ORGANIZER:Ljupčo Todorovski
RELATED-TO:fmf-AFLABS-URNIK:srecanje:5623
X-WR-TIMEZONE:Europe/Ljubljana
END:VEVENT
END:VCALENDAR
