BEGIN:VCALENDAR
VERSION:2.0
PRODID:-//AFLabs urnik izvoz - fmf//aflabs.si//SI
DTSTAMP:20260421T005600Z
NAME:UL FMF urnik
REFRESH-INTERVAL:PT1H
SOURCE:https://urnik.fmf.uni-lj.si/teacher/385?day=2021-06-21&export=1
URL:https://urnik.fmf.uni-lj.si/teacher/385?day=2021-06-21&export=1
X-PUBLISHED-TTL:PT1H
X-WR-CALNAME:UL FMF urnik
X-WR-TIMEZONE:Europe/Ljubljana
BEGIN:VTIMEZONE
TZID:Europe/Ljubljana
BEGIN:DAYLIGHT
DTSTART:20260329T020000
RDATE:20260329T020000
RDATE:20270328T020000
TZNAME:CEST
TZOFFSETFROM:+0100
TZOFFSETTO:+0200
END:DAYLIGHT
BEGIN:STANDARD
DTSTART:20261025T030000
RDATE:20261025T030000
RDATE:20271031T030000
TZNAME:CET
TZOFFSETFROM:+0200
TZOFFSETTO:+0100
END:STANDARD
END:VTIMEZONE
BEGIN:VEVENT
SUMMARY:Elementarna teorija števil (MAT-3\, PM-3)\, Predavanja (P)
DTSTART;TZID=Europe/Ljubljana:20210519T160000
DTEND;TZID=Europe/Ljubljana:20210519T170000
DTSTAMP:20260421T005600Z
UID:fmf-AFLABS-URNIK:premaknjeno-srecanje:19589
ATTENDEE:3. letnik (M)
ATTENDEE:3. letnik (PM)
CATEGORIES:Entry,Standard
COLOR:darkgreen
DESCRIPTION:Predmet: Elementarna teorija števil (MAT-3\, PM-3)\, Predavan
 ja (P)\nLetniki: 3. letnik (M)\, 3. letnik (PM)\nIzvajalci: Urban Jezernik
 \nProstor: 2.03
LOCATION:2.03
ORGANIZER:Urban Jezernik
RELATED-TO:fmf-AFLABS-URNIK:srecanje:6026
X-WR-TIMEZONE:Europe/Ljubljana
END:VEVENT
BEGIN:VEVENT
SUMMARY:Elementarna teorija števil (MAT-3\, PM-3)\, Predavanja (P)
DTSTART;TZID=Europe/Ljubljana:20210526T160000
DTEND;TZID=Europe/Ljubljana:20210526T170000
DTSTAMP:20260421T005600Z
UID:fmf-AFLABS-URNIK:premaknjeno-srecanje:19590
ATTENDEE:3. letnik (M)
ATTENDEE:3. letnik (PM)
CATEGORIES:Entry,Standard
COLOR:darkgreen
DESCRIPTION:Predmet: Elementarna teorija števil (MAT-3\, PM-3)\, Predavan
 ja (P)\nLetniki: 3. letnik (M)\, 3. letnik (PM)\nIzvajalci: Urban Jezernik
 \nProstor: 2.03
LOCATION:2.03
ORGANIZER:Urban Jezernik
RELATED-TO:fmf-AFLABS-URNIK:srecanje:6026
X-WR-TIMEZONE:Europe/Ljubljana
END:VEVENT
BEGIN:VEVENT
SUMMARY:Izbrana poglavja iz algebre (FM-M\, MAT-M\, PM-5)\, Predavanja (P)
DTSTART;TZID=Europe/Ljubljana:20210519T080000
DTEND;TZID=Europe/Ljubljana:20210519T100000
DTSTAMP:20260421T005600Z
UID:fmf-AFLABS-URNIK:premaknjeno-srecanje:42516
ATTENDEE:5. letnik (PM)
ATTENDEE:magistrski študij (FM)
ATTENDEE:magistrski študij (M)
CATEGORIES:Entry,Standard
COLOR:darkgreen
DESCRIPTION:Predmet: Izbrana poglavja iz algebre (FM-M\, MAT-M\, PM-5)\, P
 redavanja (P)\nLetniki: magistrski študij (FM)\, magistrski študij (M)\,
  5. letnik (PM)\nIzvajalci: Urban Jezernik\nProstor: 3.06
LOCATION:3.06
ORGANIZER:Urban Jezernik
RELATED-TO:fmf-AFLABS-URNIK:srecanje:5618
X-WR-TIMEZONE:Europe/Ljubljana
END:VEVENT
BEGIN:VEVENT
SUMMARY:Izbrana poglavja iz algebre (FM-M\, MAT-M\, PM-5)\, Predavanja (P)
DTSTART;TZID=Europe/Ljubljana:20210526T080000
DTEND;TZID=Europe/Ljubljana:20210526T100000
DTSTAMP:20260421T005600Z
UID:fmf-AFLABS-URNIK:premaknjeno-srecanje:42517
ATTENDEE:5. letnik (PM)
ATTENDEE:magistrski študij (FM)
ATTENDEE:magistrski študij (M)
CATEGORIES:Entry,Standard
COLOR:darkgreen
DESCRIPTION:Predmet: Izbrana poglavja iz algebre (FM-M\, MAT-M\, PM-5)\, P
 redavanja (P)\nLetniki: magistrski študij (FM)\, magistrski študij (M)\,
  5. letnik (PM)\nIzvajalci: Urban Jezernik\nProstor: 3.06
LOCATION:3.06
ORGANIZER:Urban Jezernik
RELATED-TO:fmf-AFLABS-URNIK:srecanje:5618
X-WR-TIMEZONE:Europe/Ljubljana
END:VEVENT
BEGIN:VEVENT
SUMMARY:Elementarna teorija števil (MAT-3\, PM-3)\, Predavanja (P)
DTSTART;TZID=Europe/Ljubljana:20210520T080000
DTEND;TZID=Europe/Ljubljana:20210520T100000
DTSTAMP:20260421T005600Z
UID:fmf-AFLABS-URNIK:premaknjeno-srecanje:19620
ATTENDEE:3. letnik (M)
ATTENDEE:3. letnik (PM)
CATEGORIES:Entry,Standard
COLOR:darkgreen
DESCRIPTION:Predmet: Elementarna teorija števil (MAT-3\, PM-3)\, Predavan
 ja (P)\nLetniki: 3. letnik (M)\, 3. letnik (PM)\nIzvajalci: Urban Jezernik
 \nProstor: 2.03
LOCATION:2.03
ORGANIZER:Urban Jezernik
RELATED-TO:fmf-AFLABS-URNIK:srecanje:6050
X-WR-TIMEZONE:Europe/Ljubljana
END:VEVENT
BEGIN:VEVENT
SUMMARY:Elementarna teorija števil (MAT-3\, PM-3)\, Predavanja (P)
DTSTART;TZID=Europe/Ljubljana:20210527T080000
DTEND;TZID=Europe/Ljubljana:20210527T100000
DTSTAMP:20260421T005600Z
UID:fmf-AFLABS-URNIK:premaknjeno-srecanje:19621
ATTENDEE:3. letnik (M)
ATTENDEE:3. letnik (PM)
CATEGORIES:Entry,Standard
COLOR:darkgreen
DESCRIPTION:Predmet: Elementarna teorija števil (MAT-3\, PM-3)\, Predavan
 ja (P)\nLetniki: 3. letnik (M)\, 3. letnik (PM)\nIzvajalci: Urban Jezernik
 \nProstor: 2.03
LOCATION:2.03
ORGANIZER:Urban Jezernik
RELATED-TO:fmf-AFLABS-URNIK:srecanje:6050
X-WR-TIMEZONE:Europe/Ljubljana
END:VEVENT
BEGIN:VEVENT
SUMMARY:Računalniška orodja v matematiki (APM-1)\, Predavanja (P)
DTSTART;TZID=Europe/Ljubljana:20210520T150000
DTEND;TZID=Europe/Ljubljana:20210520T160000
DTSTAMP:20260421T005600Z
UID:fmf-AFLABS-URNIK:premaknjeno-srecanje:91478
ATTENDEE:1. letnik (APM)
CATEGORIES:Entry,Standard
COLOR:darkgreen
DESCRIPTION:Predmet: Računalniška orodja v matematiki (APM-1)\, Predavan
 ja (P)\nLetniki: 1. letnik (APM)\nIzvajalci: Urban Jezernik\nProstor: 2.05
LOCATION:2.05
ORGANIZER:Urban Jezernik
RELATED-TO:fmf-AFLABS-URNIK:srecanje:5953
X-WR-TIMEZONE:Europe/Ljubljana
END:VEVENT
BEGIN:VEVENT
SUMMARY:Računalniška orodja v matematiki (APM-1)\, Predavanja (P)
DTSTART;TZID=Europe/Ljubljana:20210527T150000
DTEND;TZID=Europe/Ljubljana:20210527T160000
DTSTAMP:20260421T005600Z
UID:fmf-AFLABS-URNIK:premaknjeno-srecanje:91479
ATTENDEE:1. letnik (APM)
CATEGORIES:Entry,Standard
COLOR:darkgreen
DESCRIPTION:Predmet: Računalniška orodja v matematiki (APM-1)\, Predavan
 ja (P)\nLetniki: 1. letnik (APM)\nIzvajalci: Urban Jezernik\nProstor: 2.05
LOCATION:2.05
ORGANIZER:Urban Jezernik
RELATED-TO:fmf-AFLABS-URNIK:srecanje:5953
X-WR-TIMEZONE:Europe/Ljubljana
END:VEVENT
BEGIN:VEVENT
SUMMARY:Rezervacija
DTSTART;TZID=Europe/Ljubljana:20210601T100000
DTEND;TZID=Europe/Ljubljana:20210601T120000
DTSTAMP:20260421T005600Z
UID:fmf-AFLABS-URNIK:rezervacija:6704
ATTENDEE:3. letnik (M)
ATTENDEE:3. letnik (PM)
CATEGORIES:Reservation
COLOR:royalblue
DESCRIPTION:Predmeti: Elementarna teorija števil (MAT-3\, PM-3)\nLetniki:
  3. letnik (M)\, 3. letnik (PM)\nIzvajalci: Urban Jezernik\nProstori: 3.07
LOCATION:3.07
ORGANIZER:Urban Jezernik
X-WR-TIMEZONE:Europe/Ljubljana
END:VEVENT
BEGIN:VEVENT
SUMMARY:Rezervacija
DTSTART;TZID=Europe/Ljubljana:20210604T100000
DTEND;TZID=Europe/Ljubljana:20210604T130000
DTSTAMP:20260421T005600Z
UID:fmf-AFLABS-URNIK:rezervacija:6745
ATTENDEE:3. letnik (M)
ATTENDEE:3. letnik (PM)
CATEGORIES:Reservation
COLOR:royalblue
DESCRIPTION:Predmeti: Elementarna teorija števil (MAT-3\, PM-3)\nLetniki:
  3. letnik (M)\, 3. letnik (PM)\nIzvajalci: Urban Jezernik\nProstori: 3.06
LOCATION:3.06
ORGANIZER:Urban Jezernik
X-WR-TIMEZONE:Europe/Ljubljana
END:VEVENT
BEGIN:VEVENT
SUMMARY:Rezervacija
DTSTART;TZID=Europe/Ljubljana:20210607T100000
DTEND;TZID=Europe/Ljubljana:20210607T130000
DTSTAMP:20260421T005600Z
UID:fmf-AFLABS-URNIK:rezervacija:6762
ATTENDEE:3. letnik (M)
ATTENDEE:3. letnik (PM)
CATEGORIES:Reservation
COLOR:royalblue
DESCRIPTION:Predmeti: Elementarna teorija števil (MAT-3\, PM-3)\nLetniki:
  3. letnik (M)\, 3. letnik (PM)\nIzvajalci: Urban Jezernik\nProstori: 3.06
LOCATION:3.06
ORGANIZER:Urban Jezernik
X-WR-TIMEZONE:Europe/Ljubljana
END:VEVENT
BEGIN:VEVENT
SUMMARY:Rezervacija
DTSTART;TZID=Europe/Ljubljana:20210624T100000
DTEND;TZID=Europe/Ljubljana:20210624T110000
DTSTAMP:20260421T005600Z
UID:fmf-AFLABS-URNIK:rezervacija:7051
ATTENDEE:5. letnik (PM)
ATTENDEE:magistrski študij (FM)
ATTENDEE:magistrski študij (M)
CATEGORIES:Reservation
COLOR:royalblue
DESCRIPTION:Predmeti: Izbrana poglavja iz algebre (FM-M\, MAT-M\, PM-5)\nL
 etniki: magistrski študij (FM)\, magistrski študij (M)\, 5. letnik (PM)\
 nIzvajalci: Urban Jezernik\nProstori: 2.04
LOCATION:2.04
ORGANIZER:Urban Jezernik
X-WR-TIMEZONE:Europe/Ljubljana
END:VEVENT
BEGIN:VEVENT
SUMMARY:Rezervacija
DTSTART;TZID=Europe/Ljubljana:20210624T100000
DTEND;TZID=Europe/Ljubljana:20210624T120000
DTSTAMP:20260421T005600Z
UID:fmf-AFLABS-URNIK:rezervacija:7054
ATTENDEE:3. letnik (M)
ATTENDEE:3. letnik (PM)
CATEGORIES:Reservation
COLOR:royalblue
DESCRIPTION:Predmeti: Elementarna teorija števil (MAT-3\, PM-3)\nLetniki:
  3. letnik (M)\, 3. letnik (PM)\nIzvajalci: Urban Jezernik\nProstori: 3.07
LOCATION:3.07
ORGANIZER:Urban Jezernik
X-WR-TIMEZONE:Europe/Ljubljana
END:VEVENT
BEGIN:VEVENT
SUMMARY:Rezervacija
DTSTART;TZID=Europe/Ljubljana:20210628T090000
DTEND;TZID=Europe/Ljubljana:20210628T130000
DTSTAMP:20260421T005600Z
UID:fmf-AFLABS-URNIK:rezervacija:7072
ATTENDEE:3. letnik (M)
ATTENDEE:3. letnik (PM)
CATEGORIES:Reservation
COLOR:royalblue
DESCRIPTION:Predmeti: Elementarna teorija števil (MAT-3\, PM-3)\nLetniki:
  3. letnik (M)\, 3. letnik (PM)\nIzvajalci: Urban Jezernik\nProstori: 3.10
LOCATION:3.10
ORGANIZER:Urban Jezernik
X-WR-TIMEZONE:Europe/Ljubljana
END:VEVENT
BEGIN:VEVENT
SUMMARY:Rezervacija
DTSTART;TZID=Europe/Ljubljana:20210629T090000
DTEND;TZID=Europe/Ljubljana:20210629T130000
DTSTAMP:20260421T005600Z
UID:fmf-AFLABS-URNIK:rezervacija:7102
ATTENDEE:3. letnik (M)
ATTENDEE:3. letnik (PM)
CATEGORIES:Reservation
COLOR:royalblue
DESCRIPTION:Predmeti: Elementarna teorija števil (MAT-3\, PM-3)\nLetniki:
  3. letnik (M)\, 3. letnik (PM)\nIzvajalci: Urban Jezernik\nProstori: 3.10
LOCATION:3.10
ORGANIZER:Urban Jezernik
X-WR-TIMEZONE:Europe/Ljubljana
END:VEVENT
BEGIN:VEVENT
SUMMARY:Rezervacija
DTSTART;TZID=Europe/Ljubljana:20210630T150000
DTEND;TZID=Europe/Ljubljana:20210630T190000
DTSTAMP:20260421T005600Z
UID:fmf-AFLABS-URNIK:rezervacija:7161
ATTENDEE:3. letnik (M)
ATTENDEE:3. letnik (PM)
CATEGORIES:Reservation
COLOR:royalblue
DESCRIPTION:Predmeti: Elementarna teorija števil (MAT-3\, PM-3)\nLetniki:
  3. letnik (M)\, 3. letnik (PM)\nIzvajalci: Urban Jezernik\nProstori: 3.10
LOCATION:3.10
ORGANIZER:Urban Jezernik
X-WR-TIMEZONE:Europe/Ljubljana
END:VEVENT
END:VCALENDAR
