BEGIN:VCALENDAR
VERSION:2.0
PRODID:-//AFLabs urnik izvoz - fmf//aflabs.si//SI
DTSTAMP:20260421T030250Z
NAME:UL FMF urnik
REFRESH-INTERVAL:PT1H
SOURCE:https://urnik.fmf.uni-lj.si/teacher/385?day=2022-01-24&export=1
URL:https://urnik.fmf.uni-lj.si/teacher/385?day=2022-01-24&export=1
X-PUBLISHED-TTL:PT1H
X-WR-CALNAME:UL FMF urnik
X-WR-TIMEZONE:Europe/Ljubljana
BEGIN:VTIMEZONE
TZID:Europe/Ljubljana
BEGIN:DAYLIGHT
DTSTART:20260329T020000
RDATE:20260329T020000
RDATE:20270328T020000
TZNAME:CEST
TZOFFSETFROM:+0100
TZOFFSETTO:+0200
END:DAYLIGHT
BEGIN:STANDARD
DTSTART:20261025T030000
RDATE:20261025T030000
RDATE:20271031T030000
TZNAME:CET
TZOFFSETFROM:+0200
TZOFFSETTO:+0100
END:STANDARD
END:VTIMEZONE
BEGIN:VEVENT
SUMMARY:Teorija grup in polgrup (FM-M\, MAT-M\, PM-5)\, Predavanja (P)
DTSTART;TZID=Europe/Ljubljana:20211220T110000
DTEND;TZID=Europe/Ljubljana:20211220T120000
DTSTAMP:20260421T030250Z
UID:fmf-AFLABS-URNIK:premaknjeno-srecanje:109080
ATTENDEE:5. letnik (PM)
ATTENDEE:magistrski študij (FM)
ATTENDEE:magistrski študij (M)
CATEGORIES:Entry,Standard
COLOR:darkgreen
DESCRIPTION:Predmet: Teorija grup in polgrup (FM-M\, MAT-M\, PM-5)\, Preda
 vanja (P)\nLetniki: magistrski študij (FM)\, magistrski študij (M)\, 5. 
 letnik (PM)\nIzvajalci: Urban Jezernik\nProstor: 2.03
LOCATION:2.03
ORGANIZER:Urban Jezernik
RELATED-TO:fmf-AFLABS-URNIK:srecanje:6765
X-WR-TIMEZONE:Europe/Ljubljana
END:VEVENT
BEGIN:VEVENT
SUMMARY:Teorija grup in polgrup (FM-M\, MAT-M\, PM-5)\, Predavanja (P)
DTSTART;TZID=Europe/Ljubljana:20211227T110000
DTEND;TZID=Europe/Ljubljana:20211227T120000
DTSTAMP:20260421T030250Z
UID:fmf-AFLABS-URNIK:premaknjeno-srecanje:109081
ATTENDEE:5. letnik (PM)
ATTENDEE:magistrski študij (FM)
ATTENDEE:magistrski študij (M)
CATEGORIES:Entry,Standard
COLOR:darkgreen
DESCRIPTION:Predmet: Teorija grup in polgrup (FM-M\, MAT-M\, PM-5)\, Preda
 vanja (P)\nLetniki: magistrski študij (FM)\, magistrski študij (M)\, 5. 
 letnik (PM)\nIzvajalci: Urban Jezernik\nProstor: 2.03
LOCATION:2.03
ORGANIZER:Urban Jezernik
RELATED-TO:fmf-AFLABS-URNIK:srecanje:6765
X-WR-TIMEZONE:Europe/Ljubljana
END:VEVENT
BEGIN:VEVENT
SUMMARY:Teorija grup in polgrup (FM-M\, MAT-M\, PM-5)\, Predavanja (P)
DTSTART;TZID=Europe/Ljubljana:20220103T110000
DTEND;TZID=Europe/Ljubljana:20220103T120000
DTSTAMP:20260421T030250Z
UID:fmf-AFLABS-URNIK:premaknjeno-srecanje:109082
ATTENDEE:5. letnik (PM)
ATTENDEE:magistrski študij (FM)
ATTENDEE:magistrski študij (M)
CATEGORIES:Entry,Standard
COLOR:darkgreen
DESCRIPTION:Predmet: Teorija grup in polgrup (FM-M\, MAT-M\, PM-5)\, Preda
 vanja (P)\nLetniki: magistrski študij (FM)\, magistrski študij (M)\, 5. 
 letnik (PM)\nIzvajalci: Urban Jezernik\nProstor: 2.03
LOCATION:2.03
ORGANIZER:Urban Jezernik
RELATED-TO:fmf-AFLABS-URNIK:srecanje:6765
X-WR-TIMEZONE:Europe/Ljubljana
END:VEVENT
BEGIN:VEVENT
SUMMARY:Teorija grup in polgrup (FM-M\, MAT-M\, PM-5)\, Predavanja (P)
DTSTART;TZID=Europe/Ljubljana:20220110T110000
DTEND;TZID=Europe/Ljubljana:20220110T120000
DTSTAMP:20260421T030250Z
UID:fmf-AFLABS-URNIK:premaknjeno-srecanje:109083
ATTENDEE:5. letnik (PM)
ATTENDEE:magistrski študij (FM)
ATTENDEE:magistrski študij (M)
CATEGORIES:Entry,Standard
COLOR:darkgreen
DESCRIPTION:Predmet: Teorija grup in polgrup (FM-M\, MAT-M\, PM-5)\, Preda
 vanja (P)\nLetniki: magistrski študij (FM)\, magistrski študij (M)\, 5. 
 letnik (PM)\nIzvajalci: Urban Jezernik\nProstor: 2.03
LOCATION:2.03
ORGANIZER:Urban Jezernik
RELATED-TO:fmf-AFLABS-URNIK:srecanje:6765
X-WR-TIMEZONE:Europe/Ljubljana
END:VEVENT
BEGIN:VEVENT
SUMMARY:Teorija grup in polgrup (FM-M\, MAT-M\, PM-5)\, Predavanja (P)
DTSTART;TZID=Europe/Ljubljana:20211221T080000
DTEND;TZID=Europe/Ljubljana:20211221T100000
DTSTAMP:20260421T030250Z
UID:fmf-AFLABS-URNIK:premaknjeno-srecanje:109095
ATTENDEE:5. letnik (PM)
ATTENDEE:magistrski študij (FM)
ATTENDEE:magistrski študij (M)
CATEGORIES:Entry,Standard
COLOR:darkgreen
DESCRIPTION:Predmet: Teorija grup in polgrup (FM-M\, MAT-M\, PM-5)\, Preda
 vanja (P)\nLetniki: magistrski študij (FM)\, magistrski študij (M)\, 5. 
 letnik (PM)\nIzvajalci: Urban Jezernik\nProstor: 3.05
LOCATION:3.05
ORGANIZER:Urban Jezernik
RELATED-TO:fmf-AFLABS-URNIK:srecanje:6624
X-WR-TIMEZONE:Europe/Ljubljana
END:VEVENT
BEGIN:VEVENT
SUMMARY:Teorija grup in polgrup (FM-M\, MAT-M\, PM-5)\, Predavanja (P)
DTSTART;TZID=Europe/Ljubljana:20211228T080000
DTEND;TZID=Europe/Ljubljana:20211228T100000
DTSTAMP:20260421T030250Z
UID:fmf-AFLABS-URNIK:premaknjeno-srecanje:109096
ATTENDEE:5. letnik (PM)
ATTENDEE:magistrski študij (FM)
ATTENDEE:magistrski študij (M)
CATEGORIES:Entry,Standard
COLOR:darkgreen
DESCRIPTION:Predmet: Teorija grup in polgrup (FM-M\, MAT-M\, PM-5)\, Preda
 vanja (P)\nLetniki: magistrski študij (FM)\, magistrski študij (M)\, 5. 
 letnik (PM)\nIzvajalci: Urban Jezernik\nProstor: 3.05
LOCATION:3.05
ORGANIZER:Urban Jezernik
RELATED-TO:fmf-AFLABS-URNIK:srecanje:6624
X-WR-TIMEZONE:Europe/Ljubljana
END:VEVENT
BEGIN:VEVENT
SUMMARY:Teorija grup in polgrup (FM-M\, MAT-M\, PM-5)\, Predavanja (P)
DTSTART;TZID=Europe/Ljubljana:20220104T080000
DTEND;TZID=Europe/Ljubljana:20220104T100000
DTSTAMP:20260421T030250Z
UID:fmf-AFLABS-URNIK:premaknjeno-srecanje:109097
ATTENDEE:5. letnik (PM)
ATTENDEE:magistrski študij (FM)
ATTENDEE:magistrski študij (M)
CATEGORIES:Entry,Standard
COLOR:darkgreen
DESCRIPTION:Predmet: Teorija grup in polgrup (FM-M\, MAT-M\, PM-5)\, Preda
 vanja (P)\nLetniki: magistrski študij (FM)\, magistrski študij (M)\, 5. 
 letnik (PM)\nIzvajalci: Urban Jezernik\nProstor: 3.05
LOCATION:3.05
ORGANIZER:Urban Jezernik
RELATED-TO:fmf-AFLABS-URNIK:srecanje:6624
X-WR-TIMEZONE:Europe/Ljubljana
END:VEVENT
BEGIN:VEVENT
SUMMARY:Teorija grup in polgrup (FM-M\, MAT-M\, PM-5)\, Predavanja (P)
DTSTART;TZID=Europe/Ljubljana:20220111T080000
DTEND;TZID=Europe/Ljubljana:20220111T100000
DTSTAMP:20260421T030250Z
UID:fmf-AFLABS-URNIK:premaknjeno-srecanje:109098
ATTENDEE:5. letnik (PM)
ATTENDEE:magistrski študij (FM)
ATTENDEE:magistrski študij (M)
CATEGORIES:Entry,Standard
COLOR:darkgreen
DESCRIPTION:Predmet: Teorija grup in polgrup (FM-M\, MAT-M\, PM-5)\, Preda
 vanja (P)\nLetniki: magistrski študij (FM)\, magistrski študij (M)\, 5. 
 letnik (PM)\nIzvajalci: Urban Jezernik\nProstor: 3.05
LOCATION:3.05
ORGANIZER:Urban Jezernik
RELATED-TO:fmf-AFLABS-URNIK:srecanje:6624
X-WR-TIMEZONE:Europe/Ljubljana
END:VEVENT
BEGIN:VEVENT
SUMMARY:SAFA SEM (MAT-D)\, Seminar (S)
DTSTART;TZID=Europe/Ljubljana:20211223T120000
DTEND;TZID=Europe/Ljubljana:20211223T140000
DTSTAMP:20260421T030250Z
UID:fmf-AFLABS-URNIK:premaknjeno-srecanje:99188
ATTENDEE:doktorski študij (M)
CATEGORIES:Entry,Standard
COLOR:darkgreen
DESCRIPTION:Predmet: SAFA SEM (MAT-D)\, Seminar (S)\nLetniki: doktorski š
 tudij (M)\nIzvajalci:  Drnovšek\, Moravec\nProstor: 2.03
LOCATION:2.03
ORGANIZER: Drnovšek, Moravec
RELATED-TO:fmf-AFLABS-URNIK:srecanje:6771
X-WR-TIMEZONE:Europe/Ljubljana
END:VEVENT
BEGIN:VEVENT
SUMMARY:SAFA SEM (MAT-D)\, Seminar (S)
DTSTART;TZID=Europe/Ljubljana:20211230T120000
DTEND;TZID=Europe/Ljubljana:20211230T140000
DTSTAMP:20260421T030250Z
UID:fmf-AFLABS-URNIK:premaknjeno-srecanje:99189
ATTENDEE:doktorski študij (M)
CATEGORIES:Entry,Standard
COLOR:darkgreen
DESCRIPTION:Predmet: SAFA SEM (MAT-D)\, Seminar (S)\nLetniki: doktorski š
 tudij (M)\nIzvajalci:  Drnovšek\, Moravec\nProstor: 2.03
LOCATION:2.03
ORGANIZER: Drnovšek, Moravec
RELATED-TO:fmf-AFLABS-URNIK:srecanje:6771
X-WR-TIMEZONE:Europe/Ljubljana
END:VEVENT
BEGIN:VEVENT
SUMMARY:SAFA SEM (MAT-D)\, Seminar (S)
DTSTART;TZID=Europe/Ljubljana:20220106T120000
DTEND;TZID=Europe/Ljubljana:20220106T140000
DTSTAMP:20260421T030250Z
UID:fmf-AFLABS-URNIK:premaknjeno-srecanje:99190
ATTENDEE:doktorski študij (M)
CATEGORIES:Entry,Standard
COLOR:darkgreen
DESCRIPTION:Predmet: SAFA SEM (MAT-D)\, Seminar (S)\nLetniki: doktorski š
 tudij (M)\nIzvajalci:  Drnovšek\, Moravec\nProstor: 2.03
LOCATION:2.03
ORGANIZER: Drnovšek, Moravec
RELATED-TO:fmf-AFLABS-URNIK:srecanje:6771
X-WR-TIMEZONE:Europe/Ljubljana
END:VEVENT
BEGIN:VEVENT
SUMMARY:SAFA SEM (MAT-D)\, Seminar (S)
DTSTART;TZID=Europe/Ljubljana:20220113T120000
DTEND;TZID=Europe/Ljubljana:20220113T140000
DTSTAMP:20260421T030250Z
UID:fmf-AFLABS-URNIK:premaknjeno-srecanje:99191
ATTENDEE:doktorski študij (M)
CATEGORIES:Entry,Standard
COLOR:darkgreen
DESCRIPTION:Predmet: SAFA SEM (MAT-D)\, Seminar (S)\nLetniki: doktorski š
 tudij (M)\nIzvajalci:  Drnovšek\, Moravec\nProstor: 2.03
LOCATION:2.03
ORGANIZER: Drnovšek, Moravec
RELATED-TO:fmf-AFLABS-URNIK:srecanje:6771
X-WR-TIMEZONE:Europe/Ljubljana
END:VEVENT
BEGIN:VEVENT
SUMMARY:Diskretne strukture (FM-1)\, Predavanja (P)
DTSTART;TZID=Europe/Ljubljana:20211224T110000
DTEND;TZID=Europe/Ljubljana:20211224T130000
DTSTAMP:20260421T030250Z
UID:fmf-AFLABS-URNIK:premaknjeno-srecanje:16411
ATTENDEE:1. letnik (FM)
CATEGORIES:Entry,Standard
COLOR:darkgreen
DESCRIPTION:Predmet: Diskretne strukture (FM-1)\, Predavanja (P)\nLetniki:
  1. letnik (FM)\nIzvajalci: Urban Jezernik\nProstor: 2.01
LOCATION:2.01
ORGANIZER:Urban Jezernik
RELATED-TO:fmf-AFLABS-URNIK:srecanje:6163
X-WR-TIMEZONE:Europe/Ljubljana
END:VEVENT
BEGIN:VEVENT
SUMMARY:Diskretne strukture (FM-1)\, Predavanja (P)
DTSTART;TZID=Europe/Ljubljana:20211231T110000
DTEND;TZID=Europe/Ljubljana:20211231T130000
DTSTAMP:20260421T030250Z
UID:fmf-AFLABS-URNIK:premaknjeno-srecanje:16412
ATTENDEE:1. letnik (FM)
CATEGORIES:Entry,Standard
COLOR:darkgreen
DESCRIPTION:Predmet: Diskretne strukture (FM-1)\, Predavanja (P)\nLetniki:
  1. letnik (FM)\nIzvajalci: Urban Jezernik\nProstor: 2.01
LOCATION:2.01
ORGANIZER:Urban Jezernik
RELATED-TO:fmf-AFLABS-URNIK:srecanje:6163
X-WR-TIMEZONE:Europe/Ljubljana
END:VEVENT
BEGIN:VEVENT
SUMMARY:Diskretne strukture (FM-1)\, Predavanja (P)
DTSTART;TZID=Europe/Ljubljana:20220107T110000
DTEND;TZID=Europe/Ljubljana:20220107T130000
DTSTAMP:20260421T030250Z
UID:fmf-AFLABS-URNIK:premaknjeno-srecanje:16413
ATTENDEE:1. letnik (FM)
CATEGORIES:Entry,Standard
COLOR:darkgreen
DESCRIPTION:Predmet: Diskretne strukture (FM-1)\, Predavanja (P)\nLetniki:
  1. letnik (FM)\nIzvajalci: Urban Jezernik\nProstor: 2.01
LOCATION:2.01
ORGANIZER:Urban Jezernik
RELATED-TO:fmf-AFLABS-URNIK:srecanje:6163
X-WR-TIMEZONE:Europe/Ljubljana
END:VEVENT
BEGIN:VEVENT
SUMMARY:Diskretne strukture (FM-1)\, Predavanja (P)
DTSTART;TZID=Europe/Ljubljana:20220114T110000
DTEND;TZID=Europe/Ljubljana:20220114T130000
DTSTAMP:20260421T030250Z
UID:fmf-AFLABS-URNIK:premaknjeno-srecanje:16414
ATTENDEE:1. letnik (FM)
CATEGORIES:Entry,Standard
COLOR:darkgreen
DESCRIPTION:Predmet: Diskretne strukture (FM-1)\, Predavanja (P)\nLetniki:
  1. letnik (FM)\nIzvajalci: Urban Jezernik\nProstor: 2.01
LOCATION:2.01
ORGANIZER:Urban Jezernik
RELATED-TO:fmf-AFLABS-URNIK:srecanje:6163
X-WR-TIMEZONE:Europe/Ljubljana
END:VEVENT
BEGIN:VEVENT
SUMMARY:Računalniška orodja v matematiki (APM-1)\, Predavanja (P)
DTSTART;TZID=Europe/Ljubljana:20220214T090000
DTEND;TZID=Europe/Ljubljana:20220214T100000
DTSTAMP:20260421T030250Z
UID:fmf-AFLABS-URNIK:premaknjeno-srecanje:91385
ATTENDEE:1. letnik (APM)
CATEGORIES:Entry,Standard
COLOR:darkgreen
DESCRIPTION:Predmet: Računalniška orodja v matematiki (APM-1)\, Predavan
 ja (P)\nLetniki: 1. letnik (APM)\nIzvajalci: Urban Jezernik\nProstor: 2.03
LOCATION:2.03
ORGANIZER:Urban Jezernik
RELATED-TO:fmf-AFLABS-URNIK:srecanje:7365
X-WR-TIMEZONE:Europe/Ljubljana
END:VEVENT
BEGIN:VEVENT
SUMMARY:Računalniška orodja v matematiki (APM-1)\, Predavanja (P)
DTSTART;TZID=Europe/Ljubljana:20220221T090000
DTEND;TZID=Europe/Ljubljana:20220221T100000
DTSTAMP:20260421T030250Z
UID:fmf-AFLABS-URNIK:premaknjeno-srecanje:91386
ATTENDEE:1. letnik (APM)
CATEGORIES:Entry,Standard
COLOR:darkgreen
DESCRIPTION:Predmet: Računalniška orodja v matematiki (APM-1)\, Predavan
 ja (P)\nLetniki: 1. letnik (APM)\nIzvajalci: Urban Jezernik\nProstor: 2.03
LOCATION:2.03
ORGANIZER:Urban Jezernik
RELATED-TO:fmf-AFLABS-URNIK:srecanje:7365
X-WR-TIMEZONE:Europe/Ljubljana
END:VEVENT
BEGIN:VEVENT
SUMMARY:Računalniška orodja v matematiki (APM-1)\, Predavanja (P)
DTSTART;TZID=Europe/Ljubljana:20220228T090000
DTEND;TZID=Europe/Ljubljana:20220228T100000
DTSTAMP:20260421T030250Z
UID:fmf-AFLABS-URNIK:premaknjeno-srecanje:91387
ATTENDEE:1. letnik (APM)
CATEGORIES:Entry,Standard
COLOR:darkgreen
DESCRIPTION:Predmet: Računalniška orodja v matematiki (APM-1)\, Predavan
 ja (P)\nLetniki: 1. letnik (APM)\nIzvajalci: Urban Jezernik\nProstor: 2.03
LOCATION:2.03
ORGANIZER:Urban Jezernik
RELATED-TO:fmf-AFLABS-URNIK:srecanje:7365
X-WR-TIMEZONE:Europe/Ljubljana
END:VEVENT
BEGIN:VEVENT
SUMMARY:Elementarna teorija števil (MAT-3\, PM-3)\, Predavanja (P)
DTSTART;TZID=Europe/Ljubljana:20220217T140000
DTEND;TZID=Europe/Ljubljana:20220217T170000
DTSTAMP:20260421T030250Z
UID:fmf-AFLABS-URNIK:premaknjeno-srecanje:19653
ATTENDEE:3. letnik (M)
ATTENDEE:3. letnik (PM)
CATEGORIES:Entry,Standard
COLOR:darkgreen
DESCRIPTION:Predmet: Elementarna teorija števil (MAT-3\, PM-3)\, Predavan
 ja (P)\nLetniki: 3. letnik (M)\, 3. letnik (PM)\nIzvajalci: Urban Jezernik
 \, Klemen Šivic\nProstor: 3.05
LOCATION:3.05
ORGANIZER:Urban Jezernik, Klemen Šivic
RELATED-TO:fmf-AFLABS-URNIK:srecanje:6906
X-WR-TIMEZONE:Europe/Ljubljana
END:VEVENT
BEGIN:VEVENT
SUMMARY:Elementarna teorija števil (MAT-3\, PM-3)\, Predavanja (P)
DTSTART;TZID=Europe/Ljubljana:20220224T140000
DTEND;TZID=Europe/Ljubljana:20220224T170000
DTSTAMP:20260421T030250Z
UID:fmf-AFLABS-URNIK:premaknjeno-srecanje:19654
ATTENDEE:3. letnik (M)
ATTENDEE:3. letnik (PM)
CATEGORIES:Entry,Standard
COLOR:darkgreen
DESCRIPTION:Predmet: Elementarna teorija števil (MAT-3\, PM-3)\, Predavan
 ja (P)\nLetniki: 3. letnik (M)\, 3. letnik (PM)\nIzvajalci: Urban Jezernik
 \, Klemen Šivic\nProstor: 3.05
LOCATION:3.05
ORGANIZER:Urban Jezernik, Klemen Šivic
RELATED-TO:fmf-AFLABS-URNIK:srecanje:6906
X-WR-TIMEZONE:Europe/Ljubljana
END:VEVENT
BEGIN:VEVENT
SUMMARY:Matematika z računalnikom (FM-M\, IŠRM-M\, MAT-M\, PM-5)\, Preda
 vanja (P)
DTSTART;TZID=Europe/Ljubljana:20220218T080000
DTEND;TZID=Europe/Ljubljana:20220218T110000
DTSTAMP:20260421T030250Z
UID:fmf-AFLABS-URNIK:premaknjeno-srecanje:67701
ATTENDEE:5. letnik (PM)
ATTENDEE:magistrski študij (FM)
ATTENDEE:magistrski študij (IŠRM)
ATTENDEE:magistrski študij (M)
CATEGORIES:Entry,Standard
COLOR:darkgreen
DESCRIPTION:Predmet: Matematika z računalnikom (FM-M\, IŠRM-M\, MAT-M\, 
 PM-5)\, Predavanja (P)\nLetniki: magistrski študij (FM)\, magistrski štu
 dij (IŠRM)\, magistrski študij (M)\, 5. letnik (PM)\nIzvajalci: Urban Je
 zernik\nProstor: 3.10
LOCATION:3.10
ORGANIZER:Urban Jezernik
RELATED-TO:fmf-AFLABS-URNIK:srecanje:7376
X-WR-TIMEZONE:Europe/Ljubljana
END:VEVENT
BEGIN:VEVENT
SUMMARY:Matematika z računalnikom (FM-M\, IŠRM-M\, MAT-M\, PM-5)\, Preda
 vanja (P)
DTSTART;TZID=Europe/Ljubljana:20220225T080000
DTEND;TZID=Europe/Ljubljana:20220225T110000
DTSTAMP:20260421T030250Z
UID:fmf-AFLABS-URNIK:premaknjeno-srecanje:67702
ATTENDEE:5. letnik (PM)
ATTENDEE:magistrski študij (FM)
ATTENDEE:magistrski študij (IŠRM)
ATTENDEE:magistrski študij (M)
CATEGORIES:Entry,Standard
COLOR:darkgreen
DESCRIPTION:Predmet: Matematika z računalnikom (FM-M\, IŠRM-M\, MAT-M\, 
 PM-5)\, Predavanja (P)\nLetniki: magistrski študij (FM)\, magistrski štu
 dij (IŠRM)\, magistrski študij (M)\, 5. letnik (PM)\nIzvajalci: Urban Je
 zernik\nProstor: 3.10
LOCATION:3.10
ORGANIZER:Urban Jezernik
RELATED-TO:fmf-AFLABS-URNIK:srecanje:7376
X-WR-TIMEZONE:Europe/Ljubljana
END:VEVENT
BEGIN:VEVENT
SUMMARY:SEM (MAT-2\, PM-3\, PM-4)\, Seminar (S)\, [1]
DTSTART;TZID=Europe/Ljubljana:20220218T120000
DTEND;TZID=Europe/Ljubljana:20220218T140000
DTSTAMP:20260421T030250Z
UID:fmf-AFLABS-URNIK:premaknjeno-srecanje:99300
ATTENDEE:2. letnik (M)
ATTENDEE:3. letnik (PM)
ATTENDEE:4. letnik (PM)
CATEGORIES:Entry,Standard
COLOR:darkgreen
DESCRIPTION:Predmet: SEM (MAT-2\, PM-3\, PM-4)\, Seminar (S)\, [1]\nLetnik
 i: 2. letnik (M)\, 3. letnik (PM)\, 4. letnik (PM)\nIzvajalci: Urban Jezer
 nik\, Primož Moravec\nProstor: 3.07
LOCATION:3.07
ORGANIZER:Urban Jezernik, Primož Moravec
RELATED-TO:fmf-AFLABS-URNIK:srecanje:7256
X-WR-TIMEZONE:Europe/Ljubljana
END:VEVENT
BEGIN:VEVENT
SUMMARY:SEM (MAT-2\, PM-3\, PM-4)\, Seminar (S)\, [1]
DTSTART;TZID=Europe/Ljubljana:20220225T120000
DTEND;TZID=Europe/Ljubljana:20220225T140000
DTSTAMP:20260421T030250Z
UID:fmf-AFLABS-URNIK:premaknjeno-srecanje:99301
ATTENDEE:2. letnik (M)
ATTENDEE:3. letnik (PM)
ATTENDEE:4. letnik (PM)
CATEGORIES:Entry,Standard
COLOR:darkgreen
DESCRIPTION:Predmet: SEM (MAT-2\, PM-3\, PM-4)\, Seminar (S)\, [1]\nLetnik
 i: 2. letnik (M)\, 3. letnik (PM)\, 4. letnik (PM)\nIzvajalci: Urban Jezer
 nik\, Primož Moravec\nProstor: 3.07
LOCATION:3.07
ORGANIZER:Urban Jezernik, Primož Moravec
RELATED-TO:fmf-AFLABS-URNIK:srecanje:7256
X-WR-TIMEZONE:Europe/Ljubljana
END:VEVENT
BEGIN:VEVENT
SUMMARY:Rezervacija
DTSTART;TZID=Europe/Ljubljana:20220111T160000
DTEND;TZID=Europe/Ljubljana:20220111T180000
DTSTAMP:20260421T030250Z
UID:fmf-AFLABS-URNIK:rezervacija:8215
ATTENDEE:1. letnik (FM)
CATEGORIES:Reservation
COLOR:royalblue
DESCRIPTION:Predmeti: Diskretne strukture (FM-1)\nLetniki: 1. letnik (FM)\
 nIzvajalci: Urban Jezernik\, Janoš Vidali\nProstori: 2.01\, 2.05
LOCATION:2.01\, 2.05
ORGANIZER:Urban Jezernik, Janoš Vidali
X-WR-TIMEZONE:Europe/Ljubljana
END:VEVENT
BEGIN:VEVENT
SUMMARY:Rezervacija
DTSTART;TZID=Europe/Ljubljana:20220121T100000
DTEND;TZID=Europe/Ljubljana:20220121T180000
DTSTAMP:20260421T030250Z
UID:fmf-AFLABS-URNIK:rezervacija:8328
ATTENDEE:1. letnik (FM)
CATEGORIES:Reservation
COLOR:royalblue
DESCRIPTION:Predmeti: Diskretne strukture (FM-1)\nLetniki: 1. letnik (FM)\
 nIzvajalci: Urban Jezernik\nProstori: 3.07
LOCATION:3.07
ORGANIZER:Urban Jezernik
X-WR-TIMEZONE:Europe/Ljubljana
END:VEVENT
BEGIN:VEVENT
SUMMARY:Rezervacija
DTSTART;TZID=Europe/Ljubljana:20220124T140000
DTEND;TZID=Europe/Ljubljana:20220124T180000
DTSTAMP:20260421T030250Z
UID:fmf-AFLABS-URNIK:rezervacija:8355
ATTENDEE:1. letnik (FM)
CATEGORIES:Reservation
COLOR:royalblue
DESCRIPTION:Predmeti: Diskretne strukture (FM-1)\nLetniki: 1. letnik (FM)\
 nIzvajalci: Urban Jezernik\nProstori: 3.07
LOCATION:3.07
ORGANIZER:Urban Jezernik
X-WR-TIMEZONE:Europe/Ljubljana
END:VEVENT
BEGIN:VEVENT
SUMMARY:Rezervacija
DTSTART;TZID=Europe/Ljubljana:20220125T100000
DTEND;TZID=Europe/Ljubljana:20220125T170000
DTSTAMP:20260421T030250Z
UID:fmf-AFLABS-URNIK:rezervacija:8361
ATTENDEE:1. letnik (FM)
CATEGORIES:Reservation
COLOR:royalblue
DESCRIPTION:Predmeti: Diskretne strukture (FM-1)\nLetniki: 1. letnik (FM)\
 nIzvajalci: Urban Jezernik\nProstori: 3.07
LOCATION:3.07
ORGANIZER:Urban Jezernik
X-WR-TIMEZONE:Europe/Ljubljana
END:VEVENT
BEGIN:VEVENT
SUMMARY:Rezervacija
DTSTART;TZID=Europe/Ljubljana:20220126T100000
DTEND;TZID=Europe/Ljubljana:20220126T170000
DTSTAMP:20260421T030250Z
UID:fmf-AFLABS-URNIK:rezervacija:8376
ATTENDEE:1. letnik (FM)
CATEGORIES:Reservation
COLOR:royalblue
DESCRIPTION:Predmeti: Diskretne strukture (FM-1)\nLetniki: 1. letnik (FM)\
 nIzvajalci: Urban Jezernik\nProstori: 3.07
LOCATION:3.07
ORGANIZER:Urban Jezernik
X-WR-TIMEZONE:Europe/Ljubljana
END:VEVENT
BEGIN:VEVENT
SUMMARY:Rezervacija
DTSTART;TZID=Europe/Ljubljana:20220127T100000
DTEND;TZID=Europe/Ljubljana:20220127T170000
DTSTAMP:20260421T030250Z
UID:fmf-AFLABS-URNIK:rezervacija:8387
ATTENDEE:1. letnik (FM)
CATEGORIES:Reservation
COLOR:royalblue
DESCRIPTION:Predmeti: Diskretne strukture (FM-1)\nLetniki: 1. letnik (FM)\
 nIzvajalci: Urban Jezernik\nProstori: 3.07
LOCATION:3.07
ORGANIZER:Urban Jezernik
X-WR-TIMEZONE:Europe/Ljubljana
END:VEVENT
END:VCALENDAR
