BEGIN:VCALENDAR
VERSION:2.0
PRODID:-//AFLabs urnik izvoz - fmf//aflabs.si//SI
DTSTAMP:20260421T170854Z
NAME:UL FMF urnik
REFRESH-INTERVAL:PT1H
SOURCE:https://urnik.fmf.uni-lj.si/teacher/389?day=2023-04-10&export=1
URL:https://urnik.fmf.uni-lj.si/teacher/389?day=2023-04-10&export=1
X-PUBLISHED-TTL:PT1H
X-WR-CALNAME:UL FMF urnik
X-WR-TIMEZONE:Europe/Ljubljana
BEGIN:VTIMEZONE
TZID:Europe/Ljubljana
BEGIN:DAYLIGHT
DTSTART:20260329T020000
RDATE:20260329T020000
RDATE:20270328T020000
TZNAME:CEST
TZOFFSETFROM:+0100
TZOFFSETTO:+0200
END:DAYLIGHT
BEGIN:STANDARD
DTSTART:20261025T030000
RDATE:20261025T030000
RDATE:20271031T030000
TZNAME:CET
TZOFFSETFROM:+0200
TZOFFSETTO:+0100
END:STANDARD
END:VTIMEZONE
BEGIN:VEVENT
SUMMARY:REZ FM ()\, Predavanja (P)
DTSTART;TZID=Europe/Ljubljana:20230214T110000
DTEND;TZID=Europe/Ljubljana:20230214T120000
DTSTAMP:20260421T170854Z
UID:fmf-AFLABS-URNIK:premaknjeno-srecanje:90121
CATEGORIES:Entry,Standard
COLOR:darkgreen
DESCRIPTION:Predmet: REZ FM ()\, Predavanja (P)\nLetniki: \nIzvajalci: Ale
 ksey Kostenko\nProstor: P.02
LOCATION:P.02
ORGANIZER:Aleksey Kostenko
RELATED-TO:fmf-AFLABS-URNIK:srecanje:8866
X-WR-TIMEZONE:Europe/Ljubljana
END:VEVENT
BEGIN:VEVENT
SUMMARY:REZ FM ()\, Predavanja (P)
DTSTART;TZID=Europe/Ljubljana:20230221T110000
DTEND;TZID=Europe/Ljubljana:20230221T120000
DTSTAMP:20260421T170854Z
UID:fmf-AFLABS-URNIK:premaknjeno-srecanje:90122
CATEGORIES:Entry,Standard
COLOR:darkgreen
DESCRIPTION:Predmet: REZ FM ()\, Predavanja (P)\nLetniki: \nIzvajalci: Ale
 ksey Kostenko\nProstor: P.02
LOCATION:P.02
ORGANIZER:Aleksey Kostenko
RELATED-TO:fmf-AFLABS-URNIK:srecanje:8866
X-WR-TIMEZONE:Europe/Ljubljana
END:VEVENT
BEGIN:VEVENT
SUMMARY:REZ FM ()\, Predavanja (P)
DTSTART;TZID=Europe/Ljubljana:20230228T110000
DTEND;TZID=Europe/Ljubljana:20230228T120000
DTSTAMP:20260421T170854Z
UID:fmf-AFLABS-URNIK:premaknjeno-srecanje:90123
CATEGORIES:Entry,Standard
COLOR:darkgreen
DESCRIPTION:Predmet: REZ FM ()\, Predavanja (P)\nLetniki: \nIzvajalci: Ale
 ksey Kostenko\nProstor: P.02
LOCATION:P.02
ORGANIZER:Aleksey Kostenko
RELATED-TO:fmf-AFLABS-URNIK:srecanje:8866
X-WR-TIMEZONE:Europe/Ljubljana
END:VEVENT
BEGIN:VEVENT
SUMMARY:REZ FM ()\, Predavanja (P)
DTSTART;TZID=Europe/Ljubljana:20230307T110000
DTEND;TZID=Europe/Ljubljana:20230307T120000
DTSTAMP:20260421T170854Z
UID:fmf-AFLABS-URNIK:premaknjeno-srecanje:90124
CATEGORIES:Entry,Standard
COLOR:darkgreen
DESCRIPTION:Predmet: REZ FM ()\, Predavanja (P)\nLetniki: \nIzvajalci: Ale
 ksey Kostenko\nProstor: P.02
LOCATION:P.02
ORGANIZER:Aleksey Kostenko
RELATED-TO:fmf-AFLABS-URNIK:srecanje:8866
X-WR-TIMEZONE:Europe/Ljubljana
END:VEVENT
BEGIN:VEVENT
SUMMARY:REZ FM ()\, Predavanja (P)
DTSTART;TZID=Europe/Ljubljana:20230314T110000
DTEND;TZID=Europe/Ljubljana:20230314T120000
DTSTAMP:20260421T170854Z
UID:fmf-AFLABS-URNIK:premaknjeno-srecanje:90125
CATEGORIES:Entry,Standard
COLOR:darkgreen
DESCRIPTION:Predmet: REZ FM ()\, Predavanja (P)\nLetniki: \nIzvajalci: Ale
 ksey Kostenko\nProstor: P.02
LOCATION:P.02
ORGANIZER:Aleksey Kostenko
RELATED-TO:fmf-AFLABS-URNIK:srecanje:8866
X-WR-TIMEZONE:Europe/Ljubljana
END:VEVENT
BEGIN:VEVENT
SUMMARY:REZ FM ()\, Predavanja (P)
DTSTART;TZID=Europe/Ljubljana:20230321T110000
DTEND;TZID=Europe/Ljubljana:20230321T120000
DTSTAMP:20260421T170854Z
UID:fmf-AFLABS-URNIK:premaknjeno-srecanje:90126
CATEGORIES:Entry,Standard
COLOR:darkgreen
DESCRIPTION:Predmet: REZ FM ()\, Predavanja (P)\nLetniki: \nIzvajalci: Ale
 ksey Kostenko\nProstor: P.02
LOCATION:P.02
ORGANIZER:Aleksey Kostenko
RELATED-TO:fmf-AFLABS-URNIK:srecanje:8866
X-WR-TIMEZONE:Europe/Ljubljana
END:VEVENT
BEGIN:VEVENT
SUMMARY:REZ FM ()\, Predavanja (P)
DTSTART;TZID=Europe/Ljubljana:20230328T110000
DTEND;TZID=Europe/Ljubljana:20230328T120000
DTSTAMP:20260421T170854Z
UID:fmf-AFLABS-URNIK:premaknjeno-srecanje:90127
CATEGORIES:Entry,Standard
COLOR:darkgreen
DESCRIPTION:Predmet: REZ FM ()\, Predavanja (P)\nLetniki: \nIzvajalci: Ale
 ksey Kostenko\nProstor: P.02
LOCATION:P.02
ORGANIZER:Aleksey Kostenko
RELATED-TO:fmf-AFLABS-URNIK:srecanje:8866
X-WR-TIMEZONE:Europe/Ljubljana
END:VEVENT
BEGIN:VEVENT
SUMMARY:REZ FM ()\, Predavanja (P)
DTSTART;TZID=Europe/Ljubljana:20230404T110000
DTEND;TZID=Europe/Ljubljana:20230404T120000
DTSTAMP:20260421T170854Z
UID:fmf-AFLABS-URNIK:premaknjeno-srecanje:90128
CATEGORIES:Entry,Standard
COLOR:darkgreen
DESCRIPTION:Predmet: REZ FM ()\, Predavanja (P)\nLetniki: \nIzvajalci: Ale
 ksey Kostenko\nProstor: P.02
LOCATION:P.02
ORGANIZER:Aleksey Kostenko
RELATED-TO:fmf-AFLABS-URNIK:srecanje:8866
X-WR-TIMEZONE:Europe/Ljubljana
END:VEVENT
BEGIN:VEVENT
SUMMARY:REZ FM ()\, Predavanja (P)
DTSTART;TZID=Europe/Ljubljana:20230411T110000
DTEND;TZID=Europe/Ljubljana:20230411T120000
DTSTAMP:20260421T170854Z
UID:fmf-AFLABS-URNIK:premaknjeno-srecanje:90129
CATEGORIES:Entry,Standard
COLOR:darkgreen
DESCRIPTION:Predmet: REZ FM ()\, Predavanja (P)\nLetniki: \nIzvajalci: Ale
 ksey Kostenko\nProstor: P.02
LOCATION:P.02
ORGANIZER:Aleksey Kostenko
RELATED-TO:fmf-AFLABS-URNIK:srecanje:8866
X-WR-TIMEZONE:Europe/Ljubljana
END:VEVENT
BEGIN:VEVENT
SUMMARY:REZ FM ()\, Predavanja (P)
DTSTART;TZID=Europe/Ljubljana:20230418T110000
DTEND;TZID=Europe/Ljubljana:20230418T120000
DTSTAMP:20260421T170854Z
UID:fmf-AFLABS-URNIK:premaknjeno-srecanje:90130
CATEGORIES:Entry,Standard
COLOR:darkgreen
DESCRIPTION:Predmet: REZ FM ()\, Predavanja (P)\nLetniki: \nIzvajalci: Ale
 ksey Kostenko\nProstor: P.02
LOCATION:P.02
ORGANIZER:Aleksey Kostenko
RELATED-TO:fmf-AFLABS-URNIK:srecanje:8866
X-WR-TIMEZONE:Europe/Ljubljana
END:VEVENT
BEGIN:VEVENT
SUMMARY:REZ FM ()\, Predavanja (P)
DTSTART;TZID=Europe/Ljubljana:20230425T110000
DTEND;TZID=Europe/Ljubljana:20230425T120000
DTSTAMP:20260421T170854Z
UID:fmf-AFLABS-URNIK:premaknjeno-srecanje:90131
CATEGORIES:Entry,Standard
COLOR:darkgreen
DESCRIPTION:Predmet: REZ FM ()\, Predavanja (P)\nLetniki: \nIzvajalci: Ale
 ksey Kostenko\nProstor: P.02
LOCATION:P.02
ORGANIZER:Aleksey Kostenko
RELATED-TO:fmf-AFLABS-URNIK:srecanje:8866
X-WR-TIMEZONE:Europe/Ljubljana
END:VEVENT
BEGIN:VEVENT
SUMMARY:REZ FM ()\, Predavanja (P)
DTSTART;TZID=Europe/Ljubljana:20230502T110000
DTEND;TZID=Europe/Ljubljana:20230502T120000
DTSTAMP:20260421T170854Z
UID:fmf-AFLABS-URNIK:premaknjeno-srecanje:90132
CATEGORIES:Entry,Standard
COLOR:darkgreen
DESCRIPTION:Predmet: REZ FM ()\, Predavanja (P)\nLetniki: \nIzvajalci: Ale
 ksey Kostenko\nProstor: P.02
LOCATION:P.02
ORGANIZER:Aleksey Kostenko
RELATED-TO:fmf-AFLABS-URNIK:srecanje:8866
X-WR-TIMEZONE:Europe/Ljubljana
END:VEVENT
BEGIN:VEVENT
SUMMARY:REZ FM ()\, Predavanja (P)
DTSTART;TZID=Europe/Ljubljana:20230509T110000
DTEND;TZID=Europe/Ljubljana:20230509T120000
DTSTAMP:20260421T170854Z
UID:fmf-AFLABS-URNIK:premaknjeno-srecanje:90133
CATEGORIES:Entry,Standard
COLOR:darkgreen
DESCRIPTION:Predmet: REZ FM ()\, Predavanja (P)\nLetniki: \nIzvajalci: Ale
 ksey Kostenko\nProstor: P.02
LOCATION:P.02
ORGANIZER:Aleksey Kostenko
RELATED-TO:fmf-AFLABS-URNIK:srecanje:8866
X-WR-TIMEZONE:Europe/Ljubljana
END:VEVENT
BEGIN:VEVENT
SUMMARY:REZ FM ()\, Predavanja (P)
DTSTART;TZID=Europe/Ljubljana:20230516T110000
DTEND;TZID=Europe/Ljubljana:20230516T120000
DTSTAMP:20260421T170854Z
UID:fmf-AFLABS-URNIK:premaknjeno-srecanje:90134
CATEGORIES:Entry,Standard
COLOR:darkgreen
DESCRIPTION:Predmet: REZ FM ()\, Predavanja (P)\nLetniki: \nIzvajalci: Ale
 ksey Kostenko\nProstor: P.02
LOCATION:P.02
ORGANIZER:Aleksey Kostenko
RELATED-TO:fmf-AFLABS-URNIK:srecanje:8866
X-WR-TIMEZONE:Europe/Ljubljana
END:VEVENT
BEGIN:VEVENT
SUMMARY:REZ FM ()\, Predavanja (P)
DTSTART;TZID=Europe/Ljubljana:20230523T110000
DTEND;TZID=Europe/Ljubljana:20230523T120000
DTSTAMP:20260421T170854Z
UID:fmf-AFLABS-URNIK:premaknjeno-srecanje:90135
CATEGORIES:Entry,Standard
COLOR:darkgreen
DESCRIPTION:Predmet: REZ FM ()\, Predavanja (P)\nLetniki: \nIzvajalci: Ale
 ksey Kostenko\nProstor: P.02
LOCATION:P.02
ORGANIZER:Aleksey Kostenko
RELATED-TO:fmf-AFLABS-URNIK:srecanje:8866
X-WR-TIMEZONE:Europe/Ljubljana
END:VEVENT
BEGIN:VEVENT
SUMMARY:REZ FM ()\, Predavanja (P)
DTSTART;TZID=Europe/Ljubljana:20230530T110000
DTEND;TZID=Europe/Ljubljana:20230530T120000
DTSTAMP:20260421T170854Z
UID:fmf-AFLABS-URNIK:premaknjeno-srecanje:90136
CATEGORIES:Entry,Standard
COLOR:darkgreen
DESCRIPTION:Predmet: REZ FM ()\, Predavanja (P)\nLetniki: \nIzvajalci: Ale
 ksey Kostenko\nProstor: P.02
LOCATION:P.02
ORGANIZER:Aleksey Kostenko
RELATED-TO:fmf-AFLABS-URNIK:srecanje:8866
X-WR-TIMEZONE:Europe/Ljubljana
END:VEVENT
BEGIN:VEVENT
SUMMARY:Parcialne diferencialne enačbe (FM-M\, MAT-M\, PM-5)\, Predavanja
  (P)
DTSTART;TZID=Europe/Ljubljana:20230215T130000
DTEND;TZID=Europe/Ljubljana:20230215T160000
DTSTAMP:20260421T170854Z
UID:fmf-AFLABS-URNIK:premaknjeno-srecanje:82057
ATTENDEE:5. letnik (PM)
ATTENDEE:magistrski študij (FM)
ATTENDEE:magistrski študij (M)
CATEGORIES:Entry,Standard
COLOR:darkgreen
DESCRIPTION:Predmet: Parcialne diferencialne enačbe (FM-M\, MAT-M\, PM-5)
 \, Predavanja (P)\nLetniki: magistrski študij (FM)\, magistrski študij (
 M)\, 5. letnik (PM)\nIzvajalci: Aleksey Kostenko\nProstor: 3.06
LOCATION:3.06
ORGANIZER:Aleksey Kostenko
RELATED-TO:fmf-AFLABS-URNIK:srecanje:8618
X-WR-TIMEZONE:Europe/Ljubljana
END:VEVENT
BEGIN:VEVENT
SUMMARY:Parcialne diferencialne enačbe (FM-M\, MAT-M\, PM-5)\, Predavanja
  (P)
DTSTART;TZID=Europe/Ljubljana:20230222T130000
DTEND;TZID=Europe/Ljubljana:20230222T160000
DTSTAMP:20260421T170854Z
UID:fmf-AFLABS-URNIK:premaknjeno-srecanje:82058
ATTENDEE:5. letnik (PM)
ATTENDEE:magistrski študij (FM)
ATTENDEE:magistrski študij (M)
CATEGORIES:Entry,Standard
COLOR:darkgreen
DESCRIPTION:Predmet: Parcialne diferencialne enačbe (FM-M\, MAT-M\, PM-5)
 \, Predavanja (P)\nLetniki: magistrski študij (FM)\, magistrski študij (
 M)\, 5. letnik (PM)\nIzvajalci: Aleksey Kostenko\nProstor: 3.06
LOCATION:3.06
ORGANIZER:Aleksey Kostenko
RELATED-TO:fmf-AFLABS-URNIK:srecanje:8618
X-WR-TIMEZONE:Europe/Ljubljana
END:VEVENT
BEGIN:VEVENT
SUMMARY:Parcialne diferencialne enačbe (FM-M\, MAT-M\, PM-5)\, Predavanja
  (P)
DTSTART;TZID=Europe/Ljubljana:20230301T130000
DTEND;TZID=Europe/Ljubljana:20230301T160000
DTSTAMP:20260421T170854Z
UID:fmf-AFLABS-URNIK:premaknjeno-srecanje:82059
ATTENDEE:5. letnik (PM)
ATTENDEE:magistrski študij (FM)
ATTENDEE:magistrski študij (M)
CATEGORIES:Entry,Standard
COLOR:darkgreen
DESCRIPTION:Predmet: Parcialne diferencialne enačbe (FM-M\, MAT-M\, PM-5)
 \, Predavanja (P)\nLetniki: magistrski študij (FM)\, magistrski študij (
 M)\, 5. letnik (PM)\nIzvajalci: Aleksey Kostenko\nProstor: 3.06
LOCATION:3.06
ORGANIZER:Aleksey Kostenko
RELATED-TO:fmf-AFLABS-URNIK:srecanje:8618
X-WR-TIMEZONE:Europe/Ljubljana
END:VEVENT
BEGIN:VEVENT
SUMMARY:Parcialne diferencialne enačbe (FM-M\, MAT-M\, PM-5)\, Predavanja
  (P)
DTSTART;TZID=Europe/Ljubljana:20230308T130000
DTEND;TZID=Europe/Ljubljana:20230308T160000
DTSTAMP:20260421T170854Z
UID:fmf-AFLABS-URNIK:premaknjeno-srecanje:82060
ATTENDEE:5. letnik (PM)
ATTENDEE:magistrski študij (FM)
ATTENDEE:magistrski študij (M)
CATEGORIES:Entry,Standard
COLOR:darkgreen
DESCRIPTION:Predmet: Parcialne diferencialne enačbe (FM-M\, MAT-M\, PM-5)
 \, Predavanja (P)\nLetniki: magistrski študij (FM)\, magistrski študij (
 M)\, 5. letnik (PM)\nIzvajalci: Aleksey Kostenko\nProstor: 3.06
LOCATION:3.06
ORGANIZER:Aleksey Kostenko
RELATED-TO:fmf-AFLABS-URNIK:srecanje:8618
X-WR-TIMEZONE:Europe/Ljubljana
END:VEVENT
BEGIN:VEVENT
SUMMARY:Parcialne diferencialne enačbe (FM-M\, MAT-M\, PM-5)\, Predavanja
  (P)
DTSTART;TZID=Europe/Ljubljana:20230315T130000
DTEND;TZID=Europe/Ljubljana:20230315T160000
DTSTAMP:20260421T170854Z
UID:fmf-AFLABS-URNIK:premaknjeno-srecanje:82061
ATTENDEE:5. letnik (PM)
ATTENDEE:magistrski študij (FM)
ATTENDEE:magistrski študij (M)
CATEGORIES:Entry,Standard
COLOR:darkgreen
DESCRIPTION:Predmet: Parcialne diferencialne enačbe (FM-M\, MAT-M\, PM-5)
 \, Predavanja (P)\nLetniki: magistrski študij (FM)\, magistrski študij (
 M)\, 5. letnik (PM)\nIzvajalci: Aleksey Kostenko\nProstor: 3.06
LOCATION:3.06
ORGANIZER:Aleksey Kostenko
RELATED-TO:fmf-AFLABS-URNIK:srecanje:8618
X-WR-TIMEZONE:Europe/Ljubljana
END:VEVENT
BEGIN:VEVENT
SUMMARY:Parcialne diferencialne enačbe (FM-M\, MAT-M\, PM-5)\, Predavanja
  (P)
DTSTART;TZID=Europe/Ljubljana:20230322T130000
DTEND;TZID=Europe/Ljubljana:20230322T160000
DTSTAMP:20260421T170854Z
UID:fmf-AFLABS-URNIK:premaknjeno-srecanje:82062
ATTENDEE:5. letnik (PM)
ATTENDEE:magistrski študij (FM)
ATTENDEE:magistrski študij (M)
CATEGORIES:Entry,Standard
COLOR:darkgreen
DESCRIPTION:Predmet: Parcialne diferencialne enačbe (FM-M\, MAT-M\, PM-5)
 \, Predavanja (P)\nLetniki: magistrski študij (FM)\, magistrski študij (
 M)\, 5. letnik (PM)\nIzvajalci: Aleksey Kostenko\nProstor: 3.06
LOCATION:3.06
ORGANIZER:Aleksey Kostenko
RELATED-TO:fmf-AFLABS-URNIK:srecanje:8618
X-WR-TIMEZONE:Europe/Ljubljana
END:VEVENT
BEGIN:VEVENT
SUMMARY:Parcialne diferencialne enačbe (FM-M\, MAT-M\, PM-5)\, Predavanja
  (P)
DTSTART;TZID=Europe/Ljubljana:20230329T130000
DTEND;TZID=Europe/Ljubljana:20230329T160000
DTSTAMP:20260421T170854Z
UID:fmf-AFLABS-URNIK:premaknjeno-srecanje:82063
ATTENDEE:5. letnik (PM)
ATTENDEE:magistrski študij (FM)
ATTENDEE:magistrski študij (M)
CATEGORIES:Entry,Standard
COLOR:darkgreen
DESCRIPTION:Predmet: Parcialne diferencialne enačbe (FM-M\, MAT-M\, PM-5)
 \, Predavanja (P)\nLetniki: magistrski študij (FM)\, magistrski študij (
 M)\, 5. letnik (PM)\nIzvajalci: Aleksey Kostenko\nProstor: 3.06
LOCATION:3.06
ORGANIZER:Aleksey Kostenko
RELATED-TO:fmf-AFLABS-URNIK:srecanje:8618
X-WR-TIMEZONE:Europe/Ljubljana
END:VEVENT
BEGIN:VEVENT
SUMMARY:Parcialne diferencialne enačbe (FM-M\, MAT-M\, PM-5)\, Predavanja
  (P)
DTSTART;TZID=Europe/Ljubljana:20230405T130000
DTEND;TZID=Europe/Ljubljana:20230405T160000
DTSTAMP:20260421T170854Z
UID:fmf-AFLABS-URNIK:premaknjeno-srecanje:82064
ATTENDEE:5. letnik (PM)
ATTENDEE:magistrski študij (FM)
ATTENDEE:magistrski študij (M)
CATEGORIES:Entry,Standard
COLOR:darkgreen
DESCRIPTION:Predmet: Parcialne diferencialne enačbe (FM-M\, MAT-M\, PM-5)
 \, Predavanja (P)\nLetniki: magistrski študij (FM)\, magistrski študij (
 M)\, 5. letnik (PM)\nIzvajalci: Aleksey Kostenko\nProstor: 3.06
LOCATION:3.06
ORGANIZER:Aleksey Kostenko
RELATED-TO:fmf-AFLABS-URNIK:srecanje:8618
X-WR-TIMEZONE:Europe/Ljubljana
END:VEVENT
BEGIN:VEVENT
SUMMARY:Parcialne diferencialne enačbe (FM-M\, MAT-M\, PM-5)\, Predavanja
  (P)
DTSTART;TZID=Europe/Ljubljana:20230412T130000
DTEND;TZID=Europe/Ljubljana:20230412T160000
DTSTAMP:20260421T170854Z
UID:fmf-AFLABS-URNIK:premaknjeno-srecanje:82065
ATTENDEE:5. letnik (PM)
ATTENDEE:magistrski študij (FM)
ATTENDEE:magistrski študij (M)
CATEGORIES:Entry,Standard
COLOR:darkgreen
DESCRIPTION:Predmet: Parcialne diferencialne enačbe (FM-M\, MAT-M\, PM-5)
 \, Predavanja (P)\nLetniki: magistrski študij (FM)\, magistrski študij (
 M)\, 5. letnik (PM)\nIzvajalci: Aleksey Kostenko\nProstor: 3.06
LOCATION:3.06
ORGANIZER:Aleksey Kostenko
RELATED-TO:fmf-AFLABS-URNIK:srecanje:8618
X-WR-TIMEZONE:Europe/Ljubljana
END:VEVENT
BEGIN:VEVENT
SUMMARY:Parcialne diferencialne enačbe (FM-M\, MAT-M\, PM-5)\, Predavanja
  (P)
DTSTART;TZID=Europe/Ljubljana:20230419T130000
DTEND;TZID=Europe/Ljubljana:20230419T160000
DTSTAMP:20260421T170854Z
UID:fmf-AFLABS-URNIK:premaknjeno-srecanje:82066
ATTENDEE:5. letnik (PM)
ATTENDEE:magistrski študij (FM)
ATTENDEE:magistrski študij (M)
CATEGORIES:Entry,Standard
COLOR:darkgreen
DESCRIPTION:Predmet: Parcialne diferencialne enačbe (FM-M\, MAT-M\, PM-5)
 \, Predavanja (P)\nLetniki: magistrski študij (FM)\, magistrski študij (
 M)\, 5. letnik (PM)\nIzvajalci: Aleksey Kostenko\nProstor: 3.06
LOCATION:3.06
ORGANIZER:Aleksey Kostenko
RELATED-TO:fmf-AFLABS-URNIK:srecanje:8618
X-WR-TIMEZONE:Europe/Ljubljana
END:VEVENT
BEGIN:VEVENT
SUMMARY:Parcialne diferencialne enačbe (FM-M\, MAT-M\, PM-5)\, Predavanja
  (P)
DTSTART;TZID=Europe/Ljubljana:20230426T130000
DTEND;TZID=Europe/Ljubljana:20230426T160000
DTSTAMP:20260421T170854Z
UID:fmf-AFLABS-URNIK:premaknjeno-srecanje:82067
ATTENDEE:5. letnik (PM)
ATTENDEE:magistrski študij (FM)
ATTENDEE:magistrski študij (M)
CATEGORIES:Entry,Standard
COLOR:darkgreen
DESCRIPTION:Predmet: Parcialne diferencialne enačbe (FM-M\, MAT-M\, PM-5)
 \, Predavanja (P)\nLetniki: magistrski študij (FM)\, magistrski študij (
 M)\, 5. letnik (PM)\nIzvajalci: Aleksey Kostenko\nProstor: 3.06
LOCATION:3.06
ORGANIZER:Aleksey Kostenko
RELATED-TO:fmf-AFLABS-URNIK:srecanje:8618
X-WR-TIMEZONE:Europe/Ljubljana
END:VEVENT
BEGIN:VEVENT
SUMMARY:Parcialne diferencialne enačbe (FM-M\, MAT-M\, PM-5)\, Predavanja
  (P)
DTSTART;TZID=Europe/Ljubljana:20230503T130000
DTEND;TZID=Europe/Ljubljana:20230503T160000
DTSTAMP:20260421T170854Z
UID:fmf-AFLABS-URNIK:premaknjeno-srecanje:82068
ATTENDEE:5. letnik (PM)
ATTENDEE:magistrski študij (FM)
ATTENDEE:magistrski študij (M)
CATEGORIES:Entry,Standard
COLOR:darkgreen
DESCRIPTION:Predmet: Parcialne diferencialne enačbe (FM-M\, MAT-M\, PM-5)
 \, Predavanja (P)\nLetniki: magistrski študij (FM)\, magistrski študij (
 M)\, 5. letnik (PM)\nIzvajalci: Aleksey Kostenko\nProstor: 3.06
LOCATION:3.06
ORGANIZER:Aleksey Kostenko
RELATED-TO:fmf-AFLABS-URNIK:srecanje:8618
X-WR-TIMEZONE:Europe/Ljubljana
END:VEVENT
BEGIN:VEVENT
SUMMARY:Parcialne diferencialne enačbe (FM-M\, MAT-M\, PM-5)\, Predavanja
  (P)
DTSTART;TZID=Europe/Ljubljana:20230510T130000
DTEND;TZID=Europe/Ljubljana:20230510T160000
DTSTAMP:20260421T170854Z
UID:fmf-AFLABS-URNIK:premaknjeno-srecanje:82069
ATTENDEE:5. letnik (PM)
ATTENDEE:magistrski študij (FM)
ATTENDEE:magistrski študij (M)
CATEGORIES:Entry,Standard
COLOR:darkgreen
DESCRIPTION:Predmet: Parcialne diferencialne enačbe (FM-M\, MAT-M\, PM-5)
 \, Predavanja (P)\nLetniki: magistrski študij (FM)\, magistrski študij (
 M)\, 5. letnik (PM)\nIzvajalci: Aleksey Kostenko\nProstor: 3.06
LOCATION:3.06
ORGANIZER:Aleksey Kostenko
RELATED-TO:fmf-AFLABS-URNIK:srecanje:8618
X-WR-TIMEZONE:Europe/Ljubljana
END:VEVENT
BEGIN:VEVENT
SUMMARY:Parcialne diferencialne enačbe (FM-M\, MAT-M\, PM-5)\, Predavanja
  (P)
DTSTART;TZID=Europe/Ljubljana:20230517T130000
DTEND;TZID=Europe/Ljubljana:20230517T160000
DTSTAMP:20260421T170854Z
UID:fmf-AFLABS-URNIK:premaknjeno-srecanje:82070
ATTENDEE:5. letnik (PM)
ATTENDEE:magistrski študij (FM)
ATTENDEE:magistrski študij (M)
CATEGORIES:Entry,Standard
COLOR:darkgreen
DESCRIPTION:Predmet: Parcialne diferencialne enačbe (FM-M\, MAT-M\, PM-5)
 \, Predavanja (P)\nLetniki: magistrski študij (FM)\, magistrski študij (
 M)\, 5. letnik (PM)\nIzvajalci: Aleksey Kostenko\nProstor: 3.06
LOCATION:3.06
ORGANIZER:Aleksey Kostenko
RELATED-TO:fmf-AFLABS-URNIK:srecanje:8618
X-WR-TIMEZONE:Europe/Ljubljana
END:VEVENT
BEGIN:VEVENT
SUMMARY:Parcialne diferencialne enačbe (FM-M\, MAT-M\, PM-5)\, Predavanja
  (P)
DTSTART;TZID=Europe/Ljubljana:20230524T130000
DTEND;TZID=Europe/Ljubljana:20230524T160000
DTSTAMP:20260421T170854Z
UID:fmf-AFLABS-URNIK:premaknjeno-srecanje:82071
ATTENDEE:5. letnik (PM)
ATTENDEE:magistrski študij (FM)
ATTENDEE:magistrski študij (M)
CATEGORIES:Entry,Standard
COLOR:darkgreen
DESCRIPTION:Predmet: Parcialne diferencialne enačbe (FM-M\, MAT-M\, PM-5)
 \, Predavanja (P)\nLetniki: magistrski študij (FM)\, magistrski študij (
 M)\, 5. letnik (PM)\nIzvajalci: Aleksey Kostenko\nProstor: 3.06
LOCATION:3.06
ORGANIZER:Aleksey Kostenko
RELATED-TO:fmf-AFLABS-URNIK:srecanje:8618
X-WR-TIMEZONE:Europe/Ljubljana
END:VEVENT
BEGIN:VEVENT
SUMMARY:Parcialne diferencialne enačbe (FM-M\, MAT-M\, PM-5)\, Predavanja
  (P)
DTSTART;TZID=Europe/Ljubljana:20230531T130000
DTEND;TZID=Europe/Ljubljana:20230531T160000
DTSTAMP:20260421T170854Z
UID:fmf-AFLABS-URNIK:premaknjeno-srecanje:82072
ATTENDEE:5. letnik (PM)
ATTENDEE:magistrski študij (FM)
ATTENDEE:magistrski študij (M)
CATEGORIES:Entry,Standard
COLOR:darkgreen
DESCRIPTION:Predmet: Parcialne diferencialne enačbe (FM-M\, MAT-M\, PM-5)
 \, Predavanja (P)\nLetniki: magistrski študij (FM)\, magistrski študij (
 M)\, 5. letnik (PM)\nIzvajalci: Aleksey Kostenko\nProstor: 3.06
LOCATION:3.06
ORGANIZER:Aleksey Kostenko
RELATED-TO:fmf-AFLABS-URNIK:srecanje:8618
X-WR-TIMEZONE:Europe/Ljubljana
END:VEVENT
END:VCALENDAR
