BEGIN:VCALENDAR
VERSION:2.0
PRODID:-//AFLabs urnik izvoz - fmf//aflabs.si//SI
DTSTAMP:20260424T121744Z
NAME:UL FMF urnik
REFRESH-INTERVAL:PT1H
SOURCE:https://urnik.fmf.uni-lj.si/teacher/38?day=2020-01-20&export=1
URL:https://urnik.fmf.uni-lj.si/teacher/38?day=2020-01-20&export=1
X-PUBLISHED-TTL:PT1H
X-WR-CALNAME:UL FMF urnik
X-WR-TIMEZONE:Europe/Ljubljana
BEGIN:VTIMEZONE
TZID:Europe/Ljubljana
BEGIN:DAYLIGHT
DTSTART:20260329T020000
RDATE:20260329T020000
RDATE:20270328T020000
TZNAME:CEST
TZOFFSETFROM:+0100
TZOFFSETTO:+0200
END:DAYLIGHT
BEGIN:STANDARD
DTSTART:20261025T030000
RDATE:20261025T030000
RDATE:20271031T030000
TZNAME:CET
TZOFFSETFROM:+0200
TZOFFSETTO:+0100
END:STANDARD
END:VTIMEZONE
BEGIN:VEVENT
SUMMARY:Splošna topologija (FM-3\, IŠRM-3\, MAT-2)\, Vaje (V)\, [1]
DTSTART;TZID=Europe/Ljubljana:20191216T080000
DTEND;TZID=Europe/Ljubljana:20191216T100000
DTSTAMP:20260424T121744Z
UID:fmf-AFLABS-URNIK:premaknjeno-srecanje:105112
ATTENDEE:2. letnik (M)
ATTENDEE:3. letnik (FM)
ATTENDEE:3. letnik (IŠRM)
CATEGORIES:Entry,Standard
COLOR:darkgreen
DESCRIPTION:Predmet: Splošna topologija (FM-3\, IŠRM-3\, MAT-2)\, Vaje (
 V)\, [1]\nLetniki: 3. letnik (FM)\, 3. letnik (IŠRM)\, 2. letnik (M)\nIzv
 ajalci: Davorin Lešnik\nProstor: 2.01
LOCATION:2.01
ORGANIZER:Davorin Lešnik
RELATED-TO:fmf-AFLABS-URNIK:srecanje:3741
X-WR-TIMEZONE:Europe/Ljubljana
END:VEVENT
BEGIN:VEVENT
SUMMARY:Splošna topologija (FM-3\, IŠRM-3\, MAT-2)\, Vaje (V)\, [1]
DTSTART;TZID=Europe/Ljubljana:20191223T080000
DTEND;TZID=Europe/Ljubljana:20191223T100000
DTSTAMP:20260424T121744Z
UID:fmf-AFLABS-URNIK:premaknjeno-srecanje:105113
ATTENDEE:2. letnik (M)
ATTENDEE:3. letnik (FM)
ATTENDEE:3. letnik (IŠRM)
CATEGORIES:Entry,Standard
COLOR:darkgreen
DESCRIPTION:Predmet: Splošna topologija (FM-3\, IŠRM-3\, MAT-2)\, Vaje (
 V)\, [1]\nLetniki: 3. letnik (FM)\, 3. letnik (IŠRM)\, 2. letnik (M)\nIzv
 ajalci: Davorin Lešnik\nProstor: 2.01
LOCATION:2.01
ORGANIZER:Davorin Lešnik
RELATED-TO:fmf-AFLABS-URNIK:srecanje:3741
X-WR-TIMEZONE:Europe/Ljubljana
END:VEVENT
BEGIN:VEVENT
SUMMARY:Splošna topologija (FM-3\, IŠRM-3\, MAT-2)\, Vaje (V)\, [1]
DTSTART;TZID=Europe/Ljubljana:20191230T080000
DTEND;TZID=Europe/Ljubljana:20191230T100000
DTSTAMP:20260424T121744Z
UID:fmf-AFLABS-URNIK:premaknjeno-srecanje:105114
ATTENDEE:2. letnik (M)
ATTENDEE:3. letnik (FM)
ATTENDEE:3. letnik (IŠRM)
CATEGORIES:Entry,Standard
COLOR:darkgreen
DESCRIPTION:Predmet: Splošna topologija (FM-3\, IŠRM-3\, MAT-2)\, Vaje (
 V)\, [1]\nLetniki: 3. letnik (FM)\, 3. letnik (IŠRM)\, 2. letnik (M)\nIzv
 ajalci: Davorin Lešnik\nProstor: 2.01
LOCATION:2.01
ORGANIZER:Davorin Lešnik
RELATED-TO:fmf-AFLABS-URNIK:srecanje:3741
X-WR-TIMEZONE:Europe/Ljubljana
END:VEVENT
BEGIN:VEVENT
SUMMARY:Splošna topologija (FM-3\, IŠRM-3\, MAT-2)\, Vaje (V)\, [1]
DTSTART;TZID=Europe/Ljubljana:20200106T080000
DTEND;TZID=Europe/Ljubljana:20200106T100000
DTSTAMP:20260424T121744Z
UID:fmf-AFLABS-URNIK:premaknjeno-srecanje:105115
ATTENDEE:2. letnik (M)
ATTENDEE:3. letnik (FM)
ATTENDEE:3. letnik (IŠRM)
CATEGORIES:Entry,Standard
COLOR:darkgreen
DESCRIPTION:Predmet: Splošna topologija (FM-3\, IŠRM-3\, MAT-2)\, Vaje (
 V)\, [1]\nLetniki: 3. letnik (FM)\, 3. letnik (IŠRM)\, 2. letnik (M)\nIzv
 ajalci: Davorin Lešnik\nProstor: 2.01
LOCATION:2.01
ORGANIZER:Davorin Lešnik
RELATED-TO:fmf-AFLABS-URNIK:srecanje:3741
X-WR-TIMEZONE:Europe/Ljubljana
END:VEVENT
BEGIN:VEVENT
SUMMARY:Splošna topologija (FM-3\, IŠRM-3\, MAT-2)\, Vaje (V)\, [1]
DTSTART;TZID=Europe/Ljubljana:20200113T080000
DTEND;TZID=Europe/Ljubljana:20200113T100000
DTSTAMP:20260424T121744Z
UID:fmf-AFLABS-URNIK:premaknjeno-srecanje:105116
ATTENDEE:2. letnik (M)
ATTENDEE:3. letnik (FM)
ATTENDEE:3. letnik (IŠRM)
CATEGORIES:Entry,Standard
COLOR:darkgreen
DESCRIPTION:Predmet: Splošna topologija (FM-3\, IŠRM-3\, MAT-2)\, Vaje (
 V)\, [1]\nLetniki: 3. letnik (FM)\, 3. letnik (IŠRM)\, 2. letnik (M)\nIzv
 ajalci: Davorin Lešnik\nProstor: 2.01
LOCATION:2.01
ORGANIZER:Davorin Lešnik
RELATED-TO:fmf-AFLABS-URNIK:srecanje:3741
X-WR-TIMEZONE:Europe/Ljubljana
END:VEVENT
BEGIN:VEVENT
SUMMARY:MAT 1 (NTF) ()\, Vaje (V)\, [1]
DTSTART;TZID=Europe/Ljubljana:20191218T080000
DTEND;TZID=Europe/Ljubljana:20191218T110000
DTSTAMP:20260424T121744Z
UID:fmf-AFLABS-URNIK:premaknjeno-srecanje:59723
CATEGORIES:Entry,Standard
COLOR:darkgreen
DESCRIPTION:Predmet: MAT 1 (NTF) ()\, Vaje (V)\, [1]\nLetniki: \nIzvajalci
 : Davorin Lešnik\nProstor: NTF
LOCATION:NTF
ORGANIZER:Davorin Lešnik
RELATED-TO:fmf-AFLABS-URNIK:srecanje:3519
X-WR-TIMEZONE:Europe/Ljubljana
END:VEVENT
BEGIN:VEVENT
SUMMARY:MAT 1 (NTF) ()\, Vaje (V)\, [1]
DTSTART;TZID=Europe/Ljubljana:20191225T080000
DTEND;TZID=Europe/Ljubljana:20191225T110000
DTSTAMP:20260424T121744Z
UID:fmf-AFLABS-URNIK:premaknjeno-srecanje:59724
CATEGORIES:Entry,Standard
COLOR:darkgreen
DESCRIPTION:Predmet: MAT 1 (NTF) ()\, Vaje (V)\, [1]\nLetniki: \nIzvajalci
 : Davorin Lešnik\nProstor: NTF
LOCATION:NTF
ORGANIZER:Davorin Lešnik
RELATED-TO:fmf-AFLABS-URNIK:srecanje:3519
X-WR-TIMEZONE:Europe/Ljubljana
END:VEVENT
BEGIN:VEVENT
SUMMARY:MAT 1 (NTF) ()\, Vaje (V)\, [1]
DTSTART;TZID=Europe/Ljubljana:20200101T080000
DTEND;TZID=Europe/Ljubljana:20200101T110000
DTSTAMP:20260424T121744Z
UID:fmf-AFLABS-URNIK:premaknjeno-srecanje:59725
CATEGORIES:Entry,Standard
COLOR:darkgreen
DESCRIPTION:Predmet: MAT 1 (NTF) ()\, Vaje (V)\, [1]\nLetniki: \nIzvajalci
 : Davorin Lešnik\nProstor: NTF
LOCATION:NTF
ORGANIZER:Davorin Lešnik
RELATED-TO:fmf-AFLABS-URNIK:srecanje:3519
X-WR-TIMEZONE:Europe/Ljubljana
END:VEVENT
BEGIN:VEVENT
SUMMARY:MAT 1 (NTF) ()\, Vaje (V)\, [1]
DTSTART;TZID=Europe/Ljubljana:20200108T080000
DTEND;TZID=Europe/Ljubljana:20200108T110000
DTSTAMP:20260424T121744Z
UID:fmf-AFLABS-URNIK:premaknjeno-srecanje:59726
CATEGORIES:Entry,Standard
COLOR:darkgreen
DESCRIPTION:Predmet: MAT 1 (NTF) ()\, Vaje (V)\, [1]\nLetniki: \nIzvajalci
 : Davorin Lešnik\nProstor: NTF
LOCATION:NTF
ORGANIZER:Davorin Lešnik
RELATED-TO:fmf-AFLABS-URNIK:srecanje:3519
X-WR-TIMEZONE:Europe/Ljubljana
END:VEVENT
BEGIN:VEVENT
SUMMARY:MAT 1 (NTF) ()\, Vaje (V)\, [1]
DTSTART;TZID=Europe/Ljubljana:20200115T080000
DTEND;TZID=Europe/Ljubljana:20200115T110000
DTSTAMP:20260424T121744Z
UID:fmf-AFLABS-URNIK:premaknjeno-srecanje:59727
CATEGORIES:Entry,Standard
COLOR:darkgreen
DESCRIPTION:Predmet: MAT 1 (NTF) ()\, Vaje (V)\, [1]\nLetniki: \nIzvajalci
 : Davorin Lešnik\nProstor: NTF
LOCATION:NTF
ORGANIZER:Davorin Lešnik
RELATED-TO:fmf-AFLABS-URNIK:srecanje:3519
X-WR-TIMEZONE:Europe/Ljubljana
END:VEVENT
BEGIN:VEVENT
SUMMARY:MAT 1 (NTF) ()\, Vaje (V)\, [VSŠ]
DTSTART;TZID=Europe/Ljubljana:20191218T130000
DTEND;TZID=Europe/Ljubljana:20191218T160000
DTSTAMP:20260424T121744Z
UID:fmf-AFLABS-URNIK:premaknjeno-srecanje:59817
CATEGORIES:Entry,Standard
COLOR:darkgreen
DESCRIPTION:Predmet: MAT 1 (NTF) ()\, Vaje (V)\, [VSŠ]\nLetniki: \nIzvaja
 lci: Davorin Lešnik\nProstor: NTF
LOCATION:NTF
ORGANIZER:Davorin Lešnik
RELATED-TO:fmf-AFLABS-URNIK:srecanje:3916
X-WR-TIMEZONE:Europe/Ljubljana
END:VEVENT
BEGIN:VEVENT
SUMMARY:MAT 1 (NTF) ()\, Vaje (V)\, [VSŠ]
DTSTART;TZID=Europe/Ljubljana:20191225T130000
DTEND;TZID=Europe/Ljubljana:20191225T160000
DTSTAMP:20260424T121744Z
UID:fmf-AFLABS-URNIK:premaknjeno-srecanje:59818
CATEGORIES:Entry,Standard
COLOR:darkgreen
DESCRIPTION:Predmet: MAT 1 (NTF) ()\, Vaje (V)\, [VSŠ]\nLetniki: \nIzvaja
 lci: Davorin Lešnik\nProstor: NTF
LOCATION:NTF
ORGANIZER:Davorin Lešnik
RELATED-TO:fmf-AFLABS-URNIK:srecanje:3916
X-WR-TIMEZONE:Europe/Ljubljana
END:VEVENT
BEGIN:VEVENT
SUMMARY:MAT 1 (NTF) ()\, Vaje (V)\, [VSŠ]
DTSTART;TZID=Europe/Ljubljana:20200101T130000
DTEND;TZID=Europe/Ljubljana:20200101T160000
DTSTAMP:20260424T121744Z
UID:fmf-AFLABS-URNIK:premaknjeno-srecanje:59819
CATEGORIES:Entry,Standard
COLOR:darkgreen
DESCRIPTION:Predmet: MAT 1 (NTF) ()\, Vaje (V)\, [VSŠ]\nLetniki: \nIzvaja
 lci: Davorin Lešnik\nProstor: NTF
LOCATION:NTF
ORGANIZER:Davorin Lešnik
RELATED-TO:fmf-AFLABS-URNIK:srecanje:3916
X-WR-TIMEZONE:Europe/Ljubljana
END:VEVENT
BEGIN:VEVENT
SUMMARY:MAT 1 (NTF) ()\, Vaje (V)\, [VSŠ]
DTSTART;TZID=Europe/Ljubljana:20200108T130000
DTEND;TZID=Europe/Ljubljana:20200108T160000
DTSTAMP:20260424T121744Z
UID:fmf-AFLABS-URNIK:premaknjeno-srecanje:59820
CATEGORIES:Entry,Standard
COLOR:darkgreen
DESCRIPTION:Predmet: MAT 1 (NTF) ()\, Vaje (V)\, [VSŠ]\nLetniki: \nIzvaja
 lci: Davorin Lešnik\nProstor: NTF
LOCATION:NTF
ORGANIZER:Davorin Lešnik
RELATED-TO:fmf-AFLABS-URNIK:srecanje:3916
X-WR-TIMEZONE:Europe/Ljubljana
END:VEVENT
BEGIN:VEVENT
SUMMARY:MAT 1 (NTF) ()\, Vaje (V)\, [VSŠ]
DTSTART;TZID=Europe/Ljubljana:20200115T130000
DTEND;TZID=Europe/Ljubljana:20200115T160000
DTSTAMP:20260424T121744Z
UID:fmf-AFLABS-URNIK:premaknjeno-srecanje:59821
CATEGORIES:Entry,Standard
COLOR:darkgreen
DESCRIPTION:Predmet: MAT 1 (NTF) ()\, Vaje (V)\, [VSŠ]\nLetniki: \nIzvaja
 lci: Davorin Lešnik\nProstor: NTF
LOCATION:NTF
ORGANIZER:Davorin Lešnik
RELATED-TO:fmf-AFLABS-URNIK:srecanje:3916
X-WR-TIMEZONE:Europe/Ljubljana
END:VEVENT
BEGIN:VEVENT
SUMMARY:MAT 1 (NTF) ()\, Vaje (V)\, [2]
DTSTART;TZID=Europe/Ljubljana:20191219T140000
DTEND;TZID=Europe/Ljubljana:20191219T170000
DTSTAMP:20260424T121744Z
UID:fmf-AFLABS-URNIK:premaknjeno-srecanje:59770
CATEGORIES:Entry,Standard
COLOR:darkgreen
DESCRIPTION:Predmet: MAT 1 (NTF) ()\, Vaje (V)\, [2]\nLetniki: \nIzvajalci
 : Davorin Lešnik\nProstor: NTF
LOCATION:NTF
ORGANIZER:Davorin Lešnik
RELATED-TO:fmf-AFLABS-URNIK:srecanje:3915
X-WR-TIMEZONE:Europe/Ljubljana
END:VEVENT
BEGIN:VEVENT
SUMMARY:MAT 1 (NTF) ()\, Vaje (V)\, [2]
DTSTART;TZID=Europe/Ljubljana:20191226T140000
DTEND;TZID=Europe/Ljubljana:20191226T170000
DTSTAMP:20260424T121744Z
UID:fmf-AFLABS-URNIK:premaknjeno-srecanje:59771
CATEGORIES:Entry,Standard
COLOR:darkgreen
DESCRIPTION:Predmet: MAT 1 (NTF) ()\, Vaje (V)\, [2]\nLetniki: \nIzvajalci
 : Davorin Lešnik\nProstor: NTF
LOCATION:NTF
ORGANIZER:Davorin Lešnik
RELATED-TO:fmf-AFLABS-URNIK:srecanje:3915
X-WR-TIMEZONE:Europe/Ljubljana
END:VEVENT
BEGIN:VEVENT
SUMMARY:MAT 1 (NTF) ()\, Vaje (V)\, [2]
DTSTART;TZID=Europe/Ljubljana:20200102T140000
DTEND;TZID=Europe/Ljubljana:20200102T170000
DTSTAMP:20260424T121744Z
UID:fmf-AFLABS-URNIK:premaknjeno-srecanje:59772
CATEGORIES:Entry,Standard
COLOR:darkgreen
DESCRIPTION:Predmet: MAT 1 (NTF) ()\, Vaje (V)\, [2]\nLetniki: \nIzvajalci
 : Davorin Lešnik\nProstor: NTF
LOCATION:NTF
ORGANIZER:Davorin Lešnik
RELATED-TO:fmf-AFLABS-URNIK:srecanje:3915
X-WR-TIMEZONE:Europe/Ljubljana
END:VEVENT
BEGIN:VEVENT
SUMMARY:MAT 1 (NTF) ()\, Vaje (V)\, [2]
DTSTART;TZID=Europe/Ljubljana:20200109T140000
DTEND;TZID=Europe/Ljubljana:20200109T170000
DTSTAMP:20260424T121744Z
UID:fmf-AFLABS-URNIK:premaknjeno-srecanje:59773
CATEGORIES:Entry,Standard
COLOR:darkgreen
DESCRIPTION:Predmet: MAT 1 (NTF) ()\, Vaje (V)\, [2]\nLetniki: \nIzvajalci
 : Davorin Lešnik\nProstor: NTF
LOCATION:NTF
ORGANIZER:Davorin Lešnik
RELATED-TO:fmf-AFLABS-URNIK:srecanje:3915
X-WR-TIMEZONE:Europe/Ljubljana
END:VEVENT
BEGIN:VEVENT
SUMMARY:MAT 1 (NTF) ()\, Vaje (V)\, [2]
DTSTART;TZID=Europe/Ljubljana:20200116T140000
DTEND;TZID=Europe/Ljubljana:20200116T170000
DTSTAMP:20260424T121744Z
UID:fmf-AFLABS-URNIK:premaknjeno-srecanje:59774
CATEGORIES:Entry,Standard
COLOR:darkgreen
DESCRIPTION:Predmet: MAT 1 (NTF) ()\, Vaje (V)\, [2]\nLetniki: \nIzvajalci
 : Davorin Lešnik\nProstor: NTF
LOCATION:NTF
ORGANIZER:Davorin Lešnik
RELATED-TO:fmf-AFLABS-URNIK:srecanje:3915
X-WR-TIMEZONE:Europe/Ljubljana
END:VEVENT
BEGIN:VEVENT
SUMMARY:Logika in množice (MAT-1\, PM-1)\, Vaje (V)\, [2]
DTSTART;TZID=Europe/Ljubljana:20191220T080000
DTEND;TZID=Europe/Ljubljana:20191220T100000
DTSTAMP:20260424T121744Z
UID:fmf-AFLABS-URNIK:premaknjeno-srecanje:58068
ATTENDEE:1. letnik (M)
ATTENDEE:1. letnik (PM)
CATEGORIES:Entry,Standard
COLOR:darkgreen
DESCRIPTION:Predmet: Logika in množice (MAT-1\, PM-1)\, Vaje (V)\, [2]\nL
 etniki: 1. letnik (M)\, 1. letnik (PM)\nIzvajalci: Davorin Lešnik\nProsto
 r: 2.01
LOCATION:2.01
ORGANIZER:Davorin Lešnik
RELATED-TO:fmf-AFLABS-URNIK:srecanje:3509
X-WR-TIMEZONE:Europe/Ljubljana
END:VEVENT
BEGIN:VEVENT
SUMMARY:Logika in množice (MAT-1\, PM-1)\, Vaje (V)\, [2]
DTSTART;TZID=Europe/Ljubljana:20191227T080000
DTEND;TZID=Europe/Ljubljana:20191227T100000
DTSTAMP:20260424T121744Z
UID:fmf-AFLABS-URNIK:premaknjeno-srecanje:58069
ATTENDEE:1. letnik (M)
ATTENDEE:1. letnik (PM)
CATEGORIES:Entry,Standard
COLOR:darkgreen
DESCRIPTION:Predmet: Logika in množice (MAT-1\, PM-1)\, Vaje (V)\, [2]\nL
 etniki: 1. letnik (M)\, 1. letnik (PM)\nIzvajalci: Davorin Lešnik\nProsto
 r: 2.01
LOCATION:2.01
ORGANIZER:Davorin Lešnik
RELATED-TO:fmf-AFLABS-URNIK:srecanje:3509
X-WR-TIMEZONE:Europe/Ljubljana
END:VEVENT
BEGIN:VEVENT
SUMMARY:Logika in množice (MAT-1\, PM-1)\, Vaje (V)\, [2]
DTSTART;TZID=Europe/Ljubljana:20200103T080000
DTEND;TZID=Europe/Ljubljana:20200103T100000
DTSTAMP:20260424T121744Z
UID:fmf-AFLABS-URNIK:premaknjeno-srecanje:58070
ATTENDEE:1. letnik (M)
ATTENDEE:1. letnik (PM)
CATEGORIES:Entry,Standard
COLOR:darkgreen
DESCRIPTION:Predmet: Logika in množice (MAT-1\, PM-1)\, Vaje (V)\, [2]\nL
 etniki: 1. letnik (M)\, 1. letnik (PM)\nIzvajalci: Davorin Lešnik\nProsto
 r: 2.01
LOCATION:2.01
ORGANIZER:Davorin Lešnik
RELATED-TO:fmf-AFLABS-URNIK:srecanje:3509
X-WR-TIMEZONE:Europe/Ljubljana
END:VEVENT
BEGIN:VEVENT
SUMMARY:Logika in množice (MAT-1\, PM-1)\, Vaje (V)\, [2]
DTSTART;TZID=Europe/Ljubljana:20200110T080000
DTEND;TZID=Europe/Ljubljana:20200110T100000
DTSTAMP:20260424T121744Z
UID:fmf-AFLABS-URNIK:premaknjeno-srecanje:58071
ATTENDEE:1. letnik (M)
ATTENDEE:1. letnik (PM)
CATEGORIES:Entry,Standard
COLOR:darkgreen
DESCRIPTION:Predmet: Logika in množice (MAT-1\, PM-1)\, Vaje (V)\, [2]\nL
 etniki: 1. letnik (M)\, 1. letnik (PM)\nIzvajalci: Davorin Lešnik\nProsto
 r: 2.01
LOCATION:2.01
ORGANIZER:Davorin Lešnik
RELATED-TO:fmf-AFLABS-URNIK:srecanje:3509
X-WR-TIMEZONE:Europe/Ljubljana
END:VEVENT
BEGIN:VEVENT
SUMMARY:Logika in množice (MAT-1\, PM-1)\, Vaje (V)\, [2]
DTSTART;TZID=Europe/Ljubljana:20200117T080000
DTEND;TZID=Europe/Ljubljana:20200117T100000
DTSTAMP:20260424T121744Z
UID:fmf-AFLABS-URNIK:premaknjeno-srecanje:58072
ATTENDEE:1. letnik (M)
ATTENDEE:1. letnik (PM)
CATEGORIES:Entry,Standard
COLOR:darkgreen
DESCRIPTION:Predmet: Logika in množice (MAT-1\, PM-1)\, Vaje (V)\, [2]\nL
 etniki: 1. letnik (M)\, 1. letnik (PM)\nIzvajalci: Davorin Lešnik\nProsto
 r: 2.01
LOCATION:2.01
ORGANIZER:Davorin Lešnik
RELATED-TO:fmf-AFLABS-URNIK:srecanje:3509
X-WR-TIMEZONE:Europe/Ljubljana
END:VEVENT
BEGIN:VEVENT
SUMMARY:Splošna topologija (FM-3\, IŠRM-3\, MAT-2)\, Vaje (V)\, [2]
DTSTART;TZID=Europe/Ljubljana:20191220T120000
DTEND;TZID=Europe/Ljubljana:20191220T140000
DTSTAMP:20260424T121744Z
UID:fmf-AFLABS-URNIK:premaknjeno-srecanje:105143
ATTENDEE:2. letnik (M)
ATTENDEE:3. letnik (FM)
ATTENDEE:3. letnik (IŠRM)
CATEGORIES:Entry,Standard
COLOR:darkgreen
DESCRIPTION:Predmet: Splošna topologija (FM-3\, IŠRM-3\, MAT-2)\, Vaje (
 V)\, [2]\nLetniki: 3. letnik (FM)\, 3. letnik (IŠRM)\, 2. letnik (M)\nIzv
 ajalci: Davorin Lešnik\nProstor: 2.02
LOCATION:2.02
ORGANIZER:Davorin Lešnik
RELATED-TO:fmf-AFLABS-URNIK:srecanje:3912
X-WR-TIMEZONE:Europe/Ljubljana
END:VEVENT
BEGIN:VEVENT
SUMMARY:Splošna topologija (FM-3\, IŠRM-3\, MAT-2)\, Vaje (V)\, [2]
DTSTART;TZID=Europe/Ljubljana:20191227T120000
DTEND;TZID=Europe/Ljubljana:20191227T140000
DTSTAMP:20260424T121744Z
UID:fmf-AFLABS-URNIK:premaknjeno-srecanje:105144
ATTENDEE:2. letnik (M)
ATTENDEE:3. letnik (FM)
ATTENDEE:3. letnik (IŠRM)
CATEGORIES:Entry,Standard
COLOR:darkgreen
DESCRIPTION:Predmet: Splošna topologija (FM-3\, IŠRM-3\, MAT-2)\, Vaje (
 V)\, [2]\nLetniki: 3. letnik (FM)\, 3. letnik (IŠRM)\, 2. letnik (M)\nIzv
 ajalci: Davorin Lešnik\nProstor: 2.02
LOCATION:2.02
ORGANIZER:Davorin Lešnik
RELATED-TO:fmf-AFLABS-URNIK:srecanje:3912
X-WR-TIMEZONE:Europe/Ljubljana
END:VEVENT
BEGIN:VEVENT
SUMMARY:Splošna topologija (FM-3\, IŠRM-3\, MAT-2)\, Vaje (V)\, [2]
DTSTART;TZID=Europe/Ljubljana:20200103T120000
DTEND;TZID=Europe/Ljubljana:20200103T140000
DTSTAMP:20260424T121744Z
UID:fmf-AFLABS-URNIK:premaknjeno-srecanje:105145
ATTENDEE:2. letnik (M)
ATTENDEE:3. letnik (FM)
ATTENDEE:3. letnik (IŠRM)
CATEGORIES:Entry,Standard
COLOR:darkgreen
DESCRIPTION:Predmet: Splošna topologija (FM-3\, IŠRM-3\, MAT-2)\, Vaje (
 V)\, [2]\nLetniki: 3. letnik (FM)\, 3. letnik (IŠRM)\, 2. letnik (M)\nIzv
 ajalci: Davorin Lešnik\nProstor: 2.02
LOCATION:2.02
ORGANIZER:Davorin Lešnik
RELATED-TO:fmf-AFLABS-URNIK:srecanje:3912
X-WR-TIMEZONE:Europe/Ljubljana
END:VEVENT
BEGIN:VEVENT
SUMMARY:Splošna topologija (FM-3\, IŠRM-3\, MAT-2)\, Vaje (V)\, [2]
DTSTART;TZID=Europe/Ljubljana:20200110T120000
DTEND;TZID=Europe/Ljubljana:20200110T140000
DTSTAMP:20260424T121744Z
UID:fmf-AFLABS-URNIK:premaknjeno-srecanje:105146
ATTENDEE:2. letnik (M)
ATTENDEE:3. letnik (FM)
ATTENDEE:3. letnik (IŠRM)
CATEGORIES:Entry,Standard
COLOR:darkgreen
DESCRIPTION:Predmet: Splošna topologija (FM-3\, IŠRM-3\, MAT-2)\, Vaje (
 V)\, [2]\nLetniki: 3. letnik (FM)\, 3. letnik (IŠRM)\, 2. letnik (M)\nIzv
 ajalci: Davorin Lešnik\nProstor: 2.02
LOCATION:2.02
ORGANIZER:Davorin Lešnik
RELATED-TO:fmf-AFLABS-URNIK:srecanje:3912
X-WR-TIMEZONE:Europe/Ljubljana
END:VEVENT
BEGIN:VEVENT
SUMMARY:Splošna topologija (FM-3\, IŠRM-3\, MAT-2)\, Vaje (V)\, [2]
DTSTART;TZID=Europe/Ljubljana:20200117T120000
DTEND;TZID=Europe/Ljubljana:20200117T140000
DTSTAMP:20260424T121744Z
UID:fmf-AFLABS-URNIK:premaknjeno-srecanje:105147
ATTENDEE:2. letnik (M)
ATTENDEE:3. letnik (FM)
ATTENDEE:3. letnik (IŠRM)
CATEGORIES:Entry,Standard
COLOR:darkgreen
DESCRIPTION:Predmet: Splošna topologija (FM-3\, IŠRM-3\, MAT-2)\, Vaje (
 V)\, [2]\nLetniki: 3. letnik (FM)\, 3. letnik (IŠRM)\, 2. letnik (M)\nIzv
 ajalci: Davorin Lešnik\nProstor: 2.02
LOCATION:2.02
ORGANIZER:Davorin Lešnik
RELATED-TO:fmf-AFLABS-URNIK:srecanje:3912
X-WR-TIMEZONE:Europe/Ljubljana
END:VEVENT
BEGIN:VEVENT
SUMMARY:Matematika s statistiko (FKKT) ()\, Vaje (V)
DTSTART;TZID=Europe/Ljubljana:20200217T090000
DTEND;TZID=Europe/Ljubljana:20200217T110000
DTSTAMP:20260424T121744Z
UID:fmf-AFLABS-URNIK:premaknjeno-srecanje:67305
CATEGORIES:Entry,Standard
COLOR:darkgreen
DESCRIPTION:Predmet: Matematika s statistiko (FKKT) ()\, Vaje (V)\nLetniki
 : \nIzvajalci: Davorin Lešnik\nProstor: FKKT
LOCATION:FKKT
ORGANIZER:Davorin Lešnik
RELATED-TO:fmf-AFLABS-URNIK:srecanje:4624
X-WR-TIMEZONE:Europe/Ljubljana
END:VEVENT
BEGIN:VEVENT
SUMMARY:Matematika s statistiko (FKKT) ()\, Vaje (V)
DTSTART;TZID=Europe/Ljubljana:20200224T090000
DTEND;TZID=Europe/Ljubljana:20200224T110000
DTSTAMP:20260424T121744Z
UID:fmf-AFLABS-URNIK:premaknjeno-srecanje:67306
CATEGORIES:Entry,Standard
COLOR:darkgreen
DESCRIPTION:Predmet: Matematika s statistiko (FKKT) ()\, Vaje (V)\nLetniki
 : \nIzvajalci: Davorin Lešnik\nProstor: FKKT
LOCATION:FKKT
ORGANIZER:Davorin Lešnik
RELATED-TO:fmf-AFLABS-URNIK:srecanje:4624
X-WR-TIMEZONE:Europe/Ljubljana
END:VEVENT
BEGIN:VEVENT
SUMMARY:Sodobni trendi v izobraževanju matematike (PM-4\, PM-5)\, Vaje (V
 )
DTSTART;TZID=Europe/Ljubljana:20200218T100000
DTEND;TZID=Europe/Ljubljana:20200218T120000
DTSTAMP:20260424T121744Z
UID:fmf-AFLABS-URNIK:premaknjeno-srecanje:104156
ATTENDEE:4. letnik (PM)
ATTENDEE:5. letnik (PM)
CATEGORIES:Entry,Standard
COLOR:darkgreen
DESCRIPTION:Predmet: Sodobni trendi v izobraževanju matematike (PM-4\, PM
 -5)\, Vaje (V)\nLetniki: 4. letnik (PM)\, 5. letnik (PM)\nIzvajalci: Davor
 in Lešnik\nProstor: 3.10
LOCATION:3.10
ORGANIZER:Davorin Lešnik
RELATED-TO:fmf-AFLABS-URNIK:srecanje:4455
X-WR-TIMEZONE:Europe/Ljubljana
END:VEVENT
BEGIN:VEVENT
SUMMARY:Matematika 1 (NTF) ()\, Vaje (V)
DTSTART;TZID=Europe/Ljubljana:20200219T080000
DTEND;TZID=Europe/Ljubljana:20200219T110000
DTSTAMP:20260424T121744Z
UID:fmf-AFLABS-URNIK:premaknjeno-srecanje:62647
CATEGORIES:Entry,Standard
COLOR:darkgreen
DESCRIPTION:Predmet: Matematika 1 (NTF) ()\, Vaje (V)\nLetniki: \nIzvajalc
 i: Davorin Lešnik\nProstor: NTF
LOCATION:NTF
ORGANIZER:Davorin Lešnik
RELATED-TO:fmf-AFLABS-URNIK:srecanje:4257
X-WR-TIMEZONE:Europe/Ljubljana
END:VEVENT
BEGIN:VEVENT
SUMMARY:Matematika 1 (NTF) ()\, Vaje (V)
DTSTART;TZID=Europe/Ljubljana:20200219T140000
DTEND;TZID=Europe/Ljubljana:20200219T170000
DTSTAMP:20260424T121744Z
UID:fmf-AFLABS-URNIK:premaknjeno-srecanje:62740
CATEGORIES:Entry,Standard
COLOR:darkgreen
DESCRIPTION:Predmet: Matematika 1 (NTF) ()\, Vaje (V)\nLetniki: \nIzvajalc
 i: Davorin Lešnik\nProstor: NTF
LOCATION:NTF
ORGANIZER:Davorin Lešnik
RELATED-TO:fmf-AFLABS-URNIK:srecanje:4623
X-WR-TIMEZONE:Europe/Ljubljana
END:VEVENT
BEGIN:VEVENT
SUMMARY:Matematika 1 (NTF) ()\, Vaje (V)
DTSTART;TZID=Europe/Ljubljana:20200220T140000
DTEND;TZID=Europe/Ljubljana:20200220T170000
DTSTAMP:20260424T121744Z
UID:fmf-AFLABS-URNIK:premaknjeno-srecanje:62816
CATEGORIES:Entry,Standard
COLOR:darkgreen
DESCRIPTION:Predmet: Matematika 1 (NTF) ()\, Vaje (V)\nLetniki: \nIzvajalc
 i: Davorin Lešnik\nProstor: NTF
LOCATION:NTF
ORGANIZER:Davorin Lešnik
RELATED-TO:fmf-AFLABS-URNIK:srecanje:4258
X-WR-TIMEZONE:Europe/Ljubljana
END:VEVENT
BEGIN:VEVENT
SUMMARY:Rezervacija
DTSTART;TZID=Europe/Ljubljana:20200114T160000
DTEND;TZID=Europe/Ljubljana:20200114T180000
DTSTAMP:20260424T121744Z
UID:fmf-AFLABS-URNIK:rezervacija:4798
CATEGORIES:Reservation
COLOR:royalblue
DESCRIPTION:Predmeti: \nLetniki: \nIzvajalci: Davorin Lešnik\nProstori: 2
 .01\, 2.02
LOCATION:2.01\, 2.02
ORGANIZER:Davorin Lešnik
X-WR-TIMEZONE:Europe/Ljubljana
END:VEVENT
BEGIN:VEVENT
SUMMARY:Rezervacija
DTSTART;TZID=Europe/Ljubljana:20200116T160000
DTEND;TZID=Europe/Ljubljana:20200116T180000
DTSTAMP:20260424T121744Z
UID:fmf-AFLABS-URNIK:rezervacija:4824
CATEGORIES:Reservation
COLOR:royalblue
DESCRIPTION:Predmeti: \nLetniki: \nIzvajalci: Davorin Lešnik\nProstori: 2
 .01\, 2.05
LOCATION:2.01\, 2.05
ORGANIZER:Davorin Lešnik
X-WR-TIMEZONE:Europe/Ljubljana
END:VEVENT
BEGIN:VEVENT
SUMMARY:Rezervacija
DTSTART;TZID=Europe/Ljubljana:20200122T160000
DTEND;TZID=Europe/Ljubljana:20200122T180000
DTSTAMP:20260424T121744Z
UID:fmf-AFLABS-URNIK:rezervacija:4899
CATEGORIES:Reservation
COLOR:royalblue
DESCRIPTION:Predmeti: \nLetniki: \nIzvajalci: Davorin Lešnik\nProstori: V
 FP
LOCATION:VFP
ORGANIZER:Davorin Lešnik
X-WR-TIMEZONE:Europe/Ljubljana
END:VEVENT
BEGIN:VEVENT
SUMMARY:Rezervacija
DTSTART;TZID=Europe/Ljubljana:20200123T170000
DTEND;TZID=Europe/Ljubljana:20200123T190000
DTSTAMP:20260424T121744Z
UID:fmf-AFLABS-URNIK:rezervacija:4919
CATEGORIES:Reservation
COLOR:royalblue
DESCRIPTION:Predmeti: \nLetniki: \nIzvajalci: Davorin Lešnik\nProstori: V
 FP
LOCATION:VFP
ORGANIZER:Davorin Lešnik
X-WR-TIMEZONE:Europe/Ljubljana
END:VEVENT
BEGIN:VEVENT
SUMMARY:Rezervacija
DTSTART;TZID=Europe/Ljubljana:20200127T110000
DTEND;TZID=Europe/Ljubljana:20200127T130000
DTSTAMP:20260424T121744Z
UID:fmf-AFLABS-URNIK:rezervacija:4952
CATEGORIES:Reservation
COLOR:royalblue
DESCRIPTION:Predmeti: \nLetniki: \nIzvajalci: Davorin Lešnik\nProstori: V
 FP
LOCATION:VFP
ORGANIZER:Davorin Lešnik
X-WR-TIMEZONE:Europe/Ljubljana
END:VEVENT
BEGIN:VEVENT
SUMMARY:Rezervacija
DTSTART;TZID=Europe/Ljubljana:20200129T130000
DTEND;TZID=Europe/Ljubljana:20200129T160000
DTSTAMP:20260424T121744Z
UID:fmf-AFLABS-URNIK:rezervacija:4969
CATEGORIES:Reservation
COLOR:royalblue
DESCRIPTION:Predmeti: \nLetniki: \nIzvajalci: Davorin Lešnik\nProstori: V
 FP
LOCATION:VFP
ORGANIZER:Davorin Lešnik
X-WR-TIMEZONE:Europe/Ljubljana
END:VEVENT
BEGIN:VEVENT
SUMMARY:Rezervacija
DTSTART;TZID=Europe/Ljubljana:20200130T090000
DTEND;TZID=Europe/Ljubljana:20200130T110000
DTSTAMP:20260424T121744Z
UID:fmf-AFLABS-URNIK:rezervacija:4977
CATEGORIES:Reservation
COLOR:royalblue
DESCRIPTION:Predmeti: \nLetniki: \nIzvajalci: Davorin Lešnik\nProstori: 2
 .05
LOCATION:2.05
ORGANIZER:Davorin Lešnik
X-WR-TIMEZONE:Europe/Ljubljana
END:VEVENT
BEGIN:VEVENT
SUMMARY:Rezervacija
DTSTART;TZID=Europe/Ljubljana:20200210T090000
DTEND;TZID=Europe/Ljubljana:20200210T110000
DTSTAMP:20260424T121744Z
UID:fmf-AFLABS-URNIK:rezervacija:5085
CATEGORIES:Reservation
COLOR:royalblue
DESCRIPTION:Predmeti: \nLetniki: \nIzvajalci: Davorin Lešnik\nProstori: V
 FP
LOCATION:VFP
ORGANIZER:Davorin Lešnik
X-WR-TIMEZONE:Europe/Ljubljana
END:VEVENT
END:VCALENDAR
