BEGIN:VCALENDAR
VERSION:2.0
PRODID:-//AFLabs urnik izvoz - fmf//aflabs.si//SI
DTSTAMP:20260422T114539Z
NAME:UL FMF urnik
REFRESH-INTERVAL:PT1H
SOURCE:https://urnik.fmf.uni-lj.si/teacher/38?day=2020-08-31&export=1
URL:https://urnik.fmf.uni-lj.si/teacher/38?day=2020-08-31&export=1
X-PUBLISHED-TTL:PT1H
X-WR-CALNAME:UL FMF urnik
X-WR-TIMEZONE:Europe/Ljubljana
BEGIN:VTIMEZONE
TZID:Europe/Ljubljana
BEGIN:DAYLIGHT
DTSTART:20260329T020000
RDATE:20260329T020000
RDATE:20270328T020000
TZNAME:CEST
TZOFFSETFROM:+0100
TZOFFSETTO:+0200
END:DAYLIGHT
BEGIN:STANDARD
DTSTART:20261025T030000
RDATE:20261025T030000
RDATE:20271031T030000
TZNAME:CET
TZOFFSETFROM:+0200
TZOFFSETTO:+0100
END:STANDARD
END:VTIMEZONE
BEGIN:VEVENT
SUMMARY:Logika in množice (MAT-1\, PM-1)\, Vaje (V)\, [1]
DTSTART;TZID=Europe/Ljubljana:20201002T080000
DTEND;TZID=Europe/Ljubljana:20201002T100000
DTSTAMP:20260422T114539Z
UID:fmf-AFLABS-URNIK:premaknjeno-srecanje:57962
ATTENDEE:1. letnik (M)
ATTENDEE:1. letnik (PM)
CATEGORIES:Entry,Standard
COLOR:darkgreen
DESCRIPTION:Predmet: Logika in množice (MAT-1\, PM-1)\, Vaje (V)\, [1]\nL
 etniki: 1. letnik (M)\, 1. letnik (PM)\nIzvajalci: Davorin Lešnik\, Anja 
 Petković\nProstor: 2.05
LOCATION:2.05
ORGANIZER:Davorin Lešnik, Anja Petković
RELATED-TO:fmf-AFLABS-URNIK:srecanje:4936
X-WR-TIMEZONE:Europe/Ljubljana
END:VEVENT
BEGIN:VEVENT
SUMMARY:Logika in množice (MAT-1\, PM-1)\, Vaje (V)\, [2]
DTSTART;TZID=Europe/Ljubljana:20201002T080000
DTEND;TZID=Europe/Ljubljana:20201002T100000
DTSTAMP:20260422T114539Z
UID:fmf-AFLABS-URNIK:premaknjeno-srecanje:58073
ATTENDEE:1. letnik (M)
ATTENDEE:1. letnik (PM)
CATEGORIES:Entry,Standard
COLOR:darkgreen
DESCRIPTION:Predmet: Logika in množice (MAT-1\, PM-1)\, Vaje (V)\, [2]\nL
 etniki: 1. letnik (M)\, 1. letnik (PM)\nIzvajalci: Davorin Lešnik\, Anja 
 Petković\nProstor: Na daljavo
LOCATION:Na daljavo
ORGANIZER:Davorin Lešnik, Anja Petković
RELATED-TO:fmf-AFLABS-URNIK:srecanje:4937
X-WR-TIMEZONE:Europe/Ljubljana
END:VEVENT
BEGIN:VEVENT
SUMMARY:Splošna topologija (FM-3\, IŠRM-3\, MAT-2)\, Vaje (V)\, [2]
DTSTART;TZID=Europe/Ljubljana:20201002T120000
DTEND;TZID=Europe/Ljubljana:20201002T140000
DTSTAMP:20260422T114539Z
UID:fmf-AFLABS-URNIK:premaknjeno-srecanje:105148
ATTENDEE:2. letnik (M)
ATTENDEE:3. letnik (FM)
ATTENDEE:3. letnik (IŠRM)
CATEGORIES:Entry,Standard
COLOR:darkgreen
DESCRIPTION:Predmet: Splošna topologija (FM-3\, IŠRM-3\, MAT-2)\, Vaje (
 V)\, [2]\nLetniki: 3. letnik (FM)\, 3. letnik (IŠRM)\, 2. letnik (M)\nIzv
 ajalci: Davorin Lešnik\nProstor: Na daljavo
LOCATION:Na daljavo
ORGANIZER:Davorin Lešnik
RELATED-TO:fmf-AFLABS-URNIK:srecanje:5380
X-WR-TIMEZONE:Europe/Ljubljana
END:VEVENT
BEGIN:VEVENT
SUMMARY:Računska geometrija (IŠRM-M)\, Vaje (V)
DTSTART;TZID=Europe/Ljubljana:20201005T160000
DTEND;TZID=Europe/Ljubljana:20201005T190000
DTSTAMP:20260422T114539Z
UID:fmf-AFLABS-URNIK:premaknjeno-srecanje:44421
ATTENDEE:magistrski študij (IŠRM)
CATEGORIES:Entry,Standard
COLOR:darkgreen
DESCRIPTION:Predmet: Računska geometrija (IŠRM-M)\, Vaje (V)\nLetniki: m
 agistrski študij (IŠRM)\nIzvajalci: Davorin Lešnik\nProstor: 3.07
LOCATION:3.07
ORGANIZER:Davorin Lešnik
RELATED-TO:fmf-AFLABS-URNIK:srecanje:5310
X-WR-TIMEZONE:Europe/Ljubljana
END:VEVENT
BEGIN:VEVENT
SUMMARY:Splošna topologija (FM-3\, IŠRM-3\, MAT-2)\, Vaje (V)\, [1]
DTSTART;TZID=Europe/Ljubljana:20201005T080000
DTEND;TZID=Europe/Ljubljana:20201005T100000
DTSTAMP:20260422T114539Z
UID:fmf-AFLABS-URNIK:premaknjeno-srecanje:105117
ATTENDEE:2. letnik (M)
ATTENDEE:3. letnik (FM)
ATTENDEE:3. letnik (IŠRM)
CATEGORIES:Entry,Standard
COLOR:darkgreen
DESCRIPTION:Predmet: Splošna topologija (FM-3\, IŠRM-3\, MAT-2)\, Vaje (
 V)\, [1]\nLetniki: 3. letnik (FM)\, 3. letnik (IŠRM)\, 2. letnik (M)\nIzv
 ajalci: Davorin Lešnik\nProstor: 3.05
LOCATION:3.05
ORGANIZER:Davorin Lešnik
RELATED-TO:fmf-AFLABS-URNIK:srecanje:5196
X-WR-TIMEZONE:Europe/Ljubljana
END:VEVENT
BEGIN:VEVENT
SUMMARY:Rezervacija
DTSTART;TZID=Europe/Ljubljana:20200827T090000
DTEND;TZID=Europe/Ljubljana:20200827T110000
DTSTAMP:20260422T114539Z
UID:fmf-AFLABS-URNIK:rezervacija:6080
CATEGORIES:Reservation
COLOR:royalblue
DESCRIPTION:Predmeti: \nLetniki: \nIzvajalci: Davorin Lešnik\nProstori: 2
 .05
LOCATION:2.05
ORGANIZER:Davorin Lešnik
X-WR-TIMEZONE:Europe/Ljubljana
END:VEVENT
BEGIN:VEVENT
SUMMARY:Rezervacija
DTSTART;TZID=Europe/Ljubljana:20200828T090000
DTEND;TZID=Europe/Ljubljana:20200828T110000
DTSTAMP:20260422T114539Z
UID:fmf-AFLABS-URNIK:rezervacija:6099
ATTENDEE:1. letnik (M)
ATTENDEE:1. letnik (PM)
CATEGORIES:Reservation
COLOR:royalblue
DESCRIPTION:Predmeti: Logika in množice (MAT-1\, PM-1)\nLetniki: 1. letni
 k (M)\, 1. letnik (PM)\nIzvajalci: Davorin Lešnik\nProstori: 2.01\, P.02
LOCATION:2.01\, P.02
ORGANIZER:Davorin Lešnik
X-WR-TIMEZONE:Europe/Ljubljana
END:VEVENT
END:VCALENDAR
