BEGIN:VCALENDAR
VERSION:2.0
PRODID:-//AFLabs urnik izvoz - fmf//aflabs.si//SI
DTSTAMP:20260423T185646Z
NAME:UL FMF urnik
REFRESH-INTERVAL:PT1H
SOURCE:https://urnik.fmf.uni-lj.si/teacher/38?day=2020-09-07&export=1
URL:https://urnik.fmf.uni-lj.si/teacher/38?day=2020-09-07&export=1
X-PUBLISHED-TTL:PT1H
X-WR-CALNAME:UL FMF urnik
X-WR-TIMEZONE:Europe/Ljubljana
BEGIN:VTIMEZONE
TZID:Europe/Ljubljana
BEGIN:DAYLIGHT
DTSTART:20260329T020000
RDATE:20260329T020000
RDATE:20270328T020000
TZNAME:CEST
TZOFFSETFROM:+0100
TZOFFSETTO:+0200
END:DAYLIGHT
BEGIN:STANDARD
DTSTART:20261025T030000
RDATE:20261025T030000
RDATE:20271031T030000
TZNAME:CET
TZOFFSETFROM:+0200
TZOFFSETTO:+0100
END:STANDARD
END:VTIMEZONE
BEGIN:VEVENT
SUMMARY:Logika in množice (MAT-1\, PM-1)\, Vaje (V)\, [1]
DTSTART;TZID=Europe/Ljubljana:20201002T080000
DTEND;TZID=Europe/Ljubljana:20201002T100000
DTSTAMP:20260423T185646Z
UID:fmf-AFLABS-URNIK:premaknjeno-srecanje:57962
ATTENDEE:1. letnik (M)
ATTENDEE:1. letnik (PM)
CATEGORIES:Entry,Standard
COLOR:darkgreen
DESCRIPTION:Predmet: Logika in množice (MAT-1\, PM-1)\, Vaje (V)\, [1]\nL
 etniki: 1. letnik (M)\, 1. letnik (PM)\nIzvajalci: Davorin Lešnik\, Anja 
 Petković\nProstor: 2.05
LOCATION:2.05
ORGANIZER:Davorin Lešnik, Anja Petković
RELATED-TO:fmf-AFLABS-URNIK:srecanje:4936
X-WR-TIMEZONE:Europe/Ljubljana
END:VEVENT
BEGIN:VEVENT
SUMMARY:Logika in množice (MAT-1\, PM-1)\, Vaje (V)\, [1]
DTSTART;TZID=Europe/Ljubljana:20201009T080000
DTEND;TZID=Europe/Ljubljana:20201009T100000
DTSTAMP:20260423T185646Z
UID:fmf-AFLABS-URNIK:premaknjeno-srecanje:57963
ATTENDEE:1. letnik (M)
ATTENDEE:1. letnik (PM)
CATEGORIES:Entry,Standard
COLOR:darkgreen
DESCRIPTION:Predmet: Logika in množice (MAT-1\, PM-1)\, Vaje (V)\, [1]\nL
 etniki: 1. letnik (M)\, 1. letnik (PM)\nIzvajalci: Davorin Lešnik\, Anja 
 Petković\nProstor: 2.05
LOCATION:2.05
ORGANIZER:Davorin Lešnik, Anja Petković
RELATED-TO:fmf-AFLABS-URNIK:srecanje:4936
X-WR-TIMEZONE:Europe/Ljubljana
END:VEVENT
BEGIN:VEVENT
SUMMARY:Logika in množice (MAT-1\, PM-1)\, Vaje (V)\, [2]
DTSTART;TZID=Europe/Ljubljana:20201002T080000
DTEND;TZID=Europe/Ljubljana:20201002T100000
DTSTAMP:20260423T185646Z
UID:fmf-AFLABS-URNIK:premaknjeno-srecanje:58073
ATTENDEE:1. letnik (M)
ATTENDEE:1. letnik (PM)
CATEGORIES:Entry,Standard
COLOR:darkgreen
DESCRIPTION:Predmet: Logika in množice (MAT-1\, PM-1)\, Vaje (V)\, [2]\nL
 etniki: 1. letnik (M)\, 1. letnik (PM)\nIzvajalci: Davorin Lešnik\, Anja 
 Petković\nProstor: Na daljavo
LOCATION:Na daljavo
ORGANIZER:Davorin Lešnik, Anja Petković
RELATED-TO:fmf-AFLABS-URNIK:srecanje:4937
X-WR-TIMEZONE:Europe/Ljubljana
END:VEVENT
BEGIN:VEVENT
SUMMARY:Logika in množice (MAT-1\, PM-1)\, Vaje (V)\, [2]
DTSTART;TZID=Europe/Ljubljana:20201009T080000
DTEND;TZID=Europe/Ljubljana:20201009T100000
DTSTAMP:20260423T185646Z
UID:fmf-AFLABS-URNIK:premaknjeno-srecanje:58074
ATTENDEE:1. letnik (M)
ATTENDEE:1. letnik (PM)
CATEGORIES:Entry,Standard
COLOR:darkgreen
DESCRIPTION:Predmet: Logika in množice (MAT-1\, PM-1)\, Vaje (V)\, [2]\nL
 etniki: 1. letnik (M)\, 1. letnik (PM)\nIzvajalci: Davorin Lešnik\, Anja 
 Petković\nProstor: Na daljavo
LOCATION:Na daljavo
ORGANIZER:Davorin Lešnik, Anja Petković
RELATED-TO:fmf-AFLABS-URNIK:srecanje:4937
X-WR-TIMEZONE:Europe/Ljubljana
END:VEVENT
BEGIN:VEVENT
SUMMARY:Splošna topologija (FM-3\, IŠRM-3\, MAT-2)\, Vaje (V)\, [2]
DTSTART;TZID=Europe/Ljubljana:20201002T120000
DTEND;TZID=Europe/Ljubljana:20201002T140000
DTSTAMP:20260423T185646Z
UID:fmf-AFLABS-URNIK:premaknjeno-srecanje:105148
ATTENDEE:2. letnik (M)
ATTENDEE:3. letnik (FM)
ATTENDEE:3. letnik (IŠRM)
CATEGORIES:Entry,Standard
COLOR:darkgreen
DESCRIPTION:Predmet: Splošna topologija (FM-3\, IŠRM-3\, MAT-2)\, Vaje (
 V)\, [2]\nLetniki: 3. letnik (FM)\, 3. letnik (IŠRM)\, 2. letnik (M)\nIzv
 ajalci: Davorin Lešnik\nProstor: Na daljavo
LOCATION:Na daljavo
ORGANIZER:Davorin Lešnik
RELATED-TO:fmf-AFLABS-URNIK:srecanje:5380
X-WR-TIMEZONE:Europe/Ljubljana
END:VEVENT
BEGIN:VEVENT
SUMMARY:Splošna topologija (FM-3\, IŠRM-3\, MAT-2)\, Vaje (V)\, [2]
DTSTART;TZID=Europe/Ljubljana:20201009T120000
DTEND;TZID=Europe/Ljubljana:20201009T140000
DTSTAMP:20260423T185646Z
UID:fmf-AFLABS-URNIK:premaknjeno-srecanje:105149
ATTENDEE:2. letnik (M)
ATTENDEE:3. letnik (FM)
ATTENDEE:3. letnik (IŠRM)
CATEGORIES:Entry,Standard
COLOR:darkgreen
DESCRIPTION:Predmet: Splošna topologija (FM-3\, IŠRM-3\, MAT-2)\, Vaje (
 V)\, [2]\nLetniki: 3. letnik (FM)\, 3. letnik (IŠRM)\, 2. letnik (M)\nIzv
 ajalci: Davorin Lešnik\nProstor: Na daljavo
LOCATION:Na daljavo
ORGANIZER:Davorin Lešnik
RELATED-TO:fmf-AFLABS-URNIK:srecanje:5380
X-WR-TIMEZONE:Europe/Ljubljana
END:VEVENT
BEGIN:VEVENT
SUMMARY:Računska geometrija (IŠRM-M)\, Vaje (V)
DTSTART;TZID=Europe/Ljubljana:20201005T160000
DTEND;TZID=Europe/Ljubljana:20201005T190000
DTSTAMP:20260423T185646Z
UID:fmf-AFLABS-URNIK:premaknjeno-srecanje:44421
ATTENDEE:magistrski študij (IŠRM)
CATEGORIES:Entry,Standard
COLOR:darkgreen
DESCRIPTION:Predmet: Računska geometrija (IŠRM-M)\, Vaje (V)\nLetniki: m
 agistrski študij (IŠRM)\nIzvajalci: Davorin Lešnik\nProstor: 3.07
LOCATION:3.07
ORGANIZER:Davorin Lešnik
RELATED-TO:fmf-AFLABS-URNIK:srecanje:5310
X-WR-TIMEZONE:Europe/Ljubljana
END:VEVENT
BEGIN:VEVENT
SUMMARY:Računska geometrija (IŠRM-M)\, Vaje (V)
DTSTART;TZID=Europe/Ljubljana:20201012T160000
DTEND;TZID=Europe/Ljubljana:20201012T190000
DTSTAMP:20260423T185646Z
UID:fmf-AFLABS-URNIK:premaknjeno-srecanje:44422
ATTENDEE:magistrski študij (IŠRM)
CATEGORIES:Entry,Standard
COLOR:darkgreen
DESCRIPTION:Predmet: Računska geometrija (IŠRM-M)\, Vaje (V)\nLetniki: m
 agistrski študij (IŠRM)\nIzvajalci: Davorin Lešnik\nProstor: 3.07
LOCATION:3.07
ORGANIZER:Davorin Lešnik
RELATED-TO:fmf-AFLABS-URNIK:srecanje:5310
X-WR-TIMEZONE:Europe/Ljubljana
END:VEVENT
BEGIN:VEVENT
SUMMARY:Splošna topologija (FM-3\, IŠRM-3\, MAT-2)\, Vaje (V)\, [1]
DTSTART;TZID=Europe/Ljubljana:20201005T080000
DTEND;TZID=Europe/Ljubljana:20201005T100000
DTSTAMP:20260423T185646Z
UID:fmf-AFLABS-URNIK:premaknjeno-srecanje:105117
ATTENDEE:2. letnik (M)
ATTENDEE:3. letnik (FM)
ATTENDEE:3. letnik (IŠRM)
CATEGORIES:Entry,Standard
COLOR:darkgreen
DESCRIPTION:Predmet: Splošna topologija (FM-3\, IŠRM-3\, MAT-2)\, Vaje (
 V)\, [1]\nLetniki: 3. letnik (FM)\, 3. letnik (IŠRM)\, 2. letnik (M)\nIzv
 ajalci: Davorin Lešnik\nProstor: 3.05
LOCATION:3.05
ORGANIZER:Davorin Lešnik
RELATED-TO:fmf-AFLABS-URNIK:srecanje:5196
X-WR-TIMEZONE:Europe/Ljubljana
END:VEVENT
BEGIN:VEVENT
SUMMARY:Splošna topologija (FM-3\, IŠRM-3\, MAT-2)\, Vaje (V)\, [1]
DTSTART;TZID=Europe/Ljubljana:20201012T080000
DTEND;TZID=Europe/Ljubljana:20201012T100000
DTSTAMP:20260423T185646Z
UID:fmf-AFLABS-URNIK:premaknjeno-srecanje:105118
ATTENDEE:2. letnik (M)
ATTENDEE:3. letnik (FM)
ATTENDEE:3. letnik (IŠRM)
CATEGORIES:Entry,Standard
COLOR:darkgreen
DESCRIPTION:Predmet: Splošna topologija (FM-3\, IŠRM-3\, MAT-2)\, Vaje (
 V)\, [1]\nLetniki: 3. letnik (FM)\, 3. letnik (IŠRM)\, 2. letnik (M)\nIzv
 ajalci: Davorin Lešnik\nProstor: 3.05
LOCATION:3.05
ORGANIZER:Davorin Lešnik
RELATED-TO:fmf-AFLABS-URNIK:srecanje:5196
X-WR-TIMEZONE:Europe/Ljubljana
END:VEVENT
BEGIN:VEVENT
SUMMARY:MAT 1 (NTF) ()\, Predavanja (P)
DTSTART;TZID=Europe/Ljubljana:20201006T130000
DTEND;TZID=Europe/Ljubljana:20201006T190000
DTSTAMP:20260423T185646Z
UID:fmf-AFLABS-URNIK:premaknjeno-srecanje:59585
CATEGORIES:Entry,Standard
COLOR:darkgreen
DESCRIPTION:Predmet: MAT 1 (NTF) ()\, Predavanja (P)\nLetniki: \nIzvajalci
 : Davorin Lešnik\nProstor: NTF
LOCATION:NTF
ORGANIZER:Davorin Lešnik
RELATED-TO:fmf-AFLABS-URNIK:srecanje:4945
X-WR-TIMEZONE:Europe/Ljubljana
END:VEVENT
BEGIN:VEVENT
SUMMARY:MAT 1 (NTF) ()\, Predavanja (P)
DTSTART;TZID=Europe/Ljubljana:20201007T130000
DTEND;TZID=Europe/Ljubljana:20201007T160000
DTSTAMP:20260423T185646Z
UID:fmf-AFLABS-URNIK:premaknjeno-srecanje:59632
CATEGORIES:Entry,Standard
COLOR:darkgreen
DESCRIPTION:Predmet: MAT 1 (NTF) ()\, Predavanja (P)\nLetniki: \nIzvajalci
 : Davorin Lešnik\nProstor: NTF
LOCATION:NTF
ORGANIZER:Davorin Lešnik
RELATED-TO:fmf-AFLABS-URNIK:srecanje:4944
X-WR-TIMEZONE:Europe/Ljubljana
END:VEVENT
BEGIN:VEVENT
SUMMARY:Teorija izračunljivosti (FM-M\, IŠRM-M\, MAT-M\, PM-5)\, Vaje (V
 )
DTSTART;TZID=Europe/Ljubljana:20201007T170000
DTEND;TZID=Europe/Ljubljana:20201007T190000
DTSTAMP:20260423T185646Z
UID:fmf-AFLABS-URNIK:premaknjeno-srecanje:109443
ATTENDEE:5. letnik (PM)
ATTENDEE:magistrski študij (FM)
ATTENDEE:magistrski študij (IŠRM)
ATTENDEE:magistrski študij (M)
CATEGORIES:Entry,Standard
COLOR:darkgreen
DESCRIPTION:Predmet: Teorija izračunljivosti (FM-M\, IŠRM-M\, MAT-M\, PM
 -5)\, Vaje (V)\nLetniki: magistrski študij (FM)\, magistrski študij (IŠ
 RM)\, magistrski študij (M)\, 5. letnik (PM)\nIzvajalci: Davorin Lešnik\
 nProstor: 3.07
LOCATION:3.07
ORGANIZER:Davorin Lešnik
RELATED-TO:fmf-AFLABS-URNIK:srecanje:5220
X-WR-TIMEZONE:Europe/Ljubljana
END:VEVENT
BEGIN:VEVENT
SUMMARY:Rezervacija
DTSTART;TZID=Europe/Ljubljana:20200827T090000
DTEND;TZID=Europe/Ljubljana:20200827T110000
DTSTAMP:20260423T185646Z
UID:fmf-AFLABS-URNIK:rezervacija:6080
CATEGORIES:Reservation
COLOR:royalblue
DESCRIPTION:Predmeti: \nLetniki: \nIzvajalci: Davorin Lešnik\nProstori: 2
 .05
LOCATION:2.05
ORGANIZER:Davorin Lešnik
X-WR-TIMEZONE:Europe/Ljubljana
END:VEVENT
BEGIN:VEVENT
SUMMARY:Rezervacija
DTSTART;TZID=Europe/Ljubljana:20200828T090000
DTEND;TZID=Europe/Ljubljana:20200828T110000
DTSTAMP:20260423T185646Z
UID:fmf-AFLABS-URNIK:rezervacija:6099
ATTENDEE:1. letnik (M)
ATTENDEE:1. letnik (PM)
CATEGORIES:Reservation
COLOR:royalblue
DESCRIPTION:Predmeti: Logika in množice (MAT-1\, PM-1)\nLetniki: 1. letni
 k (M)\, 1. letnik (PM)\nIzvajalci: Davorin Lešnik\nProstori: 2.01\, P.02
LOCATION:2.01\, P.02
ORGANIZER:Davorin Lešnik
X-WR-TIMEZONE:Europe/Ljubljana
END:VEVENT
END:VCALENDAR
