BEGIN:VCALENDAR
VERSION:2.0
PRODID:-//AFLabs urnik izvoz - fmf//aflabs.si//SI
DTSTAMP:20260420T075239Z
NAME:UL FMF urnik
REFRESH-INTERVAL:PT1H
SOURCE:https://urnik.fmf.uni-lj.si/teacher/38?day=2021-04-05&export=1
URL:https://urnik.fmf.uni-lj.si/teacher/38?day=2021-04-05&export=1
X-PUBLISHED-TTL:PT1H
X-WR-CALNAME:UL FMF urnik
X-WR-TIMEZONE:Europe/Ljubljana
BEGIN:VTIMEZONE
TZID:Europe/Ljubljana
BEGIN:DAYLIGHT
DTSTART:20260329T020000
RDATE:20260329T020000
RDATE:20270328T020000
TZNAME:CEST
TZOFFSETFROM:+0100
TZOFFSETTO:+0200
END:DAYLIGHT
BEGIN:STANDARD
DTSTART:20261025T030000
RDATE:20261025T030000
RDATE:20271031T030000
TZNAME:CET
TZOFFSETFROM:+0200
TZOFFSETTO:+0100
END:STANDARD
END:VTIMEZONE
BEGIN:VEVENT
SUMMARY:Govorilna ura ()\, Predavanja (P)
DTSTART;TZID=Europe/Ljubljana:20210215T140000
DTEND;TZID=Europe/Ljubljana:20210215T150000
DTSTAMP:20260420T075239Z
UID:fmf-AFLABS-URNIK:premaknjeno-srecanje:40419
CATEGORIES:Entry,Standard
COLOR:darkgreen
DESCRIPTION:Predmet: Govorilna ura ()\, Predavanja (P)\nLetniki: \nIzvajal
 ci: Davorin Lešnik\nProstor: P.20
LOCATION:P.20
ORGANIZER:Davorin Lešnik
RELATED-TO:fmf-AFLABS-URNIK:srecanje:5591
X-WR-TIMEZONE:Europe/Ljubljana
END:VEVENT
BEGIN:VEVENT
SUMMARY:Govorilna ura ()\, Predavanja (P)
DTSTART;TZID=Europe/Ljubljana:20210222T140000
DTEND;TZID=Europe/Ljubljana:20210222T150000
DTSTAMP:20260420T075239Z
UID:fmf-AFLABS-URNIK:premaknjeno-srecanje:40420
CATEGORIES:Entry,Standard
COLOR:darkgreen
DESCRIPTION:Predmet: Govorilna ura ()\, Predavanja (P)\nLetniki: \nIzvajal
 ci: Davorin Lešnik\nProstor: P.20
LOCATION:P.20
ORGANIZER:Davorin Lešnik
RELATED-TO:fmf-AFLABS-URNIK:srecanje:5591
X-WR-TIMEZONE:Europe/Ljubljana
END:VEVENT
BEGIN:VEVENT
SUMMARY:Govorilna ura ()\, Predavanja (P)
DTSTART;TZID=Europe/Ljubljana:20210301T140000
DTEND;TZID=Europe/Ljubljana:20210301T150000
DTSTAMP:20260420T075239Z
UID:fmf-AFLABS-URNIK:premaknjeno-srecanje:40421
CATEGORIES:Entry,Standard
COLOR:darkgreen
DESCRIPTION:Predmet: Govorilna ura ()\, Predavanja (P)\nLetniki: \nIzvajal
 ci: Davorin Lešnik\nProstor: P.20
LOCATION:P.20
ORGANIZER:Davorin Lešnik
RELATED-TO:fmf-AFLABS-URNIK:srecanje:5591
X-WR-TIMEZONE:Europe/Ljubljana
END:VEVENT
BEGIN:VEVENT
SUMMARY:Govorilna ura ()\, Predavanja (P)
DTSTART;TZID=Europe/Ljubljana:20210308T140000
DTEND;TZID=Europe/Ljubljana:20210308T150000
DTSTAMP:20260420T075239Z
UID:fmf-AFLABS-URNIK:premaknjeno-srecanje:40422
CATEGORIES:Entry,Standard
COLOR:darkgreen
DESCRIPTION:Predmet: Govorilna ura ()\, Predavanja (P)\nLetniki: \nIzvajal
 ci: Davorin Lešnik\nProstor: P.20
LOCATION:P.20
ORGANIZER:Davorin Lešnik
RELATED-TO:fmf-AFLABS-URNIK:srecanje:5591
X-WR-TIMEZONE:Europe/Ljubljana
END:VEVENT
BEGIN:VEVENT
SUMMARY:Govorilna ura ()\, Predavanja (P)
DTSTART;TZID=Europe/Ljubljana:20210315T140000
DTEND;TZID=Europe/Ljubljana:20210315T150000
DTSTAMP:20260420T075239Z
UID:fmf-AFLABS-URNIK:premaknjeno-srecanje:40423
CATEGORIES:Entry,Standard
COLOR:darkgreen
DESCRIPTION:Predmet: Govorilna ura ()\, Predavanja (P)\nLetniki: \nIzvajal
 ci: Davorin Lešnik\nProstor: P.20
LOCATION:P.20
ORGANIZER:Davorin Lešnik
RELATED-TO:fmf-AFLABS-URNIK:srecanje:5591
X-WR-TIMEZONE:Europe/Ljubljana
END:VEVENT
BEGIN:VEVENT
SUMMARY:Govorilna ura ()\, Predavanja (P)
DTSTART;TZID=Europe/Ljubljana:20210322T140000
DTEND;TZID=Europe/Ljubljana:20210322T150000
DTSTAMP:20260420T075239Z
UID:fmf-AFLABS-URNIK:premaknjeno-srecanje:40424
CATEGORIES:Entry,Standard
COLOR:darkgreen
DESCRIPTION:Predmet: Govorilna ura ()\, Predavanja (P)\nLetniki: \nIzvajal
 ci: Davorin Lešnik\nProstor: P.20
LOCATION:P.20
ORGANIZER:Davorin Lešnik
RELATED-TO:fmf-AFLABS-URNIK:srecanje:5591
X-WR-TIMEZONE:Europe/Ljubljana
END:VEVENT
BEGIN:VEVENT
SUMMARY:Govorilna ura ()\, Predavanja (P)
DTSTART;TZID=Europe/Ljubljana:20210329T140000
DTEND;TZID=Europe/Ljubljana:20210329T150000
DTSTAMP:20260420T075239Z
UID:fmf-AFLABS-URNIK:premaknjeno-srecanje:40425
CATEGORIES:Entry,Standard
COLOR:darkgreen
DESCRIPTION:Predmet: Govorilna ura ()\, Predavanja (P)\nLetniki: \nIzvajal
 ci: Davorin Lešnik\nProstor: P.20
LOCATION:P.20
ORGANIZER:Davorin Lešnik
RELATED-TO:fmf-AFLABS-URNIK:srecanje:5591
X-WR-TIMEZONE:Europe/Ljubljana
END:VEVENT
BEGIN:VEVENT
SUMMARY:Govorilna ura ()\, Predavanja (P)
DTSTART;TZID=Europe/Ljubljana:20210405T140000
DTEND;TZID=Europe/Ljubljana:20210405T150000
DTSTAMP:20260420T075239Z
UID:fmf-AFLABS-URNIK:premaknjeno-srecanje:40426
CATEGORIES:Entry,Standard
COLOR:darkgreen
DESCRIPTION:Predmet: Govorilna ura ()\, Predavanja (P)\nLetniki: \nIzvajal
 ci: Davorin Lešnik\nProstor: P.20
LOCATION:P.20
ORGANIZER:Davorin Lešnik
RELATED-TO:fmf-AFLABS-URNIK:srecanje:5591
X-WR-TIMEZONE:Europe/Ljubljana
END:VEVENT
BEGIN:VEVENT
SUMMARY:Govorilna ura ()\, Predavanja (P)
DTSTART;TZID=Europe/Ljubljana:20210412T140000
DTEND;TZID=Europe/Ljubljana:20210412T150000
DTSTAMP:20260420T075239Z
UID:fmf-AFLABS-URNIK:premaknjeno-srecanje:40427
CATEGORIES:Entry,Standard
COLOR:darkgreen
DESCRIPTION:Predmet: Govorilna ura ()\, Predavanja (P)\nLetniki: \nIzvajal
 ci: Davorin Lešnik\nProstor: P.20
LOCATION:P.20
ORGANIZER:Davorin Lešnik
RELATED-TO:fmf-AFLABS-URNIK:srecanje:5591
X-WR-TIMEZONE:Europe/Ljubljana
END:VEVENT
BEGIN:VEVENT
SUMMARY:Govorilna ura ()\, Predavanja (P)
DTSTART;TZID=Europe/Ljubljana:20210419T140000
DTEND;TZID=Europe/Ljubljana:20210419T150000
DTSTAMP:20260420T075239Z
UID:fmf-AFLABS-URNIK:premaknjeno-srecanje:40428
CATEGORIES:Entry,Standard
COLOR:darkgreen
DESCRIPTION:Predmet: Govorilna ura ()\, Predavanja (P)\nLetniki: \nIzvajal
 ci: Davorin Lešnik\nProstor: P.20
LOCATION:P.20
ORGANIZER:Davorin Lešnik
RELATED-TO:fmf-AFLABS-URNIK:srecanje:5591
X-WR-TIMEZONE:Europe/Ljubljana
END:VEVENT
BEGIN:VEVENT
SUMMARY:Govorilna ura ()\, Predavanja (P)
DTSTART;TZID=Europe/Ljubljana:20210426T140000
DTEND;TZID=Europe/Ljubljana:20210426T150000
DTSTAMP:20260420T075239Z
UID:fmf-AFLABS-URNIK:premaknjeno-srecanje:40429
CATEGORIES:Entry,Standard
COLOR:darkgreen
DESCRIPTION:Predmet: Govorilna ura ()\, Predavanja (P)\nLetniki: \nIzvajal
 ci: Davorin Lešnik\nProstor: P.20
LOCATION:P.20
ORGANIZER:Davorin Lešnik
RELATED-TO:fmf-AFLABS-URNIK:srecanje:5591
X-WR-TIMEZONE:Europe/Ljubljana
END:VEVENT
BEGIN:VEVENT
SUMMARY:Govorilna ura ()\, Predavanja (P)
DTSTART;TZID=Europe/Ljubljana:20210503T140000
DTEND;TZID=Europe/Ljubljana:20210503T150000
DTSTAMP:20260420T075239Z
UID:fmf-AFLABS-URNIK:premaknjeno-srecanje:40430
CATEGORIES:Entry,Standard
COLOR:darkgreen
DESCRIPTION:Predmet: Govorilna ura ()\, Predavanja (P)\nLetniki: \nIzvajal
 ci: Davorin Lešnik\nProstor: P.20
LOCATION:P.20
ORGANIZER:Davorin Lešnik
RELATED-TO:fmf-AFLABS-URNIK:srecanje:5591
X-WR-TIMEZONE:Europe/Ljubljana
END:VEVENT
BEGIN:VEVENT
SUMMARY:Govorilna ura ()\, Predavanja (P)
DTSTART;TZID=Europe/Ljubljana:20210510T140000
DTEND;TZID=Europe/Ljubljana:20210510T150000
DTSTAMP:20260420T075239Z
UID:fmf-AFLABS-URNIK:premaknjeno-srecanje:40431
CATEGORIES:Entry,Standard
COLOR:darkgreen
DESCRIPTION:Predmet: Govorilna ura ()\, Predavanja (P)\nLetniki: \nIzvajal
 ci: Davorin Lešnik\nProstor: P.20
LOCATION:P.20
ORGANIZER:Davorin Lešnik
RELATED-TO:fmf-AFLABS-URNIK:srecanje:5591
X-WR-TIMEZONE:Europe/Ljubljana
END:VEVENT
BEGIN:VEVENT
SUMMARY:Govorilna ura ()\, Predavanja (P)
DTSTART;TZID=Europe/Ljubljana:20210517T140000
DTEND;TZID=Europe/Ljubljana:20210517T150000
DTSTAMP:20260420T075239Z
UID:fmf-AFLABS-URNIK:premaknjeno-srecanje:40432
CATEGORIES:Entry,Standard
COLOR:darkgreen
DESCRIPTION:Predmet: Govorilna ura ()\, Predavanja (P)\nLetniki: \nIzvajal
 ci: Davorin Lešnik\nProstor: P.20
LOCATION:P.20
ORGANIZER:Davorin Lešnik
RELATED-TO:fmf-AFLABS-URNIK:srecanje:5591
X-WR-TIMEZONE:Europe/Ljubljana
END:VEVENT
BEGIN:VEVENT
SUMMARY:Govorilna ura ()\, Predavanja (P)
DTSTART;TZID=Europe/Ljubljana:20210524T140000
DTEND;TZID=Europe/Ljubljana:20210524T150000
DTSTAMP:20260420T075239Z
UID:fmf-AFLABS-URNIK:premaknjeno-srecanje:40433
CATEGORIES:Entry,Standard
COLOR:darkgreen
DESCRIPTION:Predmet: Govorilna ura ()\, Predavanja (P)\nLetniki: \nIzvajal
 ci: Davorin Lešnik\nProstor: P.20
LOCATION:P.20
ORGANIZER:Davorin Lešnik
RELATED-TO:fmf-AFLABS-URNIK:srecanje:5591
X-WR-TIMEZONE:Europe/Ljubljana
END:VEVENT
BEGIN:VEVENT
SUMMARY:Govorilna ura ()\, Predavanja (P)
DTSTART;TZID=Europe/Ljubljana:20210531T140000
DTEND;TZID=Europe/Ljubljana:20210531T150000
DTSTAMP:20260420T075239Z
UID:fmf-AFLABS-URNIK:premaknjeno-srecanje:40434
CATEGORIES:Entry,Standard
COLOR:darkgreen
DESCRIPTION:Predmet: Govorilna ura ()\, Predavanja (P)\nLetniki: \nIzvajal
 ci: Davorin Lešnik\nProstor: P.20
LOCATION:P.20
ORGANIZER:Davorin Lešnik
RELATED-TO:fmf-AFLABS-URNIK:srecanje:5591
X-WR-TIMEZONE:Europe/Ljubljana
END:VEVENT
BEGIN:VEVENT
SUMMARY:Matematika 1 (NTF) ()\, Vaje (V)
DTSTART;TZID=Europe/Ljubljana:20210217T080000
DTEND;TZID=Europe/Ljubljana:20210217T110000
DTSTAMP:20260420T075239Z
UID:fmf-AFLABS-URNIK:premaknjeno-srecanje:62662
CATEGORIES:Entry,Standard
COLOR:darkgreen
DESCRIPTION:Predmet: Matematika 1 (NTF) ()\, Vaje (V)\nLetniki: \nIzvajalc
 i: Davorin Lešnik\nProstor: X
LOCATION:X
ORGANIZER:Davorin Lešnik
RELATED-TO:fmf-AFLABS-URNIK:srecanje:5705
X-WR-TIMEZONE:Europe/Ljubljana
END:VEVENT
BEGIN:VEVENT
SUMMARY:Matematika 1 (NTF) ()\, Vaje (V)
DTSTART;TZID=Europe/Ljubljana:20210224T080000
DTEND;TZID=Europe/Ljubljana:20210224T110000
DTSTAMP:20260420T075239Z
UID:fmf-AFLABS-URNIK:premaknjeno-srecanje:62663
CATEGORIES:Entry,Standard
COLOR:darkgreen
DESCRIPTION:Predmet: Matematika 1 (NTF) ()\, Vaje (V)\nLetniki: \nIzvajalc
 i: Davorin Lešnik\nProstor: X
LOCATION:X
ORGANIZER:Davorin Lešnik
RELATED-TO:fmf-AFLABS-URNIK:srecanje:5705
X-WR-TIMEZONE:Europe/Ljubljana
END:VEVENT
BEGIN:VEVENT
SUMMARY:Matematika 1 (NTF) ()\, Vaje (V)
DTSTART;TZID=Europe/Ljubljana:20210303T080000
DTEND;TZID=Europe/Ljubljana:20210303T110000
DTSTAMP:20260420T075239Z
UID:fmf-AFLABS-URNIK:premaknjeno-srecanje:62664
CATEGORIES:Entry,Standard
COLOR:darkgreen
DESCRIPTION:Predmet: Matematika 1 (NTF) ()\, Vaje (V)\nLetniki: \nIzvajalc
 i: Davorin Lešnik\nProstor: X
LOCATION:X
ORGANIZER:Davorin Lešnik
RELATED-TO:fmf-AFLABS-URNIK:srecanje:5705
X-WR-TIMEZONE:Europe/Ljubljana
END:VEVENT
BEGIN:VEVENT
SUMMARY:Matematika 1 (NTF) ()\, Vaje (V)
DTSTART;TZID=Europe/Ljubljana:20210310T080000
DTEND;TZID=Europe/Ljubljana:20210310T110000
DTSTAMP:20260420T075239Z
UID:fmf-AFLABS-URNIK:premaknjeno-srecanje:62665
CATEGORIES:Entry,Standard
COLOR:darkgreen
DESCRIPTION:Predmet: Matematika 1 (NTF) ()\, Vaje (V)\nLetniki: \nIzvajalc
 i: Davorin Lešnik\nProstor: X
LOCATION:X
ORGANIZER:Davorin Lešnik
RELATED-TO:fmf-AFLABS-URNIK:srecanje:5705
X-WR-TIMEZONE:Europe/Ljubljana
END:VEVENT
BEGIN:VEVENT
SUMMARY:Matematika 1 (NTF) ()\, Vaje (V)
DTSTART;TZID=Europe/Ljubljana:20210317T080000
DTEND;TZID=Europe/Ljubljana:20210317T110000
DTSTAMP:20260420T075239Z
UID:fmf-AFLABS-URNIK:premaknjeno-srecanje:62666
CATEGORIES:Entry,Standard
COLOR:darkgreen
DESCRIPTION:Predmet: Matematika 1 (NTF) ()\, Vaje (V)\nLetniki: \nIzvajalc
 i: Davorin Lešnik\nProstor: X
LOCATION:X
ORGANIZER:Davorin Lešnik
RELATED-TO:fmf-AFLABS-URNIK:srecanje:5705
X-WR-TIMEZONE:Europe/Ljubljana
END:VEVENT
BEGIN:VEVENT
SUMMARY:Matematika 1 (NTF) ()\, Vaje (V)
DTSTART;TZID=Europe/Ljubljana:20210324T080000
DTEND;TZID=Europe/Ljubljana:20210324T110000
DTSTAMP:20260420T075239Z
UID:fmf-AFLABS-URNIK:premaknjeno-srecanje:62667
CATEGORIES:Entry,Standard
COLOR:darkgreen
DESCRIPTION:Predmet: Matematika 1 (NTF) ()\, Vaje (V)\nLetniki: \nIzvajalc
 i: Davorin Lešnik\nProstor: X
LOCATION:X
ORGANIZER:Davorin Lešnik
RELATED-TO:fmf-AFLABS-URNIK:srecanje:5705
X-WR-TIMEZONE:Europe/Ljubljana
END:VEVENT
BEGIN:VEVENT
SUMMARY:Matematika 1 (NTF) ()\, Vaje (V)
DTSTART;TZID=Europe/Ljubljana:20210331T080000
DTEND;TZID=Europe/Ljubljana:20210331T110000
DTSTAMP:20260420T075239Z
UID:fmf-AFLABS-URNIK:premaknjeno-srecanje:62668
CATEGORIES:Entry,Standard
COLOR:darkgreen
DESCRIPTION:Predmet: Matematika 1 (NTF) ()\, Vaje (V)\nLetniki: \nIzvajalc
 i: Davorin Lešnik\nProstor: X
LOCATION:X
ORGANIZER:Davorin Lešnik
RELATED-TO:fmf-AFLABS-URNIK:srecanje:5705
X-WR-TIMEZONE:Europe/Ljubljana
END:VEVENT
BEGIN:VEVENT
SUMMARY:Matematika 1 (NTF) ()\, Vaje (V)
DTSTART;TZID=Europe/Ljubljana:20210407T080000
DTEND;TZID=Europe/Ljubljana:20210407T110000
DTSTAMP:20260420T075239Z
UID:fmf-AFLABS-URNIK:premaknjeno-srecanje:62669
CATEGORIES:Entry,Standard
COLOR:darkgreen
DESCRIPTION:Predmet: Matematika 1 (NTF) ()\, Vaje (V)\nLetniki: \nIzvajalc
 i: Davorin Lešnik\nProstor: X
LOCATION:X
ORGANIZER:Davorin Lešnik
RELATED-TO:fmf-AFLABS-URNIK:srecanje:5705
X-WR-TIMEZONE:Europe/Ljubljana
END:VEVENT
BEGIN:VEVENT
SUMMARY:Matematika 1 (NTF) ()\, Vaje (V)
DTSTART;TZID=Europe/Ljubljana:20210414T080000
DTEND;TZID=Europe/Ljubljana:20210414T110000
DTSTAMP:20260420T075239Z
UID:fmf-AFLABS-URNIK:premaknjeno-srecanje:62670
CATEGORIES:Entry,Standard
COLOR:darkgreen
DESCRIPTION:Predmet: Matematika 1 (NTF) ()\, Vaje (V)\nLetniki: \nIzvajalc
 i: Davorin Lešnik\nProstor: X
LOCATION:X
ORGANIZER:Davorin Lešnik
RELATED-TO:fmf-AFLABS-URNIK:srecanje:5705
X-WR-TIMEZONE:Europe/Ljubljana
END:VEVENT
BEGIN:VEVENT
SUMMARY:Matematika 1 (NTF) ()\, Vaje (V)
DTSTART;TZID=Europe/Ljubljana:20210421T080000
DTEND;TZID=Europe/Ljubljana:20210421T110000
DTSTAMP:20260420T075239Z
UID:fmf-AFLABS-URNIK:premaknjeno-srecanje:62671
CATEGORIES:Entry,Standard
COLOR:darkgreen
DESCRIPTION:Predmet: Matematika 1 (NTF) ()\, Vaje (V)\nLetniki: \nIzvajalc
 i: Davorin Lešnik\nProstor: X
LOCATION:X
ORGANIZER:Davorin Lešnik
RELATED-TO:fmf-AFLABS-URNIK:srecanje:5705
X-WR-TIMEZONE:Europe/Ljubljana
END:VEVENT
BEGIN:VEVENT
SUMMARY:Matematika 1 (NTF) ()\, Vaje (V)
DTSTART;TZID=Europe/Ljubljana:20210428T080000
DTEND;TZID=Europe/Ljubljana:20210428T110000
DTSTAMP:20260420T075239Z
UID:fmf-AFLABS-URNIK:premaknjeno-srecanje:62672
CATEGORIES:Entry,Standard
COLOR:darkgreen
DESCRIPTION:Predmet: Matematika 1 (NTF) ()\, Vaje (V)\nLetniki: \nIzvajalc
 i: Davorin Lešnik\nProstor: X
LOCATION:X
ORGANIZER:Davorin Lešnik
RELATED-TO:fmf-AFLABS-URNIK:srecanje:5705
X-WR-TIMEZONE:Europe/Ljubljana
END:VEVENT
BEGIN:VEVENT
SUMMARY:Matematika 1 (NTF) ()\, Vaje (V)
DTSTART;TZID=Europe/Ljubljana:20210505T080000
DTEND;TZID=Europe/Ljubljana:20210505T110000
DTSTAMP:20260420T075239Z
UID:fmf-AFLABS-URNIK:premaknjeno-srecanje:62673
CATEGORIES:Entry,Standard
COLOR:darkgreen
DESCRIPTION:Predmet: Matematika 1 (NTF) ()\, Vaje (V)\nLetniki: \nIzvajalc
 i: Davorin Lešnik\nProstor: X
LOCATION:X
ORGANIZER:Davorin Lešnik
RELATED-TO:fmf-AFLABS-URNIK:srecanje:5705
X-WR-TIMEZONE:Europe/Ljubljana
END:VEVENT
BEGIN:VEVENT
SUMMARY:Matematika 1 (NTF) ()\, Vaje (V)
DTSTART;TZID=Europe/Ljubljana:20210512T080000
DTEND;TZID=Europe/Ljubljana:20210512T110000
DTSTAMP:20260420T075239Z
UID:fmf-AFLABS-URNIK:premaknjeno-srecanje:62674
CATEGORIES:Entry,Standard
COLOR:darkgreen
DESCRIPTION:Predmet: Matematika 1 (NTF) ()\, Vaje (V)\nLetniki: \nIzvajalc
 i: Davorin Lešnik\nProstor: X
LOCATION:X
ORGANIZER:Davorin Lešnik
RELATED-TO:fmf-AFLABS-URNIK:srecanje:5705
X-WR-TIMEZONE:Europe/Ljubljana
END:VEVENT
BEGIN:VEVENT
SUMMARY:Matematika 1 (NTF) ()\, Vaje (V)
DTSTART;TZID=Europe/Ljubljana:20210519T080000
DTEND;TZID=Europe/Ljubljana:20210519T110000
DTSTAMP:20260420T075239Z
UID:fmf-AFLABS-URNIK:premaknjeno-srecanje:62675
CATEGORIES:Entry,Standard
COLOR:darkgreen
DESCRIPTION:Predmet: Matematika 1 (NTF) ()\, Vaje (V)\nLetniki: \nIzvajalc
 i: Davorin Lešnik\nProstor: X
LOCATION:X
ORGANIZER:Davorin Lešnik
RELATED-TO:fmf-AFLABS-URNIK:srecanje:5705
X-WR-TIMEZONE:Europe/Ljubljana
END:VEVENT
BEGIN:VEVENT
SUMMARY:Matematika 1 (NTF) ()\, Vaje (V)
DTSTART;TZID=Europe/Ljubljana:20210526T080000
DTEND;TZID=Europe/Ljubljana:20210526T110000
DTSTAMP:20260420T075239Z
UID:fmf-AFLABS-URNIK:premaknjeno-srecanje:62676
CATEGORIES:Entry,Standard
COLOR:darkgreen
DESCRIPTION:Predmet: Matematika 1 (NTF) ()\, Vaje (V)\nLetniki: \nIzvajalc
 i: Davorin Lešnik\nProstor: X
LOCATION:X
ORGANIZER:Davorin Lešnik
RELATED-TO:fmf-AFLABS-URNIK:srecanje:5705
X-WR-TIMEZONE:Europe/Ljubljana
END:VEVENT
BEGIN:VEVENT
SUMMARY:Matematika 1 (NTF) ()\, Vaje (V)
DTSTART;TZID=Europe/Ljubljana:20210218T140000
DTEND;TZID=Europe/Ljubljana:20210218T170000
DTSTAMP:20260420T075239Z
UID:fmf-AFLABS-URNIK:premaknjeno-srecanje:62831
CATEGORIES:Entry,Standard
COLOR:darkgreen
DESCRIPTION:Predmet: Matematika 1 (NTF) ()\, Vaje (V)\nLetniki: \nIzvajalc
 i: Davorin Lešnik\nProstor: X
LOCATION:X
ORGANIZER:Davorin Lešnik
RELATED-TO:fmf-AFLABS-URNIK:srecanje:5706
X-WR-TIMEZONE:Europe/Ljubljana
END:VEVENT
BEGIN:VEVENT
SUMMARY:Matematika 1 (NTF) ()\, Vaje (V)
DTSTART;TZID=Europe/Ljubljana:20210225T140000
DTEND;TZID=Europe/Ljubljana:20210225T170000
DTSTAMP:20260420T075239Z
UID:fmf-AFLABS-URNIK:premaknjeno-srecanje:62832
CATEGORIES:Entry,Standard
COLOR:darkgreen
DESCRIPTION:Predmet: Matematika 1 (NTF) ()\, Vaje (V)\nLetniki: \nIzvajalc
 i: Davorin Lešnik\nProstor: X
LOCATION:X
ORGANIZER:Davorin Lešnik
RELATED-TO:fmf-AFLABS-URNIK:srecanje:5706
X-WR-TIMEZONE:Europe/Ljubljana
END:VEVENT
BEGIN:VEVENT
SUMMARY:Matematika 1 (NTF) ()\, Vaje (V)
DTSTART;TZID=Europe/Ljubljana:20210304T140000
DTEND;TZID=Europe/Ljubljana:20210304T170000
DTSTAMP:20260420T075239Z
UID:fmf-AFLABS-URNIK:premaknjeno-srecanje:62833
CATEGORIES:Entry,Standard
COLOR:darkgreen
DESCRIPTION:Predmet: Matematika 1 (NTF) ()\, Vaje (V)\nLetniki: \nIzvajalc
 i: Davorin Lešnik\nProstor: X
LOCATION:X
ORGANIZER:Davorin Lešnik
RELATED-TO:fmf-AFLABS-URNIK:srecanje:5706
X-WR-TIMEZONE:Europe/Ljubljana
END:VEVENT
BEGIN:VEVENT
SUMMARY:Matematika 1 (NTF) ()\, Vaje (V)
DTSTART;TZID=Europe/Ljubljana:20210311T140000
DTEND;TZID=Europe/Ljubljana:20210311T170000
DTSTAMP:20260420T075239Z
UID:fmf-AFLABS-URNIK:premaknjeno-srecanje:62834
CATEGORIES:Entry,Standard
COLOR:darkgreen
DESCRIPTION:Predmet: Matematika 1 (NTF) ()\, Vaje (V)\nLetniki: \nIzvajalc
 i: Davorin Lešnik\nProstor: X
LOCATION:X
ORGANIZER:Davorin Lešnik
RELATED-TO:fmf-AFLABS-URNIK:srecanje:5706
X-WR-TIMEZONE:Europe/Ljubljana
END:VEVENT
BEGIN:VEVENT
SUMMARY:Matematika 1 (NTF) ()\, Vaje (V)
DTSTART;TZID=Europe/Ljubljana:20210318T140000
DTEND;TZID=Europe/Ljubljana:20210318T170000
DTSTAMP:20260420T075239Z
UID:fmf-AFLABS-URNIK:premaknjeno-srecanje:62835
CATEGORIES:Entry,Standard
COLOR:darkgreen
DESCRIPTION:Predmet: Matematika 1 (NTF) ()\, Vaje (V)\nLetniki: \nIzvajalc
 i: Davorin Lešnik\nProstor: X
LOCATION:X
ORGANIZER:Davorin Lešnik
RELATED-TO:fmf-AFLABS-URNIK:srecanje:5706
X-WR-TIMEZONE:Europe/Ljubljana
END:VEVENT
BEGIN:VEVENT
SUMMARY:Matematika 1 (NTF) ()\, Vaje (V)
DTSTART;TZID=Europe/Ljubljana:20210325T140000
DTEND;TZID=Europe/Ljubljana:20210325T170000
DTSTAMP:20260420T075239Z
UID:fmf-AFLABS-URNIK:premaknjeno-srecanje:62836
CATEGORIES:Entry,Standard
COLOR:darkgreen
DESCRIPTION:Predmet: Matematika 1 (NTF) ()\, Vaje (V)\nLetniki: \nIzvajalc
 i: Davorin Lešnik\nProstor: X
LOCATION:X
ORGANIZER:Davorin Lešnik
RELATED-TO:fmf-AFLABS-URNIK:srecanje:5706
X-WR-TIMEZONE:Europe/Ljubljana
END:VEVENT
BEGIN:VEVENT
SUMMARY:Matematika 1 (NTF) ()\, Vaje (V)
DTSTART;TZID=Europe/Ljubljana:20210401T140000
DTEND;TZID=Europe/Ljubljana:20210401T170000
DTSTAMP:20260420T075239Z
UID:fmf-AFLABS-URNIK:premaknjeno-srecanje:62837
CATEGORIES:Entry,Standard
COLOR:darkgreen
DESCRIPTION:Predmet: Matematika 1 (NTF) ()\, Vaje (V)\nLetniki: \nIzvajalc
 i: Davorin Lešnik\nProstor: X
LOCATION:X
ORGANIZER:Davorin Lešnik
RELATED-TO:fmf-AFLABS-URNIK:srecanje:5706
X-WR-TIMEZONE:Europe/Ljubljana
END:VEVENT
BEGIN:VEVENT
SUMMARY:Matematika 1 (NTF) ()\, Vaje (V)
DTSTART;TZID=Europe/Ljubljana:20210408T140000
DTEND;TZID=Europe/Ljubljana:20210408T170000
DTSTAMP:20260420T075239Z
UID:fmf-AFLABS-URNIK:premaknjeno-srecanje:62838
CATEGORIES:Entry,Standard
COLOR:darkgreen
DESCRIPTION:Predmet: Matematika 1 (NTF) ()\, Vaje (V)\nLetniki: \nIzvajalc
 i: Davorin Lešnik\nProstor: X
LOCATION:X
ORGANIZER:Davorin Lešnik
RELATED-TO:fmf-AFLABS-URNIK:srecanje:5706
X-WR-TIMEZONE:Europe/Ljubljana
END:VEVENT
BEGIN:VEVENT
SUMMARY:Matematika 1 (NTF) ()\, Vaje (V)
DTSTART;TZID=Europe/Ljubljana:20210415T140000
DTEND;TZID=Europe/Ljubljana:20210415T170000
DTSTAMP:20260420T075239Z
UID:fmf-AFLABS-URNIK:premaknjeno-srecanje:62839
CATEGORIES:Entry,Standard
COLOR:darkgreen
DESCRIPTION:Predmet: Matematika 1 (NTF) ()\, Vaje (V)\nLetniki: \nIzvajalc
 i: Davorin Lešnik\nProstor: X
LOCATION:X
ORGANIZER:Davorin Lešnik
RELATED-TO:fmf-AFLABS-URNIK:srecanje:5706
X-WR-TIMEZONE:Europe/Ljubljana
END:VEVENT
BEGIN:VEVENT
SUMMARY:Matematika 1 (NTF) ()\, Vaje (V)
DTSTART;TZID=Europe/Ljubljana:20210422T140000
DTEND;TZID=Europe/Ljubljana:20210422T170000
DTSTAMP:20260420T075239Z
UID:fmf-AFLABS-URNIK:premaknjeno-srecanje:62840
CATEGORIES:Entry,Standard
COLOR:darkgreen
DESCRIPTION:Predmet: Matematika 1 (NTF) ()\, Vaje (V)\nLetniki: \nIzvajalc
 i: Davorin Lešnik\nProstor: X
LOCATION:X
ORGANIZER:Davorin Lešnik
RELATED-TO:fmf-AFLABS-URNIK:srecanje:5706
X-WR-TIMEZONE:Europe/Ljubljana
END:VEVENT
BEGIN:VEVENT
SUMMARY:Matematika 1 (NTF) ()\, Vaje (V)
DTSTART;TZID=Europe/Ljubljana:20210429T140000
DTEND;TZID=Europe/Ljubljana:20210429T170000
DTSTAMP:20260420T075239Z
UID:fmf-AFLABS-URNIK:premaknjeno-srecanje:62841
CATEGORIES:Entry,Standard
COLOR:darkgreen
DESCRIPTION:Predmet: Matematika 1 (NTF) ()\, Vaje (V)\nLetniki: \nIzvajalc
 i: Davorin Lešnik\nProstor: X
LOCATION:X
ORGANIZER:Davorin Lešnik
RELATED-TO:fmf-AFLABS-URNIK:srecanje:5706
X-WR-TIMEZONE:Europe/Ljubljana
END:VEVENT
BEGIN:VEVENT
SUMMARY:Matematika 1 (NTF) ()\, Vaje (V)
DTSTART;TZID=Europe/Ljubljana:20210506T140000
DTEND;TZID=Europe/Ljubljana:20210506T170000
DTSTAMP:20260420T075239Z
UID:fmf-AFLABS-URNIK:premaknjeno-srecanje:62842
CATEGORIES:Entry,Standard
COLOR:darkgreen
DESCRIPTION:Predmet: Matematika 1 (NTF) ()\, Vaje (V)\nLetniki: \nIzvajalc
 i: Davorin Lešnik\nProstor: X
LOCATION:X
ORGANIZER:Davorin Lešnik
RELATED-TO:fmf-AFLABS-URNIK:srecanje:5706
X-WR-TIMEZONE:Europe/Ljubljana
END:VEVENT
BEGIN:VEVENT
SUMMARY:Matematika 1 (NTF) ()\, Vaje (V)
DTSTART;TZID=Europe/Ljubljana:20210513T140000
DTEND;TZID=Europe/Ljubljana:20210513T170000
DTSTAMP:20260420T075239Z
UID:fmf-AFLABS-URNIK:premaknjeno-srecanje:62843
CATEGORIES:Entry,Standard
COLOR:darkgreen
DESCRIPTION:Predmet: Matematika 1 (NTF) ()\, Vaje (V)\nLetniki: \nIzvajalc
 i: Davorin Lešnik\nProstor: X
LOCATION:X
ORGANIZER:Davorin Lešnik
RELATED-TO:fmf-AFLABS-URNIK:srecanje:5706
X-WR-TIMEZONE:Europe/Ljubljana
END:VEVENT
BEGIN:VEVENT
SUMMARY:Matematika 1 (NTF) ()\, Vaje (V)
DTSTART;TZID=Europe/Ljubljana:20210520T140000
DTEND;TZID=Europe/Ljubljana:20210520T170000
DTSTAMP:20260420T075239Z
UID:fmf-AFLABS-URNIK:premaknjeno-srecanje:62844
CATEGORIES:Entry,Standard
COLOR:darkgreen
DESCRIPTION:Predmet: Matematika 1 (NTF) ()\, Vaje (V)\nLetniki: \nIzvajalc
 i: Davorin Lešnik\nProstor: X
LOCATION:X
ORGANIZER:Davorin Lešnik
RELATED-TO:fmf-AFLABS-URNIK:srecanje:5706
X-WR-TIMEZONE:Europe/Ljubljana
END:VEVENT
BEGIN:VEVENT
SUMMARY:Matematika 1 (NTF) ()\, Vaje (V)
DTSTART;TZID=Europe/Ljubljana:20210527T140000
DTEND;TZID=Europe/Ljubljana:20210527T170000
DTSTAMP:20260420T075239Z
UID:fmf-AFLABS-URNIK:premaknjeno-srecanje:62845
CATEGORIES:Entry,Standard
COLOR:darkgreen
DESCRIPTION:Predmet: Matematika 1 (NTF) ()\, Vaje (V)\nLetniki: \nIzvajalc
 i: Davorin Lešnik\nProstor: X
LOCATION:X
ORGANIZER:Davorin Lešnik
RELATED-TO:fmf-AFLABS-URNIK:srecanje:5706
X-WR-TIMEZONE:Europe/Ljubljana
END:VEVENT
BEGIN:VEVENT
SUMMARY:Rezervacija
DTSTART;TZID=Europe/Ljubljana:20210402T160000
DTEND;TZID=Europe/Ljubljana:20210402T190000
DTSTAMP:20260420T075239Z
UID:fmf-AFLABS-URNIK:rezervacija:6598
CATEGORIES:Reservation
COLOR:royalblue
DESCRIPTION:Predmeti: Matematika 1 (NTF) ()\nLetniki: \nIzvajalci: Davorin
  Lešnik\nProstori: 2.05
LOCATION:2.05
ORGANIZER:Davorin Lešnik
X-WR-TIMEZONE:Europe/Ljubljana
END:VEVENT
BEGIN:VEVENT
SUMMARY:Rezervacija
DTSTART;TZID=Europe/Ljubljana:20210528T140000
DTEND;TZID=Europe/Ljubljana:20210528T160000
DTSTAMP:20260420T075239Z
UID:fmf-AFLABS-URNIK:rezervacija:6686
CATEGORIES:Reservation
COLOR:royalblue
DESCRIPTION:Predmeti: Matematika 1 (NTF) ()\nLetniki: \nIzvajalci: Davorin
  Lešnik\nProstori: VFP
LOCATION:VFP
ORGANIZER:Davorin Lešnik
X-WR-TIMEZONE:Europe/Ljubljana
END:VEVENT
END:VCALENDAR
