BEGIN:VCALENDAR
VERSION:2.0
PRODID:-//AFLabs urnik izvoz - fmf//aflabs.si//SI
DTSTAMP:20260419T233503Z
NAME:UL FMF urnik
REFRESH-INTERVAL:PT1H
SOURCE:https://urnik.fmf.uni-lj.si/teacher/38?day=2021-06-14&export=1
URL:https://urnik.fmf.uni-lj.si/teacher/38?day=2021-06-14&export=1
X-PUBLISHED-TTL:PT1H
X-WR-CALNAME:UL FMF urnik
X-WR-TIMEZONE:Europe/Ljubljana
BEGIN:VTIMEZONE
TZID:Europe/Ljubljana
BEGIN:DAYLIGHT
DTSTART:20260329T020000
RDATE:20260329T020000
RDATE:20270328T020000
TZNAME:CEST
TZOFFSETFROM:+0100
TZOFFSETTO:+0200
END:DAYLIGHT
BEGIN:STANDARD
DTSTART:20261025T030000
RDATE:20261025T030000
RDATE:20271031T030000
TZNAME:CET
TZOFFSETFROM:+0200
TZOFFSETTO:+0100
END:STANDARD
END:VTIMEZONE
BEGIN:VEVENT
SUMMARY:Govorilna ura ()\, Predavanja (P)
DTSTART;TZID=Europe/Ljubljana:20210510T140000
DTEND;TZID=Europe/Ljubljana:20210510T150000
DTSTAMP:20260419T233503Z
UID:fmf-AFLABS-URNIK:premaknjeno-srecanje:40431
CATEGORIES:Entry,Standard
COLOR:darkgreen
DESCRIPTION:Predmet: Govorilna ura ()\, Predavanja (P)\nLetniki: \nIzvajal
 ci: Davorin Lešnik\nProstor: P.20
LOCATION:P.20
ORGANIZER:Davorin Lešnik
RELATED-TO:fmf-AFLABS-URNIK:srecanje:5591
X-WR-TIMEZONE:Europe/Ljubljana
END:VEVENT
BEGIN:VEVENT
SUMMARY:Govorilna ura ()\, Predavanja (P)
DTSTART;TZID=Europe/Ljubljana:20210517T140000
DTEND;TZID=Europe/Ljubljana:20210517T150000
DTSTAMP:20260419T233503Z
UID:fmf-AFLABS-URNIK:premaknjeno-srecanje:40432
CATEGORIES:Entry,Standard
COLOR:darkgreen
DESCRIPTION:Predmet: Govorilna ura ()\, Predavanja (P)\nLetniki: \nIzvajal
 ci: Davorin Lešnik\nProstor: P.20
LOCATION:P.20
ORGANIZER:Davorin Lešnik
RELATED-TO:fmf-AFLABS-URNIK:srecanje:5591
X-WR-TIMEZONE:Europe/Ljubljana
END:VEVENT
BEGIN:VEVENT
SUMMARY:Govorilna ura ()\, Predavanja (P)
DTSTART;TZID=Europe/Ljubljana:20210524T140000
DTEND;TZID=Europe/Ljubljana:20210524T150000
DTSTAMP:20260419T233503Z
UID:fmf-AFLABS-URNIK:premaknjeno-srecanje:40433
CATEGORIES:Entry,Standard
COLOR:darkgreen
DESCRIPTION:Predmet: Govorilna ura ()\, Predavanja (P)\nLetniki: \nIzvajal
 ci: Davorin Lešnik\nProstor: P.20
LOCATION:P.20
ORGANIZER:Davorin Lešnik
RELATED-TO:fmf-AFLABS-URNIK:srecanje:5591
X-WR-TIMEZONE:Europe/Ljubljana
END:VEVENT
BEGIN:VEVENT
SUMMARY:Govorilna ura ()\, Predavanja (P)
DTSTART;TZID=Europe/Ljubljana:20210531T140000
DTEND;TZID=Europe/Ljubljana:20210531T150000
DTSTAMP:20260419T233503Z
UID:fmf-AFLABS-URNIK:premaknjeno-srecanje:40434
CATEGORIES:Entry,Standard
COLOR:darkgreen
DESCRIPTION:Predmet: Govorilna ura ()\, Predavanja (P)\nLetniki: \nIzvajal
 ci: Davorin Lešnik\nProstor: P.20
LOCATION:P.20
ORGANIZER:Davorin Lešnik
RELATED-TO:fmf-AFLABS-URNIK:srecanje:5591
X-WR-TIMEZONE:Europe/Ljubljana
END:VEVENT
BEGIN:VEVENT
SUMMARY:Matematika 1 (NTF) ()\, Vaje (V)
DTSTART;TZID=Europe/Ljubljana:20210512T080000
DTEND;TZID=Europe/Ljubljana:20210512T110000
DTSTAMP:20260419T233503Z
UID:fmf-AFLABS-URNIK:premaknjeno-srecanje:62674
CATEGORIES:Entry,Standard
COLOR:darkgreen
DESCRIPTION:Predmet: Matematika 1 (NTF) ()\, Vaje (V)\nLetniki: \nIzvajalc
 i: Davorin Lešnik\nProstor: X
LOCATION:X
ORGANIZER:Davorin Lešnik
RELATED-TO:fmf-AFLABS-URNIK:srecanje:5705
X-WR-TIMEZONE:Europe/Ljubljana
END:VEVENT
BEGIN:VEVENT
SUMMARY:Matematika 1 (NTF) ()\, Vaje (V)
DTSTART;TZID=Europe/Ljubljana:20210519T080000
DTEND;TZID=Europe/Ljubljana:20210519T110000
DTSTAMP:20260419T233503Z
UID:fmf-AFLABS-URNIK:premaknjeno-srecanje:62675
CATEGORIES:Entry,Standard
COLOR:darkgreen
DESCRIPTION:Predmet: Matematika 1 (NTF) ()\, Vaje (V)\nLetniki: \nIzvajalc
 i: Davorin Lešnik\nProstor: X
LOCATION:X
ORGANIZER:Davorin Lešnik
RELATED-TO:fmf-AFLABS-URNIK:srecanje:5705
X-WR-TIMEZONE:Europe/Ljubljana
END:VEVENT
BEGIN:VEVENT
SUMMARY:Matematika 1 (NTF) ()\, Vaje (V)
DTSTART;TZID=Europe/Ljubljana:20210526T080000
DTEND;TZID=Europe/Ljubljana:20210526T110000
DTSTAMP:20260419T233503Z
UID:fmf-AFLABS-URNIK:premaknjeno-srecanje:62676
CATEGORIES:Entry,Standard
COLOR:darkgreen
DESCRIPTION:Predmet: Matematika 1 (NTF) ()\, Vaje (V)\nLetniki: \nIzvajalc
 i: Davorin Lešnik\nProstor: X
LOCATION:X
ORGANIZER:Davorin Lešnik
RELATED-TO:fmf-AFLABS-URNIK:srecanje:5705
X-WR-TIMEZONE:Europe/Ljubljana
END:VEVENT
BEGIN:VEVENT
SUMMARY:Matematika 1 (NTF) ()\, Vaje (V)
DTSTART;TZID=Europe/Ljubljana:20210513T140000
DTEND;TZID=Europe/Ljubljana:20210513T170000
DTSTAMP:20260419T233503Z
UID:fmf-AFLABS-URNIK:premaknjeno-srecanje:62843
CATEGORIES:Entry,Standard
COLOR:darkgreen
DESCRIPTION:Predmet: Matematika 1 (NTF) ()\, Vaje (V)\nLetniki: \nIzvajalc
 i: Davorin Lešnik\nProstor: X
LOCATION:X
ORGANIZER:Davorin Lešnik
RELATED-TO:fmf-AFLABS-URNIK:srecanje:5706
X-WR-TIMEZONE:Europe/Ljubljana
END:VEVENT
BEGIN:VEVENT
SUMMARY:Matematika 1 (NTF) ()\, Vaje (V)
DTSTART;TZID=Europe/Ljubljana:20210520T140000
DTEND;TZID=Europe/Ljubljana:20210520T170000
DTSTAMP:20260419T233503Z
UID:fmf-AFLABS-URNIK:premaknjeno-srecanje:62844
CATEGORIES:Entry,Standard
COLOR:darkgreen
DESCRIPTION:Predmet: Matematika 1 (NTF) ()\, Vaje (V)\nLetniki: \nIzvajalc
 i: Davorin Lešnik\nProstor: X
LOCATION:X
ORGANIZER:Davorin Lešnik
RELATED-TO:fmf-AFLABS-URNIK:srecanje:5706
X-WR-TIMEZONE:Europe/Ljubljana
END:VEVENT
BEGIN:VEVENT
SUMMARY:Matematika 1 (NTF) ()\, Vaje (V)
DTSTART;TZID=Europe/Ljubljana:20210527T140000
DTEND;TZID=Europe/Ljubljana:20210527T170000
DTSTAMP:20260419T233503Z
UID:fmf-AFLABS-URNIK:premaknjeno-srecanje:62845
CATEGORIES:Entry,Standard
COLOR:darkgreen
DESCRIPTION:Predmet: Matematika 1 (NTF) ()\, Vaje (V)\nLetniki: \nIzvajalc
 i: Davorin Lešnik\nProstor: X
LOCATION:X
ORGANIZER:Davorin Lešnik
RELATED-TO:fmf-AFLABS-URNIK:srecanje:5706
X-WR-TIMEZONE:Europe/Ljubljana
END:VEVENT
BEGIN:VEVENT
SUMMARY:Rezervacija
DTSTART;TZID=Europe/Ljubljana:20210528T140000
DTEND;TZID=Europe/Ljubljana:20210528T160000
DTSTAMP:20260419T233503Z
UID:fmf-AFLABS-URNIK:rezervacija:6686
CATEGORIES:Reservation
COLOR:royalblue
DESCRIPTION:Predmeti: Matematika 1 (NTF) ()\nLetniki: \nIzvajalci: Davorin
  Lešnik\nProstori: VFP
LOCATION:VFP
ORGANIZER:Davorin Lešnik
X-WR-TIMEZONE:Europe/Ljubljana
END:VEVENT
BEGIN:VEVENT
SUMMARY:Rezervacija
DTSTART;TZID=Europe/Ljubljana:20210611T140000
DTEND;TZID=Europe/Ljubljana:20210611T160000
DTSTAMP:20260419T233503Z
UID:fmf-AFLABS-URNIK:rezervacija:6848
ATTENDEE:2. letnik (M)
ATTENDEE:3. letnik (FM)
ATTENDEE:3. letnik (IŠRM)
CATEGORIES:Reservation
COLOR:royalblue
DESCRIPTION:Predmeti: Splošna topologija (FM-3\, IŠRM-3\, MAT-2)\nLetnik
 i: 3. letnik (FM)\, 3. letnik (IŠRM)\, 2. letnik (M)\nIzvajalci: Davorin 
 Lešnik\nProstori: 2.05
LOCATION:2.05
ORGANIZER:Davorin Lešnik
X-WR-TIMEZONE:Europe/Ljubljana
END:VEVENT
BEGIN:VEVENT
SUMMARY:Rezervacija
DTSTART;TZID=Europe/Ljubljana:20210616T150000
DTEND;TZID=Europe/Ljubljana:20210616T170000
DTSTAMP:20260419T233503Z
UID:fmf-AFLABS-URNIK:rezervacija:6920
CATEGORIES:Reservation
COLOR:royalblue
DESCRIPTION:Predmeti: Matematika 1 (NTF) ()\nLetniki: \nIzvajalci: Davorin
  Lešnik\nProstori: VFP
LOCATION:VFP
ORGANIZER:Davorin Lešnik
X-WR-TIMEZONE:Europe/Ljubljana
END:VEVENT
BEGIN:VEVENT
SUMMARY:Rezervacija
DTSTART;TZID=Europe/Ljubljana:20210630T130000
DTEND;TZID=Europe/Ljubljana:20210630T150000
DTSTAMP:20260419T233503Z
UID:fmf-AFLABS-URNIK:rezervacija:7155
CATEGORIES:Reservation
COLOR:royalblue
DESCRIPTION:Predmeti: Matematika 1 (NTF) ()\nLetniki: \nIzvajalci: Davorin
  Lešnik\nProstori: 2.05
LOCATION:2.05
ORGANIZER:Davorin Lešnik
X-WR-TIMEZONE:Europe/Ljubljana
END:VEVENT
BEGIN:VEVENT
SUMMARY:Rezervacija
DTSTART;TZID=Europe/Ljubljana:20210630T130000
DTEND;TZID=Europe/Ljubljana:20210630T150000
DTSTAMP:20260419T233503Z
UID:fmf-AFLABS-URNIK:rezervacija:7156
CATEGORIES:Reservation
COLOR:royalblue
DESCRIPTION:Predmeti: \nLetniki: \nIzvajalci: Davorin Lešnik\, Lucijan Pl
 evnik\, Janez Šter\nProstori: 2.01
LOCATION:2.01
ORGANIZER:Davorin Lešnik, Lucijan Plevnik, Janez Šter
X-WR-TIMEZONE:Europe/Ljubljana
END:VEVENT
BEGIN:VEVENT
SUMMARY:Rezervacija
DTSTART;TZID=Europe/Ljubljana:20210630T130000
DTEND;TZID=Europe/Ljubljana:20210630T150000
DTSTAMP:20260419T233503Z
UID:fmf-AFLABS-URNIK:rezervacija:7158
CATEGORIES:Reservation
COLOR:royalblue
DESCRIPTION:Predmeti: \nLetniki: \nIzvajalci: Davorin Lešnik\, Lucijan Pl
 evnik\, Janez Šter\nProstori: VFP
LOCATION:VFP
ORGANIZER:Davorin Lešnik, Lucijan Plevnik, Janez Šter
X-WR-TIMEZONE:Europe/Ljubljana
END:VEVENT
BEGIN:VEVENT
SUMMARY:Rezervacija
DTSTART;TZID=Europe/Ljubljana:20210702T130000
DTEND;TZID=Europe/Ljubljana:20210702T150000
DTSTAMP:20260419T233503Z
UID:fmf-AFLABS-URNIK:rezervacija:7208
ATTENDEE:1. letnik (M)
ATTENDEE:1. letnik (PM)
CATEGORIES:Reservation
COLOR:royalblue
DESCRIPTION:Predmeti: Logika in množice (MAT-1\, PM-1)\nLetniki: 1. letni
 k (M)\, 1. letnik (PM)\nIzvajalci: Davorin Lešnik\nProstori: 2.05
LOCATION:2.05
ORGANIZER:Davorin Lešnik
X-WR-TIMEZONE:Europe/Ljubljana
END:VEVENT
BEGIN:VEVENT
SUMMARY:Rezervacija
DTSTART;TZID=Europe/Ljubljana:20210707T100000
DTEND;TZID=Europe/Ljubljana:20210707T120000
DTSTAMP:20260419T233503Z
UID:fmf-AFLABS-URNIK:rezervacija:7256
ATTENDEE:2. letnik (M)
ATTENDEE:3. letnik (FM)
ATTENDEE:3. letnik (IŠRM)
CATEGORIES:Reservation
COLOR:royalblue
DESCRIPTION:Predmeti: Splošna topologija (FM-3\, IŠRM-3\, MAT-2)\nLetnik
 i: 3. letnik (FM)\, 3. letnik (IŠRM)\, 2. letnik (M)\nIzvajalci: Davorin 
 Lešnik\nProstori: 2.02
LOCATION:2.02
ORGANIZER:Davorin Lešnik
X-WR-TIMEZONE:Europe/Ljubljana
END:VEVENT
END:VCALENDAR
