BEGIN:VCALENDAR
VERSION:2.0
PRODID:-//AFLabs urnik izvoz - fmf//aflabs.si//SI
DTSTAMP:20260423T203257Z
NAME:UL FMF urnik
REFRESH-INTERVAL:PT1H
SOURCE:https://urnik.fmf.uni-lj.si/teacher/398?day=2024-04-01&export=1
URL:https://urnik.fmf.uni-lj.si/teacher/398?day=2024-04-01&export=1
X-PUBLISHED-TTL:PT1H
X-WR-CALNAME:UL FMF urnik
X-WR-TIMEZONE:Europe/Ljubljana
BEGIN:VTIMEZONE
TZID:Europe/Ljubljana
BEGIN:DAYLIGHT
DTSTART:20260329T020000
RDATE:20260329T020000
RDATE:20270328T020000
TZNAME:CEST
TZOFFSETFROM:+0100
TZOFFSETTO:+0200
END:DAYLIGHT
BEGIN:STANDARD
DTSTART:20261025T030000
RDATE:20261025T030000
RDATE:20271031T030000
TZNAME:CET
TZOFFSETFROM:+0200
TZOFFSETTO:+0100
END:STANDARD
END:VTIMEZONE
BEGIN:VEVENT
SUMMARY:Kemija (APF-1)\, Predavanja (P)
DTSTART;TZID=Europe/Ljubljana:20240219T080000
DTEND;TZID=Europe/Ljubljana:20240219T100000
DTSTAMP:20260423T203257Z
UID:fmf-AFLABS-URNIK:premaknjeno-srecanje:135323
ATTENDEE:1. letnik (Aplikativna fizika)
CATEGORIES:Entry,Standard
COLOR:darkgreen
DESCRIPTION:Predmet: Kemija (APF-1)\, Predavanja (P)\nLetniki: 1. letnik (
 Aplikativna fizika)\nIzvajalci: Romana Cerc Korošec\nProstor: B (FKKT)
LOCATION:B (FKKT)
ORGANIZER:Romana Cerc Korošec
RELATED-TO:fmf-AFLABS-URNIK:srecanje:9966
X-WR-TIMEZONE:Europe/Ljubljana
END:VEVENT
BEGIN:VEVENT
SUMMARY:Kemija (APF-1)\, Predavanja (P)
DTSTART;TZID=Europe/Ljubljana:20240226T080000
DTEND;TZID=Europe/Ljubljana:20240226T100000
DTSTAMP:20260423T203257Z
UID:fmf-AFLABS-URNIK:premaknjeno-srecanje:135324
ATTENDEE:1. letnik (Aplikativna fizika)
CATEGORIES:Entry,Standard
COLOR:darkgreen
DESCRIPTION:Predmet: Kemija (APF-1)\, Predavanja (P)\nLetniki: 1. letnik (
 Aplikativna fizika)\nIzvajalci: Romana Cerc Korošec\nProstor: B (FKKT)
LOCATION:B (FKKT)
ORGANIZER:Romana Cerc Korošec
RELATED-TO:fmf-AFLABS-URNIK:srecanje:9966
X-WR-TIMEZONE:Europe/Ljubljana
END:VEVENT
BEGIN:VEVENT
SUMMARY:Kemija (APF-1)\, Predavanja (P)
DTSTART;TZID=Europe/Ljubljana:20240304T080000
DTEND;TZID=Europe/Ljubljana:20240304T100000
DTSTAMP:20260423T203257Z
UID:fmf-AFLABS-URNIK:premaknjeno-srecanje:135325
ATTENDEE:1. letnik (Aplikativna fizika)
CATEGORIES:Entry,Standard
COLOR:darkgreen
DESCRIPTION:Predmet: Kemija (APF-1)\, Predavanja (P)\nLetniki: 1. letnik (
 Aplikativna fizika)\nIzvajalci: Romana Cerc Korošec\nProstor: B (FKKT)
LOCATION:B (FKKT)
ORGANIZER:Romana Cerc Korošec
RELATED-TO:fmf-AFLABS-URNIK:srecanje:9966
X-WR-TIMEZONE:Europe/Ljubljana
END:VEVENT
BEGIN:VEVENT
SUMMARY:Kemija (APF-1)\, Predavanja (P)
DTSTART;TZID=Europe/Ljubljana:20240311T080000
DTEND;TZID=Europe/Ljubljana:20240311T100000
DTSTAMP:20260423T203257Z
UID:fmf-AFLABS-URNIK:premaknjeno-srecanje:135326
ATTENDEE:1. letnik (Aplikativna fizika)
CATEGORIES:Entry,Standard
COLOR:darkgreen
DESCRIPTION:Predmet: Kemija (APF-1)\, Predavanja (P)\nLetniki: 1. letnik (
 Aplikativna fizika)\nIzvajalci: Romana Cerc Korošec\nProstor: B (FKKT)
LOCATION:B (FKKT)
ORGANIZER:Romana Cerc Korošec
RELATED-TO:fmf-AFLABS-URNIK:srecanje:9966
X-WR-TIMEZONE:Europe/Ljubljana
END:VEVENT
BEGIN:VEVENT
SUMMARY:Kemija (APF-1)\, Predavanja (P)
DTSTART;TZID=Europe/Ljubljana:20240318T080000
DTEND;TZID=Europe/Ljubljana:20240318T100000
DTSTAMP:20260423T203257Z
UID:fmf-AFLABS-URNIK:premaknjeno-srecanje:135327
ATTENDEE:1. letnik (Aplikativna fizika)
CATEGORIES:Entry,Standard
COLOR:darkgreen
DESCRIPTION:Predmet: Kemija (APF-1)\, Predavanja (P)\nLetniki: 1. letnik (
 Aplikativna fizika)\nIzvajalci: Romana Cerc Korošec\nProstor: B (FKKT)
LOCATION:B (FKKT)
ORGANIZER:Romana Cerc Korošec
RELATED-TO:fmf-AFLABS-URNIK:srecanje:9966
X-WR-TIMEZONE:Europe/Ljubljana
END:VEVENT
BEGIN:VEVENT
SUMMARY:Kemija (APF-1)\, Predavanja (P)
DTSTART;TZID=Europe/Ljubljana:20240325T080000
DTEND;TZID=Europe/Ljubljana:20240325T100000
DTSTAMP:20260423T203257Z
UID:fmf-AFLABS-URNIK:premaknjeno-srecanje:135328
ATTENDEE:1. letnik (Aplikativna fizika)
CATEGORIES:Entry,Standard
COLOR:darkgreen
DESCRIPTION:Predmet: Kemija (APF-1)\, Predavanja (P)\nLetniki: 1. letnik (
 Aplikativna fizika)\nIzvajalci: Romana Cerc Korošec\nProstor: B (FKKT)
LOCATION:B (FKKT)
ORGANIZER:Romana Cerc Korošec
RELATED-TO:fmf-AFLABS-URNIK:srecanje:9966
X-WR-TIMEZONE:Europe/Ljubljana
END:VEVENT
BEGIN:VEVENT
SUMMARY:Kemija (APF-1)\, Predavanja (P)
DTSTART;TZID=Europe/Ljubljana:20240401T080000
DTEND;TZID=Europe/Ljubljana:20240401T100000
DTSTAMP:20260423T203257Z
UID:fmf-AFLABS-URNIK:premaknjeno-srecanje:135329
ATTENDEE:1. letnik (Aplikativna fizika)
CATEGORIES:Entry,Standard
COLOR:darkgreen
DESCRIPTION:Predmet: Kemija (APF-1)\, Predavanja (P)\nLetniki: 1. letnik (
 Aplikativna fizika)\nIzvajalci: Romana Cerc Korošec\nProstor: B (FKKT)
LOCATION:B (FKKT)
ORGANIZER:Romana Cerc Korošec
RELATED-TO:fmf-AFLABS-URNIK:srecanje:9966
X-WR-TIMEZONE:Europe/Ljubljana
END:VEVENT
BEGIN:VEVENT
SUMMARY:Kemija (APF-1)\, Predavanja (P)
DTSTART;TZID=Europe/Ljubljana:20240408T080000
DTEND;TZID=Europe/Ljubljana:20240408T100000
DTSTAMP:20260423T203257Z
UID:fmf-AFLABS-URNIK:premaknjeno-srecanje:135330
ATTENDEE:1. letnik (Aplikativna fizika)
CATEGORIES:Entry,Standard
COLOR:darkgreen
DESCRIPTION:Predmet: Kemija (APF-1)\, Predavanja (P)\nLetniki: 1. letnik (
 Aplikativna fizika)\nIzvajalci: Romana Cerc Korošec\nProstor: B (FKKT)
LOCATION:B (FKKT)
ORGANIZER:Romana Cerc Korošec
RELATED-TO:fmf-AFLABS-URNIK:srecanje:9966
X-WR-TIMEZONE:Europe/Ljubljana
END:VEVENT
BEGIN:VEVENT
SUMMARY:Kemija (APF-1)\, Predavanja (P)
DTSTART;TZID=Europe/Ljubljana:20240415T080000
DTEND;TZID=Europe/Ljubljana:20240415T100000
DTSTAMP:20260423T203257Z
UID:fmf-AFLABS-URNIK:premaknjeno-srecanje:135331
ATTENDEE:1. letnik (Aplikativna fizika)
CATEGORIES:Entry,Standard
COLOR:darkgreen
DESCRIPTION:Predmet: Kemija (APF-1)\, Predavanja (P)\nLetniki: 1. letnik (
 Aplikativna fizika)\nIzvajalci: Romana Cerc Korošec\nProstor: B (FKKT)
LOCATION:B (FKKT)
ORGANIZER:Romana Cerc Korošec
RELATED-TO:fmf-AFLABS-URNIK:srecanje:9966
X-WR-TIMEZONE:Europe/Ljubljana
END:VEVENT
BEGIN:VEVENT
SUMMARY:Kemija (APF-1)\, Predavanja (P)
DTSTART;TZID=Europe/Ljubljana:20240422T080000
DTEND;TZID=Europe/Ljubljana:20240422T100000
DTSTAMP:20260423T203257Z
UID:fmf-AFLABS-URNIK:premaknjeno-srecanje:135332
ATTENDEE:1. letnik (Aplikativna fizika)
CATEGORIES:Entry,Standard
COLOR:darkgreen
DESCRIPTION:Predmet: Kemija (APF-1)\, Predavanja (P)\nLetniki: 1. letnik (
 Aplikativna fizika)\nIzvajalci: Romana Cerc Korošec\nProstor: B (FKKT)
LOCATION:B (FKKT)
ORGANIZER:Romana Cerc Korošec
RELATED-TO:fmf-AFLABS-URNIK:srecanje:9966
X-WR-TIMEZONE:Europe/Ljubljana
END:VEVENT
BEGIN:VEVENT
SUMMARY:Kemija (APF-1)\, Predavanja (P)
DTSTART;TZID=Europe/Ljubljana:20240429T080000
DTEND;TZID=Europe/Ljubljana:20240429T100000
DTSTAMP:20260423T203257Z
UID:fmf-AFLABS-URNIK:premaknjeno-srecanje:135333
ATTENDEE:1. letnik (Aplikativna fizika)
CATEGORIES:Entry,Standard
COLOR:darkgreen
DESCRIPTION:Predmet: Kemija (APF-1)\, Predavanja (P)\nLetniki: 1. letnik (
 Aplikativna fizika)\nIzvajalci: Romana Cerc Korošec\nProstor: B (FKKT)
LOCATION:B (FKKT)
ORGANIZER:Romana Cerc Korošec
RELATED-TO:fmf-AFLABS-URNIK:srecanje:9966
X-WR-TIMEZONE:Europe/Ljubljana
END:VEVENT
BEGIN:VEVENT
SUMMARY:Kemija (APF-1)\, Predavanja (P)
DTSTART;TZID=Europe/Ljubljana:20240506T080000
DTEND;TZID=Europe/Ljubljana:20240506T100000
DTSTAMP:20260423T203257Z
UID:fmf-AFLABS-URNIK:premaknjeno-srecanje:135334
ATTENDEE:1. letnik (Aplikativna fizika)
CATEGORIES:Entry,Standard
COLOR:darkgreen
DESCRIPTION:Predmet: Kemija (APF-1)\, Predavanja (P)\nLetniki: 1. letnik (
 Aplikativna fizika)\nIzvajalci: Romana Cerc Korošec\nProstor: B (FKKT)
LOCATION:B (FKKT)
ORGANIZER:Romana Cerc Korošec
RELATED-TO:fmf-AFLABS-URNIK:srecanje:9966
X-WR-TIMEZONE:Europe/Ljubljana
END:VEVENT
BEGIN:VEVENT
SUMMARY:Kemija (APF-1)\, Predavanja (P)
DTSTART;TZID=Europe/Ljubljana:20240513T080000
DTEND;TZID=Europe/Ljubljana:20240513T100000
DTSTAMP:20260423T203257Z
UID:fmf-AFLABS-URNIK:premaknjeno-srecanje:135335
ATTENDEE:1. letnik (Aplikativna fizika)
CATEGORIES:Entry,Standard
COLOR:darkgreen
DESCRIPTION:Predmet: Kemija (APF-1)\, Predavanja (P)\nLetniki: 1. letnik (
 Aplikativna fizika)\nIzvajalci: Romana Cerc Korošec\nProstor: B (FKKT)
LOCATION:B (FKKT)
ORGANIZER:Romana Cerc Korošec
RELATED-TO:fmf-AFLABS-URNIK:srecanje:9966
X-WR-TIMEZONE:Europe/Ljubljana
END:VEVENT
BEGIN:VEVENT
SUMMARY:Kemija (APF-1)\, Predavanja (P)
DTSTART;TZID=Europe/Ljubljana:20240520T080000
DTEND;TZID=Europe/Ljubljana:20240520T100000
DTSTAMP:20260423T203257Z
UID:fmf-AFLABS-URNIK:premaknjeno-srecanje:135336
ATTENDEE:1. letnik (Aplikativna fizika)
CATEGORIES:Entry,Standard
COLOR:darkgreen
DESCRIPTION:Predmet: Kemija (APF-1)\, Predavanja (P)\nLetniki: 1. letnik (
 Aplikativna fizika)\nIzvajalci: Romana Cerc Korošec\nProstor: B (FKKT)
LOCATION:B (FKKT)
ORGANIZER:Romana Cerc Korošec
RELATED-TO:fmf-AFLABS-URNIK:srecanje:9966
X-WR-TIMEZONE:Europe/Ljubljana
END:VEVENT
BEGIN:VEVENT
SUMMARY:Kemija (APF-1)\, Predavanja (P)
DTSTART;TZID=Europe/Ljubljana:20240527T080000
DTEND;TZID=Europe/Ljubljana:20240527T100000
DTSTAMP:20260423T203257Z
UID:fmf-AFLABS-URNIK:premaknjeno-srecanje:135337
ATTENDEE:1. letnik (Aplikativna fizika)
CATEGORIES:Entry,Standard
COLOR:darkgreen
DESCRIPTION:Predmet: Kemija (APF-1)\, Predavanja (P)\nLetniki: 1. letnik (
 Aplikativna fizika)\nIzvajalci: Romana Cerc Korošec\nProstor: B (FKKT)
LOCATION:B (FKKT)
ORGANIZER:Romana Cerc Korošec
RELATED-TO:fmf-AFLABS-URNIK:srecanje:9966
X-WR-TIMEZONE:Europe/Ljubljana
END:VEVENT
BEGIN:VEVENT
SUMMARY:Kemija (APF-1)\, Predavanja (P)
DTSTART;TZID=Europe/Ljubljana:20240219T100000
DTEND;TZID=Europe/Ljubljana:20240219T110000
DTSTAMP:20260423T203257Z
UID:fmf-AFLABS-URNIK:premaknjeno-srecanje:135353
ATTENDEE:1. letnik (Aplikativna fizika)
CATEGORIES:Entry,Standard
COLOR:darkgreen
DESCRIPTION:Predmet: Kemija (APF-1)\, Predavanja (P)\nLetniki: 1. letnik (
 Aplikativna fizika)\nIzvajalci: Romana Cerc Korošec\nProstor: 3067 (3B FK
 KT)
LOCATION:3067 (3B FKKT)
ORGANIZER:Romana Cerc Korošec
RELATED-TO:fmf-AFLABS-URNIK:srecanje:9967
X-WR-TIMEZONE:Europe/Ljubljana
END:VEVENT
BEGIN:VEVENT
SUMMARY:Kemija (APF-1)\, Predavanja (P)
DTSTART;TZID=Europe/Ljubljana:20240226T100000
DTEND;TZID=Europe/Ljubljana:20240226T110000
DTSTAMP:20260423T203257Z
UID:fmf-AFLABS-URNIK:premaknjeno-srecanje:135354
ATTENDEE:1. letnik (Aplikativna fizika)
CATEGORIES:Entry,Standard
COLOR:darkgreen
DESCRIPTION:Predmet: Kemija (APF-1)\, Predavanja (P)\nLetniki: 1. letnik (
 Aplikativna fizika)\nIzvajalci: Romana Cerc Korošec\nProstor: 3067 (3B FK
 KT)
LOCATION:3067 (3B FKKT)
ORGANIZER:Romana Cerc Korošec
RELATED-TO:fmf-AFLABS-URNIK:srecanje:9967
X-WR-TIMEZONE:Europe/Ljubljana
END:VEVENT
BEGIN:VEVENT
SUMMARY:Kemija (APF-1)\, Predavanja (P)
DTSTART;TZID=Europe/Ljubljana:20240304T100000
DTEND;TZID=Europe/Ljubljana:20240304T110000
DTSTAMP:20260423T203257Z
UID:fmf-AFLABS-URNIK:premaknjeno-srecanje:135355
ATTENDEE:1. letnik (Aplikativna fizika)
CATEGORIES:Entry,Standard
COLOR:darkgreen
DESCRIPTION:Predmet: Kemija (APF-1)\, Predavanja (P)\nLetniki: 1. letnik (
 Aplikativna fizika)\nIzvajalci: Romana Cerc Korošec\nProstor: 3067 (3B FK
 KT)
LOCATION:3067 (3B FKKT)
ORGANIZER:Romana Cerc Korošec
RELATED-TO:fmf-AFLABS-URNIK:srecanje:9967
X-WR-TIMEZONE:Europe/Ljubljana
END:VEVENT
BEGIN:VEVENT
SUMMARY:Kemija (APF-1)\, Predavanja (P)
DTSTART;TZID=Europe/Ljubljana:20240311T100000
DTEND;TZID=Europe/Ljubljana:20240311T110000
DTSTAMP:20260423T203257Z
UID:fmf-AFLABS-URNIK:premaknjeno-srecanje:135356
ATTENDEE:1. letnik (Aplikativna fizika)
CATEGORIES:Entry,Standard
COLOR:darkgreen
DESCRIPTION:Predmet: Kemija (APF-1)\, Predavanja (P)\nLetniki: 1. letnik (
 Aplikativna fizika)\nIzvajalci: Romana Cerc Korošec\nProstor: 3067 (3B FK
 KT)
LOCATION:3067 (3B FKKT)
ORGANIZER:Romana Cerc Korošec
RELATED-TO:fmf-AFLABS-URNIK:srecanje:9967
X-WR-TIMEZONE:Europe/Ljubljana
END:VEVENT
BEGIN:VEVENT
SUMMARY:Kemija (APF-1)\, Predavanja (P)
DTSTART;TZID=Europe/Ljubljana:20240318T100000
DTEND;TZID=Europe/Ljubljana:20240318T110000
DTSTAMP:20260423T203257Z
UID:fmf-AFLABS-URNIK:premaknjeno-srecanje:135357
ATTENDEE:1. letnik (Aplikativna fizika)
CATEGORIES:Entry,Standard
COLOR:darkgreen
DESCRIPTION:Predmet: Kemija (APF-1)\, Predavanja (P)\nLetniki: 1. letnik (
 Aplikativna fizika)\nIzvajalci: Romana Cerc Korošec\nProstor: 3067 (3B FK
 KT)
LOCATION:3067 (3B FKKT)
ORGANIZER:Romana Cerc Korošec
RELATED-TO:fmf-AFLABS-URNIK:srecanje:9967
X-WR-TIMEZONE:Europe/Ljubljana
END:VEVENT
BEGIN:VEVENT
SUMMARY:Kemija (APF-1)\, Predavanja (P)
DTSTART;TZID=Europe/Ljubljana:20240325T100000
DTEND;TZID=Europe/Ljubljana:20240325T110000
DTSTAMP:20260423T203257Z
UID:fmf-AFLABS-URNIK:premaknjeno-srecanje:135358
ATTENDEE:1. letnik (Aplikativna fizika)
CATEGORIES:Entry,Standard
COLOR:darkgreen
DESCRIPTION:Predmet: Kemija (APF-1)\, Predavanja (P)\nLetniki: 1. letnik (
 Aplikativna fizika)\nIzvajalci: Romana Cerc Korošec\nProstor: 3067 (3B FK
 KT)
LOCATION:3067 (3B FKKT)
ORGANIZER:Romana Cerc Korošec
RELATED-TO:fmf-AFLABS-URNIK:srecanje:9967
X-WR-TIMEZONE:Europe/Ljubljana
END:VEVENT
BEGIN:VEVENT
SUMMARY:Kemija (APF-1)\, Predavanja (P)
DTSTART;TZID=Europe/Ljubljana:20240401T100000
DTEND;TZID=Europe/Ljubljana:20240401T110000
DTSTAMP:20260423T203257Z
UID:fmf-AFLABS-URNIK:premaknjeno-srecanje:135359
ATTENDEE:1. letnik (Aplikativna fizika)
CATEGORIES:Entry,Standard
COLOR:darkgreen
DESCRIPTION:Predmet: Kemija (APF-1)\, Predavanja (P)\nLetniki: 1. letnik (
 Aplikativna fizika)\nIzvajalci: Romana Cerc Korošec\nProstor: 3067 (3B FK
 KT)
LOCATION:3067 (3B FKKT)
ORGANIZER:Romana Cerc Korošec
RELATED-TO:fmf-AFLABS-URNIK:srecanje:9967
X-WR-TIMEZONE:Europe/Ljubljana
END:VEVENT
BEGIN:VEVENT
SUMMARY:Kemija (APF-1)\, Predavanja (P)
DTSTART;TZID=Europe/Ljubljana:20240408T100000
DTEND;TZID=Europe/Ljubljana:20240408T110000
DTSTAMP:20260423T203257Z
UID:fmf-AFLABS-URNIK:premaknjeno-srecanje:135360
ATTENDEE:1. letnik (Aplikativna fizika)
CATEGORIES:Entry,Standard
COLOR:darkgreen
DESCRIPTION:Predmet: Kemija (APF-1)\, Predavanja (P)\nLetniki: 1. letnik (
 Aplikativna fizika)\nIzvajalci: Romana Cerc Korošec\nProstor: 3067 (3B FK
 KT)
LOCATION:3067 (3B FKKT)
ORGANIZER:Romana Cerc Korošec
RELATED-TO:fmf-AFLABS-URNIK:srecanje:9967
X-WR-TIMEZONE:Europe/Ljubljana
END:VEVENT
BEGIN:VEVENT
SUMMARY:Kemija (APF-1)\, Predavanja (P)
DTSTART;TZID=Europe/Ljubljana:20240415T100000
DTEND;TZID=Europe/Ljubljana:20240415T110000
DTSTAMP:20260423T203257Z
UID:fmf-AFLABS-URNIK:premaknjeno-srecanje:135361
ATTENDEE:1. letnik (Aplikativna fizika)
CATEGORIES:Entry,Standard
COLOR:darkgreen
DESCRIPTION:Predmet: Kemija (APF-1)\, Predavanja (P)\nLetniki: 1. letnik (
 Aplikativna fizika)\nIzvajalci: Romana Cerc Korošec\nProstor: 3067 (3B FK
 KT)
LOCATION:3067 (3B FKKT)
ORGANIZER:Romana Cerc Korošec
RELATED-TO:fmf-AFLABS-URNIK:srecanje:9967
X-WR-TIMEZONE:Europe/Ljubljana
END:VEVENT
BEGIN:VEVENT
SUMMARY:Kemija (APF-1)\, Predavanja (P)
DTSTART;TZID=Europe/Ljubljana:20240422T100000
DTEND;TZID=Europe/Ljubljana:20240422T110000
DTSTAMP:20260423T203257Z
UID:fmf-AFLABS-URNIK:premaknjeno-srecanje:135362
ATTENDEE:1. letnik (Aplikativna fizika)
CATEGORIES:Entry,Standard
COLOR:darkgreen
DESCRIPTION:Predmet: Kemija (APF-1)\, Predavanja (P)\nLetniki: 1. letnik (
 Aplikativna fizika)\nIzvajalci: Romana Cerc Korošec\nProstor: 3067 (3B FK
 KT)
LOCATION:3067 (3B FKKT)
ORGANIZER:Romana Cerc Korošec
RELATED-TO:fmf-AFLABS-URNIK:srecanje:9967
X-WR-TIMEZONE:Europe/Ljubljana
END:VEVENT
BEGIN:VEVENT
SUMMARY:Kemija (APF-1)\, Predavanja (P)
DTSTART;TZID=Europe/Ljubljana:20240429T100000
DTEND;TZID=Europe/Ljubljana:20240429T110000
DTSTAMP:20260423T203257Z
UID:fmf-AFLABS-URNIK:premaknjeno-srecanje:135363
ATTENDEE:1. letnik (Aplikativna fizika)
CATEGORIES:Entry,Standard
COLOR:darkgreen
DESCRIPTION:Predmet: Kemija (APF-1)\, Predavanja (P)\nLetniki: 1. letnik (
 Aplikativna fizika)\nIzvajalci: Romana Cerc Korošec\nProstor: 3067 (3B FK
 KT)
LOCATION:3067 (3B FKKT)
ORGANIZER:Romana Cerc Korošec
RELATED-TO:fmf-AFLABS-URNIK:srecanje:9967
X-WR-TIMEZONE:Europe/Ljubljana
END:VEVENT
BEGIN:VEVENT
SUMMARY:Kemija (APF-1)\, Predavanja (P)
DTSTART;TZID=Europe/Ljubljana:20240506T100000
DTEND;TZID=Europe/Ljubljana:20240506T110000
DTSTAMP:20260423T203257Z
UID:fmf-AFLABS-URNIK:premaknjeno-srecanje:135364
ATTENDEE:1. letnik (Aplikativna fizika)
CATEGORIES:Entry,Standard
COLOR:darkgreen
DESCRIPTION:Predmet: Kemija (APF-1)\, Predavanja (P)\nLetniki: 1. letnik (
 Aplikativna fizika)\nIzvajalci: Romana Cerc Korošec\nProstor: 3067 (3B FK
 KT)
LOCATION:3067 (3B FKKT)
ORGANIZER:Romana Cerc Korošec
RELATED-TO:fmf-AFLABS-URNIK:srecanje:9967
X-WR-TIMEZONE:Europe/Ljubljana
END:VEVENT
BEGIN:VEVENT
SUMMARY:Kemija (APF-1)\, Predavanja (P)
DTSTART;TZID=Europe/Ljubljana:20240513T100000
DTEND;TZID=Europe/Ljubljana:20240513T110000
DTSTAMP:20260423T203257Z
UID:fmf-AFLABS-URNIK:premaknjeno-srecanje:135365
ATTENDEE:1. letnik (Aplikativna fizika)
CATEGORIES:Entry,Standard
COLOR:darkgreen
DESCRIPTION:Predmet: Kemija (APF-1)\, Predavanja (P)\nLetniki: 1. letnik (
 Aplikativna fizika)\nIzvajalci: Romana Cerc Korošec\nProstor: 3067 (3B FK
 KT)
LOCATION:3067 (3B FKKT)
ORGANIZER:Romana Cerc Korošec
RELATED-TO:fmf-AFLABS-URNIK:srecanje:9967
X-WR-TIMEZONE:Europe/Ljubljana
END:VEVENT
BEGIN:VEVENT
SUMMARY:Kemija (APF-1)\, Predavanja (P)
DTSTART;TZID=Europe/Ljubljana:20240520T100000
DTEND;TZID=Europe/Ljubljana:20240520T110000
DTSTAMP:20260423T203257Z
UID:fmf-AFLABS-URNIK:premaknjeno-srecanje:135366
ATTENDEE:1. letnik (Aplikativna fizika)
CATEGORIES:Entry,Standard
COLOR:darkgreen
DESCRIPTION:Predmet: Kemija (APF-1)\, Predavanja (P)\nLetniki: 1. letnik (
 Aplikativna fizika)\nIzvajalci: Romana Cerc Korošec\nProstor: 3067 (3B FK
 KT)
LOCATION:3067 (3B FKKT)
ORGANIZER:Romana Cerc Korošec
RELATED-TO:fmf-AFLABS-URNIK:srecanje:9967
X-WR-TIMEZONE:Europe/Ljubljana
END:VEVENT
BEGIN:VEVENT
SUMMARY:Kemija (APF-1)\, Predavanja (P)
DTSTART;TZID=Europe/Ljubljana:20240527T100000
DTEND;TZID=Europe/Ljubljana:20240527T110000
DTSTAMP:20260423T203257Z
UID:fmf-AFLABS-URNIK:premaknjeno-srecanje:135367
ATTENDEE:1. letnik (Aplikativna fizika)
CATEGORIES:Entry,Standard
COLOR:darkgreen
DESCRIPTION:Predmet: Kemija (APF-1)\, Predavanja (P)\nLetniki: 1. letnik (
 Aplikativna fizika)\nIzvajalci: Romana Cerc Korošec\nProstor: 3067 (3B FK
 KT)
LOCATION:3067 (3B FKKT)
ORGANIZER:Romana Cerc Korošec
RELATED-TO:fmf-AFLABS-URNIK:srecanje:9967
X-WR-TIMEZONE:Europe/Ljubljana
END:VEVENT
END:VCALENDAR
