BEGIN:VCALENDAR
VERSION:2.0
PRODID:-//AFLabs urnik izvoz - fmf//aflabs.si//SI
DTSTAMP:20260421T205420Z
NAME:UL FMF urnik
REFRESH-INTERVAL:PT1H
SOURCE:https://urnik.fmf.uni-lj.si/teacher/398?day=2025-04-21&export=1
URL:https://urnik.fmf.uni-lj.si/teacher/398?day=2025-04-21&export=1
X-PUBLISHED-TTL:PT1H
X-WR-CALNAME:UL FMF urnik
X-WR-TIMEZONE:Europe/Ljubljana
BEGIN:VTIMEZONE
TZID:Europe/Ljubljana
BEGIN:DAYLIGHT
DTSTART:20260329T020000
RDATE:20260329T020000
RDATE:20270328T020000
TZNAME:CEST
TZOFFSETFROM:+0100
TZOFFSETTO:+0200
END:DAYLIGHT
BEGIN:STANDARD
DTSTART:20261025T030000
RDATE:20261025T030000
RDATE:20271031T030000
TZNAME:CET
TZOFFSETFROM:+0200
TZOFFSETTO:+0100
END:STANDARD
END:VTIMEZONE
BEGIN:VEVENT
SUMMARY:Kemija (APF-1)\, Predavanja (P)
DTSTART;TZID=Europe/Ljubljana:20250217T080000
DTEND;TZID=Europe/Ljubljana:20250217T100000
DTSTAMP:20260421T205420Z
UID:fmf-AFLABS-URNIK:premaknjeno-srecanje:201240
ATTENDEE:1. letnik (Aplikativna fizika)
CATEGORIES:Entry,Standard
COLOR:darkgreen
DESCRIPTION:Predmet: Kemija (APF-1)\, Predavanja (P)\nLetniki: 1. letnik (
 Aplikativna fizika)\nIzvajalci: Romana Cerc Korošec\nProstor: B (FKKT)
LOCATION:B (FKKT)
ORGANIZER:Romana Cerc Korošec
RELATED-TO:fmf-AFLABS-URNIK:srecanje:14890
X-WR-TIMEZONE:Europe/Ljubljana
END:VEVENT
BEGIN:VEVENT
SUMMARY:Kemija (APF-1)\, Predavanja (P)
DTSTART;TZID=Europe/Ljubljana:20250224T080000
DTEND;TZID=Europe/Ljubljana:20250224T100000
DTSTAMP:20260421T205420Z
UID:fmf-AFLABS-URNIK:premaknjeno-srecanje:201241
ATTENDEE:1. letnik (Aplikativna fizika)
CATEGORIES:Entry,Standard
COLOR:darkgreen
DESCRIPTION:Predmet: Kemija (APF-1)\, Predavanja (P)\nLetniki: 1. letnik (
 Aplikativna fizika)\nIzvajalci: Romana Cerc Korošec\nProstor: B (FKKT)
LOCATION:B (FKKT)
ORGANIZER:Romana Cerc Korošec
RELATED-TO:fmf-AFLABS-URNIK:srecanje:14890
X-WR-TIMEZONE:Europe/Ljubljana
END:VEVENT
BEGIN:VEVENT
SUMMARY:Kemija (APF-1)\, Predavanja (P)
DTSTART;TZID=Europe/Ljubljana:20250303T080000
DTEND;TZID=Europe/Ljubljana:20250303T100000
DTSTAMP:20260421T205420Z
UID:fmf-AFLABS-URNIK:premaknjeno-srecanje:201242
ATTENDEE:1. letnik (Aplikativna fizika)
CATEGORIES:Entry,Standard
COLOR:darkgreen
DESCRIPTION:Predmet: Kemija (APF-1)\, Predavanja (P)\nLetniki: 1. letnik (
 Aplikativna fizika)\nIzvajalci: Romana Cerc Korošec\nProstor: B (FKKT)
LOCATION:B (FKKT)
ORGANIZER:Romana Cerc Korošec
RELATED-TO:fmf-AFLABS-URNIK:srecanje:14890
X-WR-TIMEZONE:Europe/Ljubljana
END:VEVENT
BEGIN:VEVENT
SUMMARY:Kemija (APF-1)\, Predavanja (P)
DTSTART;TZID=Europe/Ljubljana:20250310T080000
DTEND;TZID=Europe/Ljubljana:20250310T100000
DTSTAMP:20260421T205420Z
UID:fmf-AFLABS-URNIK:premaknjeno-srecanje:201243
ATTENDEE:1. letnik (Aplikativna fizika)
CATEGORIES:Entry,Standard
COLOR:darkgreen
DESCRIPTION:Predmet: Kemija (APF-1)\, Predavanja (P)\nLetniki: 1. letnik (
 Aplikativna fizika)\nIzvajalci: Romana Cerc Korošec\nProstor: B (FKKT)
LOCATION:B (FKKT)
ORGANIZER:Romana Cerc Korošec
RELATED-TO:fmf-AFLABS-URNIK:srecanje:14890
X-WR-TIMEZONE:Europe/Ljubljana
END:VEVENT
BEGIN:VEVENT
SUMMARY:Kemija (APF-1)\, Predavanja (P)
DTSTART;TZID=Europe/Ljubljana:20250317T080000
DTEND;TZID=Europe/Ljubljana:20250317T100000
DTSTAMP:20260421T205420Z
UID:fmf-AFLABS-URNIK:premaknjeno-srecanje:201244
ATTENDEE:1. letnik (Aplikativna fizika)
CATEGORIES:Entry,Standard
COLOR:darkgreen
DESCRIPTION:Predmet: Kemija (APF-1)\, Predavanja (P)\nLetniki: 1. letnik (
 Aplikativna fizika)\nIzvajalci: Romana Cerc Korošec\nProstor: B (FKKT)
LOCATION:B (FKKT)
ORGANIZER:Romana Cerc Korošec
RELATED-TO:fmf-AFLABS-URNIK:srecanje:14890
X-WR-TIMEZONE:Europe/Ljubljana
END:VEVENT
BEGIN:VEVENT
SUMMARY:Kemija (APF-1)\, Predavanja (P)
DTSTART;TZID=Europe/Ljubljana:20250324T080000
DTEND;TZID=Europe/Ljubljana:20250324T100000
DTSTAMP:20260421T205420Z
UID:fmf-AFLABS-URNIK:premaknjeno-srecanje:201245
ATTENDEE:1. letnik (Aplikativna fizika)
CATEGORIES:Entry,Standard
COLOR:darkgreen
DESCRIPTION:Predmet: Kemija (APF-1)\, Predavanja (P)\nLetniki: 1. letnik (
 Aplikativna fizika)\nIzvajalci: Romana Cerc Korošec\nProstor: B (FKKT)
LOCATION:B (FKKT)
ORGANIZER:Romana Cerc Korošec
RELATED-TO:fmf-AFLABS-URNIK:srecanje:14890
X-WR-TIMEZONE:Europe/Ljubljana
END:VEVENT
BEGIN:VEVENT
SUMMARY:Kemija (APF-1)\, Predavanja (P)
DTSTART;TZID=Europe/Ljubljana:20250331T080000
DTEND;TZID=Europe/Ljubljana:20250331T100000
DTSTAMP:20260421T205420Z
UID:fmf-AFLABS-URNIK:premaknjeno-srecanje:201246
ATTENDEE:1. letnik (Aplikativna fizika)
CATEGORIES:Entry,Standard
COLOR:darkgreen
DESCRIPTION:Predmet: Kemija (APF-1)\, Predavanja (P)\nLetniki: 1. letnik (
 Aplikativna fizika)\nIzvajalci: Romana Cerc Korošec\nProstor: B (FKKT)
LOCATION:B (FKKT)
ORGANIZER:Romana Cerc Korošec
RELATED-TO:fmf-AFLABS-URNIK:srecanje:14890
X-WR-TIMEZONE:Europe/Ljubljana
END:VEVENT
BEGIN:VEVENT
SUMMARY:Kemija (APF-1)\, Predavanja (P)
DTSTART;TZID=Europe/Ljubljana:20250407T080000
DTEND;TZID=Europe/Ljubljana:20250407T100000
DTSTAMP:20260421T205420Z
UID:fmf-AFLABS-URNIK:premaknjeno-srecanje:201247
ATTENDEE:1. letnik (Aplikativna fizika)
CATEGORIES:Entry,Standard
COLOR:darkgreen
DESCRIPTION:Predmet: Kemija (APF-1)\, Predavanja (P)\nLetniki: 1. letnik (
 Aplikativna fizika)\nIzvajalci: Romana Cerc Korošec\nProstor: B (FKKT)
LOCATION:B (FKKT)
ORGANIZER:Romana Cerc Korošec
RELATED-TO:fmf-AFLABS-URNIK:srecanje:14890
X-WR-TIMEZONE:Europe/Ljubljana
END:VEVENT
BEGIN:VEVENT
SUMMARY:Kemija (APF-1)\, Predavanja (P)
DTSTART;TZID=Europe/Ljubljana:20250414T080000
DTEND;TZID=Europe/Ljubljana:20250414T100000
DTSTAMP:20260421T205420Z
UID:fmf-AFLABS-URNIK:premaknjeno-srecanje:201248
ATTENDEE:1. letnik (Aplikativna fizika)
CATEGORIES:Entry,Standard
COLOR:darkgreen
DESCRIPTION:Predmet: Kemija (APF-1)\, Predavanja (P)\nLetniki: 1. letnik (
 Aplikativna fizika)\nIzvajalci: Romana Cerc Korošec\nProstor: B (FKKT)
LOCATION:B (FKKT)
ORGANIZER:Romana Cerc Korošec
RELATED-TO:fmf-AFLABS-URNIK:srecanje:14890
X-WR-TIMEZONE:Europe/Ljubljana
END:VEVENT
BEGIN:VEVENT
SUMMARY:Kemija (APF-1)\, Predavanja (P)
DTSTART;TZID=Europe/Ljubljana:20250421T080000
DTEND;TZID=Europe/Ljubljana:20250421T100000
DTSTAMP:20260421T205420Z
UID:fmf-AFLABS-URNIK:premaknjeno-srecanje:201249
ATTENDEE:1. letnik (Aplikativna fizika)
CATEGORIES:Entry,Standard
COLOR:darkgreen
DESCRIPTION:Predmet: Kemija (APF-1)\, Predavanja (P)\nLetniki: 1. letnik (
 Aplikativna fizika)\nIzvajalci: Romana Cerc Korošec\nProstor: B (FKKT)
LOCATION:B (FKKT)
ORGANIZER:Romana Cerc Korošec
RELATED-TO:fmf-AFLABS-URNIK:srecanje:14890
X-WR-TIMEZONE:Europe/Ljubljana
END:VEVENT
BEGIN:VEVENT
SUMMARY:Kemija (APF-1)\, Predavanja (P)
DTSTART;TZID=Europe/Ljubljana:20250428T080000
DTEND;TZID=Europe/Ljubljana:20250428T100000
DTSTAMP:20260421T205420Z
UID:fmf-AFLABS-URNIK:premaknjeno-srecanje:201250
ATTENDEE:1. letnik (Aplikativna fizika)
CATEGORIES:Entry,Standard
COLOR:darkgreen
DESCRIPTION:Predmet: Kemija (APF-1)\, Predavanja (P)\nLetniki: 1. letnik (
 Aplikativna fizika)\nIzvajalci: Romana Cerc Korošec\nProstor: B (FKKT)
LOCATION:B (FKKT)
ORGANIZER:Romana Cerc Korošec
RELATED-TO:fmf-AFLABS-URNIK:srecanje:14890
X-WR-TIMEZONE:Europe/Ljubljana
END:VEVENT
BEGIN:VEVENT
SUMMARY:Kemija (APF-1)\, Predavanja (P)
DTSTART;TZID=Europe/Ljubljana:20250505T080000
DTEND;TZID=Europe/Ljubljana:20250505T100000
DTSTAMP:20260421T205420Z
UID:fmf-AFLABS-URNIK:premaknjeno-srecanje:201251
ATTENDEE:1. letnik (Aplikativna fizika)
CATEGORIES:Entry,Standard
COLOR:darkgreen
DESCRIPTION:Predmet: Kemija (APF-1)\, Predavanja (P)\nLetniki: 1. letnik (
 Aplikativna fizika)\nIzvajalci: Romana Cerc Korošec\nProstor: B (FKKT)
LOCATION:B (FKKT)
ORGANIZER:Romana Cerc Korošec
RELATED-TO:fmf-AFLABS-URNIK:srecanje:14890
X-WR-TIMEZONE:Europe/Ljubljana
END:VEVENT
BEGIN:VEVENT
SUMMARY:Kemija (APF-1)\, Predavanja (P)
DTSTART;TZID=Europe/Ljubljana:20250512T080000
DTEND;TZID=Europe/Ljubljana:20250512T100000
DTSTAMP:20260421T205420Z
UID:fmf-AFLABS-URNIK:premaknjeno-srecanje:201252
ATTENDEE:1. letnik (Aplikativna fizika)
CATEGORIES:Entry,Standard
COLOR:darkgreen
DESCRIPTION:Predmet: Kemija (APF-1)\, Predavanja (P)\nLetniki: 1. letnik (
 Aplikativna fizika)\nIzvajalci: Romana Cerc Korošec\nProstor: B (FKKT)
LOCATION:B (FKKT)
ORGANIZER:Romana Cerc Korošec
RELATED-TO:fmf-AFLABS-URNIK:srecanje:14890
X-WR-TIMEZONE:Europe/Ljubljana
END:VEVENT
BEGIN:VEVENT
SUMMARY:Kemija (APF-1)\, Predavanja (P)
DTSTART;TZID=Europe/Ljubljana:20250519T080000
DTEND;TZID=Europe/Ljubljana:20250519T100000
DTSTAMP:20260421T205420Z
UID:fmf-AFLABS-URNIK:premaknjeno-srecanje:201253
ATTENDEE:1. letnik (Aplikativna fizika)
CATEGORIES:Entry,Standard
COLOR:darkgreen
DESCRIPTION:Predmet: Kemija (APF-1)\, Predavanja (P)\nLetniki: 1. letnik (
 Aplikativna fizika)\nIzvajalci: Romana Cerc Korošec\nProstor: B (FKKT)
LOCATION:B (FKKT)
ORGANIZER:Romana Cerc Korošec
RELATED-TO:fmf-AFLABS-URNIK:srecanje:14890
X-WR-TIMEZONE:Europe/Ljubljana
END:VEVENT
BEGIN:VEVENT
SUMMARY:Kemija (APF-1)\, Predavanja (P)
DTSTART;TZID=Europe/Ljubljana:20250526T080000
DTEND;TZID=Europe/Ljubljana:20250526T100000
DTSTAMP:20260421T205420Z
UID:fmf-AFLABS-URNIK:premaknjeno-srecanje:201254
ATTENDEE:1. letnik (Aplikativna fizika)
CATEGORIES:Entry,Standard
COLOR:darkgreen
DESCRIPTION:Predmet: Kemija (APF-1)\, Predavanja (P)\nLetniki: 1. letnik (
 Aplikativna fizika)\nIzvajalci: Romana Cerc Korošec\nProstor: B (FKKT)
LOCATION:B (FKKT)
ORGANIZER:Romana Cerc Korošec
RELATED-TO:fmf-AFLABS-URNIK:srecanje:14890
X-WR-TIMEZONE:Europe/Ljubljana
END:VEVENT
BEGIN:VEVENT
SUMMARY:Kemija (APF-1)\, Predavanja (P)
DTSTART;TZID=Europe/Ljubljana:20250602T080000
DTEND;TZID=Europe/Ljubljana:20250602T100000
DTSTAMP:20260421T205420Z
UID:fmf-AFLABS-URNIK:premaknjeno-srecanje:201255
ATTENDEE:1. letnik (Aplikativna fizika)
CATEGORIES:Entry,Standard
COLOR:darkgreen
DESCRIPTION:Predmet: Kemija (APF-1)\, Predavanja (P)\nLetniki: 1. letnik (
 Aplikativna fizika)\nIzvajalci: Romana Cerc Korošec\nProstor: B (FKKT)
LOCATION:B (FKKT)
ORGANIZER:Romana Cerc Korošec
RELATED-TO:fmf-AFLABS-URNIK:srecanje:14890
X-WR-TIMEZONE:Europe/Ljubljana
END:VEVENT
BEGIN:VEVENT
SUMMARY:Kemija (APF-1)\, Predavanja (P)
DTSTART;TZID=Europe/Ljubljana:20250217T100000
DTEND;TZID=Europe/Ljubljana:20250217T110000
DTSTAMP:20260421T205420Z
UID:fmf-AFLABS-URNIK:premaknjeno-srecanje:212381
ATTENDEE:1. letnik (Aplikativna fizika)
CATEGORIES:Entry,Standard
COLOR:darkgreen
DESCRIPTION:Predmet: Kemija (APF-1)\, Predavanja (P)\nLetniki: 1. letnik (
 Aplikativna fizika)\nIzvajalci: Romana Cerc Korošec\nProstor: 3067 (3B FK
 KT)
LOCATION:3067 (3B FKKT)
ORGANIZER:Romana Cerc Korošec
RELATED-TO:fmf-AFLABS-URNIK:srecanje:14891
X-WR-TIMEZONE:Europe/Ljubljana
END:VEVENT
BEGIN:VEVENT
SUMMARY:Kemija (APF-1)\, Predavanja (P)
DTSTART;TZID=Europe/Ljubljana:20250224T100000
DTEND;TZID=Europe/Ljubljana:20250224T110000
DTSTAMP:20260421T205420Z
UID:fmf-AFLABS-URNIK:premaknjeno-srecanje:212382
ATTENDEE:1. letnik (Aplikativna fizika)
CATEGORIES:Entry,Standard
COLOR:darkgreen
DESCRIPTION:Predmet: Kemija (APF-1)\, Predavanja (P)\nLetniki: 1. letnik (
 Aplikativna fizika)\nIzvajalci: Romana Cerc Korošec\nProstor: 3067 (3B FK
 KT)
LOCATION:3067 (3B FKKT)
ORGANIZER:Romana Cerc Korošec
RELATED-TO:fmf-AFLABS-URNIK:srecanje:14891
X-WR-TIMEZONE:Europe/Ljubljana
END:VEVENT
BEGIN:VEVENT
SUMMARY:Kemija (APF-1)\, Predavanja (P)
DTSTART;TZID=Europe/Ljubljana:20250303T100000
DTEND;TZID=Europe/Ljubljana:20250303T110000
DTSTAMP:20260421T205420Z
UID:fmf-AFLABS-URNIK:premaknjeno-srecanje:212383
ATTENDEE:1. letnik (Aplikativna fizika)
CATEGORIES:Entry,Standard
COLOR:darkgreen
DESCRIPTION:Predmet: Kemija (APF-1)\, Predavanja (P)\nLetniki: 1. letnik (
 Aplikativna fizika)\nIzvajalci: Romana Cerc Korošec\nProstor: 3067 (3B FK
 KT)
LOCATION:3067 (3B FKKT)
ORGANIZER:Romana Cerc Korošec
RELATED-TO:fmf-AFLABS-URNIK:srecanje:14891
X-WR-TIMEZONE:Europe/Ljubljana
END:VEVENT
BEGIN:VEVENT
SUMMARY:Kemija (APF-1)\, Predavanja (P)
DTSTART;TZID=Europe/Ljubljana:20250310T100000
DTEND;TZID=Europe/Ljubljana:20250310T110000
DTSTAMP:20260421T205420Z
UID:fmf-AFLABS-URNIK:premaknjeno-srecanje:212384
ATTENDEE:1. letnik (Aplikativna fizika)
CATEGORIES:Entry,Standard
COLOR:darkgreen
DESCRIPTION:Predmet: Kemija (APF-1)\, Predavanja (P)\nLetniki: 1. letnik (
 Aplikativna fizika)\nIzvajalci: Romana Cerc Korošec\nProstor: 3067 (3B FK
 KT)
LOCATION:3067 (3B FKKT)
ORGANIZER:Romana Cerc Korošec
RELATED-TO:fmf-AFLABS-URNIK:srecanje:14891
X-WR-TIMEZONE:Europe/Ljubljana
END:VEVENT
BEGIN:VEVENT
SUMMARY:Kemija (APF-1)\, Predavanja (P)
DTSTART;TZID=Europe/Ljubljana:20250317T100000
DTEND;TZID=Europe/Ljubljana:20250317T110000
DTSTAMP:20260421T205420Z
UID:fmf-AFLABS-URNIK:premaknjeno-srecanje:212385
ATTENDEE:1. letnik (Aplikativna fizika)
CATEGORIES:Entry,Standard
COLOR:darkgreen
DESCRIPTION:Predmet: Kemija (APF-1)\, Predavanja (P)\nLetniki: 1. letnik (
 Aplikativna fizika)\nIzvajalci: Romana Cerc Korošec\nProstor: 3067 (3B FK
 KT)
LOCATION:3067 (3B FKKT)
ORGANIZER:Romana Cerc Korošec
RELATED-TO:fmf-AFLABS-URNIK:srecanje:14891
X-WR-TIMEZONE:Europe/Ljubljana
END:VEVENT
BEGIN:VEVENT
SUMMARY:Kemija (APF-1)\, Predavanja (P)
DTSTART;TZID=Europe/Ljubljana:20250324T100000
DTEND;TZID=Europe/Ljubljana:20250324T110000
DTSTAMP:20260421T205420Z
UID:fmf-AFLABS-URNIK:premaknjeno-srecanje:212386
ATTENDEE:1. letnik (Aplikativna fizika)
CATEGORIES:Entry,Standard
COLOR:darkgreen
DESCRIPTION:Predmet: Kemija (APF-1)\, Predavanja (P)\nLetniki: 1. letnik (
 Aplikativna fizika)\nIzvajalci: Romana Cerc Korošec\nProstor: 3067 (3B FK
 KT)
LOCATION:3067 (3B FKKT)
ORGANIZER:Romana Cerc Korošec
RELATED-TO:fmf-AFLABS-URNIK:srecanje:14891
X-WR-TIMEZONE:Europe/Ljubljana
END:VEVENT
BEGIN:VEVENT
SUMMARY:Kemija (APF-1)\, Predavanja (P)
DTSTART;TZID=Europe/Ljubljana:20250331T100000
DTEND;TZID=Europe/Ljubljana:20250331T110000
DTSTAMP:20260421T205420Z
UID:fmf-AFLABS-URNIK:premaknjeno-srecanje:212387
ATTENDEE:1. letnik (Aplikativna fizika)
CATEGORIES:Entry,Standard
COLOR:darkgreen
DESCRIPTION:Predmet: Kemija (APF-1)\, Predavanja (P)\nLetniki: 1. letnik (
 Aplikativna fizika)\nIzvajalci: Romana Cerc Korošec\nProstor: 3067 (3B FK
 KT)
LOCATION:3067 (3B FKKT)
ORGANIZER:Romana Cerc Korošec
RELATED-TO:fmf-AFLABS-URNIK:srecanje:14891
X-WR-TIMEZONE:Europe/Ljubljana
END:VEVENT
BEGIN:VEVENT
SUMMARY:Kemija (APF-1)\, Predavanja (P)
DTSTART;TZID=Europe/Ljubljana:20250407T100000
DTEND;TZID=Europe/Ljubljana:20250407T110000
DTSTAMP:20260421T205420Z
UID:fmf-AFLABS-URNIK:premaknjeno-srecanje:212388
ATTENDEE:1. letnik (Aplikativna fizika)
CATEGORIES:Entry,Standard
COLOR:darkgreen
DESCRIPTION:Predmet: Kemija (APF-1)\, Predavanja (P)\nLetniki: 1. letnik (
 Aplikativna fizika)\nIzvajalci: Romana Cerc Korošec\nProstor: 3067 (3B FK
 KT)
LOCATION:3067 (3B FKKT)
ORGANIZER:Romana Cerc Korošec
RELATED-TO:fmf-AFLABS-URNIK:srecanje:14891
X-WR-TIMEZONE:Europe/Ljubljana
END:VEVENT
BEGIN:VEVENT
SUMMARY:Kemija (APF-1)\, Predavanja (P)
DTSTART;TZID=Europe/Ljubljana:20250414T100000
DTEND;TZID=Europe/Ljubljana:20250414T110000
DTSTAMP:20260421T205420Z
UID:fmf-AFLABS-URNIK:premaknjeno-srecanje:212389
ATTENDEE:1. letnik (Aplikativna fizika)
CATEGORIES:Entry,Standard
COLOR:darkgreen
DESCRIPTION:Predmet: Kemija (APF-1)\, Predavanja (P)\nLetniki: 1. letnik (
 Aplikativna fizika)\nIzvajalci: Romana Cerc Korošec\nProstor: 3067 (3B FK
 KT)
LOCATION:3067 (3B FKKT)
ORGANIZER:Romana Cerc Korošec
RELATED-TO:fmf-AFLABS-URNIK:srecanje:14891
X-WR-TIMEZONE:Europe/Ljubljana
END:VEVENT
BEGIN:VEVENT
SUMMARY:Kemija (APF-1)\, Predavanja (P)
DTSTART;TZID=Europe/Ljubljana:20250421T100000
DTEND;TZID=Europe/Ljubljana:20250421T110000
DTSTAMP:20260421T205420Z
UID:fmf-AFLABS-URNIK:premaknjeno-srecanje:212390
ATTENDEE:1. letnik (Aplikativna fizika)
CATEGORIES:Entry,Standard
COLOR:darkgreen
DESCRIPTION:Predmet: Kemija (APF-1)\, Predavanja (P)\nLetniki: 1. letnik (
 Aplikativna fizika)\nIzvajalci: Romana Cerc Korošec\nProstor: 3067 (3B FK
 KT)
LOCATION:3067 (3B FKKT)
ORGANIZER:Romana Cerc Korošec
RELATED-TO:fmf-AFLABS-URNIK:srecanje:14891
X-WR-TIMEZONE:Europe/Ljubljana
END:VEVENT
BEGIN:VEVENT
SUMMARY:Kemija (APF-1)\, Predavanja (P)
DTSTART;TZID=Europe/Ljubljana:20250428T100000
DTEND;TZID=Europe/Ljubljana:20250428T110000
DTSTAMP:20260421T205420Z
UID:fmf-AFLABS-URNIK:premaknjeno-srecanje:212391
ATTENDEE:1. letnik (Aplikativna fizika)
CATEGORIES:Entry,Standard
COLOR:darkgreen
DESCRIPTION:Predmet: Kemija (APF-1)\, Predavanja (P)\nLetniki: 1. letnik (
 Aplikativna fizika)\nIzvajalci: Romana Cerc Korošec\nProstor: 3067 (3B FK
 KT)
LOCATION:3067 (3B FKKT)
ORGANIZER:Romana Cerc Korošec
RELATED-TO:fmf-AFLABS-URNIK:srecanje:14891
X-WR-TIMEZONE:Europe/Ljubljana
END:VEVENT
BEGIN:VEVENT
SUMMARY:Kemija (APF-1)\, Predavanja (P)
DTSTART;TZID=Europe/Ljubljana:20250505T100000
DTEND;TZID=Europe/Ljubljana:20250505T110000
DTSTAMP:20260421T205420Z
UID:fmf-AFLABS-URNIK:premaknjeno-srecanje:212392
ATTENDEE:1. letnik (Aplikativna fizika)
CATEGORIES:Entry,Standard
COLOR:darkgreen
DESCRIPTION:Predmet: Kemija (APF-1)\, Predavanja (P)\nLetniki: 1. letnik (
 Aplikativna fizika)\nIzvajalci: Romana Cerc Korošec\nProstor: 3067 (3B FK
 KT)
LOCATION:3067 (3B FKKT)
ORGANIZER:Romana Cerc Korošec
RELATED-TO:fmf-AFLABS-URNIK:srecanje:14891
X-WR-TIMEZONE:Europe/Ljubljana
END:VEVENT
BEGIN:VEVENT
SUMMARY:Kemija (APF-1)\, Predavanja (P)
DTSTART;TZID=Europe/Ljubljana:20250512T100000
DTEND;TZID=Europe/Ljubljana:20250512T110000
DTSTAMP:20260421T205420Z
UID:fmf-AFLABS-URNIK:premaknjeno-srecanje:212393
ATTENDEE:1. letnik (Aplikativna fizika)
CATEGORIES:Entry,Standard
COLOR:darkgreen
DESCRIPTION:Predmet: Kemija (APF-1)\, Predavanja (P)\nLetniki: 1. letnik (
 Aplikativna fizika)\nIzvajalci: Romana Cerc Korošec\nProstor: 3067 (3B FK
 KT)
LOCATION:3067 (3B FKKT)
ORGANIZER:Romana Cerc Korošec
RELATED-TO:fmf-AFLABS-URNIK:srecanje:14891
X-WR-TIMEZONE:Europe/Ljubljana
END:VEVENT
BEGIN:VEVENT
SUMMARY:Kemija (APF-1)\, Predavanja (P)
DTSTART;TZID=Europe/Ljubljana:20250519T100000
DTEND;TZID=Europe/Ljubljana:20250519T110000
DTSTAMP:20260421T205420Z
UID:fmf-AFLABS-URNIK:premaknjeno-srecanje:212394
ATTENDEE:1. letnik (Aplikativna fizika)
CATEGORIES:Entry,Standard
COLOR:darkgreen
DESCRIPTION:Predmet: Kemija (APF-1)\, Predavanja (P)\nLetniki: 1. letnik (
 Aplikativna fizika)\nIzvajalci: Romana Cerc Korošec\nProstor: 3067 (3B FK
 KT)
LOCATION:3067 (3B FKKT)
ORGANIZER:Romana Cerc Korošec
RELATED-TO:fmf-AFLABS-URNIK:srecanje:14891
X-WR-TIMEZONE:Europe/Ljubljana
END:VEVENT
BEGIN:VEVENT
SUMMARY:Kemija (APF-1)\, Predavanja (P)
DTSTART;TZID=Europe/Ljubljana:20250526T100000
DTEND;TZID=Europe/Ljubljana:20250526T110000
DTSTAMP:20260421T205420Z
UID:fmf-AFLABS-URNIK:premaknjeno-srecanje:212395
ATTENDEE:1. letnik (Aplikativna fizika)
CATEGORIES:Entry,Standard
COLOR:darkgreen
DESCRIPTION:Predmet: Kemija (APF-1)\, Predavanja (P)\nLetniki: 1. letnik (
 Aplikativna fizika)\nIzvajalci: Romana Cerc Korošec\nProstor: 3067 (3B FK
 KT)
LOCATION:3067 (3B FKKT)
ORGANIZER:Romana Cerc Korošec
RELATED-TO:fmf-AFLABS-URNIK:srecanje:14891
X-WR-TIMEZONE:Europe/Ljubljana
END:VEVENT
BEGIN:VEVENT
SUMMARY:Kemija (APF-1)\, Predavanja (P)
DTSTART;TZID=Europe/Ljubljana:20250602T100000
DTEND;TZID=Europe/Ljubljana:20250602T110000
DTSTAMP:20260421T205420Z
UID:fmf-AFLABS-URNIK:premaknjeno-srecanje:212396
ATTENDEE:1. letnik (Aplikativna fizika)
CATEGORIES:Entry,Standard
COLOR:darkgreen
DESCRIPTION:Predmet: Kemija (APF-1)\, Predavanja (P)\nLetniki: 1. letnik (
 Aplikativna fizika)\nIzvajalci: Romana Cerc Korošec\nProstor: 3067 (3B FK
 KT)
LOCATION:3067 (3B FKKT)
ORGANIZER:Romana Cerc Korošec
RELATED-TO:fmf-AFLABS-URNIK:srecanje:14891
X-WR-TIMEZONE:Europe/Ljubljana
END:VEVENT
END:VCALENDAR
