BEGIN:VCALENDAR
VERSION:2.0
PRODID:-//AFLabs urnik izvoz - fmf//aflabs.si//SI
DTSTAMP:20260420T181936Z
NAME:UL FMF urnik
REFRESH-INTERVAL:PT1H
SOURCE:https://urnik.fmf.uni-lj.si/teacher/399?day=2018-06-04&export=1
URL:https://urnik.fmf.uni-lj.si/teacher/399?day=2018-06-04&export=1
X-PUBLISHED-TTL:PT1H
X-WR-CALNAME:UL FMF urnik
X-WR-TIMEZONE:Europe/Ljubljana
BEGIN:VTIMEZONE
TZID:Europe/Ljubljana
BEGIN:DAYLIGHT
DTSTART:20260329T020000
RDATE:20260329T020000
RDATE:20270328T020000
TZNAME:CEST
TZOFFSETFROM:+0100
TZOFFSETTO:+0200
END:DAYLIGHT
BEGIN:STANDARD
DTSTART:20261025T030000
RDATE:20261025T030000
RDATE:20271031T030000
TZNAME:CET
TZOFFSETFROM:+0200
TZOFFSETTO:+0100
END:STANDARD
END:VTIMEZONE
BEGIN:VEVENT
SUMMARY:Fizika (FE) ()\, Predavanja (P)
DTSTART;TZID=Europe/Ljubljana:20180222T140000
DTEND;TZID=Europe/Ljubljana:20180222T160000
DTSTAMP:20260420T181936Z
UID:fmf-AFLABS-URNIK:premaknjeno-srecanje:22264
CATEGORIES:Entry,Standard
COLOR:darkgreen
DESCRIPTION:Predmet: Fizika (FE) ()\, Predavanja (P)\nLetniki: \nIzvajalci
 :  Iglič\nProstor: VFP
LOCATION:VFP
ORGANIZER: Iglič
RELATED-TO:fmf-AFLABS-URNIK:srecanje:1254
X-WR-TIMEZONE:Europe/Ljubljana
END:VEVENT
BEGIN:VEVENT
SUMMARY:Fizika (FE) ()\, Predavanja (P)
DTSTART;TZID=Europe/Ljubljana:20180301T140000
DTEND;TZID=Europe/Ljubljana:20180301T160000
DTSTAMP:20260420T181936Z
UID:fmf-AFLABS-URNIK:premaknjeno-srecanje:22265
CATEGORIES:Entry,Standard
COLOR:darkgreen
DESCRIPTION:Predmet: Fizika (FE) ()\, Predavanja (P)\nLetniki: \nIzvajalci
 :  Iglič\nProstor: VFP
LOCATION:VFP
ORGANIZER: Iglič
RELATED-TO:fmf-AFLABS-URNIK:srecanje:1254
X-WR-TIMEZONE:Europe/Ljubljana
END:VEVENT
BEGIN:VEVENT
SUMMARY:Fizika (FE) ()\, Predavanja (P)
DTSTART;TZID=Europe/Ljubljana:20180308T140000
DTEND;TZID=Europe/Ljubljana:20180308T160000
DTSTAMP:20260420T181936Z
UID:fmf-AFLABS-URNIK:premaknjeno-srecanje:22266
CATEGORIES:Entry,Standard
COLOR:darkgreen
DESCRIPTION:Predmet: Fizika (FE) ()\, Predavanja (P)\nLetniki: \nIzvajalci
 :  Iglič\nProstor: VFP
LOCATION:VFP
ORGANIZER: Iglič
RELATED-TO:fmf-AFLABS-URNIK:srecanje:1254
X-WR-TIMEZONE:Europe/Ljubljana
END:VEVENT
BEGIN:VEVENT
SUMMARY:Fizika (FE) ()\, Predavanja (P)
DTSTART;TZID=Europe/Ljubljana:20180315T140000
DTEND;TZID=Europe/Ljubljana:20180315T160000
DTSTAMP:20260420T181936Z
UID:fmf-AFLABS-URNIK:premaknjeno-srecanje:22267
CATEGORIES:Entry,Standard
COLOR:darkgreen
DESCRIPTION:Predmet: Fizika (FE) ()\, Predavanja (P)\nLetniki: \nIzvajalci
 :  Iglič\nProstor: VFP
LOCATION:VFP
ORGANIZER: Iglič
RELATED-TO:fmf-AFLABS-URNIK:srecanje:1254
X-WR-TIMEZONE:Europe/Ljubljana
END:VEVENT
BEGIN:VEVENT
SUMMARY:Fizika (FE) ()\, Predavanja (P)
DTSTART;TZID=Europe/Ljubljana:20180322T140000
DTEND;TZID=Europe/Ljubljana:20180322T160000
DTSTAMP:20260420T181936Z
UID:fmf-AFLABS-URNIK:premaknjeno-srecanje:22268
CATEGORIES:Entry,Standard
COLOR:darkgreen
DESCRIPTION:Predmet: Fizika (FE) ()\, Predavanja (P)\nLetniki: \nIzvajalci
 :  Iglič\nProstor: VFP
LOCATION:VFP
ORGANIZER: Iglič
RELATED-TO:fmf-AFLABS-URNIK:srecanje:1254
X-WR-TIMEZONE:Europe/Ljubljana
END:VEVENT
BEGIN:VEVENT
SUMMARY:Fizika (FE) ()\, Predavanja (P)
DTSTART;TZID=Europe/Ljubljana:20180329T140000
DTEND;TZID=Europe/Ljubljana:20180329T160000
DTSTAMP:20260420T181936Z
UID:fmf-AFLABS-URNIK:premaknjeno-srecanje:22269
CATEGORIES:Entry,Standard
COLOR:darkgreen
DESCRIPTION:Predmet: Fizika (FE) ()\, Predavanja (P)\nLetniki: \nIzvajalci
 :  Iglič\nProstor: VFP
LOCATION:VFP
ORGANIZER: Iglič
RELATED-TO:fmf-AFLABS-URNIK:srecanje:1254
X-WR-TIMEZONE:Europe/Ljubljana
END:VEVENT
BEGIN:VEVENT
SUMMARY:Fizika (FE) ()\, Predavanja (P)
DTSTART;TZID=Europe/Ljubljana:20180405T140000
DTEND;TZID=Europe/Ljubljana:20180405T160000
DTSTAMP:20260420T181936Z
UID:fmf-AFLABS-URNIK:premaknjeno-srecanje:22270
CATEGORIES:Entry,Standard
COLOR:darkgreen
DESCRIPTION:Predmet: Fizika (FE) ()\, Predavanja (P)\nLetniki: \nIzvajalci
 :  Iglič\nProstor: VFP
LOCATION:VFP
ORGANIZER: Iglič
RELATED-TO:fmf-AFLABS-URNIK:srecanje:1254
X-WR-TIMEZONE:Europe/Ljubljana
END:VEVENT
BEGIN:VEVENT
SUMMARY:Fizika (FE) ()\, Predavanja (P)
DTSTART;TZID=Europe/Ljubljana:20180412T140000
DTEND;TZID=Europe/Ljubljana:20180412T160000
DTSTAMP:20260420T181936Z
UID:fmf-AFLABS-URNIK:premaknjeno-srecanje:22271
CATEGORIES:Entry,Standard
COLOR:darkgreen
DESCRIPTION:Predmet: Fizika (FE) ()\, Predavanja (P)\nLetniki: \nIzvajalci
 :  Iglič\nProstor: VFP
LOCATION:VFP
ORGANIZER: Iglič
RELATED-TO:fmf-AFLABS-URNIK:srecanje:1254
X-WR-TIMEZONE:Europe/Ljubljana
END:VEVENT
BEGIN:VEVENT
SUMMARY:Fizika (FE) ()\, Predavanja (P)
DTSTART;TZID=Europe/Ljubljana:20180419T140000
DTEND;TZID=Europe/Ljubljana:20180419T160000
DTSTAMP:20260420T181936Z
UID:fmf-AFLABS-URNIK:premaknjeno-srecanje:22272
CATEGORIES:Entry,Standard
COLOR:darkgreen
DESCRIPTION:Predmet: Fizika (FE) ()\, Predavanja (P)\nLetniki: \nIzvajalci
 :  Iglič\nProstor: VFP
LOCATION:VFP
ORGANIZER: Iglič
RELATED-TO:fmf-AFLABS-URNIK:srecanje:1254
X-WR-TIMEZONE:Europe/Ljubljana
END:VEVENT
BEGIN:VEVENT
SUMMARY:Fizika (FE) ()\, Predavanja (P)
DTSTART;TZID=Europe/Ljubljana:20180426T140000
DTEND;TZID=Europe/Ljubljana:20180426T160000
DTSTAMP:20260420T181936Z
UID:fmf-AFLABS-URNIK:premaknjeno-srecanje:22273
CATEGORIES:Entry,Standard
COLOR:darkgreen
DESCRIPTION:Predmet: Fizika (FE) ()\, Predavanja (P)\nLetniki: \nIzvajalci
 :  Iglič\nProstor: VFP
LOCATION:VFP
ORGANIZER: Iglič
RELATED-TO:fmf-AFLABS-URNIK:srecanje:1254
X-WR-TIMEZONE:Europe/Ljubljana
END:VEVENT
BEGIN:VEVENT
SUMMARY:Fizika (FE) ()\, Predavanja (P)
DTSTART;TZID=Europe/Ljubljana:20180503T140000
DTEND;TZID=Europe/Ljubljana:20180503T160000
DTSTAMP:20260420T181936Z
UID:fmf-AFLABS-URNIK:premaknjeno-srecanje:22274
CATEGORIES:Entry,Standard
COLOR:darkgreen
DESCRIPTION:Predmet: Fizika (FE) ()\, Predavanja (P)\nLetniki: \nIzvajalci
 :  Iglič\nProstor: VFP
LOCATION:VFP
ORGANIZER: Iglič
RELATED-TO:fmf-AFLABS-URNIK:srecanje:1254
X-WR-TIMEZONE:Europe/Ljubljana
END:VEVENT
BEGIN:VEVENT
SUMMARY:Fizika (FE) ()\, Predavanja (P)
DTSTART;TZID=Europe/Ljubljana:20180510T140000
DTEND;TZID=Europe/Ljubljana:20180510T160000
DTSTAMP:20260420T181936Z
UID:fmf-AFLABS-URNIK:premaknjeno-srecanje:22275
CATEGORIES:Entry,Standard
COLOR:darkgreen
DESCRIPTION:Predmet: Fizika (FE) ()\, Predavanja (P)\nLetniki: \nIzvajalci
 :  Iglič\nProstor: VFP
LOCATION:VFP
ORGANIZER: Iglič
RELATED-TO:fmf-AFLABS-URNIK:srecanje:1254
X-WR-TIMEZONE:Europe/Ljubljana
END:VEVENT
BEGIN:VEVENT
SUMMARY:Fizika (FE) ()\, Predavanja (P)
DTSTART;TZID=Europe/Ljubljana:20180517T140000
DTEND;TZID=Europe/Ljubljana:20180517T160000
DTSTAMP:20260420T181936Z
UID:fmf-AFLABS-URNIK:premaknjeno-srecanje:22276
CATEGORIES:Entry,Standard
COLOR:darkgreen
DESCRIPTION:Predmet: Fizika (FE) ()\, Predavanja (P)\nLetniki: \nIzvajalci
 :  Iglič\nProstor: VFP
LOCATION:VFP
ORGANIZER: Iglič
RELATED-TO:fmf-AFLABS-URNIK:srecanje:1254
X-WR-TIMEZONE:Europe/Ljubljana
END:VEVENT
BEGIN:VEVENT
SUMMARY:Fizika (FE) ()\, Predavanja (P)
DTSTART;TZID=Europe/Ljubljana:20180524T140000
DTEND;TZID=Europe/Ljubljana:20180524T160000
DTSTAMP:20260420T181936Z
UID:fmf-AFLABS-URNIK:premaknjeno-srecanje:22277
CATEGORIES:Entry,Standard
COLOR:darkgreen
DESCRIPTION:Predmet: Fizika (FE) ()\, Predavanja (P)\nLetniki: \nIzvajalci
 :  Iglič\nProstor: VFP
LOCATION:VFP
ORGANIZER: Iglič
RELATED-TO:fmf-AFLABS-URNIK:srecanje:1254
X-WR-TIMEZONE:Europe/Ljubljana
END:VEVENT
BEGIN:VEVENT
SUMMARY:Fizika (FE) ()\, Predavanja (P)
DTSTART;TZID=Europe/Ljubljana:20180531T140000
DTEND;TZID=Europe/Ljubljana:20180531T160000
DTSTAMP:20260420T181936Z
UID:fmf-AFLABS-URNIK:premaknjeno-srecanje:22278
CATEGORIES:Entry,Standard
COLOR:darkgreen
DESCRIPTION:Predmet: Fizika (FE) ()\, Predavanja (P)\nLetniki: \nIzvajalci
 :  Iglič\nProstor: VFP
LOCATION:VFP
ORGANIZER: Iglič
RELATED-TO:fmf-AFLABS-URNIK:srecanje:1254
X-WR-TIMEZONE:Europe/Ljubljana
END:VEVENT
BEGIN:VEVENT
SUMMARY:Fizika (FE) ()\, Predavanja (P)
DTSTART;TZID=Europe/Ljubljana:20180607T140000
DTEND;TZID=Europe/Ljubljana:20180607T160000
DTSTAMP:20260420T181936Z
UID:fmf-AFLABS-URNIK:premaknjeno-srecanje:22279
CATEGORIES:Entry,Standard
COLOR:darkgreen
DESCRIPTION:Predmet: Fizika (FE) ()\, Predavanja (P)\nLetniki: \nIzvajalci
 :  Iglič\nProstor: VFP
LOCATION:VFP
ORGANIZER: Iglič
RELATED-TO:fmf-AFLABS-URNIK:srecanje:1254
X-WR-TIMEZONE:Europe/Ljubljana
END:VEVENT
BEGIN:VEVENT
SUMMARY:Fizika (FE) ()\, Predavanja (P)
DTSTART;TZID=Europe/Ljubljana:20180223T080000
DTEND;TZID=Europe/Ljubljana:20180223T110000
DTSTAMP:20260420T181936Z
UID:fmf-AFLABS-URNIK:premaknjeno-srecanje:22498
CATEGORIES:Entry,Standard
COLOR:darkgreen
DESCRIPTION:Predmet: Fizika (FE) ()\, Predavanja (P)\nLetniki: \nIzvajalci
 :  Iglič\nProstor: VFP
LOCATION:VFP
ORGANIZER: Iglič
RELATED-TO:fmf-AFLABS-URNIK:srecanje:1255
X-WR-TIMEZONE:Europe/Ljubljana
END:VEVENT
BEGIN:VEVENT
SUMMARY:Fizika (FE) ()\, Predavanja (P)
DTSTART;TZID=Europe/Ljubljana:20180302T080000
DTEND;TZID=Europe/Ljubljana:20180302T110000
DTSTAMP:20260420T181936Z
UID:fmf-AFLABS-URNIK:premaknjeno-srecanje:22499
CATEGORIES:Entry,Standard
COLOR:darkgreen
DESCRIPTION:Predmet: Fizika (FE) ()\, Predavanja (P)\nLetniki: \nIzvajalci
 :  Iglič\nProstor: VFP
LOCATION:VFP
ORGANIZER: Iglič
RELATED-TO:fmf-AFLABS-URNIK:srecanje:1255
X-WR-TIMEZONE:Europe/Ljubljana
END:VEVENT
BEGIN:VEVENT
SUMMARY:Fizika (FE) ()\, Predavanja (P)
DTSTART;TZID=Europe/Ljubljana:20180309T080000
DTEND;TZID=Europe/Ljubljana:20180309T110000
DTSTAMP:20260420T181936Z
UID:fmf-AFLABS-URNIK:premaknjeno-srecanje:22500
CATEGORIES:Entry,Standard
COLOR:darkgreen
DESCRIPTION:Predmet: Fizika (FE) ()\, Predavanja (P)\nLetniki: \nIzvajalci
 :  Iglič\nProstor: VFP
LOCATION:VFP
ORGANIZER: Iglič
RELATED-TO:fmf-AFLABS-URNIK:srecanje:1255
X-WR-TIMEZONE:Europe/Ljubljana
END:VEVENT
BEGIN:VEVENT
SUMMARY:Fizika (FE) ()\, Predavanja (P)
DTSTART;TZID=Europe/Ljubljana:20180316T080000
DTEND;TZID=Europe/Ljubljana:20180316T110000
DTSTAMP:20260420T181936Z
UID:fmf-AFLABS-URNIK:premaknjeno-srecanje:22501
CATEGORIES:Entry,Standard
COLOR:darkgreen
DESCRIPTION:Predmet: Fizika (FE) ()\, Predavanja (P)\nLetniki: \nIzvajalci
 :  Iglič\nProstor: VFP
LOCATION:VFP
ORGANIZER: Iglič
RELATED-TO:fmf-AFLABS-URNIK:srecanje:1255
X-WR-TIMEZONE:Europe/Ljubljana
END:VEVENT
BEGIN:VEVENT
SUMMARY:Fizika (FE) ()\, Predavanja (P)
DTSTART;TZID=Europe/Ljubljana:20180323T080000
DTEND;TZID=Europe/Ljubljana:20180323T110000
DTSTAMP:20260420T181936Z
UID:fmf-AFLABS-URNIK:premaknjeno-srecanje:22502
CATEGORIES:Entry,Standard
COLOR:darkgreen
DESCRIPTION:Predmet: Fizika (FE) ()\, Predavanja (P)\nLetniki: \nIzvajalci
 :  Iglič\nProstor: VFP
LOCATION:VFP
ORGANIZER: Iglič
RELATED-TO:fmf-AFLABS-URNIK:srecanje:1255
X-WR-TIMEZONE:Europe/Ljubljana
END:VEVENT
BEGIN:VEVENT
SUMMARY:Fizika (FE) ()\, Predavanja (P)
DTSTART;TZID=Europe/Ljubljana:20180330T080000
DTEND;TZID=Europe/Ljubljana:20180330T110000
DTSTAMP:20260420T181936Z
UID:fmf-AFLABS-URNIK:premaknjeno-srecanje:22503
CATEGORIES:Entry,Standard
COLOR:darkgreen
DESCRIPTION:Predmet: Fizika (FE) ()\, Predavanja (P)\nLetniki: \nIzvajalci
 :  Iglič\nProstor: VFP
LOCATION:VFP
ORGANIZER: Iglič
RELATED-TO:fmf-AFLABS-URNIK:srecanje:1255
X-WR-TIMEZONE:Europe/Ljubljana
END:VEVENT
BEGIN:VEVENT
SUMMARY:Fizika (FE) ()\, Predavanja (P)
DTSTART;TZID=Europe/Ljubljana:20180406T080000
DTEND;TZID=Europe/Ljubljana:20180406T110000
DTSTAMP:20260420T181936Z
UID:fmf-AFLABS-URNIK:premaknjeno-srecanje:22504
CATEGORIES:Entry,Standard
COLOR:darkgreen
DESCRIPTION:Predmet: Fizika (FE) ()\, Predavanja (P)\nLetniki: \nIzvajalci
 :  Iglič\nProstor: VFP
LOCATION:VFP
ORGANIZER: Iglič
RELATED-TO:fmf-AFLABS-URNIK:srecanje:1255
X-WR-TIMEZONE:Europe/Ljubljana
END:VEVENT
BEGIN:VEVENT
SUMMARY:Fizika (FE) ()\, Predavanja (P)
DTSTART;TZID=Europe/Ljubljana:20180413T080000
DTEND;TZID=Europe/Ljubljana:20180413T110000
DTSTAMP:20260420T181936Z
UID:fmf-AFLABS-URNIK:premaknjeno-srecanje:22505
CATEGORIES:Entry,Standard
COLOR:darkgreen
DESCRIPTION:Predmet: Fizika (FE) ()\, Predavanja (P)\nLetniki: \nIzvajalci
 :  Iglič\nProstor: VFP
LOCATION:VFP
ORGANIZER: Iglič
RELATED-TO:fmf-AFLABS-URNIK:srecanje:1255
X-WR-TIMEZONE:Europe/Ljubljana
END:VEVENT
BEGIN:VEVENT
SUMMARY:Fizika (FE) ()\, Predavanja (P)
DTSTART;TZID=Europe/Ljubljana:20180420T080000
DTEND;TZID=Europe/Ljubljana:20180420T110000
DTSTAMP:20260420T181936Z
UID:fmf-AFLABS-URNIK:premaknjeno-srecanje:22506
CATEGORIES:Entry,Standard
COLOR:darkgreen
DESCRIPTION:Predmet: Fizika (FE) ()\, Predavanja (P)\nLetniki: \nIzvajalci
 :  Iglič\nProstor: VFP
LOCATION:VFP
ORGANIZER: Iglič
RELATED-TO:fmf-AFLABS-URNIK:srecanje:1255
X-WR-TIMEZONE:Europe/Ljubljana
END:VEVENT
BEGIN:VEVENT
SUMMARY:Fizika (FE) ()\, Predavanja (P)
DTSTART;TZID=Europe/Ljubljana:20180427T080000
DTEND;TZID=Europe/Ljubljana:20180427T110000
DTSTAMP:20260420T181936Z
UID:fmf-AFLABS-URNIK:premaknjeno-srecanje:22507
CATEGORIES:Entry,Standard
COLOR:darkgreen
DESCRIPTION:Predmet: Fizika (FE) ()\, Predavanja (P)\nLetniki: \nIzvajalci
 :  Iglič\nProstor: VFP
LOCATION:VFP
ORGANIZER: Iglič
RELATED-TO:fmf-AFLABS-URNIK:srecanje:1255
X-WR-TIMEZONE:Europe/Ljubljana
END:VEVENT
BEGIN:VEVENT
SUMMARY:Fizika (FE) ()\, Predavanja (P)
DTSTART;TZID=Europe/Ljubljana:20180504T080000
DTEND;TZID=Europe/Ljubljana:20180504T110000
DTSTAMP:20260420T181936Z
UID:fmf-AFLABS-URNIK:premaknjeno-srecanje:22508
CATEGORIES:Entry,Standard
COLOR:darkgreen
DESCRIPTION:Predmet: Fizika (FE) ()\, Predavanja (P)\nLetniki: \nIzvajalci
 :  Iglič\nProstor: VFP
LOCATION:VFP
ORGANIZER: Iglič
RELATED-TO:fmf-AFLABS-URNIK:srecanje:1255
X-WR-TIMEZONE:Europe/Ljubljana
END:VEVENT
BEGIN:VEVENT
SUMMARY:Fizika (FE) ()\, Predavanja (P)
DTSTART;TZID=Europe/Ljubljana:20180511T080000
DTEND;TZID=Europe/Ljubljana:20180511T110000
DTSTAMP:20260420T181936Z
UID:fmf-AFLABS-URNIK:premaknjeno-srecanje:22509
CATEGORIES:Entry,Standard
COLOR:darkgreen
DESCRIPTION:Predmet: Fizika (FE) ()\, Predavanja (P)\nLetniki: \nIzvajalci
 :  Iglič\nProstor: VFP
LOCATION:VFP
ORGANIZER: Iglič
RELATED-TO:fmf-AFLABS-URNIK:srecanje:1255
X-WR-TIMEZONE:Europe/Ljubljana
END:VEVENT
BEGIN:VEVENT
SUMMARY:Fizika (FE) ()\, Predavanja (P)
DTSTART;TZID=Europe/Ljubljana:20180518T080000
DTEND;TZID=Europe/Ljubljana:20180518T110000
DTSTAMP:20260420T181936Z
UID:fmf-AFLABS-URNIK:premaknjeno-srecanje:22510
CATEGORIES:Entry,Standard
COLOR:darkgreen
DESCRIPTION:Predmet: Fizika (FE) ()\, Predavanja (P)\nLetniki: \nIzvajalci
 :  Iglič\nProstor: VFP
LOCATION:VFP
ORGANIZER: Iglič
RELATED-TO:fmf-AFLABS-URNIK:srecanje:1255
X-WR-TIMEZONE:Europe/Ljubljana
END:VEVENT
BEGIN:VEVENT
SUMMARY:Fizika (FE) ()\, Predavanja (P)
DTSTART;TZID=Europe/Ljubljana:20180525T080000
DTEND;TZID=Europe/Ljubljana:20180525T110000
DTSTAMP:20260420T181936Z
UID:fmf-AFLABS-URNIK:premaknjeno-srecanje:22511
CATEGORIES:Entry,Standard
COLOR:darkgreen
DESCRIPTION:Predmet: Fizika (FE) ()\, Predavanja (P)\nLetniki: \nIzvajalci
 :  Iglič\nProstor: VFP
LOCATION:VFP
ORGANIZER: Iglič
RELATED-TO:fmf-AFLABS-URNIK:srecanje:1255
X-WR-TIMEZONE:Europe/Ljubljana
END:VEVENT
BEGIN:VEVENT
SUMMARY:Fizika (FE) ()\, Predavanja (P)
DTSTART;TZID=Europe/Ljubljana:20180601T080000
DTEND;TZID=Europe/Ljubljana:20180601T110000
DTSTAMP:20260420T181936Z
UID:fmf-AFLABS-URNIK:premaknjeno-srecanje:22512
CATEGORIES:Entry,Standard
COLOR:darkgreen
DESCRIPTION:Predmet: Fizika (FE) ()\, Predavanja (P)\nLetniki: \nIzvajalci
 :  Iglič\nProstor: VFP
LOCATION:VFP
ORGANIZER: Iglič
RELATED-TO:fmf-AFLABS-URNIK:srecanje:1255
X-WR-TIMEZONE:Europe/Ljubljana
END:VEVENT
BEGIN:VEVENT
SUMMARY:Fizika (FE) ()\, Predavanja (P)
DTSTART;TZID=Europe/Ljubljana:20180608T080000
DTEND;TZID=Europe/Ljubljana:20180608T110000
DTSTAMP:20260420T181936Z
UID:fmf-AFLABS-URNIK:premaknjeno-srecanje:22513
CATEGORIES:Entry,Standard
COLOR:darkgreen
DESCRIPTION:Predmet: Fizika (FE) ()\, Predavanja (P)\nLetniki: \nIzvajalci
 :  Iglič\nProstor: VFP
LOCATION:VFP
ORGANIZER: Iglič
RELATED-TO:fmf-AFLABS-URNIK:srecanje:1255
X-WR-TIMEZONE:Europe/Ljubljana
END:VEVENT
END:VCALENDAR
