BEGIN:VCALENDAR
VERSION:2.0
PRODID:-//AFLabs urnik izvoz - fmf//aflabs.si//SI
DTSTAMP:20260420T164440Z
NAME:UL FMF urnik
REFRESH-INTERVAL:PT1H
SOURCE:https://urnik.fmf.uni-lj.si/teacher/399?day=2018-06-11&export=1
URL:https://urnik.fmf.uni-lj.si/teacher/399?day=2018-06-11&export=1
X-PUBLISHED-TTL:PT1H
X-WR-CALNAME:UL FMF urnik
X-WR-TIMEZONE:Europe/Ljubljana
BEGIN:VTIMEZONE
TZID:Europe/Ljubljana
BEGIN:DAYLIGHT
DTSTART:20260329T020000
RDATE:20260329T020000
RDATE:20270328T020000
TZNAME:CEST
TZOFFSETFROM:+0100
TZOFFSETTO:+0200
END:DAYLIGHT
BEGIN:STANDARD
DTSTART:20261025T030000
RDATE:20261025T030000
RDATE:20271031T030000
TZNAME:CET
TZOFFSETFROM:+0200
TZOFFSETTO:+0100
END:STANDARD
END:VTIMEZONE
BEGIN:VEVENT
SUMMARY:Fizika (FE) ()\, Predavanja (P)
DTSTART;TZID=Europe/Ljubljana:20180510T140000
DTEND;TZID=Europe/Ljubljana:20180510T160000
DTSTAMP:20260420T164440Z
UID:fmf-AFLABS-URNIK:premaknjeno-srecanje:22275
CATEGORIES:Entry,Standard
COLOR:darkgreen
DESCRIPTION:Predmet: Fizika (FE) ()\, Predavanja (P)\nLetniki: \nIzvajalci
 :  Iglič\nProstor: VFP
LOCATION:VFP
ORGANIZER: Iglič
RELATED-TO:fmf-AFLABS-URNIK:srecanje:1254
X-WR-TIMEZONE:Europe/Ljubljana
END:VEVENT
BEGIN:VEVENT
SUMMARY:Fizika (FE) ()\, Predavanja (P)
DTSTART;TZID=Europe/Ljubljana:20180517T140000
DTEND;TZID=Europe/Ljubljana:20180517T160000
DTSTAMP:20260420T164440Z
UID:fmf-AFLABS-URNIK:premaknjeno-srecanje:22276
CATEGORIES:Entry,Standard
COLOR:darkgreen
DESCRIPTION:Predmet: Fizika (FE) ()\, Predavanja (P)\nLetniki: \nIzvajalci
 :  Iglič\nProstor: VFP
LOCATION:VFP
ORGANIZER: Iglič
RELATED-TO:fmf-AFLABS-URNIK:srecanje:1254
X-WR-TIMEZONE:Europe/Ljubljana
END:VEVENT
BEGIN:VEVENT
SUMMARY:Fizika (FE) ()\, Predavanja (P)
DTSTART;TZID=Europe/Ljubljana:20180524T140000
DTEND;TZID=Europe/Ljubljana:20180524T160000
DTSTAMP:20260420T164440Z
UID:fmf-AFLABS-URNIK:premaknjeno-srecanje:22277
CATEGORIES:Entry,Standard
COLOR:darkgreen
DESCRIPTION:Predmet: Fizika (FE) ()\, Predavanja (P)\nLetniki: \nIzvajalci
 :  Iglič\nProstor: VFP
LOCATION:VFP
ORGANIZER: Iglič
RELATED-TO:fmf-AFLABS-URNIK:srecanje:1254
X-WR-TIMEZONE:Europe/Ljubljana
END:VEVENT
BEGIN:VEVENT
SUMMARY:Fizika (FE) ()\, Predavanja (P)
DTSTART;TZID=Europe/Ljubljana:20180531T140000
DTEND;TZID=Europe/Ljubljana:20180531T160000
DTSTAMP:20260420T164440Z
UID:fmf-AFLABS-URNIK:premaknjeno-srecanje:22278
CATEGORIES:Entry,Standard
COLOR:darkgreen
DESCRIPTION:Predmet: Fizika (FE) ()\, Predavanja (P)\nLetniki: \nIzvajalci
 :  Iglič\nProstor: VFP
LOCATION:VFP
ORGANIZER: Iglič
RELATED-TO:fmf-AFLABS-URNIK:srecanje:1254
X-WR-TIMEZONE:Europe/Ljubljana
END:VEVENT
BEGIN:VEVENT
SUMMARY:Fizika (FE) ()\, Predavanja (P)
DTSTART;TZID=Europe/Ljubljana:20180607T140000
DTEND;TZID=Europe/Ljubljana:20180607T160000
DTSTAMP:20260420T164440Z
UID:fmf-AFLABS-URNIK:premaknjeno-srecanje:22279
CATEGORIES:Entry,Standard
COLOR:darkgreen
DESCRIPTION:Predmet: Fizika (FE) ()\, Predavanja (P)\nLetniki: \nIzvajalci
 :  Iglič\nProstor: VFP
LOCATION:VFP
ORGANIZER: Iglič
RELATED-TO:fmf-AFLABS-URNIK:srecanje:1254
X-WR-TIMEZONE:Europe/Ljubljana
END:VEVENT
BEGIN:VEVENT
SUMMARY:Fizika (FE) ()\, Predavanja (P)
DTSTART;TZID=Europe/Ljubljana:20180511T080000
DTEND;TZID=Europe/Ljubljana:20180511T110000
DTSTAMP:20260420T164440Z
UID:fmf-AFLABS-URNIK:premaknjeno-srecanje:22509
CATEGORIES:Entry,Standard
COLOR:darkgreen
DESCRIPTION:Predmet: Fizika (FE) ()\, Predavanja (P)\nLetniki: \nIzvajalci
 :  Iglič\nProstor: VFP
LOCATION:VFP
ORGANIZER: Iglič
RELATED-TO:fmf-AFLABS-URNIK:srecanje:1255
X-WR-TIMEZONE:Europe/Ljubljana
END:VEVENT
BEGIN:VEVENT
SUMMARY:Fizika (FE) ()\, Predavanja (P)
DTSTART;TZID=Europe/Ljubljana:20180518T080000
DTEND;TZID=Europe/Ljubljana:20180518T110000
DTSTAMP:20260420T164440Z
UID:fmf-AFLABS-URNIK:premaknjeno-srecanje:22510
CATEGORIES:Entry,Standard
COLOR:darkgreen
DESCRIPTION:Predmet: Fizika (FE) ()\, Predavanja (P)\nLetniki: \nIzvajalci
 :  Iglič\nProstor: VFP
LOCATION:VFP
ORGANIZER: Iglič
RELATED-TO:fmf-AFLABS-URNIK:srecanje:1255
X-WR-TIMEZONE:Europe/Ljubljana
END:VEVENT
BEGIN:VEVENT
SUMMARY:Fizika (FE) ()\, Predavanja (P)
DTSTART;TZID=Europe/Ljubljana:20180525T080000
DTEND;TZID=Europe/Ljubljana:20180525T110000
DTSTAMP:20260420T164440Z
UID:fmf-AFLABS-URNIK:premaknjeno-srecanje:22511
CATEGORIES:Entry,Standard
COLOR:darkgreen
DESCRIPTION:Predmet: Fizika (FE) ()\, Predavanja (P)\nLetniki: \nIzvajalci
 :  Iglič\nProstor: VFP
LOCATION:VFP
ORGANIZER: Iglič
RELATED-TO:fmf-AFLABS-URNIK:srecanje:1255
X-WR-TIMEZONE:Europe/Ljubljana
END:VEVENT
BEGIN:VEVENT
SUMMARY:Fizika (FE) ()\, Predavanja (P)
DTSTART;TZID=Europe/Ljubljana:20180601T080000
DTEND;TZID=Europe/Ljubljana:20180601T110000
DTSTAMP:20260420T164440Z
UID:fmf-AFLABS-URNIK:premaknjeno-srecanje:22512
CATEGORIES:Entry,Standard
COLOR:darkgreen
DESCRIPTION:Predmet: Fizika (FE) ()\, Predavanja (P)\nLetniki: \nIzvajalci
 :  Iglič\nProstor: VFP
LOCATION:VFP
ORGANIZER: Iglič
RELATED-TO:fmf-AFLABS-URNIK:srecanje:1255
X-WR-TIMEZONE:Europe/Ljubljana
END:VEVENT
BEGIN:VEVENT
SUMMARY:Fizika (FE) ()\, Predavanja (P)
DTSTART;TZID=Europe/Ljubljana:20180608T080000
DTEND;TZID=Europe/Ljubljana:20180608T110000
DTSTAMP:20260420T164440Z
UID:fmf-AFLABS-URNIK:premaknjeno-srecanje:22513
CATEGORIES:Entry,Standard
COLOR:darkgreen
DESCRIPTION:Predmet: Fizika (FE) ()\, Predavanja (P)\nLetniki: \nIzvajalci
 :  Iglič\nProstor: VFP
LOCATION:VFP
ORGANIZER: Iglič
RELATED-TO:fmf-AFLABS-URNIK:srecanje:1255
X-WR-TIMEZONE:Europe/Ljubljana
END:VEVENT
END:VCALENDAR
