BEGIN:VCALENDAR
VERSION:2.0
PRODID:-//AFLabs urnik izvoz - fmf//aflabs.si//SI
DTSTAMP:20260420T055143Z
NAME:UL FMF urnik
REFRESH-INTERVAL:PT1H
SOURCE:https://urnik.fmf.uni-lj.si/teacher/399?day=2020-02-10&export=1
URL:https://urnik.fmf.uni-lj.si/teacher/399?day=2020-02-10&export=1
X-PUBLISHED-TTL:PT1H
X-WR-CALNAME:UL FMF urnik
X-WR-TIMEZONE:Europe/Ljubljana
BEGIN:VTIMEZONE
TZID:Europe/Ljubljana
BEGIN:DAYLIGHT
DTSTART:20260329T020000
RDATE:20260329T020000
RDATE:20270328T020000
TZNAME:CEST
TZOFFSETFROM:+0100
TZOFFSETTO:+0200
END:DAYLIGHT
BEGIN:STANDARD
DTSTART:20261025T030000
RDATE:20261025T030000
RDATE:20271031T030000
TZNAME:CET
TZOFFSETFROM:+0200
TZOFFSETTO:+0100
END:STANDARD
END:VTIMEZONE
BEGIN:VEVENT
SUMMARY:Fizika (FE) ()\, Predavanja (P)
DTSTART;TZID=Europe/Ljubljana:20200220T140000
DTEND;TZID=Europe/Ljubljana:20200220T160000
DTSTAMP:20260420T055143Z
UID:fmf-AFLABS-URNIK:premaknjeno-srecanje:22295
CATEGORIES:Entry,Standard
COLOR:darkgreen
DESCRIPTION:Predmet: Fizika (FE) ()\, Predavanja (P)\nLetniki: \nIzvajalci
 :  Iglič\nProstor: VFP
LOCATION:VFP
ORGANIZER: Iglič
RELATED-TO:fmf-AFLABS-URNIK:srecanje:4069
X-WR-TIMEZONE:Europe/Ljubljana
END:VEVENT
BEGIN:VEVENT
SUMMARY:Fizika (FE) ()\, Predavanja (P)
DTSTART;TZID=Europe/Ljubljana:20200227T140000
DTEND;TZID=Europe/Ljubljana:20200227T160000
DTSTAMP:20260420T055143Z
UID:fmf-AFLABS-URNIK:premaknjeno-srecanje:22296
CATEGORIES:Entry,Standard
COLOR:darkgreen
DESCRIPTION:Predmet: Fizika (FE) ()\, Predavanja (P)\nLetniki: \nIzvajalci
 :  Iglič\nProstor: VFP
LOCATION:VFP
ORGANIZER: Iglič
RELATED-TO:fmf-AFLABS-URNIK:srecanje:4069
X-WR-TIMEZONE:Europe/Ljubljana
END:VEVENT
BEGIN:VEVENT
SUMMARY:Fizika (FE) ()\, Predavanja (P)
DTSTART;TZID=Europe/Ljubljana:20200305T140000
DTEND;TZID=Europe/Ljubljana:20200305T160000
DTSTAMP:20260420T055143Z
UID:fmf-AFLABS-URNIK:premaknjeno-srecanje:22297
CATEGORIES:Entry,Standard
COLOR:darkgreen
DESCRIPTION:Predmet: Fizika (FE) ()\, Predavanja (P)\nLetniki: \nIzvajalci
 :  Iglič\nProstor: VFP
LOCATION:VFP
ORGANIZER: Iglič
RELATED-TO:fmf-AFLABS-URNIK:srecanje:4069
X-WR-TIMEZONE:Europe/Ljubljana
END:VEVENT
BEGIN:VEVENT
SUMMARY:Fizika (FE) ()\, Predavanja (P)
DTSTART;TZID=Europe/Ljubljana:20200312T140000
DTEND;TZID=Europe/Ljubljana:20200312T160000
DTSTAMP:20260420T055143Z
UID:fmf-AFLABS-URNIK:premaknjeno-srecanje:22298
CATEGORIES:Entry,Standard
COLOR:darkgreen
DESCRIPTION:Predmet: Fizika (FE) ()\, Predavanja (P)\nLetniki: \nIzvajalci
 :  Iglič\nProstor: VFP
LOCATION:VFP
ORGANIZER: Iglič
RELATED-TO:fmf-AFLABS-URNIK:srecanje:4069
X-WR-TIMEZONE:Europe/Ljubljana
END:VEVENT
BEGIN:VEVENT
SUMMARY:Fizika (FE) ()\, Predavanja (P)
DTSTART;TZID=Europe/Ljubljana:20200221T080000
DTEND;TZID=Europe/Ljubljana:20200221T110000
DTSTAMP:20260420T055143Z
UID:fmf-AFLABS-URNIK:premaknjeno-srecanje:22529
CATEGORIES:Entry,Standard
COLOR:darkgreen
DESCRIPTION:Predmet: Fizika (FE) ()\, Predavanja (P)\nLetniki: \nIzvajalci
 :  Iglič\nProstor: VFP
LOCATION:VFP
ORGANIZER: Iglič
RELATED-TO:fmf-AFLABS-URNIK:srecanje:4070
X-WR-TIMEZONE:Europe/Ljubljana
END:VEVENT
BEGIN:VEVENT
SUMMARY:Fizika (FE) ()\, Predavanja (P)
DTSTART;TZID=Europe/Ljubljana:20200228T080000
DTEND;TZID=Europe/Ljubljana:20200228T110000
DTSTAMP:20260420T055143Z
UID:fmf-AFLABS-URNIK:premaknjeno-srecanje:22530
CATEGORIES:Entry,Standard
COLOR:darkgreen
DESCRIPTION:Predmet: Fizika (FE) ()\, Predavanja (P)\nLetniki: \nIzvajalci
 :  Iglič\nProstor: VFP
LOCATION:VFP
ORGANIZER: Iglič
RELATED-TO:fmf-AFLABS-URNIK:srecanje:4070
X-WR-TIMEZONE:Europe/Ljubljana
END:VEVENT
BEGIN:VEVENT
SUMMARY:Fizika (FE) ()\, Predavanja (P)
DTSTART;TZID=Europe/Ljubljana:20200306T080000
DTEND;TZID=Europe/Ljubljana:20200306T110000
DTSTAMP:20260420T055143Z
UID:fmf-AFLABS-URNIK:premaknjeno-srecanje:22531
CATEGORIES:Entry,Standard
COLOR:darkgreen
DESCRIPTION:Predmet: Fizika (FE) ()\, Predavanja (P)\nLetniki: \nIzvajalci
 :  Iglič\nProstor: VFP
LOCATION:VFP
ORGANIZER: Iglič
RELATED-TO:fmf-AFLABS-URNIK:srecanje:4070
X-WR-TIMEZONE:Europe/Ljubljana
END:VEVENT
BEGIN:VEVENT
SUMMARY:Fizika (FE) ()\, Predavanja (P)
DTSTART;TZID=Europe/Ljubljana:20200313T080000
DTEND;TZID=Europe/Ljubljana:20200313T110000
DTSTAMP:20260420T055143Z
UID:fmf-AFLABS-URNIK:premaknjeno-srecanje:22532
CATEGORIES:Entry,Standard
COLOR:darkgreen
DESCRIPTION:Predmet: Fizika (FE) ()\, Predavanja (P)\nLetniki: \nIzvajalci
 :  Iglič\nProstor: VFP
LOCATION:VFP
ORGANIZER: Iglič
RELATED-TO:fmf-AFLABS-URNIK:srecanje:4070
X-WR-TIMEZONE:Europe/Ljubljana
END:VEVENT
END:VCALENDAR
