BEGIN:VCALENDAR
VERSION:2.0
PRODID:-//AFLabs urnik izvoz - fmf//aflabs.si//SI
DTSTAMP:20260424T144130Z
NAME:UL FMF urnik
REFRESH-INTERVAL:PT1H
SOURCE:https://urnik.fmf.uni-lj.si/teacher/3?day=2019-09-16&export=1
URL:https://urnik.fmf.uni-lj.si/teacher/3?day=2019-09-16&export=1
X-PUBLISHED-TTL:PT1H
X-WR-CALNAME:UL FMF urnik
X-WR-TIMEZONE:Europe/Ljubljana
BEGIN:VTIMEZONE
TZID:Europe/Ljubljana
BEGIN:DAYLIGHT
DTSTART:20260329T020000
RDATE:20260329T020000
RDATE:20270328T020000
TZNAME:CEST
TZOFFSETFROM:+0100
TZOFFSETTO:+0200
END:DAYLIGHT
BEGIN:STANDARD
DTSTART:20261025T030000
RDATE:20261025T030000
RDATE:20271031T030000
TZNAME:CET
TZOFFSETFROM:+0200
TZOFFSETTO:+0100
END:STANDARD
END:VTIMEZONE
BEGIN:VEVENT
SUMMARY:Matematika I (APF-1\, APM-1)\, Predavanja (P)
DTSTART;TZID=Europe/Ljubljana:20191002T080000
DTEND;TZID=Europe/Ljubljana:20191002T100000
DTSTAMP:20260424T144130Z
UID:fmf-AFLABS-URNIK:premaknjeno-srecanje:64068
ATTENDEE:1. letnik (APM)
ATTENDEE:1. letnik (Aplikativna fizika)
CATEGORIES:Entry,Standard
COLOR:darkgreen
DESCRIPTION:Predmet: Matematika I (APF-1\, APM-1)\, Predavanja (P)\nLetnik
 i: 1. letnik (Aplikativna fizika)\, 1. letnik (APM)\nIzvajalci: Pavle Saks
 ida\nProstor: P.02
LOCATION:P.02
ORGANIZER:Pavle Saksida
RELATED-TO:fmf-AFLABS-URNIK:srecanje:3904
X-WR-TIMEZONE:Europe/Ljubljana
END:VEVENT
BEGIN:VEVENT
SUMMARY:Matematika I (APF-1\, APM-1)\, Predavanja (P)
DTSTART;TZID=Europe/Ljubljana:20191009T080000
DTEND;TZID=Europe/Ljubljana:20191009T100000
DTSTAMP:20260424T144130Z
UID:fmf-AFLABS-URNIK:premaknjeno-srecanje:64069
ATTENDEE:1. letnik (APM)
ATTENDEE:1. letnik (Aplikativna fizika)
CATEGORIES:Entry,Standard
COLOR:darkgreen
DESCRIPTION:Predmet: Matematika I (APF-1\, APM-1)\, Predavanja (P)\nLetnik
 i: 1. letnik (Aplikativna fizika)\, 1. letnik (APM)\nIzvajalci: Pavle Saks
 ida\nProstor: P.02
LOCATION:P.02
ORGANIZER:Pavle Saksida
RELATED-TO:fmf-AFLABS-URNIK:srecanje:3904
X-WR-TIMEZONE:Europe/Ljubljana
END:VEVENT
BEGIN:VEVENT
SUMMARY:Matematika I (APF-1\, APM-1)\, Predavanja (P)
DTSTART;TZID=Europe/Ljubljana:20191016T080000
DTEND;TZID=Europe/Ljubljana:20191016T100000
DTSTAMP:20260424T144130Z
UID:fmf-AFLABS-URNIK:premaknjeno-srecanje:64070
ATTENDEE:1. letnik (APM)
ATTENDEE:1. letnik (Aplikativna fizika)
CATEGORIES:Entry,Standard
COLOR:darkgreen
DESCRIPTION:Predmet: Matematika I (APF-1\, APM-1)\, Predavanja (P)\nLetnik
 i: 1. letnik (Aplikativna fizika)\, 1. letnik (APM)\nIzvajalci: Pavle Saks
 ida\nProstor: P.02
LOCATION:P.02
ORGANIZER:Pavle Saksida
RELATED-TO:fmf-AFLABS-URNIK:srecanje:3904
X-WR-TIMEZONE:Europe/Ljubljana
END:VEVENT
BEGIN:VEVENT
SUMMARY:Dodatna poglavja iz matematike za fizike (FIZ-M1\, FIZ-M2)\, Preda
 vanja (P)
DTSTART;TZID=Europe/Ljubljana:20191003T080000
DTEND;TZID=Europe/Ljubljana:20191003T110000
DTSTAMP:20260424T144130Z
UID:fmf-AFLABS-URNIK:premaknjeno-srecanje:17153
ATTENDEE:1. letnik (Fizika, 2. stopnja)
ATTENDEE:2. letnik (Fizika, 2. stopnja)
CATEGORIES:Entry,Standard
COLOR:darkgreen
DESCRIPTION:Predmet: Dodatna poglavja iz matematike za fizike (FIZ-M1\, FI
 Z-M2)\, Predavanja (P)\nLetniki: 1. letnik (Fizika\, 2. stopnja)\, 2. letn
 ik (Fizika\, 2. stopnja)\nIzvajalci: Pavle Saksida\nProstor: F3
LOCATION:F3
ORGANIZER:Pavle Saksida
RELATED-TO:fmf-AFLABS-URNIK:srecanje:3289
X-WR-TIMEZONE:Europe/Ljubljana
END:VEVENT
BEGIN:VEVENT
SUMMARY:Dodatna poglavja iz matematike za fizike (FIZ-M1\, FIZ-M2)\, Preda
 vanja (P)
DTSTART;TZID=Europe/Ljubljana:20191010T080000
DTEND;TZID=Europe/Ljubljana:20191010T110000
DTSTAMP:20260424T144130Z
UID:fmf-AFLABS-URNIK:premaknjeno-srecanje:17154
ATTENDEE:1. letnik (Fizika, 2. stopnja)
ATTENDEE:2. letnik (Fizika, 2. stopnja)
CATEGORIES:Entry,Standard
COLOR:darkgreen
DESCRIPTION:Predmet: Dodatna poglavja iz matematike za fizike (FIZ-M1\, FI
 Z-M2)\, Predavanja (P)\nLetniki: 1. letnik (Fizika\, 2. stopnja)\, 2. letn
 ik (Fizika\, 2. stopnja)\nIzvajalci: Pavle Saksida\nProstor: F3
LOCATION:F3
ORGANIZER:Pavle Saksida
RELATED-TO:fmf-AFLABS-URNIK:srecanje:3289
X-WR-TIMEZONE:Europe/Ljubljana
END:VEVENT
BEGIN:VEVENT
SUMMARY:Dodatna poglavja iz matematike za fizike (FIZ-M1\, FIZ-M2)\, Preda
 vanja (P)
DTSTART;TZID=Europe/Ljubljana:20191017T080000
DTEND;TZID=Europe/Ljubljana:20191017T110000
DTSTAMP:20260424T144130Z
UID:fmf-AFLABS-URNIK:premaknjeno-srecanje:17155
ATTENDEE:1. letnik (Fizika, 2. stopnja)
ATTENDEE:2. letnik (Fizika, 2. stopnja)
CATEGORIES:Entry,Standard
COLOR:darkgreen
DESCRIPTION:Predmet: Dodatna poglavja iz matematike za fizike (FIZ-M1\, FI
 Z-M2)\, Predavanja (P)\nLetniki: 1. letnik (Fizika\, 2. stopnja)\, 2. letn
 ik (Fizika\, 2. stopnja)\nIzvajalci: Pavle Saksida\nProstor: F3
LOCATION:F3
ORGANIZER:Pavle Saksida
RELATED-TO:fmf-AFLABS-URNIK:srecanje:3289
X-WR-TIMEZONE:Europe/Ljubljana
END:VEVENT
BEGIN:VEVENT
SUMMARY:Uvod v diferencialno geometrijo (FM-3\, MAT-3\, PM-4)\, Predavanja
  (P)
DTSTART;TZID=Europe/Ljubljana:20191004T080000
DTEND;TZID=Europe/Ljubljana:20191004T100000
DTSTAMP:20260424T144130Z
UID:fmf-AFLABS-URNIK:premaknjeno-srecanje:115647
ATTENDEE:3. letnik (FM)
ATTENDEE:3. letnik (M)
ATTENDEE:4. letnik (PM)
CATEGORIES:Entry,Standard
COLOR:darkgreen
DESCRIPTION:Predmet: Uvod v diferencialno geometrijo (FM-3\, MAT-3\, PM-4)
 \, Predavanja (P)\nLetniki: 3. letnik (FM)\, 3. letnik (M)\, 4. letnik (PM
 )\nIzvajalci: Pavle Saksida\nProstor: F3
LOCATION:F3
ORGANIZER:Pavle Saksida
RELATED-TO:fmf-AFLABS-URNIK:srecanje:3905
X-WR-TIMEZONE:Europe/Ljubljana
END:VEVENT
BEGIN:VEVENT
SUMMARY:Uvod v diferencialno geometrijo (FM-3\, MAT-3\, PM-4)\, Predavanja
  (P)
DTSTART;TZID=Europe/Ljubljana:20191011T080000
DTEND;TZID=Europe/Ljubljana:20191011T100000
DTSTAMP:20260424T144130Z
UID:fmf-AFLABS-URNIK:premaknjeno-srecanje:115648
ATTENDEE:3. letnik (FM)
ATTENDEE:3. letnik (M)
ATTENDEE:4. letnik (PM)
CATEGORIES:Entry,Standard
COLOR:darkgreen
DESCRIPTION:Predmet: Uvod v diferencialno geometrijo (FM-3\, MAT-3\, PM-4)
 \, Predavanja (P)\nLetniki: 3. letnik (FM)\, 3. letnik (M)\, 4. letnik (PM
 )\nIzvajalci: Pavle Saksida\nProstor: F3
LOCATION:F3
ORGANIZER:Pavle Saksida
RELATED-TO:fmf-AFLABS-URNIK:srecanje:3905
X-WR-TIMEZONE:Europe/Ljubljana
END:VEVENT
BEGIN:VEVENT
SUMMARY:Uvod v diferencialno geometrijo (FM-3\, MAT-3\, PM-4)\, Predavanja
  (P)
DTSTART;TZID=Europe/Ljubljana:20191018T080000
DTEND;TZID=Europe/Ljubljana:20191018T100000
DTSTAMP:20260424T144130Z
UID:fmf-AFLABS-URNIK:premaknjeno-srecanje:115649
ATTENDEE:3. letnik (FM)
ATTENDEE:3. letnik (M)
ATTENDEE:4. letnik (PM)
CATEGORIES:Entry,Standard
COLOR:darkgreen
DESCRIPTION:Predmet: Uvod v diferencialno geometrijo (FM-3\, MAT-3\, PM-4)
 \, Predavanja (P)\nLetniki: 3. letnik (FM)\, 3. letnik (M)\, 4. letnik (PM
 )\nIzvajalci: Pavle Saksida\nProstor: F3
LOCATION:F3
ORGANIZER:Pavle Saksida
RELATED-TO:fmf-AFLABS-URNIK:srecanje:3905
X-WR-TIMEZONE:Europe/Ljubljana
END:VEVENT
BEGIN:VEVENT
SUMMARY:Matematika I (APF-1\, APM-1)\, Predavanja (P)
DTSTART;TZID=Europe/Ljubljana:20191007T120000
DTEND;TZID=Europe/Ljubljana:20191007T140000
DTSTAMP:20260424T144130Z
UID:fmf-AFLABS-URNIK:premaknjeno-srecanje:63992
ATTENDEE:1. letnik (APM)
ATTENDEE:1. letnik (Aplikativna fizika)
CATEGORIES:Entry,Standard
COLOR:darkgreen
DESCRIPTION:Predmet: Matematika I (APF-1\, APM-1)\, Predavanja (P)\nLetnik
 i: 1. letnik (Aplikativna fizika)\, 1. letnik (APM)\nIzvajalci: Pavle Saks
 ida\nProstor: P.02
LOCATION:P.02
ORGANIZER:Pavle Saksida
RELATED-TO:fmf-AFLABS-URNIK:srecanje:3546
X-WR-TIMEZONE:Europe/Ljubljana
END:VEVENT
BEGIN:VEVENT
SUMMARY:Matematika I (APF-1\, APM-1)\, Predavanja (P)
DTSTART;TZID=Europe/Ljubljana:20191014T120000
DTEND;TZID=Europe/Ljubljana:20191014T140000
DTSTAMP:20260424T144130Z
UID:fmf-AFLABS-URNIK:premaknjeno-srecanje:63993
ATTENDEE:1. letnik (APM)
ATTENDEE:1. letnik (Aplikativna fizika)
CATEGORIES:Entry,Standard
COLOR:darkgreen
DESCRIPTION:Predmet: Matematika I (APF-1\, APM-1)\, Predavanja (P)\nLetnik
 i: 1. letnik (Aplikativna fizika)\, 1. letnik (APM)\nIzvajalci: Pavle Saks
 ida\nProstor: P.02
LOCATION:P.02
ORGANIZER:Pavle Saksida
RELATED-TO:fmf-AFLABS-URNIK:srecanje:3546
X-WR-TIMEZONE:Europe/Ljubljana
END:VEVENT
BEGIN:VEVENT
SUMMARY:Matematika I (APF-1\, APM-1)\, Predavanja (P)
DTSTART;TZID=Europe/Ljubljana:20191021T120000
DTEND;TZID=Europe/Ljubljana:20191021T140000
DTSTAMP:20260424T144130Z
UID:fmf-AFLABS-URNIK:premaknjeno-srecanje:63994
ATTENDEE:1. letnik (APM)
ATTENDEE:1. letnik (Aplikativna fizika)
CATEGORIES:Entry,Standard
COLOR:darkgreen
DESCRIPTION:Predmet: Matematika I (APF-1\, APM-1)\, Predavanja (P)\nLetnik
 i: 1. letnik (Aplikativna fizika)\, 1. letnik (APM)\nIzvajalci: Pavle Saks
 ida\nProstor: P.02
LOCATION:P.02
ORGANIZER:Pavle Saksida
RELATED-TO:fmf-AFLABS-URNIK:srecanje:3546
X-WR-TIMEZONE:Europe/Ljubljana
END:VEVENT
END:VCALENDAR
